{"text_format":"1","workbook":"xlsx","n_sheets":14,"sheets":["ETAT DES TEMPS DES CHARGES","COMPARATIF DE FACTURATION","SUIVI DES IMPAYES","BI - PER","BI - DOS","BI - ECR","BI - COL","BI - COL DOS","Feuil1","BI - ABO","BI - HON","BI - PRE","BI - HON COL","PARAMETRES"],"not_rendered":{"charts":1,"images":1,"macros":1,"external_links":0,"defined_names":9,"comments":0,"pivot_tables":0},"unopened":[],"bounds":{"document_bytes":16777216,"sheet_cells":100000,"rows_first":2000,"rows_last":500,"rows_between":2000,"halvings":0,"cell_chars":16384,"cell_head_chars":4096},"cells_cut":0,"cells_raw":0,"read":"whole","date_system":"1900"}

{"sheet":"ETAT DES TEMPS DES CHARGES","index":0,"n_rows":25,"n_cols":23,"rows_kept":25,"cut":false,"hidden":false,"merged":[[5,10,6,10],[5,11,6,11],[5,12,6,12],[5,5,6,5],[5,6,6,6],[5,7,6,7],[5,8,6,8],[5,9,6,9],[5,19,6,19],[5,20,6,20],[5,21,6,21],[5,22,6,22],[5,13,6,13],[5,14,6,14],[5,15,6,15],[5,16,6,16],[5,17,6,17],[5,18,6,18]]}
[]
[null,null,"ETAT DES TEMPS DES CHARGES"]
[null,null,"Exemple de tableau de bord financier fourni par les équipes Lexis Poly"]
[null,null,null,null,null,null,null,null,null,null,null,null,null,null,"Laisser le choix sur l'année"]
[]
[null,"DU",{"$f":"MIN(Honoraire[DateFacture])","v":"00:00:00"},null,null,{"$f":"SUM(Tableau1132[JAN])","v":0},{"$f":"SUM(Tableau1132[FEV])","v":0},{"$f":"SUM(Tableau1132[MAR])","v":0},{"$f":"SUM(Tableau1132[AVR])","v":0},{"$f":"SUM(Tableau1132[MAI])","v":0},{"$f":"SUM(Tableau1132[JUI])","v":0},{"$f":"SUM(Tableau1132[JUL])","v":0},{"$f":"SUM(Tableau1132[AOU])","v":0},{"$f":"SUM(Tableau1132[SEP])","v":0},{"$f":"SUM(Tableau1132[OCT])","v":0},{"$f":"SUM(Tableau1132[NOV])","v":0},{"$f":"SUM(Tableau1132[DEC])","v":0},{"$f":"SUM(Tableau1132[TOTAL TEMPS ANNEE])","v":0},{"$f":"SUM(Tableau1132[BUDGET])","v":17600},{"$f":"SUM(Tableau1132[ECART])","v":17600},{"$f":"AVERAGE(Tableau1132[%])","v":1},{"$f":"SUM(Tableau1132[TOTAL TPS N-1])","v":0},{"$f":"AVERAGE(Tableau1132[% N-1])","v":0}]
[null,"AU",{"$f":"MAX(Honoraire[DateFacture])","v":"00:00:00"},2023]
[]
[null,"SITE","COLLABORATEUR","IDENTIFIANT COLLABORATEUR","TRI","JAN","FEV","MAR","AVR","MAI","JUI","JUL","AOU","SEP","OCT","NOV","DEC","TOTAL TEMPS ANNEE","BUDGET","ECART","%","TOTAL TPS N-1","% N-1"]
[null,{"$f":"'BI - COL'!H6","v":0},{"$f":"'BI - COL'!D6","v":"00:00:00"},{"$f":"'BI - COL'!B6","v":"00:00:00"},{"$f":"'BI - COL'!C6","v":0},{"$f":"SUMIFS(Prestation[Duree],Prestation[CollaborateurId],Tableau1132[[#This Row],[IDENTIFIANT COLLABORATEUR]],Prestation[MoisPrestation],\"1\",Prestation[AnneePrestation],$D$7)","v":0},{"$f":"SUMIFS(Prestation[Duree],Prestation[CollaborateurId],Tableau1132[[#This Row],[IDENTIFIANT COLLABORATEUR]],Prestation[MoisPrestation],\"2\",Prestation[AnneePrestation],$D$7)","v":0},{"$f":"SUMIFS(Prestation[Duree],Prestation[CollaborateurId],Tableau1132[[#This Row],[IDENTIFIANT COLLABORATEUR]],Prestation[MoisPrestation],\"3\",Prestation[AnneePrestation],$D$7)","v":0},{"$f":"SUMIFS(Prestation[Duree],Prestation[CollaborateurId],Tableau1132[[#This Row],[IDENTIFIANT COLLABORATEUR]],Prestation[MoisPrestation],\"4\",Prestation[AnneePrestation],$D$7)","v":0},{"$f":"SUMIFS(Prestation[Duree],Prestation[CollaborateurId],Tableau1132[[#This Row],[IDENTIFIANT COLLABORATEUR]],Prestation[MoisPrestation],\"5\",Prestation[AnneePrestation],$D$7)","v":0},{"$f":"SUMIFS(Prestation[Duree],Prestation[CollaborateurId],Tableau1132[[#This Row],[IDENTIFIANT COLLABORATEUR]],Prestation[MoisPrestation],\"6\",Prestation[AnneePrestation],$D$7)","v":0},{"$f":"SUMIFS(Prestation[Duree],Prestation[CollaborateurId],Tableau1132[[#This Row],[IDENTIFIANT COLLABORATEUR]],Prestation[MoisPrestation],\"7\",Prestation[AnneePrestation],$D$7)","v":0},{"$f":"SUMIFS(Prestation[Duree],Prestation[CollaborateurId],Tableau1132[[#This Row],[IDENTIFIANT COLLABORATEUR]],Prestation[MoisPrestation],\"8\",Prestation[AnneePrestation],$D$7)","v":0},{"$f":"SUMIFS(Prestation[Duree],Prestation[CollaborateurId],Tableau1132[[#This Row],[IDENTIFIANT COLLABORATEUR]],Prestation[MoisPrestation],\"9\",Prestation[AnneePrestation],$D$7)","v":0},{"$f":"SUMIFS(Prestation[Duree],Prestation[CollaborateurId],Tableau1132[[#This Row],[IDENTIFIANT COLLABORATEUR]],Prestation[MoisPrestation],\"10\",Prestation[AnneePrestation],$D$7)","v":0},{"$f":"SUMIFS(Prestation[Duree],Prestation[CollaborateurId],Tableau1132[[#This Row],[IDENTIFIANT COLLABORATEUR]],Prestation[MoisPrestation],\"11\",Prestation[AnneePrestation],$D$7)","v":0},{"$f":"SUMIFS(Prestation[Duree],Prestation[CollaborateurId],Tableau1132[[#This Row],[IDENTIFIANT COLLABORATEUR]],Prestation[MoisPrestation],\"12\",Prestation[AnneePrestation],$D$7)","v":0},{"$f":"SUM(Tableau1132[[#This Row],[JAN]:[DEC]])","v":0},1100,{"$f":"Tableau1132[[#This Row],[BUDGET]]-Tableau1132[[#This Row],[TOTAL TEMPS ANNEE]]","v":1100},{"$f":"Tableau1132[[#This Row],[ECART]]/Tableau1132[[#This Row],[BUDGET]]","v":1},{"$f":"SUMIFS(Prestation[Duree],Prestation[CollaborateurId],Tableau1132[[#This Row],[IDENTIFIANT COLLABORATEUR]],Prestation[AnneePrestation],$D$7-1)","v":0},{"$f":"Tableau1132[[#This Row],[TOTAL TPS N-1]]/Tableau1132[[#This Row],[BUDGET]]","v":0}]
[null,{"$f":"'BI - COL'!H7","v":0},{"$f":"'BI - COL'!D7","v":"00:00:00"},{"$f":"'BI - COL'!B7","v":"00:00:00"},{"$f":"'BI - COL'!C7","v":0},{"$f":"SUMIFS(Prestation[Duree],Prestation[CollaborateurId],Tableau1132[[#This Row],[IDENTIFIANT COLLABORATEUR]],Prestation[MoisPrestation],\"1\",Prestation[AnneePrestation],$D$7)","v":0},{"$f":"SUMIFS(Prestation[Duree],Prestation[CollaborateurId],Tableau1132[[#This Row],[IDENTIFIANT COLLABORATEUR]],Prestation[MoisPrestation],\"2\",Prestation[AnneePrestation],$D$7)","v":0},{"$f":"SUMIFS(Prestation[Duree],Prestation[CollaborateurId],Tableau1132[[#This Row],[IDENTIFIANT COLLABORATEUR]],Prestation[MoisPrestation],\"3\",Prestation[AnneePrestation],$D$7)","v":0},{"$f":"SUMIFS(Prestation[Duree],Prestation[CollaborateurId],Tableau1132[[#This Row],[IDENTIFIANT COLLABORATEUR]],Prestation[MoisPrestation],\"4\",Prestation[AnneePrestation],$D$7)","v":0},{"$f":"SUMIFS(Prestation[Duree],Prestation[CollaborateurId],Tableau1132[[#This Row],[IDENTIFIANT COLLABORATEUR]],Prestation[MoisPrestation],\"5\",Prestation[AnneePrestation],$D$7)","v":0},{"$f":"SUMIFS(Prestation[Duree],Prestation[CollaborateurId],Tableau1132[[#This Row],[IDENTIFIANT COLLABORATEUR]],Prestation[MoisPrestation],\"6\",Prestation[AnneePrestation],$D$7)","v":0},{"$f":"SUMIFS(Prestation[Duree],Prestation[CollaborateurId],Tableau1132[[#This Row],[IDENTIFIANT COLLABORATEUR]],Prestation[MoisPrestation],\"7\",Prestation[AnneePrestation],$D$7)","v":0},{"$f":"SUMIFS(Prestation[Duree],Prestation[CollaborateurId],Tableau1132[[#This Row],[IDENTIFIANT COLLABORATEUR]],Prestation[MoisPrestation],\"8\",Prestation[AnneePrestation],$D$7)","v":0},{"$f":"SUMIFS(Prestation[Duree],Prestation[CollaborateurId],Tableau1132[[#This Row],[IDENTIFIANT COLLABORATEUR]],Prestation[MoisPrestation],\"9\",Prestation[AnneePrestation],$D$7)","v":0},{"$f":"SUMIFS(Prestation[Duree],Prestation[CollaborateurId],Tableau1132[[#This Row],[IDENTIFIANT COLLABORATEUR]],Prestation[MoisPrestation],\"10\",Prestation[AnneePrestation],$D$7)","v":0},{"$f":"SUMIFS(Prestation[Duree],Prestation[CollaborateurId],Tableau1132[[#This Row],[IDENTIFIANT COLLABORATEUR]],Prestation[MoisPrestation],\"11\",Prestation[AnneePrestation],$D$7)","v":0},{"$f":"SUMIFS(Prestation[Duree],Prestation[CollaborateurId],Tableau1132[[#This Row],[IDENTIFIANT COLLABORATEUR]],Prestation[MoisPrestation],\"12\",Prestation[AnneePrestation],$D$7)","v":0},{"$f":"SUM(Tableau1132[[#This Row],[JAN]:[DEC]])","v":0},1100,{"$f":"Tableau1132[[#This Row],[BUDGET]]-Tableau1132[[#This Row],[TOTAL TEMPS ANNEE]]","v":1100},{"$f":"Tableau1132[[#This Row],[ECART]]/Tableau1132[[#This Row],[BUDGET]]","v":1},{"$f":"SUMIFS(Prestation[Duree],Prestation[CollaborateurId],Tableau1132[[#This Row],[IDENTIFIANT COLLABORATEUR]],Prestation[AnneePrestation],$D$7-1)","v":0},{"$f":"Tableau1132[[#This Row],[TOTAL TPS N-1]]/Tableau1132[[#This Row],[BUDGET]]","v":0}]
[null,{"$f":"'BI - COL'!H8","v":0},{"$f":"'BI - COL'!D8","v":"00:00:00"},{"$f":"'BI - COL'!B8","v":"00:00:00"},{"$f":"'BI - COL'!C8","v":0},{"$f":"SUMIFS(Prestation[Duree],Prestation[CollaborateurId],Tableau1132[[#This Row],[IDENTIFIANT COLLABORATEUR]],Prestation[MoisPrestation],\"1\",Prestation[AnneePrestation],$D$7)","v":0},{"$f":"SUMIFS(Prestation[Duree],Prestation[CollaborateurId],Tableau1132[[#This Row],[IDENTIFIANT COLLABORATEUR]],Prestation[MoisPrestation],\"2\",Prestation[AnneePrestation],$D$7)","v":0},{"$f":"SUMIFS(Prestation[Duree],Prestation[CollaborateurId],Tableau1132[[#This Row],[IDENTIFIANT COLLABORATEUR]],Prestation[MoisPrestation],\"3\",Prestation[AnneePrestation],$D$7)","v":0},{"$f":"SUMIFS(Prestation[Duree],Prestation[CollaborateurId],Tableau1132[[#This Row],[IDENTIFIANT COLLABORATEUR]],Prestation[MoisPrestation],\"4\",Prestation[AnneePrestation],$D$7)","v":0},{"$f":"SUMIFS(Prestation[Duree],Prestation[CollaborateurId],Tableau1132[[#This Row],[IDENTIFIANT COLLABORATEUR]],Prestation[MoisPrestation],\"5\",Prestation[AnneePrestation],$D$7)","v":0},{"$f":"SUMIFS(Prestation[Duree],Prestation[CollaborateurId],Tableau1132[[#This Row],[IDENTIFIANT COLLABORATEUR]],Prestation[MoisPrestation],\"6\",Prestation[AnneePrestation],$D$7)","v":0},{"$f":"SUMIFS(Prestation[Duree],Prestation[CollaborateurId],Tableau1132[[#This Row],[IDENTIFIANT COLLABORATEUR]],Prestation[MoisPrestation],\"7\",Prestation[AnneePrestation],$D$7)","v":0},{"$f":"SUMIFS(Prestation[Duree],Prestation[CollaborateurId],Tableau1132[[#This Row],[IDENTIFIANT COLLABORATEUR]],Prestation[MoisPrestation],\"8\",Prestation[AnneePrestation],$D$7)","v":0},{"$f":"SUMIFS(Prestation[Duree],Prestation[CollaborateurId],Tableau1132[[#This Row],[IDENTIFIANT COLLABORATEUR]],Prestation[MoisPrestation],\"9\",Prestation[AnneePrestation],$D$7)","v":0},{"$f":"SUMIFS(Prestation[Duree],Prestation[CollaborateurId],Tableau1132[[#This Row],[IDENTIFIANT COLLABORATEUR]],Prestation[MoisPrestation],\"10\",Prestation[AnneePrestation],$D$7)","v":0},{"$f":"SUMIFS(Prestation[Duree],Prestation[CollaborateurId],Tableau1132[[#This Row],[IDENTIFIANT COLLABORATEUR]],Prestation[MoisPrestation],\"11\",Prestation[AnneePrestation],$D$7)","v":0},{"$f":"SUMIFS(Prestation[Duree],Prestation[CollaborateurId],Tableau1132[[#This Row],[IDENTIFIANT COLLABORATEUR]],Prestation[MoisPrestation],\"12\",Prestation[AnneePrestation],$D$7)","v":0},{"$f":"SUM(Tableau1132[[#This Row],[JAN]:[DEC]])","v":0},1100,{"$f":"Tableau1132[[#This Row],[BUDGET]]-Tableau1132[[#This Row],[TOTAL TEMPS ANNEE]]","v":1100},{"$f":"Tableau1132[[#This Row],[ECART]]/Tableau1132[[#This Row],[BUDGET]]","v":1},{"$f":"SUMIFS(Prestation[Duree],Prestation[CollaborateurId],Tableau1132[[#This Row],[IDENTIFIANT COLLABORATEUR]],Prestation[AnneePrestation],$D$7-1)","v":0},{"$f":"Tableau1132[[#This Row],[TOTAL TPS N-1]]/Tableau1132[[#This Row],[BUDGET]]","v":0}]
[null,{"$f":"'BI - COL'!H9","v":0},{"$f":"'BI - COL'!D9","v":"00:00:00"},{"$f":"'BI - COL'!B9","v":"00:00:00"},{"$f":"'BI - COL'!C9","v":0},{"$f":"SUMIFS(Prestation[Duree],Prestation[CollaborateurId],Tableau1132[[#This Row],[IDENTIFIANT COLLABORATEUR]],Prestation[MoisPrestation],\"1\",Prestation[AnneePrestation],$D$7)","v":0},{"$f":"SUMIFS(Prestation[Duree],Prestation[CollaborateurId],Tableau1132[[#This Row],[IDENTIFIANT COLLABORATEUR]],Prestation[MoisPrestation],\"2\",Prestation[AnneePrestation],$D$7)","v":0},{"$f":"SUMIFS(Prestation[Duree],Prestation[CollaborateurId],Tableau1132[[#This Row],[IDENTIFIANT COLLABORATEUR]],Prestation[MoisPrestation],\"3\",Prestation[AnneePrestation],$D$7)","v":0},{"$f":"SUMIFS(Prestation[Duree],Prestation[CollaborateurId],Tableau1132[[#This Row],[IDENTIFIANT COLLABORATEUR]],Prestation[MoisPrestation],\"4\",Prestation[AnneePrestation],$D$7)","v":0},{"$f":"SUMIFS(Prestation[Duree],Prestation[CollaborateurId],Tableau1132[[#This Row],[IDENTIFIANT COLLABORATEUR]],Prestation[MoisPrestation],\"5\",Prestation[AnneePrestation],$D$7)","v":0},{"$f":"SUMIFS(Prestation[Duree],Prestation[CollaborateurId],Tableau1132[[#This Row],[IDENTIFIANT COLLABORATEUR]],Prestation[MoisPrestation],\"6\",Prestation[AnneePrestation],$D$7)","v":0},{"$f":"SUMIFS(Prestation[Duree],Prestation[CollaborateurId],Tableau1132[[#This Row],[IDENTIFIANT COLLABORATEUR]],Prestation[MoisPrestation],\"7\",Prestation[AnneePrestation],$D$7)","v":0},{"$f":"SUMIFS(Prestation[Duree],Prestation[CollaborateurId],Tableau1132[[#This Row],[IDENTIFIANT COLLABORATEUR]],Prestation[MoisPrestation],\"8\",Prestation[AnneePrestation],$D$7)","v":0},{"$f":"SUMIFS(Prestation[Duree],Prestation[CollaborateurId],Tableau1132[[#This Row],[IDENTIFIANT COLLABORATEUR]],Prestation[MoisPrestation],\"9\",Prestation[AnneePrestation],$D$7)","v":0},{"$f":"SUMIFS(Prestation[Duree],Prestation[CollaborateurId],Tableau1132[[#This Row],[IDENTIFIANT COLLABORATEUR]],Prestation[MoisPrestation],\"10\",Prestation[AnneePrestation],$D$7)","v":0},{"$f":"SUMIFS(Prestation[Duree],Prestation[CollaborateurId],Tableau1132[[#This Row],[IDENTIFIANT COLLABORATEUR]],Prestation[MoisPrestation],\"11\",Prestation[AnneePrestation],$D$7)","v":0},{"$f":"SUMIFS(Prestation[Duree],Prestation[CollaborateurId],Tableau1132[[#This Row],[IDENTIFIANT COLLABORATEUR]],Prestation[MoisPrestation],\"12\",Prestation[AnneePrestation],$D$7)","v":0},{"$f":"SUM(Tableau1132[[#This Row],[JAN]:[DEC]])","v":0},1100,{"$f":"Tableau1132[[#This Row],[BUDGET]]-Tableau1132[[#This Row],[TOTAL TEMPS ANNEE]]","v":1100},{"$f":"Tableau1132[[#This Row],[ECART]]/Tableau1132[[#This Row],[BUDGET]]","v":1},{"$f":"SUMIFS(Prestation[Duree],Prestation[CollaborateurId],Tableau1132[[#This Row],[IDENTIFIANT COLLABORATEUR]],Prestation[AnneePrestation],$D$7-1)","v":0},{"$f":"Tableau1132[[#This Row],[TOTAL TPS N-1]]/Tableau1132[[#This Row],[BUDGET]]","v":0}]
[null,{"$f":"'BI - COL'!H10","v":0},{"$f":"'BI - COL'!D10","v":"00:00:00"},{"$f":"'BI - COL'!B10","v":"00:00:00"},{"$f":"'BI - COL'!C10","v":0},{"$f":"SUMIFS(Prestation[Duree],Prestation[CollaborateurId],Tableau1132[[#This Row],[IDENTIFIANT COLLABORATEUR]],Prestation[MoisPrestation],\"1\",Prestation[AnneePrestation],$D$7)","v":0},{"$f":"SUMIFS(Prestation[Duree],Prestation[CollaborateurId],Tableau1132[[#This Row],[IDENTIFIANT COLLABORATEUR]],Prestation[MoisPrestation],\"2\",Prestation[AnneePrestation],$D$7)","v":0},{"$f":"SUMIFS(Prestation[Duree],Prestation[CollaborateurId],Tableau1132[[#This Row],[IDENTIFIANT COLLABORATEUR]],Prestation[MoisPrestation],\"3\",Prestation[AnneePrestation],$D$7)","v":0},{"$f":"SUMIFS(Prestation[Duree],Prestation[CollaborateurId],Tableau1132[[#This Row],[IDENTIFIANT COLLABORATEUR]],Prestation[MoisPrestation],\"4\",Prestation[AnneePrestation],$D$7)","v":0},{"$f":"SUMIFS(Prestation[Duree],Prestation[CollaborateurId],Tableau1132[[#This Row],[IDENTIFIANT COLLABORATEUR]],Prestation[MoisPrestation],\"5\",Prestation[AnneePrestation],$D$7)","v":0},{"$f":"SUMIFS(Prestation[Duree],Prestation[CollaborateurId],Tableau1132[[#This Row],[IDENTIFIANT COLLABORATEUR]],Prestation[MoisPrestation],\"6\",Prestation[AnneePrestation],$D$7)","v":0},{"$f":"SUMIFS(Prestation[Duree],Prestation[CollaborateurId],Tableau1132[[#This Row],[IDENTIFIANT COLLABORATEUR]],Prestation[MoisPrestation],\"7\",Prestation[AnneePrestation],$D$7)","v":0},{"$f":"SUMIFS(Prestation[Duree],Prestation[CollaborateurId],Tableau1132[[#This Row],[IDENTIFIANT COLLABORATEUR]],Prestation[MoisPrestation],\"8\",Prestation[AnneePrestation],$D$7)","v":0},{"$f":"SUMIFS(Prestation[Duree],Prestation[CollaborateurId],Tableau1132[[#This Row],[IDENTIFIANT COLLABORATEUR]],Prestation[MoisPrestation],\"9\",Prestation[AnneePrestation],$D$7)","v":0},{"$f":"SUMIFS(Prestation[Duree],Prestation[CollaborateurId],Tableau1132[[#This Row],[IDENTIFIANT COLLABORATEUR]],Prestation[MoisPrestation],\"10\",Prestation[AnneePrestation],$D$7)","v":0},{"$f":"SUMIFS(Prestation[Duree],Prestation[CollaborateurId],Tableau1132[[#This Row],[IDENTIFIANT COLLABORATEUR]],Prestation[MoisPrestation],\"11\",Prestation[AnneePrestation],$D$7)","v":0},{"$f":"SUMIFS(Prestation[Duree],Prestation[CollaborateurId],Tableau1132[[#This Row],[IDENTIFIANT COLLABORATEUR]],Prestation[MoisPrestation],\"12\",Prestation[AnneePrestation],$D$7)","v":0},{"$f":"SUM(Tableau1132[[#This Row],[JAN]:[DEC]])","v":0},1100,{"$f":"Tableau1132[[#This Row],[BUDGET]]-Tableau1132[[#This Row],[TOTAL TEMPS ANNEE]]","v":1100},{"$f":"Tableau1132[[#This Row],[ECART]]/Tableau1132[[#This Row],[BUDGET]]","v":1},{"$f":"SUMIFS(Prestation[Duree],Prestation[CollaborateurId],Tableau1132[[#This Row],[IDENTIFIANT COLLABORATEUR]],Prestation[AnneePrestation],$D$7-1)","v":0},{"$f":"Tableau1132[[#This Row],[TOTAL TPS N-1]]/Tableau1132[[#This Row],[BUDGET]]","v":0}]
[null,{"$f":"'BI - COL'!H11","v":0},{"$f":"'BI - COL'!D11","v":"00:00:00"},{"$f":"'BI - COL'!B11","v":"00:00:00"},{"$f":"'BI - COL'!C11","v":0},{"$f":"SUMIFS(Prestation[Duree],Prestation[CollaborateurId],Tableau1132[[#This Row],[IDENTIFIANT COLLABORATEUR]],Prestation[MoisPrestation],\"1\",Prestation[AnneePrestation],$D$7)","v":0},{"$f":"SUMIFS(Prestation[Duree],Prestation[CollaborateurId],Tableau1132[[#This Row],[IDENTIFIANT COLLABORATEUR]],Prestation[MoisPrestation],\"2\",Prestation[AnneePrestation],$D$7)","v":0},{"$f":"SUMIFS(Prestation[Duree],Prestation[CollaborateurId],Tableau1132[[#This Row],[IDENTIFIANT COLLABORATEUR]],Prestation[MoisPrestation],\"3\",Prestation[AnneePrestation],$D$7)","v":0},{"$f":"SUMIFS(Prestation[Duree],Prestation[CollaborateurId],Tableau1132[[#This Row],[IDENTIFIANT COLLABORATEUR]],Prestation[MoisPrestation],\"4\",Prestation[AnneePrestation],$D$7)","v":0},{"$f":"SUMIFS(Prestation[Duree],Prestation[CollaborateurId],Tableau1132[[#This Row],[IDENTIFIANT COLLABORATEUR]],Prestation[MoisPrestation],\"5\",Prestation[AnneePrestation],$D$7)","v":0},{"$f":"SUMIFS(Prestation[Duree],Prestation[CollaborateurId],Tableau1132[[#This Row],[IDENTIFIANT COLLABORATEUR]],Prestation[MoisPrestation],\"6\",Prestation[AnneePrestation],$D$7)","v":0},{"$f":"SUMIFS(Prestation[Duree],Prestation[CollaborateurId],Tableau1132[[#This Row],[IDENTIFIANT COLLABORATEUR]],Prestation[MoisPrestation],\"7\",Prestation[AnneePrestation],$D$7)","v":0},{"$f":"SUMIFS(Prestation[Duree],Prestation[CollaborateurId],Tableau1132[[#This Row],[IDENTIFIANT COLLABORATEUR]],Prestation[MoisPrestation],\"8\",Prestation[AnneePrestation],$D$7)","v":0},{"$f":"SUMIFS(Prestation[Duree],Prestation[CollaborateurId],Tableau1132[[#This Row],[IDENTIFIANT COLLABORATEUR]],Prestation[MoisPrestation],\"9\",Prestation[AnneePrestation],$D$7)","v":0},{"$f":"SUMIFS(Prestation[Duree],Prestation[CollaborateurId],Tableau1132[[#This Row],[IDENTIFIANT COLLABORATEUR]],Prestation[MoisPrestation],\"10\",Prestation[AnneePrestation],$D$7)","v":0},{"$f":"SUMIFS(Prestation[Duree],Prestation[CollaborateurId],Tableau1132[[#This Row],[IDENTIFIANT COLLABORATEUR]],Prestation[MoisPrestation],\"11\",Prestation[AnneePrestation],$D$7)","v":0},{"$f":"SUMIFS(Prestation[Duree],Prestation[CollaborateurId],Tableau1132[[#This Row],[IDENTIFIANT COLLABORATEUR]],Prestation[MoisPrestation],\"12\",Prestation[AnneePrestation],$D$7)","v":0},{"$f":"SUM(Tableau1132[[#This Row],[JAN]:[DEC]])","v":0},1100,{"$f":"Tableau1132[[#This Row],[BUDGET]]-Tableau1132[[#This Row],[TOTAL TEMPS ANNEE]]","v":1100},{"$f":"Tableau1132[[#This Row],[ECART]]/Tableau1132[[#This Row],[BUDGET]]","v":1},{"$f":"SUMIFS(Prestation[Duree],Prestation[CollaborateurId],Tableau1132[[#This Row],[IDENTIFIANT COLLABORATEUR]],Prestation[AnneePrestation],$D$7-1)","v":0},{"$f":"Tableau1132[[#This Row],[TOTAL TPS N-1]]/Tableau1132[[#This Row],[BUDGET]]","v":0}]
[null,{"$f":"'BI - COL'!H12","v":0},{"$f":"'BI - COL'!D12","v":"00:00:00"},{"$f":"'BI - COL'!B12","v":"00:00:00"},{"$f":"'BI - COL'!C12","v":0},{"$f":"SUMIFS(Prestation[Duree],Prestation[CollaborateurId],Tableau1132[[#This Row],[IDENTIFIANT COLLABORATEUR]],Prestation[MoisPrestation],\"1\",Prestation[AnneePrestation],$D$7)","v":0},{"$f":"SUMIFS(Prestation[Duree],Prestation[CollaborateurId],Tableau1132[[#This Row],[IDENTIFIANT COLLABORATEUR]],Prestation[MoisPrestation],\"2\",Prestation[AnneePrestation],$D$7)","v":0},{"$f":"SUMIFS(Prestation[Duree],Prestation[CollaborateurId],Tableau1132[[#This Row],[IDENTIFIANT COLLABORATEUR]],Prestation[MoisPrestation],\"3\",Prestation[AnneePrestation],$D$7)","v":0},{"$f":"SUMIFS(Prestation[Duree],Prestation[CollaborateurId],Tableau1132[[#This Row],[IDENTIFIANT COLLABORATEUR]],Prestation[MoisPrestation],\"4\",Prestation[AnneePrestation],$D$7)","v":0},{"$f":"SUMIFS(Prestation[Duree],Prestation[CollaborateurId],Tableau1132[[#This Row],[IDENTIFIANT COLLABORATEUR]],Prestation[MoisPrestation],\"5\",Prestation[AnneePrestation],$D$7)","v":0},{"$f":"SUMIFS(Prestation[Duree],Prestation[CollaborateurId],Tableau1132[[#This Row],[IDENTIFIANT COLLABORATEUR]],Prestation[MoisPrestation],\"6\",Prestation[AnneePrestation],$D$7)","v":0},{"$f":"SUMIFS(Prestation[Duree],Prestation[CollaborateurId],Tableau1132[[#This Row],[IDENTIFIANT COLLABORATEUR]],Prestation[MoisPrestation],\"7\",Prestation[AnneePrestation],$D$7)","v":0},{"$f":"SUMIFS(Prestation[Duree],Prestation[CollaborateurId],Tableau1132[[#This Row],[IDENTIFIANT COLLABORATEUR]],Prestation[MoisPrestation],\"8\",Prestation[AnneePrestation],$D$7)","v":0},{"$f":"SUMIFS(Prestation[Duree],Prestation[CollaborateurId],Tableau1132[[#This Row],[IDENTIFIANT COLLABORATEUR]],Prestation[MoisPrestation],\"9\",Prestation[AnneePrestation],$D$7)","v":0},{"$f":"SUMIFS(Prestation[Duree],Prestation[CollaborateurId],Tableau1132[[#This Row],[IDENTIFIANT COLLABORATEUR]],Prestation[MoisPrestation],\"10\",Prestation[AnneePrestation],$D$7)","v":0},{"$f":"SUMIFS(Prestation[Duree],Prestation[CollaborateurId],Tableau1132[[#This Row],[IDENTIFIANT COLLABORATEUR]],Prestation[MoisPrestation],\"11\",Prestation[AnneePrestation],$D$7)","v":0},{"$f":"SUMIFS(Prestation[Duree],Prestation[CollaborateurId],Tableau1132[[#This Row],[IDENTIFIANT COLLABORATEUR]],Prestation[MoisPrestation],\"12\",Prestation[AnneePrestation],$D$7)","v":0},{"$f":"SUM(Tableau1132[[#This Row],[JAN]:[DEC]])","v":0},1100,{"$f":"Tableau1132[[#This Row],[BUDGET]]-Tableau1132[[#This Row],[TOTAL TEMPS ANNEE]]","v":1100},{"$f":"Tableau1132[[#This Row],[ECART]]/Tableau1132[[#This Row],[BUDGET]]","v":1},{"$f":"SUMIFS(Prestation[Duree],Prestation[CollaborateurId],Tableau1132[[#This Row],[IDENTIFIANT COLLABORATEUR]],Prestation[AnneePrestation],$D$7-1)","v":0},{"$f":"Tableau1132[[#This Row],[TOTAL TPS N-1]]/Tableau1132[[#This Row],[BUDGET]]","v":0}]
[null,{"$f":"'BI - COL'!H13","v":0},{"$f":"'BI - COL'!D13","v":"00:00:00"},{"$f":"'BI - COL'!B13","v":"00:00:00"},{"$f":"'BI - COL'!C13","v":0},{"$f":"SUMIFS(Prestation[Duree],Prestation[CollaborateurId],Tableau1132[[#This Row],[IDENTIFIANT COLLABORATEUR]],Prestation[MoisPrestation],\"1\",Prestation[AnneePrestation],$D$7)","v":0},{"$f":"SUMIFS(Prestation[Duree],Prestation[CollaborateurId],Tableau1132[[#This Row],[IDENTIFIANT COLLABORATEUR]],Prestation[MoisPrestation],\"2\",Prestation[AnneePrestation],$D$7)","v":0},{"$f":"SUMIFS(Prestation[Duree],Prestation[CollaborateurId],Tableau1132[[#This Row],[IDENTIFIANT COLLABORATEUR]],Prestation[MoisPrestation],\"3\",Prestation[AnneePrestation],$D$7)","v":0},{"$f":"SUMIFS(Prestation[Duree],Prestation[CollaborateurId],Tableau1132[[#This Row],[IDENTIFIANT COLLABORATEUR]],Prestation[MoisPrestation],\"4\",Prestation[AnneePrestation],$D$7)","v":0},{"$f":"SUMIFS(Prestation[Duree],Prestation[CollaborateurId],Tableau1132[[#This Row],[IDENTIFIANT COLLABORATEUR]],Prestation[MoisPrestation],\"5\",Prestation[AnneePrestation],$D$7)","v":0},{"$f":"SUMIFS(Prestation[Duree],Prestation[CollaborateurId],Tableau1132[[#This Row],[IDENTIFIANT COLLABORATEUR]],Prestation[MoisPrestation],\"6\",Prestation[AnneePrestation],$D$7)","v":0},{"$f":"SUMIFS(Prestation[Duree],Prestation[CollaborateurId],Tableau1132[[#This Row],[IDENTIFIANT COLLABORATEUR]],Prestation[MoisPrestation],\"7\",Prestation[AnneePrestation],$D$7)","v":0},{"$f":"SUMIFS(Prestation[Duree],Prestation[CollaborateurId],Tableau1132[[#This Row],[IDENTIFIANT COLLABORATEUR]],Prestation[MoisPrestation],\"8\",Prestation[AnneePrestation],$D$7)","v":0},{"$f":"SUMIFS(Prestation[Duree],Prestation[CollaborateurId],Tableau1132[[#This Row],[IDENTIFIANT COLLABORATEUR]],Prestation[MoisPrestation],\"9\",Prestation[AnneePrestation],$D$7)","v":0},{"$f":"SUMIFS(Prestation[Duree],Prestation[CollaborateurId],Tableau1132[[#This Row],[IDENTIFIANT COLLABORATEUR]],Prestation[MoisPrestation],\"10\",Prestation[AnneePrestation],$D$7)","v":0},{"$f":"SUMIFS(Prestation[Duree],Prestation[CollaborateurId],Tableau1132[[#This Row],[IDENTIFIANT COLLABORATEUR]],Prestation[MoisPrestation],\"11\",Prestation[AnneePrestation],$D$7)","v":0},{"$f":"SUMIFS(Prestation[Duree],Prestation[CollaborateurId],Tableau1132[[#This Row],[IDENTIFIANT COLLABORATEUR]],Prestation[MoisPrestation],\"12\",Prestation[AnneePrestation],$D$7)","v":0},{"$f":"SUM(Tableau1132[[#This Row],[JAN]:[DEC]])","v":0},1100,{"$f":"Tableau1132[[#This Row],[BUDGET]]-Tableau1132[[#This Row],[TOTAL TEMPS ANNEE]]","v":1100},{"$f":"Tableau1132[[#This Row],[ECART]]/Tableau1132[[#This Row],[BUDGET]]","v":1},{"$f":"SUMIFS(Prestation[Duree],Prestation[CollaborateurId],Tableau1132[[#This Row],[IDENTIFIANT COLLABORATEUR]],Prestation[AnneePrestation],$D$7-1)","v":0},{"$f":"Tableau1132[[#This Row],[TOTAL TPS N-1]]/Tableau1132[[#This Row],[BUDGET]]","v":0}]
[null,{"$f":"'BI - COL'!H14","v":0},{"$f":"'BI - COL'!D14","v":"00:00:00"},{"$f":"'BI - COL'!B14","v":"00:00:00"},{"$f":"'BI - COL'!C14","v":0},{"$f":"SUMIFS(Prestation[Duree],Prestation[CollaborateurId],Tableau1132[[#This Row],[IDENTIFIANT COLLABORATEUR]],Prestation[MoisPrestation],\"1\",Prestation[AnneePrestation],$D$7)","v":0},{"$f":"SUMIFS(Prestation[Duree],Prestation[CollaborateurId],Tableau1132[[#This Row],[IDENTIFIANT COLLABORATEUR]],Prestation[MoisPrestation],\"2\",Prestation[AnneePrestation],$D$7)","v":0},{"$f":"SUMIFS(Prestation[Duree],Prestation[CollaborateurId],Tableau1132[[#This Row],[IDENTIFIANT COLLABORATEUR]],Prestation[MoisPrestation],\"3\",Prestation[AnneePrestation],$D$7)","v":0},{"$f":"SUMIFS(Prestation[Duree],Prestation[CollaborateurId],Tableau1132[[#This Row],[IDENTIFIANT COLLABORATEUR]],Prestation[MoisPrestation],\"4\",Prestation[AnneePrestation],$D$7)","v":0},{"$f":"SUMIFS(Prestation[Duree],Prestation[CollaborateurId],Tableau1132[[#This Row],[IDENTIFIANT COLLABORATEUR]],Prestation[MoisPrestation],\"5\",Prestation[AnneePrestation],$D$7)","v":0},{"$f":"SUMIFS(Prestation[Duree],Prestation[CollaborateurId],Tableau1132[[#This Row],[IDENTIFIANT COLLABORATEUR]],Prestation[MoisPrestation],\"6\",Prestation[AnneePrestation],$D$7)","v":0},{"$f":"SUMIFS(Prestation[Duree],Prestation[CollaborateurId],Tableau1132[[#This Row],[IDENTIFIANT COLLABORATEUR]],Prestation[MoisPrestation],\"7\",Prestation[AnneePrestation],$D$7)","v":0},{"$f":"SUMIFS(Prestation[Duree],Prestation[CollaborateurId],Tableau1132[[#This Row],[IDENTIFIANT COLLABORATEUR]],Prestation[MoisPrestation],\"8\",Prestation[AnneePrestation],$D$7)","v":0},{"$f":"SUMIFS(Prestation[Duree],Prestation[CollaborateurId],Tableau1132[[#This Row],[IDENTIFIANT COLLABORATEUR]],Prestation[MoisPrestation],\"9\",Prestation[AnneePrestation],$D$7)","v":0},{"$f":"SUMIFS(Prestation[Duree],Prestation[CollaborateurId],Tableau1132[[#This Row],[IDENTIFIANT COLLABORATEUR]],Prestation[MoisPrestation],\"10\",Prestation[AnneePrestation],$D$7)","v":0},{"$f":"SUMIFS(Prestation[Duree],Prestation[CollaborateurId],Tableau1132[[#This Row],[IDENTIFIANT COLLABORATEUR]],Prestation[MoisPrestation],\"11\",Prestation[AnneePrestation],$D$7)","v":0},{"$f":"SUMIFS(Prestation[Duree],Prestation[CollaborateurId],Tableau1132[[#This Row],[IDENTIFIANT COLLABORATEUR]],Prestation[MoisPrestation],\"12\",Prestation[AnneePrestation],$D$7)","v":0},{"$f":"SUM(Tableau1132[[#This Row],[JAN]:[DEC]])","v":0},1100,{"$f":"Tableau1132[[#This Row],[BUDGET]]-Tableau1132[[#This Row],[TOTAL TEMPS ANNEE]]","v":1100},{"$f":"Tableau1132[[#This Row],[ECART]]/Tableau1132[[#This Row],[BUDGET]]","v":1},{"$f":"SUMIFS(Prestation[Duree],Prestation[CollaborateurId],Tableau1132[[#This Row],[IDENTIFIANT COLLABORATEUR]],Prestation[AnneePrestation],$D$7-1)","v":0},{"$f":"Tableau1132[[#This Row],[TOTAL TPS N-1]]/Tableau1132[[#This Row],[BUDGET]]","v":0}]
[null,{"$f":"'BI - COL'!H15","v":0},{"$f":"'BI - COL'!D15","v":"00:00:00"},{"$f":"'BI - COL'!B15","v":"00:00:00"},{"$f":"'BI - COL'!C15","v":0},{"$f":"SUMIFS(Prestation[Duree],Prestation[CollaborateurId],Tableau1132[[#This Row],[IDENTIFIANT COLLABORATEUR]],Prestation[MoisPrestation],\"1\",Prestation[AnneePrestation],$D$7)","v":0},{"$f":"SUMIFS(Prestation[Duree],Prestation[CollaborateurId],Tableau1132[[#This Row],[IDENTIFIANT COLLABORATEUR]],Prestation[MoisPrestation],\"2\",Prestation[AnneePrestation],$D$7)","v":0},{"$f":"SUMIFS(Prestation[Duree],Prestation[CollaborateurId],Tableau1132[[#This Row],[IDENTIFIANT COLLABORATEUR]],Prestation[MoisPrestation],\"3\",Prestation[AnneePrestation],$D$7)","v":0},{"$f":"SUMIFS(Prestation[Duree],Prestation[CollaborateurId],Tableau1132[[#This Row],[IDENTIFIANT COLLABORATEUR]],Prestation[MoisPrestation],\"4\",Prestation[AnneePrestation],$D$7)","v":0},{"$f":"SUMIFS(Prestation[Duree],Prestation[CollaborateurId],Tableau1132[[#This Row],[IDENTIFIANT COLLABORATEUR]],Prestation[MoisPrestation],\"5\",Prestation[AnneePrestation],$D$7)","v":0},{"$f":"SUMIFS(Prestation[Duree],Prestation[CollaborateurId],Tableau1132[[#This Row],[IDENTIFIANT COLLABORATEUR]],Prestation[MoisPrestation],\"6\",Prestation[AnneePrestation],$D$7)","v":0},{"$f":"SUMIFS(Prestation[Duree],Prestation[CollaborateurId],Tableau1132[[#This Row],[IDENTIFIANT COLLABORATEUR]],Prestation[MoisPrestation],\"7\",Prestation[AnneePrestation],$D$7)","v":0},{"$f":"SUMIFS(Prestation[Duree],Prestation[CollaborateurId],Tableau1132[[#This Row],[IDENTIFIANT COLLABORATEUR]],Prestation[MoisPrestation],\"8\",Prestation[AnneePrestation],$D$7)","v":0},{"$f":"SUMIFS(Prestation[Duree],Prestation[CollaborateurId],Tableau1132[[#This Row],[IDENTIFIANT COLLABORATEUR]],Prestation[MoisPrestation],\"9\",Prestation[AnneePrestation],$D$7)","v":0},{"$f":"SUMIFS(Prestation[Duree],Prestation[CollaborateurId],Tableau1132[[#This Row],[IDENTIFIANT COLLABORATEUR]],Prestation[MoisPrestation],\"10\",Prestation[AnneePrestation],$D$7)","v":0},{"$f":"SUMIFS(Prestation[Duree],Prestation[CollaborateurId],Tableau1132[[#This Row],[IDENTIFIANT COLLABORATEUR]],Prestation[MoisPrestation],\"11\",Prestation[AnneePrestation],$D$7)","v":0},{"$f":"SUMIFS(Prestation[Duree],Prestation[CollaborateurId],Tableau1132[[#This Row],[IDENTIFIANT COLLABORATEUR]],Prestation[MoisPrestation],\"12\",Prestation[AnneePrestation],$D$7)","v":0},{"$f":"SUM(Tableau1132[[#This Row],[JAN]:[DEC]])","v":0},1100,{"$f":"Tableau1132[[#This Row],[BUDGET]]-Tableau1132[[#This Row],[TOTAL TEMPS ANNEE]]","v":1100},{"$f":"Tableau1132[[#This Row],[ECART]]/Tableau1132[[#This Row],[BUDGET]]","v":1},{"$f":"SUMIFS(Prestation[Duree],Prestation[CollaborateurId],Tableau1132[[#This Row],[IDENTIFIANT COLLABORATEUR]],Prestation[AnneePrestation],$D$7-1)","v":0},{"$f":"Tableau1132[[#This Row],[TOTAL TPS N-1]]/Tableau1132[[#This Row],[BUDGET]]","v":0}]
[null,{"$f":"'BI - COL'!H16","v":0},{"$f":"'BI - COL'!D16","v":"00:00:00"},{"$f":"'BI - COL'!B16","v":"00:00:00"},{"$f":"'BI - COL'!C16","v":0},{"$f":"SUMIFS(Prestation[Duree],Prestation[CollaborateurId],Tableau1132[[#This Row],[IDENTIFIANT COLLABORATEUR]],Prestation[MoisPrestation],\"1\",Prestation[AnneePrestation],$D$7)","v":0},{"$f":"SUMIFS(Prestation[Duree],Prestation[CollaborateurId],Tableau1132[[#This Row],[IDENTIFIANT COLLABORATEUR]],Prestation[MoisPrestation],\"2\",Prestation[AnneePrestation],$D$7)","v":0},{"$f":"SUMIFS(Prestation[Duree],Prestation[CollaborateurId],Tableau1132[[#This Row],[IDENTIFIANT COLLABORATEUR]],Prestation[MoisPrestation],\"3\",Prestation[AnneePrestation],$D$7)","v":0},{"$f":"SUMIFS(Prestation[Duree],Prestation[CollaborateurId],Tableau1132[[#This Row],[IDENTIFIANT COLLABORATEUR]],Prestation[MoisPrestation],\"4\",Prestation[AnneePrestation],$D$7)","v":0},{"$f":"SUMIFS(Prestation[Duree],Prestation[CollaborateurId],Tableau1132[[#This Row],[IDENTIFIANT COLLABORATEUR]],Prestation[MoisPrestation],\"5\",Prestation[AnneePrestation],$D$7)","v":0},{"$f":"SUMIFS(Prestation[Duree],Prestation[CollaborateurId],Tableau1132[[#This Row],[IDENTIFIANT COLLABORATEUR]],Prestation[MoisPrestation],\"6\",Prestation[AnneePrestation],$D$7)","v":0},{"$f":"SUMIFS(Prestation[Duree],Prestation[CollaborateurId],Tableau1132[[#This Row],[IDENTIFIANT COLLABORATEUR]],Prestation[MoisPrestation],\"7\",Prestation[AnneePrestation],$D$7)","v":0},{"$f":"SUMIFS(Prestation[Duree],Prestation[CollaborateurId],Tableau1132[[#This Row],[IDENTIFIANT COLLABORATEUR]],Prestation[MoisPrestation],\"8\",Prestation[AnneePrestation],$D$7)","v":0},{"$f":"SUMIFS(Prestation[Duree],Prestation[CollaborateurId],Tableau1132[[#This Row],[IDENTIFIANT COLLABORATEUR]],Prestation[MoisPrestation],\"9\",Prestation[AnneePrestation],$D$7)","v":0},{"$f":"SUMIFS(Prestation[Duree],Prestation[CollaborateurId],Tableau1132[[#This Row],[IDENTIFIANT COLLABORATEUR]],Prestation[MoisPrestation],\"10\",Prestation[AnneePrestation],$D$7)","v":0},{"$f":"SUMIFS(Prestation[Duree],Prestation[CollaborateurId],Tableau1132[[#This Row],[IDENTIFIANT COLLABORATEUR]],Prestation[MoisPrestation],\"11\",Prestation[AnneePrestation],$D$7)","v":0},{"$f":"SUMIFS(Prestation[Duree],Prestation[CollaborateurId],Tableau1132[[#This Row],[IDENTIFIANT COLLABORATEUR]],Prestation[MoisPrestation],\"12\",Prestation[AnneePrestation],$D$7)","v":0},{"$f":"SUM(Tableau1132[[#This Row],[JAN]:[DEC]])","v":0},1100,{"$f":"Tableau1132[[#This Row],[BUDGET]]-Tableau1132[[#This Row],[TOTAL TEMPS ANNEE]]","v":1100},{"$f":"Tableau1132[[#This Row],[ECART]]/Tableau1132[[#This Row],[BUDGET]]","v":1},{"$f":"SUMIFS(Prestation[Duree],Prestation[CollaborateurId],Tableau1132[[#This Row],[IDENTIFIANT COLLABORATEUR]],Prestation[AnneePrestation],$D$7-1)","v":0},{"$f":"Tableau1132[[#This Row],[TOTAL TPS N-1]]/Tableau1132[[#This Row],[BUDGET]]","v":0}]
[null,{"$f":"'BI - COL'!H17","v":0},{"$f":"'BI - COL'!D17","v":"00:00:00"},{"$f":"'BI - COL'!B17","v":"00:00:00"},{"$f":"'BI - COL'!C17","v":0},{"$f":"SUMIFS(Prestation[Duree],Prestation[CollaborateurId],Tableau1132[[#This Row],[IDENTIFIANT COLLABORATEUR]],Prestation[MoisPrestation],\"1\",Prestation[AnneePrestation],$D$7)","v":0},{"$f":"SUMIFS(Prestation[Duree],Prestation[CollaborateurId],Tableau1132[[#This Row],[IDENTIFIANT COLLABORATEUR]],Prestation[MoisPrestation],\"2\",Prestation[AnneePrestation],$D$7)","v":0},{"$f":"SUMIFS(Prestation[Duree],Prestation[CollaborateurId],Tableau1132[[#This Row],[IDENTIFIANT COLLABORATEUR]],Prestation[MoisPrestation],\"3\",Prestation[AnneePrestation],$D$7)","v":0},{"$f":"SUMIFS(Prestation[Duree],Prestation[CollaborateurId],Tableau1132[[#This Row],[IDENTIFIANT COLLABORATEUR]],Prestation[MoisPrestation],\"4\",Prestation[AnneePrestation],$D$7)","v":0},{"$f":"SUMIFS(Prestation[Duree],Prestation[CollaborateurId],Tableau1132[[#This Row],[IDENTIFIANT COLLABORATEUR]],Prestation[MoisPrestation],\"5\",Prestation[AnneePrestation],$D$7)","v":0},{"$f":"SUMIFS(Prestation[Duree],Prestation[CollaborateurId],Tableau1132[[#This Row],[IDENTIFIANT COLLABORATEUR]],Prestation[MoisPrestation],\"6\",Prestation[AnneePrestation],$D$7)","v":0},{"$f":"SUMIFS(Prestation[Duree],Prestation[CollaborateurId],Tableau1132[[#This Row],[IDENTIFIANT COLLABORATEUR]],Prestation[MoisPrestation],\"7\",Prestation[AnneePrestation],$D$7)","v":0},{"$f":"SUMIFS(Prestation[Duree],Prestation[CollaborateurId],Tableau1132[[#This Row],[IDENTIFIANT COLLABORATEUR]],Prestation[MoisPrestation],\"8\",Prestation[AnneePrestation],$D$7)","v":0},{"$f":"SUMIFS(Prestation[Duree],Prestation[CollaborateurId],Tableau1132[[#This Row],[IDENTIFIANT COLLABORATEUR]],Prestation[MoisPrestation],\"9\",Prestation[AnneePrestation],$D$7)","v":0},{"$f":"SUMIFS(Prestation[Duree],Prestation[CollaborateurId],Tableau1132[[#This Row],[IDENTIFIANT COLLABORATEUR]],Prestation[MoisPrestation],\"10\",Prestation[AnneePrestation],$D$7)","v":0},{"$f":"SUMIFS(Prestation[Duree],Prestation[CollaborateurId],Tableau1132[[#This Row],[IDENTIFIANT COLLABORATEUR]],Prestation[MoisPrestation],\"11\",Prestation[AnneePrestation],$D$7)","v":0},{"$f":"SUMIFS(Prestation[Duree],Prestation[CollaborateurId],Tableau1132[[#This Row],[IDENTIFIANT COLLABORATEUR]],Prestation[MoisPrestation],\"12\",Prestation[AnneePrestation],$D$7)","v":0},{"$f":"SUM(Tableau1132[[#This Row],[JAN]:[DEC]])","v":0},1100,{"$f":"Tableau1132[[#This Row],[BUDGET]]-Tableau1132[[#This Row],[TOTAL TEMPS ANNEE]]","v":1100},{"$f":"Tableau1132[[#This Row],[ECART]]/Tableau1132[[#This Row],[BUDGET]]","v":1},{"$f":"SUMIFS(Prestation[Duree],Prestation[CollaborateurId],Tableau1132[[#This Row],[IDENTIFIANT COLLABORATEUR]],Prestation[AnneePrestation],$D$7-1)","v":0},{"$f":"Tableau1132[[#This Row],[TOTAL TPS N-1]]/Tableau1132[[#This Row],[BUDGET]]","v":0}]
[null,{"$f":"'BI - COL'!H18","v":0},{"$f":"'BI - COL'!D18","v":"00:00:00"},{"$f":"'BI - COL'!B18","v":"00:00:00"},{"$f":"'BI - COL'!C18","v":0},{"$f":"SUMIFS(Prestation[Duree],Prestation[CollaborateurId],Tableau1132[[#This Row],[IDENTIFIANT COLLABORATEUR]],Prestation[MoisPrestation],\"1\",Prestation[AnneePrestation],$D$7)","v":0},{"$f":"SUMIFS(Prestation[Duree],Prestation[CollaborateurId],Tableau1132[[#This Row],[IDENTIFIANT COLLABORATEUR]],Prestation[MoisPrestation],\"2\",Prestation[AnneePrestation],$D$7)","v":0},{"$f":"SUMIFS(Prestation[Duree],Prestation[CollaborateurId],Tableau1132[[#This Row],[IDENTIFIANT COLLABORATEUR]],Prestation[MoisPrestation],\"3\",Prestation[AnneePrestation],$D$7)","v":0},{"$f":"SUMIFS(Prestation[Duree],Prestation[CollaborateurId],Tableau1132[[#This Row],[IDENTIFIANT COLLABORATEUR]],Prestation[MoisPrestation],\"4\",Prestation[AnneePrestation],$D$7)","v":0},{"$f":"SUMIFS(Prestation[Duree],Prestation[CollaborateurId],Tableau1132[[#This Row],[IDENTIFIANT COLLABORATEUR]],Prestation[MoisPrestation],\"5\",Prestation[AnneePrestation],$D$7)","v":0},{"$f":"SUMIFS(Prestation[Duree],Prestation[CollaborateurId],Tableau1132[[#This Row],[IDENTIFIANT COLLABORATEUR]],Prestation[MoisPrestation],\"6\",Prestation[AnneePrestation],$D$7)","v":0},{"$f":"SUMIFS(Prestation[Duree],Prestation[CollaborateurId],Tableau1132[[#This Row],[IDENTIFIANT COLLABORATEUR]],Prestation[MoisPrestation],\"7\",Prestation[AnneePrestation],$D$7)","v":0},{"$f":"SUMIFS(Prestation[Duree],Prestation[CollaborateurId],Tableau1132[[#This Row],[IDENTIFIANT COLLABORATEUR]],Prestation[MoisPrestation],\"8\",Prestation[AnneePrestation],$D$7)","v":0},{"$f":"SUMIFS(Prestation[Duree],Prestation[CollaborateurId],Tableau1132[[#This Row],[IDENTIFIANT COLLABORATEUR]],Prestation[MoisPrestation],\"9\",Prestation[AnneePrestation],$D$7)","v":0},{"$f":"SUMIFS(Prestation[Duree],Prestation[CollaborateurId],Tableau1132[[#This Row],[IDENTIFIANT COLLABORATEUR]],Prestation[MoisPrestation],\"10\",Prestation[AnneePrestation],$D$7)","v":0},{"$f":"SUMIFS(Prestation[Duree],Prestation[CollaborateurId],Tableau1132[[#This Row],[IDENTIFIANT COLLABORATEUR]],Prestation[MoisPrestation],\"11\",Prestation[AnneePrestation],$D$7)","v":0},{"$f":"SUMIFS(Prestation[Duree],Prestation[CollaborateurId],Tableau1132[[#This Row],[IDENTIFIANT COLLABORATEUR]],Prestation[MoisPrestation],\"12\",Prestation[AnneePrestation],$D$7)","v":0},{"$f":"SUM(Tableau1132[[#This Row],[JAN]:[DEC]])","v":0},1100,{"$f":"Tableau1132[[#This Row],[BUDGET]]-Tableau1132[[#This Row],[TOTAL TEMPS ANNEE]]","v":1100},{"$f":"Tableau1132[[#This Row],[ECART]]/Tableau1132[[#This Row],[BUDGET]]","v":1},{"$f":"SUMIFS(Prestation[Duree],Prestation[CollaborateurId],Tableau1132[[#This Row],[IDENTIFIANT COLLABORATEUR]],Prestation[AnneePrestation],$D$7-1)","v":0},{"$f":"Tableau1132[[#This Row],[TOTAL TPS N-1]]/Tableau1132[[#This Row],[BUDGET]]","v":0}]
[null,{"$f":"'BI - COL'!H19","v":0},{"$f":"'BI - COL'!D19","v":"00:00:00"},{"$f":"'BI - COL'!B19","v":"00:00:00"},{"$f":"'BI - COL'!C19","v":0},{"$f":"SUMIFS(Prestation[Duree],Prestation[CollaborateurId],Tableau1132[[#This Row],[IDENTIFIANT COLLABORATEUR]],Prestation[MoisPrestation],\"1\",Prestation[AnneePrestation],$D$7)","v":0},{"$f":"SUMIFS(Prestation[Duree],Prestation[CollaborateurId],Tableau1132[[#This Row],[IDENTIFIANT COLLABORATEUR]],Prestation[MoisPrestation],\"2\",Prestation[AnneePrestation],$D$7)","v":0},{"$f":"SUMIFS(Prestation[Duree],Prestation[CollaborateurId],Tableau1132[[#This Row],[IDENTIFIANT COLLABORATEUR]],Prestation[MoisPrestation],\"3\",Prestation[AnneePrestation],$D$7)","v":0},{"$f":"SUMIFS(Prestation[Duree],Prestation[CollaborateurId],Tableau1132[[#This Row],[IDENTIFIANT COLLABORATEUR]],Prestation[MoisPrestation],\"4\",Prestation[AnneePrestation],$D$7)","v":0},{"$f":"SUMIFS(Prestation[Duree],Prestation[CollaborateurId],Tableau1132[[#This Row],[IDENTIFIANT COLLABORATEUR]],Prestation[MoisPrestation],\"5\",Prestation[AnneePrestation],$D$7)","v":0},{"$f":"SUMIFS(Prestation[Duree],Prestation[CollaborateurId],Tableau1132[[#This Row],[IDENTIFIANT COLLABORATEUR]],Prestation[MoisPrestation],\"6\",Prestation[AnneePrestation],$D$7)","v":0},{"$f":"SUMIFS(Prestation[Duree],Prestation[CollaborateurId],Tableau1132[[#This Row],[IDENTIFIANT COLLABORATEUR]],Prestation[MoisPrestation],\"7\",Prestation[AnneePrestation],$D$7)","v":0},{"$f":"SUMIFS(Prestation[Duree],Prestation[CollaborateurId],Tableau1132[[#This Row],[IDENTIFIANT COLLABORATEUR]],Prestation[MoisPrestation],\"8\",Prestation[AnneePrestation],$D$7)","v":0},{"$f":"SUMIFS(Prestation[Duree],Prestation[CollaborateurId],Tableau1132[[#This Row],[IDENTIFIANT COLLABORATEUR]],Prestation[MoisPrestation],\"9\",Prestation[AnneePrestation],$D$7)","v":0},{"$f":"SUMIFS(Prestation[Duree],Prestation[CollaborateurId],Tableau1132[[#This Row],[IDENTIFIANT COLLABORATEUR]],Prestation[MoisPrestation],\"10\",Prestation[AnneePrestation],$D$7)","v":0},{"$f":"SUMIFS(Prestation[Duree],Prestation[CollaborateurId],Tableau1132[[#This Row],[IDENTIFIANT COLLABORATEUR]],Prestation[MoisPrestation],\"11\",Prestation[AnneePrestation],$D$7)","v":0},{"$f":"SUMIFS(Prestation[Duree],Prestation[CollaborateurId],Tableau1132[[#This Row],[IDENTIFIANT COLLABORATEUR]],Prestation[MoisPrestation],\"12\",Prestation[AnneePrestation],$D$7)","v":0},{"$f":"SUM(Tableau1132[[#This Row],[JAN]:[DEC]])","v":0},1100,{"$f":"Tableau1132[[#This Row],[BUDGET]]-Tableau1132[[#This Row],[TOTAL TEMPS ANNEE]]","v":1100},{"$f":"Tableau1132[[#This Row],[ECART]]/Tableau1132[[#This Row],[BUDGET]]","v":1},{"$f":"SUMIFS(Prestation[Duree],Prestation[CollaborateurId],Tableau1132[[#This Row],[IDENTIFIANT COLLABORATEUR]],Prestation[AnneePrestation],$D$7-1)","v":0},{"$f":"Tableau1132[[#This Row],[TOTAL TPS N-1]]/Tableau1132[[#This Row],[BUDGET]]","v":0}]
[null,{"$f":"'BI - COL'!H20","v":0},{"$f":"'BI - COL'!D20","v":"00:00:00"},{"$f":"'BI - COL'!B20","v":"00:00:00"},{"$f":"'BI - COL'!C20","v":0},{"$f":"SUMIFS(Prestation[Duree],Prestation[CollaborateurId],Tableau1132[[#This Row],[IDENTIFIANT COLLABORATEUR]],Prestation[MoisPrestation],\"1\",Prestation[AnneePrestation],$D$7)","v":0},{"$f":"SUMIFS(Prestation[Duree],Prestation[CollaborateurId],Tableau1132[[#This Row],[IDENTIFIANT COLLABORATEUR]],Prestation[MoisPrestation],\"2\",Prestation[AnneePrestation],$D$7)","v":0},{"$f":"SUMIFS(Prestation[Duree],Prestation[CollaborateurId],Tableau1132[[#This Row],[IDENTIFIANT COLLABORATEUR]],Prestation[MoisPrestation],\"3\",Prestation[AnneePrestation],$D$7)","v":0},{"$f":"SUMIFS(Prestation[Duree],Prestation[CollaborateurId],Tableau1132[[#This Row],[IDENTIFIANT COLLABORATEUR]],Prestation[MoisPrestation],\"4\",Prestation[AnneePrestation],$D$7)","v":0},{"$f":"SUMIFS(Prestation[Duree],Prestation[CollaborateurId],Tableau1132[[#This Row],[IDENTIFIANT COLLABORATEUR]],Prestation[MoisPrestation],\"5\",Prestation[AnneePrestation],$D$7)","v":0},{"$f":"SUMIFS(Prestation[Duree],Prestation[CollaborateurId],Tableau1132[[#This Row],[IDENTIFIANT COLLABORATEUR]],Prestation[MoisPrestation],\"6\",Prestation[AnneePrestation],$D$7)","v":0},{"$f":"SUMIFS(Prestation[Duree],Prestation[CollaborateurId],Tableau1132[[#This Row],[IDENTIFIANT COLLABORATEUR]],Prestation[MoisPrestation],\"7\",Prestation[AnneePrestation],$D$7)","v":0},{"$f":"SUMIFS(Prestation[Duree],Prestation[CollaborateurId],Tableau1132[[#This Row],[IDENTIFIANT COLLABORATEUR]],Prestation[MoisPrestation],\"8\",Prestation[AnneePrestation],$D$7)","v":0},{"$f":"SUMIFS(Prestation[Duree],Prestation[CollaborateurId],Tableau1132[[#This Row],[IDENTIFIANT COLLABORATEUR]],Prestation[MoisPrestation],\"9\",Prestation[AnneePrestation],$D$7)","v":0},{"$f":"SUMIFS(Prestation[Duree],Prestation[CollaborateurId],Tableau1132[[#This Row],[IDENTIFIANT COLLABORATEUR]],Prestation[MoisPrestation],\"10\",Prestation[AnneePrestation],$D$7)","v":0},{"$f":"SUMIFS(Prestation[Duree],Prestation[CollaborateurId],Tableau1132[[#This Row],[IDENTIFIANT COLLABORATEUR]],Prestation[MoisPrestation],\"11\",Prestation[AnneePrestation],$D$7)","v":0},{"$f":"SUMIFS(Prestation[Duree],Prestation[CollaborateurId],Tableau1132[[#This Row],[IDENTIFIANT COLLABORATEUR]],Prestation[MoisPrestation],\"12\",Prestation[AnneePrestation],$D$7)","v":0},{"$f":"SUM(Tableau1132[[#This Row],[JAN]:[DEC]])","v":0},1100,{"$f":"Tableau1132[[#This Row],[BUDGET]]-Tableau1132[[#This Row],[TOTAL TEMPS ANNEE]]","v":1100},{"$f":"Tableau1132[[#This Row],[ECART]]/Tableau1132[[#This Row],[BUDGET]]","v":1},{"$f":"SUMIFS(Prestation[Duree],Prestation[CollaborateurId],Tableau1132[[#This Row],[IDENTIFIANT COLLABORATEUR]],Prestation[AnneePrestation],$D$7-1)","v":0},{"$f":"Tableau1132[[#This Row],[TOTAL TPS N-1]]/Tableau1132[[#This Row],[BUDGET]]","v":0}]
[null,{"$f":"'BI - COL'!H34","v":0},{"$f":"'BI - COL'!D34","v":"00:00:00"},{"$f":"'BI - COL'!B34","v":"00:00:00"},{"$f":"'BI - COL'!C34","v":0},{"$f":"SUMIFS(Prestation[Duree],Prestation[CollaborateurId],Tableau1132[[#This Row],[IDENTIFIANT COLLABORATEUR]],Prestation[MoisPrestation],\"1\",Prestation[AnneePrestation],$D$7)","v":0},{"$f":"SUMIFS(Prestation[Duree],Prestation[CollaborateurId],Tableau1132[[#This Row],[IDENTIFIANT COLLABORATEUR]],Prestation[MoisPrestation],\"2\",Prestation[AnneePrestation],$D$7)","v":0},{"$f":"SUMIFS(Prestation[Duree],Prestation[CollaborateurId],Tableau1132[[#This Row],[IDENTIFIANT COLLABORATEUR]],Prestation[MoisPrestation],\"3\",Prestation[AnneePrestation],$D$7)","v":0},{"$f":"SUMIFS(Prestation[Duree],Prestation[CollaborateurId],Tableau1132[[#This Row],[IDENTIFIANT COLLABORATEUR]],Prestation[MoisPrestation],\"4\",Prestation[AnneePrestation],$D$7)","v":0},{"$f":"SUMIFS(Prestation[Duree],Prestation[CollaborateurId],Tableau1132[[#This Row],[IDENTIFIANT COLLABORATEUR]],Prestation[MoisPrestation],\"5\",Prestation[AnneePrestation],$D$7)","v":0},{"$f":"SUMIFS(Prestation[Duree],Prestation[CollaborateurId],Tableau1132[[#This Row],[IDENTIFIANT COLLABORATEUR]],Prestation[MoisPrestation],\"6\",Prestation[AnneePrestation],$D$7)","v":0},{"$f":"SUMIFS(Prestation[Duree],Prestation[CollaborateurId],Tableau1132[[#This Row],[IDENTIFIANT COLLABORATEUR]],Prestation[MoisPrestation],\"7\",Prestation[AnneePrestation],$D$7)","v":0},{"$f":"SUMIFS(Prestation[Duree],Prestation[CollaborateurId],Tableau1132[[#This Row],[IDENTIFIANT COLLABORATEUR]],Prestation[MoisPrestation],\"8\",Prestation[AnneePrestation],$D$7)","v":0},{"$f":"SUMIFS(Prestation[Duree],Prestation[CollaborateurId],Tableau1132[[#This Row],[IDENTIFIANT COLLABORATEUR]],Prestation[MoisPrestation],\"9\",Prestation[AnneePrestation],$D$7)","v":0},{"$f":"SUMIFS(Prestation[Duree],Prestation[CollaborateurId],Tableau1132[[#This Row],[IDENTIFIANT COLLABORATEUR]],Prestation[MoisPrestation],\"10\",Prestation[AnneePrestation],$D$7)","v":0},{"$f":"SUMIFS(Prestation[Duree],Prestation[CollaborateurId],Tableau1132[[#This Row],[IDENTIFIANT COLLABORATEUR]],Prestation[MoisPrestation],\"11\",Prestation[AnneePrestation],$D$7)","v":0},{"$f":"SUMIFS(Prestation[Duree],Prestation[CollaborateurId],Tableau1132[[#This Row],[IDENTIFIANT COLLABORATEUR]],Prestation[MoisPrestation],\"12\",Prestation[AnneePrestation],$D$7)","v":0},{"$f":"SUM(Tableau1132[[#This Row],[JAN]:[DEC]])","v":0},1100,{"$f":"Tableau1132[[#This Row],[BUDGET]]-Tableau1132[[#This Row],[TOTAL TEMPS ANNEE]]","v":1100},{"$f":"Tableau1132[[#This Row],[ECART]]/Tableau1132[[#This Row],[BUDGET]]","v":1},{"$f":"SUMIFS(Prestation[Duree],Prestation[CollaborateurId],Tableau1132[[#This Row],[IDENTIFIANT COLLABORATEUR]],Prestation[AnneePrestation],$D$7-1)","v":0},{"$f":"Tableau1132[[#This Row],[TOTAL TPS N-1]]/Tableau1132[[#This Row],[BUDGET]]","v":0}]

{"sheet":"COMPARATIF DE FACTURATION","index":1,"n_rows":27,"n_cols":21,"rows_kept":27,"cut":false,"hidden":false,"merged":[[4,8,8,8],[4,5,8,5],[4,15,8,15],[4,10,8,10],[4,11,8,11],[4,12,8,12],[4,13,8,13],[4,14,8,14],[4,9,8,9]]}
[]
[null,null,"COMPARATIF DE FACTURATION",null,null,"Ajouter le critère de l'année !"]
[null,null,"Exemple de tableau de bord financier fourni par les équipes Lexis Poly"]
[]
[null,null,null,null,null,{"$f":"SUM(Tableau113[FACTURES])","v":0},null,null,{"$f":"SUM(Tableau113[BUDGET CUMULE])","v":15118496},{"$f":"SUM(Tableau113[ECART BUDGET])","v":15118496},{"$f":"IFERROR(AVERAGE(Tableau113[% ECART BUDGET]),\"-\")","v":1},{"$f":"SUM(Tableau113[FACTURES MOIS AN -1])","v":0},{"$f":"SUM(Tableau113[CUMUL MOIS AN -1])","v":0},{"$f":"SUM(Tableau113[ECART AVEC AN -1])","v":0},{"$f":"IFERROR(AVERAGE(Tableau113[% ECART AVEC AN -1]),\"-\")","v":"-"},{"$f":"SUM(Tableau113[BUDGET MOIS SUIVANT])","v":600272}]
[null,"DU",{"$f":"MIN(Honoraire[DateFacture])","v":"00:00:00"}]
[null,"AU",{"$f":"MAX(Honoraire[DateFacture])","v":"00:00:00"},{"$f":"DATE(YEAR(TODAY())-1,D9+1,\"01\")","v":"2024-04-01"}]
[null,null,null,{"$f":"YEAR(TODAY())-1","v":2024}]
[null,"MOIS","MAR",{"$f":"VLOOKUP($C$9,PARAMETRES!B5:C16,2,FALSE)","v":3}]
[]
[null,"SITE","COLLABORATEUR","IDENTIFIANT COLLABORATEUR","TRI","FACTURES","BUDGET","FACTURES CUMULEES","BUDGET CUMULE","ECART BUDGET","% ECART BUDGET","FACTURES MOIS AN -1","CUMUL MOIS AN -1","ECART AVEC AN -1","% ECART AVEC AN -1","BUDGET MOIS SUIVANT","RESTE A REALISER","EN COURS","FACTURES NON PAYEES","DONT IMPAYES  + DE 2 MOIS - 1 AN","DONT IMPAYES + 1 AN"]
[null,{"$f":"'BI - COL'!H6","v":0},{"$f":"'BI - COL'!D6","v":"00:00:00"},{"$f":"'BI - COL'!B6","v":"00:00:00"},{"$f":"'BI - COL'!C6","v":0},{"$f":"SUMIFS(Ecriture[TotalReglementTTC],Ecriture[CollaborateurId],Tableau113[[#This Row],[IDENTIFIANT COLLABORATEUR]],Ecriture[_MoisFacturation],$D$9)","v":0},162540,{"$f":"ABS(SUMIFS(Ecriture[TotalReglementTTC],Ecriture[CollaborateurId],Tableau113[[#This Row],[IDENTIFIANT COLLABORATEUR]]))","v":0},944906,{"$f":"Tableau113[[#This Row],[BUDGET CUMULE]]-Tableau113[[#This Row],[FACTURES CUMULEES]]","v":944906},{"$f":"Tableau113[[#This Row],[ECART BUDGET]]/Tableau113[[#This Row],[BUDGET CUMULE]]","v":1},{"$f":"ABS(SUMIFS(Ecriture[TotalReglementTTC],Ecriture[CollaborateurId],Tableau113[[#This Row],[IDENTIFIANT COLLABORATEUR]],Ecriture[_MoisFacturation],$D$9,Ecriture[_AnneeFacturation],$D$8))","v":0},{"$f":"ABS(SUMIFS(Ecriture[TotalReglementTTC],Ecriture[CollaborateurId],Tableau113[[#This Row],[IDENTIFIANT COLLABORATEUR]],Ecriture[_DateFacture],\"<\"&$D$7))","v":0},{"$f":"Tableau113[[#This Row],[FACTURES CUMULEES]]-Tableau113[[#This Row],[CUMUL MOIS AN -1]]","v":0},{"$f":"IFERROR(Tableau113[[#This Row],[FACTURES CUMULEES]]/Tableau113[[#This Row],[CUMUL MOIS AN -1]],\"-\")","v":"-"},37517,{"$f":"ABS(Tableau113[[#This Row],[ECART BUDGET]])","v":944906},{"$f":"SUMIFS(Ecriture[_TotalTTC],Ecriture[CollaborateurId],Tableau113[[#This Row],[IDENTIFIANT COLLABORATEUR]],Ecriture[_MoisFacturation],$D$9)","v":0},{"$f":"SUMIFS(Ecriture[_TotalTTC],Ecriture[CollaborateurId],Tableau113[[#This Row],[IDENTIFIANT COLLABORATEUR]])","v":0},{"$f":"SUMIFS(Ecriture[_TotalTTC],Ecriture[CollaborateurId],Tableau113[[#This Row],[IDENTIFIANT COLLABORATEUR]],Ecriture[DateFacture],\"<\"&DATE(YEAR(TODAY()),MONTH($D$9-2),DAY(TODAY())))","v":0},{"$f":"SUMIFS(Ecriture[_TotalTTC],Ecriture[CollaborateurId],Tableau113[[#This Row],[IDENTIFIANT COLLABORATEUR]],Ecriture[DateFacture],\"<\"&DATE(YEAR(TODAY())-1,MONTH(TODAY()),DAY(TODAY())))","v":0}]
[null,{"$f":"'BI - COL'!H7","v":0},{"$f":"'BI - COL'!D7","v":"00:00:00"},{"$f":"'BI - COL'!B7","v":"00:00:00"},{"$f":"'BI - COL'!C7","v":0},{"$f":"SUMIFS(Ecriture[TotalReglementTTC],Ecriture[CollaborateurId],Tableau113[[#This Row],[IDENTIFIANT COLLABORATEUR]],Ecriture[_MoisFacturation],$D$9)","v":0},162540,{"$f":"ABS(SUMIFS(Ecriture[TotalReglementTTC],Ecriture[CollaborateurId],Tableau113[[#This Row],[IDENTIFIANT COLLABORATEUR]]))","v":0},944906,{"$f":"Tableau113[[#This Row],[BUDGET CUMULE]]-Tableau113[[#This Row],[FACTURES CUMULEES]]","v":944906},{"$f":"Tableau113[[#This Row],[ECART BUDGET]]/Tableau113[[#This Row],[BUDGET CUMULE]]","v":1},{"$f":"ABS(SUMIFS(Ecriture[TotalReglementTTC],Ecriture[CollaborateurId],Tableau113[[#This Row],[IDENTIFIANT COLLABORATEUR]],Ecriture[_MoisFacturation],$D$9,Ecriture[_AnneeFacturation],$D$8))","v":0},{"$f":"ABS(SUMIFS(Ecriture[TotalReglementTTC],Ecriture[CollaborateurId],Tableau113[[#This Row],[IDENTIFIANT COLLABORATEUR]],Ecriture[_DateFacture],\"<\"&$D$7))","v":0},{"$f":"Tableau113[[#This Row],[FACTURES CUMULEES]]-Tableau113[[#This Row],[CUMUL MOIS AN -1]]","v":0},{"$f":"IFERROR(Tableau113[[#This Row],[FACTURES CUMULEES]]/Tableau113[[#This Row],[CUMUL MOIS AN -1]],\"-\")","v":"-"},37517,{"$f":"ABS(Tableau113[[#This Row],[ECART BUDGET]])","v":944906},{"$f":"SUMIFS(Ecriture[_TotalTTC],Ecriture[CollaborateurId],Tableau113[[#This Row],[IDENTIFIANT COLLABORATEUR]],Ecriture[_MoisFacturation],$D$9)","v":0},{"$f":"SUMIFS(Ecriture[_TotalTTC],Ecriture[CollaborateurId],Tableau113[[#This Row],[IDENTIFIANT COLLABORATEUR]])","v":0},{"$f":"SUMIFS(Ecriture[_TotalTTC],Ecriture[CollaborateurId],Tableau113[[#This Row],[IDENTIFIANT COLLABORATEUR]],Ecriture[DateFacture],\"<\"&DATE(YEAR(TODAY()),MONTH($D$9-2),DAY(TODAY())))","v":0},{"$f":"SUMIFS(Ecriture[_TotalTTC],Ecriture[CollaborateurId],Tableau113[[#This Row],[IDENTIFIANT COLLABORATEUR]],Ecriture[DateFacture],\"<\"&DATE(YEAR(TODAY())-1,MONTH(TODAY()),DAY(TODAY())))","v":0}]
[null,{"$f":"'BI - COL'!H8","v":0},{"$f":"'BI - COL'!D8","v":"00:00:00"},{"$f":"'BI - COL'!B8","v":"00:00:00"},{"$f":"'BI - COL'!C8","v":0},{"$f":"SUMIFS(Ecriture[TotalReglementTTC],Ecriture[CollaborateurId],Tableau113[[#This Row],[IDENTIFIANT COLLABORATEUR]],Ecriture[_MoisFacturation],$D$9)","v":0},162540,{"$f":"ABS(SUMIFS(Ecriture[TotalReglementTTC],Ecriture[CollaborateurId],Tableau113[[#This Row],[IDENTIFIANT COLLABORATEUR]]))","v":0},944906,{"$f":"Tableau113[[#This Row],[BUDGET CUMULE]]-Tableau113[[#This Row],[FACTURES CUMULEES]]","v":944906},{"$f":"Tableau113[[#This Row],[ECART BUDGET]]/Tableau113[[#This Row],[BUDGET CUMULE]]","v":1},{"$f":"ABS(SUMIFS(Ecriture[TotalReglementTTC],Ecriture[CollaborateurId],Tableau113[[#This Row],[IDENTIFIANT COLLABORATEUR]],Ecriture[_MoisFacturation],$D$9,Ecriture[_AnneeFacturation],$D$8))","v":0},{"$f":"ABS(SUMIFS(Ecriture[TotalReglementTTC],Ecriture[CollaborateurId],Tableau113[[#This Row],[IDENTIFIANT COLLABORATEUR]],Ecriture[_DateFacture],\"<\"&$D$7))","v":0},{"$f":"Tableau113[[#This Row],[FACTURES CUMULEES]]-Tableau113[[#This Row],[CUMUL MOIS AN -1]]","v":0},{"$f":"IFERROR(Tableau113[[#This Row],[FACTURES CUMULEES]]/Tableau113[[#This Row],[CUMUL MOIS AN -1]],\"-\")","v":"-"},37517,{"$f":"ABS(Tableau113[[#This Row],[ECART BUDGET]])","v":944906},{"$f":"SUMIFS(Ecriture[_TotalTTC],Ecriture[CollaborateurId],Tableau113[[#This Row],[IDENTIFIANT COLLABORATEUR]],Ecriture[_MoisFacturation],$D$9)","v":0},{"$f":"SUMIFS(Ecriture[_TotalTTC],Ecriture[CollaborateurId],Tableau113[[#This Row],[IDENTIFIANT COLLABORATEUR]])","v":0},{"$f":"SUMIFS(Ecriture[_TotalTTC],Ecriture[CollaborateurId],Tableau113[[#This Row],[IDENTIFIANT COLLABORATEUR]],Ecriture[DateFacture],\"<\"&DATE(YEAR(TODAY()),MONTH($D$9-2),DAY(TODAY())))","v":0},{"$f":"SUMIFS(Ecriture[_TotalTTC],Ecriture[CollaborateurId],Tableau113[[#This Row],[IDENTIFIANT COLLABORATEUR]],Ecriture[DateFacture],\"<\"&DATE(YEAR(TODAY())-1,MONTH(TODAY()),DAY(TODAY())))","v":0}]
[null,{"$f":"'BI - COL'!H9","v":0},{"$f":"'BI - COL'!D9","v":"00:00:00"},{"$f":"'BI - COL'!B9","v":"00:00:00"},{"$f":"'BI - COL'!C9","v":0},{"$f":"SUMIFS(Ecriture[TotalReglementTTC],Ecriture[CollaborateurId],Tableau113[[#This Row],[IDENTIFIANT COLLABORATEUR]],Ecriture[_MoisFacturation],$D$9)","v":0},162540,{"$f":"ABS(SUMIFS(Ecriture[TotalReglementTTC],Ecriture[CollaborateurId],Tableau113[[#This Row],[IDENTIFIANT COLLABORATEUR]]))","v":0},944906,{"$f":"Tableau113[[#This Row],[BUDGET CUMULE]]-Tableau113[[#This Row],[FACTURES CUMULEES]]","v":944906},{"$f":"Tableau113[[#This Row],[ECART BUDGET]]/Tableau113[[#This Row],[BUDGET CUMULE]]","v":1},{"$f":"ABS(SUMIFS(Ecriture[TotalReglementTTC],Ecriture[CollaborateurId],Tableau113[[#This Row],[IDENTIFIANT COLLABORATEUR]],Ecriture[_MoisFacturation],$D$9,Ecriture[_AnneeFacturation],$D$8))","v":0},{"$f":"ABS(SUMIFS(Ecriture[TotalReglementTTC],Ecriture[CollaborateurId],Tableau113[[#This Row],[IDENTIFIANT COLLABORATEUR]],Ecriture[_DateFacture],\"<\"&$D$7))","v":0},{"$f":"Tableau113[[#This Row],[FACTURES CUMULEES]]-Tableau113[[#This Row],[CUMUL MOIS AN -1]]","v":0},{"$f":"IFERROR(Tableau113[[#This Row],[FACTURES CUMULEES]]/Tableau113[[#This Row],[CUMUL MOIS AN -1]],\"-\")","v":"-"},37517,{"$f":"ABS(Tableau113[[#This Row],[ECART BUDGET]])","v":944906},{"$f":"SUMIFS(Ecriture[_TotalTTC],Ecriture[CollaborateurId],Tableau113[[#This Row],[IDENTIFIANT COLLABORATEUR]],Ecriture[_MoisFacturation],$D$9)","v":0},{"$f":"SUMIFS(Ecriture[_TotalTTC],Ecriture[CollaborateurId],Tableau113[[#This Row],[IDENTIFIANT COLLABORATEUR]])","v":0},{"$f":"SUMIFS(Ecriture[_TotalTTC],Ecriture[CollaborateurId],Tableau113[[#This Row],[IDENTIFIANT COLLABORATEUR]],Ecriture[DateFacture],\"<\"&DATE(YEAR(TODAY()),MONTH($D$9-2),DAY(TODAY())))","v":0},{"$f":"SUMIFS(Ecriture[_TotalTTC],Ecriture[CollaborateurId],Tableau113[[#This Row],[IDENTIFIANT COLLABORATEUR]],Ecriture[DateFacture],\"<\"&DATE(YEAR(TODAY())-1,MONTH(TODAY()),DAY(TODAY())))","v":0}]
[null,{"$f":"'BI - COL'!H10","v":0},{"$f":"'BI - COL'!D10","v":"00:00:00"},{"$f":"'BI - COL'!B10","v":"00:00:00"},{"$f":"'BI - COL'!C10","v":0},{"$f":"SUMIFS(Ecriture[TotalReglementTTC],Ecriture[CollaborateurId],Tableau113[[#This Row],[IDENTIFIANT COLLABORATEUR]],Ecriture[_MoisFacturation],$D$9)","v":0},162540,{"$f":"ABS(SUMIFS(Ecriture[TotalReglementTTC],Ecriture[CollaborateurId],Tableau113[[#This Row],[IDENTIFIANT COLLABORATEUR]]))","v":0},944906,{"$f":"Tableau113[[#This Row],[BUDGET CUMULE]]-Tableau113[[#This Row],[FACTURES CUMULEES]]","v":944906},{"$f":"Tableau113[[#This Row],[ECART BUDGET]]/Tableau113[[#This Row],[BUDGET CUMULE]]","v":1},{"$f":"ABS(SUMIFS(Ecriture[TotalReglementTTC],Ecriture[CollaborateurId],Tableau113[[#This Row],[IDENTIFIANT COLLABORATEUR]],Ecriture[_MoisFacturation],$D$9,Ecriture[_AnneeFacturation],$D$8))","v":0},{"$f":"ABS(SUMIFS(Ecriture[TotalReglementTTC],Ecriture[CollaborateurId],Tableau113[[#This Row],[IDENTIFIANT COLLABORATEUR]],Ecriture[_DateFacture],\"<\"&$D$7))","v":0},{"$f":"Tableau113[[#This Row],[FACTURES CUMULEES]]-Tableau113[[#This Row],[CUMUL MOIS AN -1]]","v":0},{"$f":"IFERROR(Tableau113[[#This Row],[FACTURES CUMULEES]]/Tableau113[[#This Row],[CUMUL MOIS AN -1]],\"-\")","v":"-"},37517,{"$f":"ABS(Tableau113[[#This Row],[ECART BUDGET]])","v":944906},{"$f":"SUMIFS(Ecriture[_TotalTTC],Ecriture[CollaborateurId],Tableau113[[#This Row],[IDENTIFIANT COLLABORATEUR]],Ecriture[_MoisFacturation],$D$9)","v":0},{"$f":"SUMIFS(Ecriture[_TotalTTC],Ecriture[CollaborateurId],Tableau113[[#This Row],[IDENTIFIANT COLLABORATEUR]])","v":0},{"$f":"SUMIFS(Ecriture[_TotalTTC],Ecriture[CollaborateurId],Tableau113[[#This Row],[IDENTIFIANT COLLABORATEUR]],Ecriture[DateFacture],\"<\"&DATE(YEAR(TODAY()),MONTH($D$9-2),DAY(TODAY())))","v":0},{"$f":"SUMIFS(Ecriture[_TotalTTC],Ecriture[CollaborateurId],Tableau113[[#This Row],[IDENTIFIANT COLLABORATEUR]],Ecriture[DateFacture],\"<\"&DATE(YEAR(TODAY())-1,MONTH(TODAY()),DAY(TODAY())))","v":0}]
[null,{"$f":"'BI - COL'!H11","v":0},{"$f":"'BI - COL'!D11","v":"00:00:00"},{"$f":"'BI - COL'!B11","v":"00:00:00"},{"$f":"'BI - COL'!C11","v":0},{"$f":"SUMIFS(Ecriture[TotalReglementTTC],Ecriture[CollaborateurId],Tableau113[[#This Row],[IDENTIFIANT COLLABORATEUR]],Ecriture[_MoisFacturation],$D$9)","v":0},162540,{"$f":"ABS(SUMIFS(Ecriture[TotalReglementTTC],Ecriture[CollaborateurId],Tableau113[[#This Row],[IDENTIFIANT COLLABORATEUR]]))","v":0},944906,{"$f":"Tableau113[[#This Row],[BUDGET CUMULE]]-Tableau113[[#This Row],[FACTURES CUMULEES]]","v":944906},{"$f":"Tableau113[[#This Row],[ECART BUDGET]]/Tableau113[[#This Row],[BUDGET CUMULE]]","v":1},{"$f":"ABS(SUMIFS(Ecriture[TotalReglementTTC],Ecriture[CollaborateurId],Tableau113[[#This Row],[IDENTIFIANT COLLABORATEUR]],Ecriture[_MoisFacturation],$D$9,Ecriture[_AnneeFacturation],$D$8))","v":0},{"$f":"ABS(SUMIFS(Ecriture[TotalReglementTTC],Ecriture[CollaborateurId],Tableau113[[#This Row],[IDENTIFIANT COLLABORATEUR]],Ecriture[_DateFacture],\"<\"&$D$7))","v":0},{"$f":"Tableau113[[#This Row],[FACTURES CUMULEES]]-Tableau113[[#This Row],[CUMUL MOIS AN -1]]","v":0},{"$f":"IFERROR(Tableau113[[#This Row],[FACTURES CUMULEES]]/Tableau113[[#This Row],[CUMUL MOIS AN -1]],\"-\")","v":"-"},37517,{"$f":"ABS(Tableau113[[#This Row],[ECART BUDGET]])","v":944906},{"$f":"SUMIFS(Ecriture[_TotalTTC],Ecriture[CollaborateurId],Tableau113[[#This Row],[IDENTIFIANT COLLABORATEUR]],Ecriture[_MoisFacturation],$D$9)","v":0},{"$f":"SUMIFS(Ecriture[_TotalTTC],Ecriture[CollaborateurId],Tableau113[[#This Row],[IDENTIFIANT COLLABORATEUR]])","v":0},{"$f":"SUMIFS(Ecriture[_TotalTTC],Ecriture[CollaborateurId],Tableau113[[#This Row],[IDENTIFIANT COLLABORATEUR]],Ecriture[DateFacture],\"<\"&DATE(YEAR(TODAY()),MONTH($D$9-2),DAY(TODAY())))","v":0},{"$f":"SUMIFS(Ecriture[_TotalTTC],Ecriture[CollaborateurId],Tableau113[[#This Row],[IDENTIFIANT COLLABORATEUR]],Ecriture[DateFacture],\"<\"&DATE(YEAR(TODAY())-1,MONTH(TODAY()),DAY(TODAY())))","v":0}]
[null,{"$f":"'BI - COL'!H12","v":0},{"$f":"'BI - COL'!D12","v":"00:00:00"},{"$f":"'BI - COL'!B12","v":"00:00:00"},{"$f":"'BI - COL'!C12","v":0},{"$f":"SUMIFS(Ecriture[TotalReglementTTC],Ecriture[CollaborateurId],Tableau113[[#This Row],[IDENTIFIANT COLLABORATEUR]],Ecriture[_MoisFacturation],$D$9)","v":0},162540,{"$f":"ABS(SUMIFS(Ecriture[TotalReglementTTC],Ecriture[CollaborateurId],Tableau113[[#This Row],[IDENTIFIANT COLLABORATEUR]]))","v":0},944906,{"$f":"Tableau113[[#This Row],[BUDGET CUMULE]]-Tableau113[[#This Row],[FACTURES CUMULEES]]","v":944906},{"$f":"Tableau113[[#This Row],[ECART BUDGET]]/Tableau113[[#This Row],[BUDGET CUMULE]]","v":1},{"$f":"ABS(SUMIFS(Ecriture[TotalReglementTTC],Ecriture[CollaborateurId],Tableau113[[#This Row],[IDENTIFIANT COLLABORATEUR]],Ecriture[_MoisFacturation],$D$9,Ecriture[_AnneeFacturation],$D$8))","v":0},{"$f":"ABS(SUMIFS(Ecriture[TotalReglementTTC],Ecriture[CollaborateurId],Tableau113[[#This Row],[IDENTIFIANT COLLABORATEUR]],Ecriture[_DateFacture],\"<\"&$D$7))","v":0},{"$f":"Tableau113[[#This Row],[FACTURES CUMULEES]]-Tableau113[[#This Row],[CUMUL MOIS AN -1]]","v":0},{"$f":"IFERROR(Tableau113[[#This Row],[FACTURES CUMULEES]]/Tableau113[[#This Row],[CUMUL MOIS AN -1]],\"-\")","v":"-"},37517,{"$f":"ABS(Tableau113[[#This Row],[ECART BUDGET]])","v":944906},{"$f":"SUMIFS(Ecriture[_TotalTTC],Ecriture[CollaborateurId],Tableau113[[#This Row],[IDENTIFIANT COLLABORATEUR]],Ecriture[_MoisFacturation],$D$9)","v":0},{"$f":"SUMIFS(Ecriture[_TotalTTC],Ecriture[CollaborateurId],Tableau113[[#This Row],[IDENTIFIANT COLLABORATEUR]])","v":0},{"$f":"SUMIFS(Ecriture[_TotalTTC],Ecriture[CollaborateurId],Tableau113[[#This Row],[IDENTIFIANT COLLABORATEUR]],Ecriture[DateFacture],\"<\"&DATE(YEAR(TODAY()),MONTH($D$9-2),DAY(TODAY())))","v":0},{"$f":"SUMIFS(Ecriture[_TotalTTC],Ecriture[CollaborateurId],Tableau113[[#This Row],[IDENTIFIANT COLLABORATEUR]],Ecriture[DateFacture],\"<\"&DATE(YEAR(TODAY())-1,MONTH(TODAY()),DAY(TODAY())))","v":0}]
[null,{"$f":"'BI - COL'!H13","v":0},{"$f":"'BI - COL'!D13","v":"00:00:00"},{"$f":"'BI - COL'!B13","v":"00:00:00"},{"$f":"'BI - COL'!C13","v":0},{"$f":"SUMIFS(Ecriture[TotalReglementTTC],Ecriture[CollaborateurId],Tableau113[[#This Row],[IDENTIFIANT COLLABORATEUR]],Ecriture[_MoisFacturation],$D$9)","v":0},162540,{"$f":"ABS(SUMIFS(Ecriture[TotalReglementTTC],Ecriture[CollaborateurId],Tableau113[[#This Row],[IDENTIFIANT COLLABORATEUR]]))","v":0},944906,{"$f":"Tableau113[[#This Row],[BUDGET CUMULE]]-Tableau113[[#This Row],[FACTURES CUMULEES]]","v":944906},{"$f":"Tableau113[[#This Row],[ECART BUDGET]]/Tableau113[[#This Row],[BUDGET CUMULE]]","v":1},{"$f":"ABS(SUMIFS(Ecriture[TotalReglementTTC],Ecriture[CollaborateurId],Tableau113[[#This Row],[IDENTIFIANT COLLABORATEUR]],Ecriture[_MoisFacturation],$D$9,Ecriture[_AnneeFacturation],$D$8))","v":0},{"$f":"ABS(SUMIFS(Ecriture[TotalReglementTTC],Ecriture[CollaborateurId],Tableau113[[#This Row],[IDENTIFIANT COLLABORATEUR]],Ecriture[_DateFacture],\"<\"&$D$7))","v":0},{"$f":"Tableau113[[#This Row],[FACTURES CUMULEES]]-Tableau113[[#This Row],[CUMUL MOIS AN -1]]","v":0},{"$f":"IFERROR(Tableau113[[#This Row],[FACTURES CUMULEES]]/Tableau113[[#This Row],[CUMUL MOIS AN -1]],\"-\")","v":"-"},37517,{"$f":"ABS(Tableau113[[#This Row],[ECART BUDGET]])","v":944906},{"$f":"SUMIFS(Ecriture[_TotalTTC],Ecriture[CollaborateurId],Tableau113[[#This Row],[IDENTIFIANT COLLABORATEUR]],Ecriture[_MoisFacturation],$D$9)","v":0},{"$f":"SUMIFS(Ecriture[_TotalTTC],Ecriture[CollaborateurId],Tableau113[[#This Row],[IDENTIFIANT COLLABORATEUR]])","v":0},{"$f":"SUMIFS(Ecriture[_TotalTTC],Ecriture[CollaborateurId],Tableau113[[#This Row],[IDENTIFIANT COLLABORATEUR]],Ecriture[DateFacture],\"<\"&DATE(YEAR(TODAY()),MONTH($D$9-2),DAY(TODAY())))","v":0},{"$f":"SUMIFS(Ecriture[_TotalTTC],Ecriture[CollaborateurId],Tableau113[[#This Row],[IDENTIFIANT COLLABORATEUR]],Ecriture[DateFacture],\"<\"&DATE(YEAR(TODAY())-1,MONTH(TODAY()),DAY(TODAY())))","v":0}]
[null,{"$f":"'BI - COL'!H14","v":0},{"$f":"'BI - COL'!D14","v":"00:00:00"},{"$f":"'BI - COL'!B14","v":"00:00:00"},{"$f":"'BI - COL'!C14","v":0},{"$f":"SUMIFS(Ecriture[TotalReglementTTC],Ecriture[CollaborateurId],Tableau113[[#This Row],[IDENTIFIANT COLLABORATEUR]],Ecriture[_MoisFacturation],$D$9)","v":0},162540,{"$f":"ABS(SUMIFS(Ecriture[TotalReglementTTC],Ecriture[CollaborateurId],Tableau113[[#This Row],[IDENTIFIANT COLLABORATEUR]]))","v":0},944906,{"$f":"Tableau113[[#This Row],[BUDGET CUMULE]]-Tableau113[[#This Row],[FACTURES CUMULEES]]","v":944906},{"$f":"Tableau113[[#This Row],[ECART BUDGET]]/Tableau113[[#This Row],[BUDGET CUMULE]]","v":1},{"$f":"ABS(SUMIFS(Ecriture[TotalReglementTTC],Ecriture[CollaborateurId],Tableau113[[#This Row],[IDENTIFIANT COLLABORATEUR]],Ecriture[_MoisFacturation],$D$9,Ecriture[_AnneeFacturation],$D$8))","v":0},{"$f":"ABS(SUMIFS(Ecriture[TotalReglementTTC],Ecriture[CollaborateurId],Tableau113[[#This Row],[IDENTIFIANT COLLABORATEUR]],Ecriture[_DateFacture],\"<\"&$D$7))","v":0},{"$f":"Tableau113[[#This Row],[FACTURES CUMULEES]]-Tableau113[[#This Row],[CUMUL MOIS AN -1]]","v":0},{"$f":"IFERROR(Tableau113[[#This Row],[FACTURES CUMULEES]]/Tableau113[[#This Row],[CUMUL MOIS AN -1]],\"-\")","v":"-"},37517,{"$f":"ABS(Tableau113[[#This Row],[ECART BUDGET]])","v":944906},{"$f":"SUMIFS(Ecriture[_TotalTTC],Ecriture[CollaborateurId],Tableau113[[#This Row],[IDENTIFIANT COLLABORATEUR]],Ecriture[_MoisFacturation],$D$9)","v":0},{"$f":"SUMIFS(Ecriture[_TotalTTC],Ecriture[CollaborateurId],Tableau113[[#This Row],[IDENTIFIANT COLLABORATEUR]])","v":0},{"$f":"SUMIFS(Ecriture[_TotalTTC],Ecriture[CollaborateurId],Tableau113[[#This Row],[IDENTIFIANT COLLABORATEUR]],Ecriture[DateFacture],\"<\"&DATE(YEAR(TODAY()),MONTH($D$9-2),DAY(TODAY())))","v":0},{"$f":"SUMIFS(Ecriture[_TotalTTC],Ecriture[CollaborateurId],Tableau113[[#This Row],[IDENTIFIANT COLLABORATEUR]],Ecriture[DateFacture],\"<\"&DATE(YEAR(TODAY())-1,MONTH(TODAY()),DAY(TODAY())))","v":0}]
[null,{"$f":"'BI - COL'!H15","v":0},{"$f":"'BI - COL'!D15","v":"00:00:00"},{"$f":"'BI - COL'!B15","v":"00:00:00"},{"$f":"'BI - COL'!C15","v":0},{"$f":"SUMIFS(Ecriture[TotalReglementTTC],Ecriture[CollaborateurId],Tableau113[[#This Row],[IDENTIFIANT COLLABORATEUR]],Ecriture[_MoisFacturation],$D$9)","v":0},162540,{"$f":"ABS(SUMIFS(Ecriture[TotalReglementTTC],Ecriture[CollaborateurId],Tableau113[[#This Row],[IDENTIFIANT COLLABORATEUR]]))","v":0},944906,{"$f":"Tableau113[[#This Row],[BUDGET CUMULE]]-Tableau113[[#This Row],[FACTURES CUMULEES]]","v":944906},{"$f":"Tableau113[[#This Row],[ECART BUDGET]]/Tableau113[[#This Row],[BUDGET CUMULE]]","v":1},{"$f":"ABS(SUMIFS(Ecriture[TotalReglementTTC],Ecriture[CollaborateurId],Tableau113[[#This Row],[IDENTIFIANT COLLABORATEUR]],Ecriture[_MoisFacturation],$D$9,Ecriture[_AnneeFacturation],$D$8))","v":0},{"$f":"ABS(SUMIFS(Ecriture[TotalReglementTTC],Ecriture[CollaborateurId],Tableau113[[#This Row],[IDENTIFIANT COLLABORATEUR]],Ecriture[_DateFacture],\"<\"&$D$7))","v":0},{"$f":"Tableau113[[#This Row],[FACTURES CUMULEES]]-Tableau113[[#This Row],[CUMUL MOIS AN -1]]","v":0},{"$f":"IFERROR(Tableau113[[#This Row],[FACTURES CUMULEES]]/Tableau113[[#This Row],[CUMUL MOIS AN -1]],\"-\")","v":"-"},37517,{"$f":"ABS(Tableau113[[#This Row],[ECART BUDGET]])","v":944906},{"$f":"SUMIFS(Ecriture[_TotalTTC],Ecriture[CollaborateurId],Tableau113[[#This Row],[IDENTIFIANT COLLABORATEUR]],Ecriture[_MoisFacturation],$D$9)","v":0},{"$f":"SUMIFS(Ecriture[_TotalTTC],Ecriture[CollaborateurId],Tableau113[[#This Row],[IDENTIFIANT COLLABORATEUR]])","v":0},{"$f":"SUMIFS(Ecriture[_TotalTTC],Ecriture[CollaborateurId],Tableau113[[#This Row],[IDENTIFIANT COLLABORATEUR]],Ecriture[DateFacture],\"<\"&DATE(YEAR(TODAY()),MONTH($D$9-2),DAY(TODAY())))","v":0},{"$f":"SUMIFS(Ecriture[_TotalTTC],Ecriture[CollaborateurId],Tableau113[[#This Row],[IDENTIFIANT COLLABORATEUR]],Ecriture[DateFacture],\"<\"&DATE(YEAR(TODAY())-1,MONTH(TODAY()),DAY(TODAY())))","v":0}]
[null,{"$f":"'BI - COL'!H16","v":0},{"$f":"'BI - COL'!D16","v":"00:00:00"},{"$f":"'BI - COL'!B16","v":"00:00:00"},{"$f":"'BI - COL'!C16","v":0},{"$f":"SUMIFS(Ecriture[TotalReglementTTC],Ecriture[CollaborateurId],Tableau113[[#This Row],[IDENTIFIANT COLLABORATEUR]],Ecriture[_MoisFacturation],$D$9)","v":0},162540,{"$f":"ABS(SUMIFS(Ecriture[TotalReglementTTC],Ecriture[CollaborateurId],Tableau113[[#This Row],[IDENTIFIANT COLLABORATEUR]]))","v":0},944906,{"$f":"Tableau113[[#This Row],[BUDGET CUMULE]]-Tableau113[[#This Row],[FACTURES CUMULEES]]","v":944906},{"$f":"Tableau113[[#This Row],[ECART BUDGET]]/Tableau113[[#This Row],[BUDGET CUMULE]]","v":1},{"$f":"ABS(SUMIFS(Ecriture[TotalReglementTTC],Ecriture[CollaborateurId],Tableau113[[#This Row],[IDENTIFIANT COLLABORATEUR]],Ecriture[_MoisFacturation],$D$9,Ecriture[_AnneeFacturation],$D$8))","v":0},{"$f":"ABS(SUMIFS(Ecriture[TotalReglementTTC],Ecriture[CollaborateurId],Tableau113[[#This Row],[IDENTIFIANT COLLABORATEUR]],Ecriture[_DateFacture],\"<\"&$D$7))","v":0},{"$f":"Tableau113[[#This Row],[FACTURES CUMULEES]]-Tableau113[[#This Row],[CUMUL MOIS AN -1]]","v":0},{"$f":"IFERROR(Tableau113[[#This Row],[FACTURES CUMULEES]]/Tableau113[[#This Row],[CUMUL MOIS AN -1]],\"-\")","v":"-"},37517,{"$f":"ABS(Tableau113[[#This Row],[ECART BUDGET]])","v":944906},{"$f":"SUMIFS(Ecriture[_TotalTTC],Ecriture[CollaborateurId],Tableau113[[#This Row],[IDENTIFIANT COLLABORATEUR]],Ecriture[_MoisFacturation],$D$9)","v":0},{"$f":"SUMIFS(Ecriture[_TotalTTC],Ecriture[CollaborateurId],Tableau113[[#This Row],[IDENTIFIANT COLLABORATEUR]])","v":0},{"$f":"SUMIFS(Ecriture[_TotalTTC],Ecriture[CollaborateurId],Tableau113[[#This Row],[IDENTIFIANT COLLABORATEUR]],Ecriture[DateFacture],\"<\"&DATE(YEAR(TODAY()),MONTH($D$9-2),DAY(TODAY())))","v":0},{"$f":"SUMIFS(Ecriture[_TotalTTC],Ecriture[CollaborateurId],Tableau113[[#This Row],[IDENTIFIANT COLLABORATEUR]],Ecriture[DateFacture],\"<\"&DATE(YEAR(TODAY())-1,MONTH(TODAY()),DAY(TODAY())))","v":0}]
[null,{"$f":"'BI - COL'!H17","v":0},{"$f":"'BI - COL'!D17","v":"00:00:00"},{"$f":"'BI - COL'!B17","v":"00:00:00"},{"$f":"'BI - COL'!C17","v":0},{"$f":"SUMIFS(Ecriture[TotalReglementTTC],Ecriture[CollaborateurId],Tableau113[[#This Row],[IDENTIFIANT COLLABORATEUR]],Ecriture[_MoisFacturation],$D$9)","v":0},162540,{"$f":"ABS(SUMIFS(Ecriture[TotalReglementTTC],Ecriture[CollaborateurId],Tableau113[[#This Row],[IDENTIFIANT COLLABORATEUR]]))","v":0},944906,{"$f":"Tableau113[[#This Row],[BUDGET CUMULE]]-Tableau113[[#This Row],[FACTURES CUMULEES]]","v":944906},{"$f":"Tableau113[[#This Row],[ECART BUDGET]]/Tableau113[[#This Row],[BUDGET CUMULE]]","v":1},{"$f":"ABS(SUMIFS(Ecriture[TotalReglementTTC],Ecriture[CollaborateurId],Tableau113[[#This Row],[IDENTIFIANT COLLABORATEUR]],Ecriture[_MoisFacturation],$D$9,Ecriture[_AnneeFacturation],$D$8))","v":0},{"$f":"ABS(SUMIFS(Ecriture[TotalReglementTTC],Ecriture[CollaborateurId],Tableau113[[#This Row],[IDENTIFIANT COLLABORATEUR]],Ecriture[_DateFacture],\"<\"&$D$7))","v":0},{"$f":"Tableau113[[#This Row],[FACTURES CUMULEES]]-Tableau113[[#This Row],[CUMUL MOIS AN -1]]","v":0},{"$f":"IFERROR(Tableau113[[#This Row],[FACTURES CUMULEES]]/Tableau113[[#This Row],[CUMUL MOIS AN -1]],\"-\")","v":"-"},37517,{"$f":"ABS(Tableau113[[#This Row],[ECART BUDGET]])","v":944906},{"$f":"SUMIFS(Ecriture[_TotalTTC],Ecriture[CollaborateurId],Tableau113[[#This Row],[IDENTIFIANT COLLABORATEUR]],Ecriture[_MoisFacturation],$D$9)","v":0},{"$f":"SUMIFS(Ecriture[_TotalTTC],Ecriture[CollaborateurId],Tableau113[[#This Row],[IDENTIFIANT COLLABORATEUR]])","v":0},{"$f":"SUMIFS(Ecriture[_TotalTTC],Ecriture[CollaborateurId],Tableau113[[#This Row],[IDENTIFIANT COLLABORATEUR]],Ecriture[DateFacture],\"<\"&DATE(YEAR(TODAY()),MONTH($D$9-2),DAY(TODAY())))","v":0},{"$f":"SUMIFS(Ecriture[_TotalTTC],Ecriture[CollaborateurId],Tableau113[[#This Row],[IDENTIFIANT COLLABORATEUR]],Ecriture[DateFacture],\"<\"&DATE(YEAR(TODAY())-1,MONTH(TODAY()),DAY(TODAY())))","v":0}]
[null,{"$f":"'BI - COL'!H18","v":0},{"$f":"'BI - COL'!D18","v":"00:00:00"},{"$f":"'BI - COL'!B18","v":"00:00:00"},{"$f":"'BI - COL'!C18","v":0},{"$f":"SUMIFS(Ecriture[TotalReglementTTC],Ecriture[CollaborateurId],Tableau113[[#This Row],[IDENTIFIANT COLLABORATEUR]],Ecriture[_MoisFacturation],$D$9)","v":0},162540,{"$f":"ABS(SUMIFS(Ecriture[TotalReglementTTC],Ecriture[CollaborateurId],Tableau113[[#This Row],[IDENTIFIANT COLLABORATEUR]]))","v":0},944906,{"$f":"Tableau113[[#This Row],[BUDGET CUMULE]]-Tableau113[[#This Row],[FACTURES CUMULEES]]","v":944906},{"$f":"Tableau113[[#This Row],[ECART BUDGET]]/Tableau113[[#This Row],[BUDGET CUMULE]]","v":1},{"$f":"ABS(SUMIFS(Ecriture[TotalReglementTTC],Ecriture[CollaborateurId],Tableau113[[#This Row],[IDENTIFIANT COLLABORATEUR]],Ecriture[_MoisFacturation],$D$9,Ecriture[_AnneeFacturation],$D$8))","v":0},{"$f":"ABS(SUMIFS(Ecriture[TotalReglementTTC],Ecriture[CollaborateurId],Tableau113[[#This Row],[IDENTIFIANT COLLABORATEUR]],Ecriture[_DateFacture],\"<\"&$D$7))","v":0},{"$f":"Tableau113[[#This Row],[FACTURES CUMULEES]]-Tableau113[[#This Row],[CUMUL MOIS AN -1]]","v":0},{"$f":"IFERROR(Tableau113[[#This Row],[FACTURES CUMULEES]]/Tableau113[[#This Row],[CUMUL MOIS AN -1]],\"-\")","v":"-"},37517,{"$f":"ABS(Tableau113[[#This Row],[ECART BUDGET]])","v":944906},{"$f":"SUMIFS(Ecriture[_TotalTTC],Ecriture[CollaborateurId],Tableau113[[#This Row],[IDENTIFIANT COLLABORATEUR]],Ecriture[_MoisFacturation],$D$9)","v":0},{"$f":"SUMIFS(Ecriture[_TotalTTC],Ecriture[CollaborateurId],Tableau113[[#This Row],[IDENTIFIANT COLLABORATEUR]])","v":0},{"$f":"SUMIFS(Ecriture[_TotalTTC],Ecriture[CollaborateurId],Tableau113[[#This Row],[IDENTIFIANT COLLABORATEUR]],Ecriture[DateFacture],\"<\"&DATE(YEAR(TODAY()),MONTH($D$9-2),DAY(TODAY())))","v":0},{"$f":"SUMIFS(Ecriture[_TotalTTC],Ecriture[CollaborateurId],Tableau113[[#This Row],[IDENTIFIANT COLLABORATEUR]],Ecriture[DateFacture],\"<\"&DATE(YEAR(TODAY())-1,MONTH(TODAY()),DAY(TODAY())))","v":0}]
[null,{"$f":"'BI - COL'!H19","v":0},{"$f":"'BI - COL'!D19","v":"00:00:00"},{"$f":"'BI - COL'!B19","v":"00:00:00"},{"$f":"'BI - COL'!C19","v":0},{"$f":"SUMIFS(Ecriture[TotalReglementTTC],Ecriture[CollaborateurId],Tableau113[[#This Row],[IDENTIFIANT COLLABORATEUR]],Ecriture[_MoisFacturation],$D$9)","v":0},162540,{"$f":"ABS(SUMIFS(Ecriture[TotalReglementTTC],Ecriture[CollaborateurId],Tableau113[[#This Row],[IDENTIFIANT COLLABORATEUR]]))","v":0},944906,{"$f":"Tableau113[[#This Row],[BUDGET CUMULE]]-Tableau113[[#This Row],[FACTURES CUMULEES]]","v":944906},{"$f":"Tableau113[[#This Row],[ECART BUDGET]]/Tableau113[[#This Row],[BUDGET CUMULE]]","v":1},{"$f":"ABS(SUMIFS(Ecriture[TotalReglementTTC],Ecriture[CollaborateurId],Tableau113[[#This Row],[IDENTIFIANT COLLABORATEUR]],Ecriture[_MoisFacturation],$D$9,Ecriture[_AnneeFacturation],$D$8))","v":0},{"$f":"ABS(SUMIFS(Ecriture[TotalReglementTTC],Ecriture[CollaborateurId],Tableau113[[#This Row],[IDENTIFIANT COLLABORATEUR]],Ecriture[_DateFacture],\"<\"&$D$7))","v":0},{"$f":"Tableau113[[#This Row],[FACTURES CUMULEES]]-Tableau113[[#This Row],[CUMUL MOIS AN -1]]","v":0},{"$f":"IFERROR(Tableau113[[#This Row],[FACTURES CUMULEES]]/Tableau113[[#This Row],[CUMUL MOIS AN -1]],\"-\")","v":"-"},37517,{"$f":"ABS(Tableau113[[#This Row],[ECART BUDGET]])","v":944906},{"$f":"SUMIFS(Ecriture[_TotalTTC],Ecriture[CollaborateurId],Tableau113[[#This Row],[IDENTIFIANT COLLABORATEUR]],Ecriture[_MoisFacturation],$D$9)","v":0},{"$f":"SUMIFS(Ecriture[_TotalTTC],Ecriture[CollaborateurId],Tableau113[[#This Row],[IDENTIFIANT COLLABORATEUR]])","v":0},{"$f":"SUMIFS(Ecriture[_TotalTTC],Ecriture[CollaborateurId],Tableau113[[#This Row],[IDENTIFIANT COLLABORATEUR]],Ecriture[DateFacture],\"<\"&DATE(YEAR(TODAY()),MONTH($D$9-2),DAY(TODAY())))","v":0},{"$f":"SUMIFS(Ecriture[_TotalTTC],Ecriture[CollaborateurId],Tableau113[[#This Row],[IDENTIFIANT COLLABORATEUR]],Ecriture[DateFacture],\"<\"&DATE(YEAR(TODAY())-1,MONTH(TODAY()),DAY(TODAY())))","v":0}]
[null,{"$f":"'BI - COL'!H20","v":0},{"$f":"'BI - COL'!D20","v":"00:00:00"},{"$f":"'BI - COL'!B20","v":"00:00:00"},{"$f":"'BI - COL'!C20","v":0},{"$f":"SUMIFS(Ecriture[TotalReglementTTC],Ecriture[CollaborateurId],Tableau113[[#This Row],[IDENTIFIANT COLLABORATEUR]],Ecriture[_MoisFacturation],$D$9)","v":0},162540,{"$f":"ABS(SUMIFS(Ecriture[TotalReglementTTC],Ecriture[CollaborateurId],Tableau113[[#This Row],[IDENTIFIANT COLLABORATEUR]]))","v":0},944906,{"$f":"Tableau113[[#This Row],[BUDGET CUMULE]]-Tableau113[[#This Row],[FACTURES CUMULEES]]","v":944906},{"$f":"Tableau113[[#This Row],[ECART BUDGET]]/Tableau113[[#This Row],[BUDGET CUMULE]]","v":1},{"$f":"ABS(SUMIFS(Ecriture[TotalReglementTTC],Ecriture[CollaborateurId],Tableau113[[#This Row],[IDENTIFIANT COLLABORATEUR]],Ecriture[_MoisFacturation],$D$9,Ecriture[_AnneeFacturation],$D$8))","v":0},{"$f":"ABS(SUMIFS(Ecriture[TotalReglementTTC],Ecriture[CollaborateurId],Tableau113[[#This Row],[IDENTIFIANT COLLABORATEUR]],Ecriture[_DateFacture],\"<\"&$D$7))","v":0},{"$f":"Tableau113[[#This Row],[FACTURES CUMULEES]]-Tableau113[[#This Row],[CUMUL MOIS AN -1]]","v":0},{"$f":"IFERROR(Tableau113[[#This Row],[FACTURES CUMULEES]]/Tableau113[[#This Row],[CUMUL MOIS AN -1]],\"-\")","v":"-"},37517,{"$f":"ABS(Tableau113[[#This Row],[ECART BUDGET]])","v":944906},{"$f":"SUMIFS(Ecriture[_TotalTTC],Ecriture[CollaborateurId],Tableau113[[#This Row],[IDENTIFIANT COLLABORATEUR]],Ecriture[_MoisFacturation],$D$9)","v":0},{"$f":"SUMIFS(Ecriture[_TotalTTC],Ecriture[CollaborateurId],Tableau113[[#This Row],[IDENTIFIANT COLLABORATEUR]])","v":0},{"$f":"SUMIFS(Ecriture[_TotalTTC],Ecriture[CollaborateurId],Tableau113[[#This Row],[IDENTIFIANT COLLABORATEUR]],Ecriture[DateFacture],\"<\"&DATE(YEAR(TODAY()),MONTH($D$9-2),DAY(TODAY())))","v":0},{"$f":"SUMIFS(Ecriture[_TotalTTC],Ecriture[CollaborateurId],Tableau113[[#This Row],[IDENTIFIANT COLLABORATEUR]],Ecriture[DateFacture],\"<\"&DATE(YEAR(TODAY())-1,MONTH(TODAY()),DAY(TODAY())))","v":0}]
[null,{"$f":"'BI - COL'!H34","v":0},{"$f":"'BI - COL'!D34","v":"00:00:00"},{"$f":"'BI - COL'!B34","v":"00:00:00"},{"$f":"'BI - COL'!C34","v":0},{"$f":"SUMIFS(Ecriture[TotalReglementTTC],Ecriture[CollaborateurId],Tableau113[[#This Row],[IDENTIFIANT COLLABORATEUR]],Ecriture[_MoisFacturation],$D$9)","v":0},162540,{"$f":"ABS(SUMIFS(Ecriture[TotalReglementTTC],Ecriture[CollaborateurId],Tableau113[[#This Row],[IDENTIFIANT COLLABORATEUR]]))","v":0},944906,{"$f":"Tableau113[[#This Row],[BUDGET CUMULE]]-Tableau113[[#This Row],[FACTURES CUMULEES]]","v":944906},{"$f":"Tableau113[[#This Row],[ECART BUDGET]]/Tableau113[[#This Row],[BUDGET CUMULE]]","v":1},{"$f":"ABS(SUMIFS(Ecriture[TotalReglementTTC],Ecriture[CollaborateurId],Tableau113[[#This Row],[IDENTIFIANT COLLABORATEUR]],Ecriture[_MoisFacturation],$D$9,Ecriture[_AnneeFacturation],$D$8))","v":0},{"$f":"ABS(SUMIFS(Ecriture[TotalReglementTTC],Ecriture[CollaborateurId],Tableau113[[#This Row],[IDENTIFIANT COLLABORATEUR]],Ecriture[_DateFacture],\"<\"&$D$7))","v":0},{"$f":"Tableau113[[#This Row],[FACTURES CUMULEES]]-Tableau113[[#This Row],[CUMUL MOIS AN -1]]","v":0},{"$f":"IFERROR(Tableau113[[#This Row],[FACTURES CUMULEES]]/Tableau113[[#This Row],[CUMUL MOIS AN -1]],\"-\")","v":"-"},37517,{"$f":"ABS(Tableau113[[#This Row],[ECART BUDGET]])","v":944906},{"$f":"SUMIFS(Ecriture[_TotalTTC],Ecriture[CollaborateurId],Tableau113[[#This Row],[IDENTIFIANT COLLABORATEUR]],Ecriture[_MoisFacturation],$D$9)","v":0},{"$f":"SUMIFS(Ecriture[_TotalTTC],Ecriture[CollaborateurId],Tableau113[[#This Row],[IDENTIFIANT COLLABORATEUR]])","v":0},{"$f":"SUMIFS(Ecriture[_TotalTTC],Ecriture[CollaborateurId],Tableau113[[#This Row],[IDENTIFIANT COLLABORATEUR]],Ecriture[DateFacture],\"<\"&DATE(YEAR(TODAY()),MONTH($D$9-2),DAY(TODAY())))","v":0},{"$f":"SUMIFS(Ecriture[_TotalTTC],Ecriture[CollaborateurId],Tableau113[[#This Row],[IDENTIFIANT COLLABORATEUR]],Ecriture[DateFacture],\"<\"&DATE(YEAR(TODAY())-1,MONTH(TODAY()),DAY(TODAY())))","v":0}]

{"sheet":"SUIVI DES IMPAYES","index":2,"n_rows":79,"n_cols":13,"rows_kept":79,"cut":false,"hidden":false,"merged":[[3,7,5,7],[3,8,5,8],[3,9,5,9],[3,6,5,6],[0,6,1,6]]}
[]
[null,null,"SUIVI DES IMPAYES"]
[null,null,"Exemple de tableau de bord financier fourni par les équipes Lexis Poly",null,null,null,"TOTAUX DYNAMIQUES EN FONCTION DES FILTRES APPLIQUEES"]
[null,"FACTURATION DU",{"$f":"MIN(Honoraire[DateFacture])","v":"00:00:00"},null,null,null,{"$f":"SUBTOTAL(109,Tableau122[MONTANT])","v":0},{"$f":"SUBTOTAL(109,Tableau122[+ 2 MOIS])","v":0},{"$f":"SUBTOTAL(109,Tableau122[+ 4 MOIS])","v":0},{"$f":"SUBTOTAL(109,Tableau122[+ 1 AN])","v":0}]
[null,"AU",{"$f":"MAX(Honoraire[DateFacture])","v":"00:00:00"}]
[]
[null,{"$f":"COUNTIFS(Ecriture[_Delta],\"1\")","v":0},"FACTURES A AJOUTER"]
[null,"FACTURE","ASS","NOM CLIENT","REFERENCE DOSSIER","NOM DU DOSSIER","MONTANT","+ 2 MOIS","+ 4 MOIS","+ 1 AN","N°FACT.","DATE","LIBELLE"]
[null,"NE PAS SUPPRIMER",{"$f":"IFERROR(VLOOKUP(Tableau122[[#This Row],[REFERENCE DOSSIER]],Collaborateur_Dossier[[Collaborateur dossier]:[Responsable dossier]],2,FALSE),\"\")","v":""},{"$f":"IFERROR(VLOOKUP(VLOOKUP(Tableau122[[#This Row],[FACTURE]],Ecriture[[_FactureNumero]:[_ClientID]],4,FALSE),Personne[],7,FALSE),\"\")","v":""},{"$f":"IFERROR(VLOOKUP(Tableau122[[#This Row],[FACTURE]],Ecriture[[_DossierCode]:[_FactureNumero]],5,FALSE),\"\")","v":""},{"$f":"IFERROR(VLOOKUP(Tableau122[[#This Row],[REFERENCE DOSSIER]],Dossier[[DossierCode]:[DossierNom]],2,FALSE),\"\")","v":""},{"$f":"IFERROR(VLOOKUP(Tableau122[[#This Row],[FACTURE]],Ecriture[[_FactureNumero]:[_TotalTTC]],6,FALSE),\"\")","v":""},{"$f":"IF(AND(Tableau122[[#This Row],[+ 1 AN]]=\"\",Tableau122[[#This Row],[+ 4 MOIS]]=\"\",Tableau122[[#This Row],[DATE]]<=DATE(YEAR(TODAY()),MONTH(TODAY())-2,DAY(TODAY()))),Tableau122[[#This Row],[MONTANT]],\"\")","v":""},{"$f":"IF(AND(Tableau122[[#This Row],[+ 1 AN]]=\"\",Tableau122[[#This Row],[DATE]]<=DATE(YEAR(TODAY()),MONTH(TODAY())-4,DAY(TODAY()))),Tableau122[[#This Row],[MONTANT]],\"\")","v":""},{"$f":"IF(Tableau122[[#This Row],[DATE]]<=DATE(YEAR(TODAY())-1,MONTH(TODAY()),DAY(TODAY())),Tableau122[[#This Row],[MONTANT]],\"\")","v":""},{"$f":"Tableau122[[#This Row],[FACTURE]]","v":"NE PAS SUPPRIMER"},{"$f":"IFERROR(VLOOKUP(Tableau122[[#This Row],[FACTURE]],Ecriture[[_FactureNumero]:[_DateFacture]],2,FALSE),\"\")","v":""},{"$f":"IFERROR(VLOOKUP(Tableau122[[#This Row],[FACTURE]],Ecriture[[_FactureNumero]:[_FactureLibelle]],7,FALSE),\"\")","v":""}]
[null,144,{"$f":"IFERROR(VLOOKUP(Tableau122[[#This Row],[REFERENCE DOSSIER]],Collaborateur_Dossier[[Collaborateur dossier]:[Responsable dossier]],2,FALSE),\"\")","v":""},{"$f":"IFERROR(VLOOKUP(VLOOKUP(Tableau122[[#This Row],[FACTURE]],Ecriture[[_FactureNumero]:[_ClientID]],4,FALSE),Personne[],7,FALSE),\"\")","v":""},{"$f":"IFERROR(VLOOKUP(Tableau122[[#This Row],[FACTURE]],Ecriture[[_DossierCode]:[_FactureNumero]],5,FALSE),\"\")","v":""},{"$f":"IFERROR(VLOOKUP(Tableau122[[#This Row],[REFERENCE DOSSIER]],Dossier[[DossierCode]:[DossierNom]],2,FALSE),\"\")","v":""},{"$f":"IFERROR(VLOOKUP(Tableau122[[#This Row],[FACTURE]],Ecriture[[_FactureNumero]:[_TotalTTC]],6,FALSE),\"\")","v":""},{"$f":"IF(AND(Tableau122[[#This Row],[+ 1 AN]]=\"\",Tableau122[[#This Row],[+ 4 MOIS]]=\"\",Tableau122[[#This Row],[DATE]]<=DATE(YEAR(TODAY()),MONTH(TODAY())-2,DAY(TODAY()))),Tableau122[[#This Row],[MONTANT]],\"\")","v":""},{"$f":"IF(AND(Tableau122[[#This Row],[+ 1 AN]]=\"\",Tableau122[[#This Row],[DATE]]<=DATE(YEAR(TODAY()),MONTH(TODAY())-4,DAY(TODAY()))),Tableau122[[#This Row],[MONTANT]],\"\")","v":""},{"$f":"IF(Tableau122[[#This Row],[DATE]]<=DATE(YEAR(TODAY())-1,MONTH(TODAY()),DAY(TODAY())),Tableau122[[#This Row],[MONTANT]],\"\")","v":""},{"$f":"Tableau122[[#This Row],[FACTURE]]","v":144},{"$f":"IFERROR(VLOOKUP(Tableau122[[#This Row],[FACTURE]],Ecriture[[_FactureNumero]:[_DateFacture]],2,FALSE),\"\")","v":""},{"$f":"IFERROR(VLOOKUP(Tableau122[[#This Row],[FACTURE]],Ecriture[[_FactureNumero]:[_FactureLibelle]],7,FALSE),\"\")","v":""}]
[null,147,{"$f":"IFERROR(VLOOKUP(Tableau122[[#This Row],[REFERENCE DOSSIER]],Collaborateur_Dossier[[Collaborateur dossier]:[Responsable dossier]],2,FALSE),\"\")","v":""},{"$f":"IFERROR(VLOOKUP(VLOOKUP(Tableau122[[#This Row],[FACTURE]],Ecriture[[_FactureNumero]:[_ClientID]],4,FALSE),Personne[],7,FALSE),\"\")","v":""},{"$f":"IFERROR(VLOOKUP(Tableau122[[#This Row],[FACTURE]],Ecriture[[_DossierCode]:[_FactureNumero]],5,FALSE),\"\")","v":""},{"$f":"IFERROR(VLOOKUP(Tableau122[[#This Row],[REFERENCE DOSSIER]],Dossier[[DossierCode]:[DossierNom]],2,FALSE),\"\")","v":""},{"$f":"IFERROR(VLOOKUP(Tableau122[[#This Row],[FACTURE]],Ecriture[[_FactureNumero]:[_TotalTTC]],6,FALSE),\"\")","v":""},{"$f":"IF(AND(Tableau122[[#This Row],[+ 1 AN]]=\"\",Tableau122[[#This Row],[+ 4 MOIS]]=\"\",Tableau122[[#This Row],[DATE]]<=DATE(YEAR(TODAY()),MONTH(TODAY())-2,DAY(TODAY()))),Tableau122[[#This Row],[MONTANT]],\"\")","v":""},{"$f":"IF(AND(Tableau122[[#This Row],[+ 1 AN]]=\"\",Tableau122[[#This Row],[DATE]]<=DATE(YEAR(TODAY()),MONTH(TODAY())-4,DAY(TODAY()))),Tableau122[[#This Row],[MONTANT]],\"\")","v":""},{"$f":"IF(Tableau122[[#This Row],[DATE]]<=DATE(YEAR(TODAY())-1,MONTH(TODAY()),DAY(TODAY())),Tableau122[[#This Row],[MONTANT]],\"\")","v":""},{"$f":"Tableau122[[#This Row],[FACTURE]]","v":147},{"$f":"IFERROR(VLOOKUP(Tableau122[[#This Row],[FACTURE]],Ecriture[[_FactureNumero]:[_DateFacture]],2,FALSE),\"\")","v":""},{"$f":"IFERROR(VLOOKUP(Tableau122[[#This Row],[FACTURE]],Ecriture[[_FactureNumero]:[_FactureLibelle]],7,FALSE),\"\")","v":""}]
[null,148,{"$f":"IFERROR(VLOOKUP(Tableau122[[#This Row],[REFERENCE DOSSIER]],Collaborateur_Dossier[[Collaborateur dossier]:[Responsable dossier]],2,FALSE),\"\")","v":""},{"$f":"IFERROR(VLOOKUP(VLOOKUP(Tableau122[[#This Row],[FACTURE]],Ecriture[[_FactureNumero]:[_ClientID]],4,FALSE),Personne[],7,FALSE),\"\")","v":""},{"$f":"IFERROR(VLOOKUP(Tableau122[[#This Row],[FACTURE]],Ecriture[[_DossierCode]:[_FactureNumero]],5,FALSE),\"\")","v":""},{"$f":"IFERROR(VLOOKUP(Tableau122[[#This Row],[REFERENCE DOSSIER]],Dossier[[DossierCode]:[DossierNom]],2,FALSE),\"\")","v":""},{"$f":"IFERROR(VLOOKUP(Tableau122[[#This Row],[FACTURE]],Ecriture[[_FactureNumero]:[_TotalTTC]],6,FALSE),\"\")","v":""},{"$f":"IF(AND(Tableau122[[#This Row],[+ 1 AN]]=\"\",Tableau122[[#This Row],[+ 4 MOIS]]=\"\",Tableau122[[#This Row],[DATE]]<=DATE(YEAR(TODAY()),MONTH(TODAY())-2,DAY(TODAY()))),Tableau122[[#This Row],[MONTANT]],\"\")","v":""},{"$f":"IF(AND(Tableau122[[#This Row],[+ 1 AN]]=\"\",Tableau122[[#This Row],[DATE]]<=DATE(YEAR(TODAY()),MONTH(TODAY())-4,DAY(TODAY()))),Tableau122[[#This Row],[MONTANT]],\"\")","v":""},{"$f":"IF(Tableau122[[#This Row],[DATE]]<=DATE(YEAR(TODAY())-1,MONTH(TODAY()),DAY(TODAY())),Tableau122[[#This Row],[MONTANT]],\"\")","v":""},{"$f":"Tableau122[[#This Row],[FACTURE]]","v":148},{"$f":"IFERROR(VLOOKUP(Tableau122[[#This Row],[FACTURE]],Ecriture[[_FactureNumero]:[_DateFacture]],2,FALSE),\"\")","v":""},{"$f":"IFERROR(VLOOKUP(Tableau122[[#This Row],[FACTURE]],Ecriture[[_FactureNumero]:[_FactureLibelle]],7,FALSE),\"\")","v":""}]
[null,176,{"$f":"IFERROR(VLOOKUP(Tableau122[[#This Row],[REFERENCE DOSSIER]],Collaborateur_Dossier[[Collaborateur dossier]:[Responsable dossier]],2,FALSE),\"\")","v":""},{"$f":"IFERROR(VLOOKUP(VLOOKUP(Tableau122[[#This Row],[FACTURE]],Ecriture[[_FactureNumero]:[_ClientID]],4,FALSE),Personne[],7,FALSE),\"\")","v":""},{"$f":"IFERROR(VLOOKUP(Tableau122[[#This Row],[FACTURE]],Ecriture[[_DossierCode]:[_FactureNumero]],5,FALSE),\"\")","v":""},{"$f":"IFERROR(VLOOKUP(Tableau122[[#This Row],[REFERENCE DOSSIER]],Dossier[[DossierCode]:[DossierNom]],2,FALSE),\"\")","v":""},{"$f":"IFERROR(VLOOKUP(Tableau122[[#This Row],[FACTURE]],Ecriture[[_FactureNumero]:[_TotalTTC]],6,FALSE),\"\")","v":""},{"$f":"IF(AND(Tableau122[[#This Row],[+ 1 AN]]=\"\",Tableau122[[#This Row],[+ 4 MOIS]]=\"\",Tableau122[[#This Row],[DATE]]<=DATE(YEAR(TODAY()),MONTH(TODAY())-2,DAY(TODAY()))),Tableau122[[#This Row],[MONTANT]],\"\")","v":""},{"$f":"IF(AND(Tableau122[[#This Row],[+ 1 AN]]=\"\",Tableau122[[#This Row],[DATE]]<=DATE(YEAR(TODAY()),MONTH(TODAY())-4,DAY(TODAY()))),Tableau122[[#This Row],[MONTANT]],\"\")","v":""},{"$f":"IF(Tableau122[[#This Row],[DATE]]<=DATE(YEAR(TODAY())-1,MONTH(TODAY()),DAY(TODAY())),Tableau122[[#This Row],[MONTANT]],\"\")","v":""},{"$f":"Tableau122[[#This Row],[FACTURE]]","v":176},{"$f":"IFERROR(VLOOKUP(Tableau122[[#This Row],[FACTURE]],Ecriture[[_FactureNumero]:[_DateFacture]],2,FALSE),\"\")","v":""},{"$f":"IFERROR(VLOOKUP(Tableau122[[#This Row],[FACTURE]],Ecriture[[_FactureNumero]:[_FactureLibelle]],7,FALSE),\"\")","v":""}]
[null,177,{"$f":"IFERROR(VLOOKUP(Tableau122[[#This Row],[REFERENCE DOSSIER]],Collaborateur_Dossier[[Collaborateur dossier]:[Responsable dossier]],2,FALSE),\"\")","v":""},{"$f":"IFERROR(VLOOKUP(VLOOKUP(Tableau122[[#This Row],[FACTURE]],Ecriture[[_FactureNumero]:[_ClientID]],4,FALSE),Personne[],7,FALSE),\"\")","v":""},{"$f":"IFERROR(VLOOKUP(Tableau122[[#This Row],[FACTURE]],Ecriture[[_DossierCode]:[_FactureNumero]],5,FALSE),\"\")","v":""},{"$f":"IFERROR(VLOOKUP(Tableau122[[#This Row],[REFERENCE DOSSIER]],Dossier[[DossierCode]:[DossierNom]],2,FALSE),\"\")","v":""},{"$f":"IFERROR(VLOOKUP(Tableau122[[#This Row],[FACTURE]],Ecriture[[_FactureNumero]:[_TotalTTC]],6,FALSE),\"\")","v":""},{"$f":"IF(AND(Tableau122[[#This Row],[+ 1 AN]]=\"\",Tableau122[[#This Row],[+ 4 MOIS]]=\"\",Tableau122[[#This Row],[DATE]]<=DATE(YEAR(TODAY()),MONTH(TODAY())-2,DAY(TODAY()))),Tableau122[[#This Row],[MONTANT]],\"\")","v":""},{"$f":"IF(AND(Tableau122[[#This Row],[+ 1 AN]]=\"\",Tableau122[[#This Row],[DATE]]<=DATE(YEAR(TODAY()),MONTH(TODAY())-4,DAY(TODAY()))),Tableau122[[#This Row],[MONTANT]],\"\")","v":""},{"$f":"IF(Tableau122[[#This Row],[DATE]]<=DATE(YEAR(TODAY())-1,MONTH(TODAY()),DAY(TODAY())),Tableau122[[#This Row],[MONTANT]],\"\")","v":""},{"$f":"Tableau122[[#This Row],[FACTURE]]","v":177},{"$f":"IFERROR(VLOOKUP(Tableau122[[#This Row],[FACTURE]],Ecriture[[_FactureNumero]:[_DateFacture]],2,FALSE),\"\")","v":""},{"$f":"IFERROR(VLOOKUP(Tableau122[[#This Row],[FACTURE]],Ecriture[[_FactureNumero]:[_FactureLibelle]],7,FALSE),\"\")","v":""}]
[null,180,{"$f":"IFERROR(VLOOKUP(Tableau122[[#This Row],[REFERENCE DOSSIER]],Collaborateur_Dossier[[Collaborateur dossier]:[Responsable dossier]],2,FALSE),\"\")","v":""},{"$f":"IFERROR(VLOOKUP(VLOOKUP(Tableau122[[#This Row],[FACTURE]],Ecriture[[_FactureNumero]:[_ClientID]],4,FALSE),Personne[],7,FALSE),\"\")","v":""},{"$f":"IFERROR(VLOOKUP(Tableau122[[#This Row],[FACTURE]],Ecriture[[_DossierCode]:[_FactureNumero]],5,FALSE),\"\")","v":""},{"$f":"IFERROR(VLOOKUP(Tableau122[[#This Row],[REFERENCE DOSSIER]],Dossier[[DossierCode]:[DossierNom]],2,FALSE),\"\")","v":""},{"$f":"IFERROR(VLOOKUP(Tableau122[[#This Row],[FACTURE]],Ecriture[[_FactureNumero]:[_TotalTTC]],6,FALSE),\"\")","v":""},{"$f":"IF(AND(Tableau122[[#This Row],[+ 1 AN]]=\"\",Tableau122[[#This Row],[+ 4 MOIS]]=\"\",Tableau122[[#This Row],[DATE]]<=DATE(YEAR(TODAY()),MONTH(TODAY())-2,DAY(TODAY()))),Tableau122[[#This Row],[MONTANT]],\"\")","v":""},{"$f":"IF(AND(Tableau122[[#This Row],[+ 1 AN]]=\"\",Tableau122[[#This Row],[DATE]]<=DATE(YEAR(TODAY()),MONTH(TODAY())-4,DAY(TODAY()))),Tableau122[[#This Row],[MONTANT]],\"\")","v":""},{"$f":"IF(Tableau122[[#This Row],[DATE]]<=DATE(YEAR(TODAY())-1,MONTH(TODAY()),DAY(TODAY())),Tableau122[[#This Row],[MONTANT]],\"\")","v":""},{"$f":"Tableau122[[#This Row],[FACTURE]]","v":180},{"$f":"IFERROR(VLOOKUP(Tableau122[[#This Row],[FACTURE]],Ecriture[[_FactureNumero]:[_DateFacture]],2,FALSE),\"\")","v":""},{"$f":"IFERROR(VLOOKUP(Tableau122[[#This Row],[FACTURE]],Ecriture[[_FactureNumero]:[_FactureLibelle]],7,FALSE),\"\")","v":""}]
[null,189,{"$f":"IFERROR(VLOOKUP(Tableau122[[#This Row],[REFERENCE DOSSIER]],Collaborateur_Dossier[[Collaborateur dossier]:[Responsable dossier]],2,FALSE),\"\")","v":""},{"$f":"IFERROR(VLOOKUP(VLOOKUP(Tableau122[[#This Row],[FACTURE]],Ecriture[[_FactureNumero]:[_ClientID]],4,FALSE),Personne[],7,FALSE),\"\")","v":""},{"$f":"IFERROR(VLOOKUP(Tableau122[[#This Row],[FACTURE]],Ecriture[[_DossierCode]:[_FactureNumero]],5,FALSE),\"\")","v":""},{"$f":"IFERROR(VLOOKUP(Tableau122[[#This Row],[REFERENCE DOSSIER]],Dossier[[DossierCode]:[DossierNom]],2,FALSE),\"\")","v":""},{"$f":"IFERROR(VLOOKUP(Tableau122[[#This Row],[FACTURE]],Ecriture[[_FactureNumero]:[_TotalTTC]],6,FALSE),\"\")","v":""},{"$f":"IF(AND(Tableau122[[#This Row],[+ 1 AN]]=\"\",Tableau122[[#This Row],[+ 4 MOIS]]=\"\",Tableau122[[#This Row],[DATE]]<=DATE(YEAR(TODAY()),MONTH(TODAY())-2,DAY(TODAY()))),Tableau122[[#This Row],[MONTANT]],\"\")","v":""},{"$f":"IF(AND(Tableau122[[#This Row],[+ 1 AN]]=\"\",Tableau122[[#This Row],[DATE]]<=DATE(YEAR(TODAY()),MONTH(TODAY())-4,DAY(TODAY()))),Tableau122[[#This Row],[MONTANT]],\"\")","v":""},{"$f":"IF(Tableau122[[#This Row],[DATE]]<=DATE(YEAR(TODAY())-1,MONTH(TODAY()),DAY(TODAY())),Tableau122[[#This Row],[MONTANT]],\"\")","v":""},{"$f":"Tableau122[[#This Row],[FACTURE]]","v":189},{"$f":"IFERROR(VLOOKUP(Tableau122[[#This Row],[FACTURE]],Ecriture[[_FactureNumero]:[_DateFacture]],2,FALSE),\"\")","v":""},{"$f":"IFERROR(VLOOKUP(Tableau122[[#This Row],[FACTURE]],Ecriture[[_FactureNumero]:[_FactureLibelle]],7,FALSE),\"\")","v":""}]
[null,192,{"$f":"IFERROR(VLOOKUP(Tableau122[[#This Row],[REFERENCE DOSSIER]],Collaborateur_Dossier[[Collaborateur dossier]:[Responsable dossier]],2,FALSE),\"\")","v":""},{"$f":"IFERROR(VLOOKUP(VLOOKUP(Tableau122[[#This Row],[FACTURE]],Ecriture[[_FactureNumero]:[_ClientID]],4,FALSE),Personne[],7,FALSE),\"\")","v":""},{"$f":"IFERROR(VLOOKUP(Tableau122[[#This Row],[FACTURE]],Ecriture[[_DossierCode]:[_FactureNumero]],5,FALSE),\"\")","v":""},{"$f":"IFERROR(VLOOKUP(Tableau122[[#This Row],[REFERENCE DOSSIER]],Dossier[[DossierCode]:[DossierNom]],2,FALSE),\"\")","v":""},{"$f":"IFERROR(VLOOKUP(Tableau122[[#This Row],[FACTURE]],Ecriture[[_FactureNumero]:[_TotalTTC]],6,FALSE),\"\")","v":""},{"$f":"IF(AND(Tableau122[[#This Row],[+ 1 AN]]=\"\",Tableau122[[#This Row],[+ 4 MOIS]]=\"\",Tableau122[[#This Row],[DATE]]<=DATE(YEAR(TODAY()),MONTH(TODAY())-2,DAY(TODAY()))),Tableau122[[#This Row],[MONTANT]],\"\")","v":""},{"$f":"IF(AND(Tableau122[[#This Row],[+ 1 AN]]=\"\",Tableau122[[#This Row],[DATE]]<=DATE(YEAR(TODAY()),MONTH(TODAY())-4,DAY(TODAY()))),Tableau122[[#This Row],[MONTANT]],\"\")","v":""},{"$f":"IF(Tableau122[[#This Row],[DATE]]<=DATE(YEAR(TODAY())-1,MONTH(TODAY()),DAY(TODAY())),Tableau122[[#This Row],[MONTANT]],\"\")","v":""},{"$f":"Tableau122[[#This Row],[FACTURE]]","v":192},{"$f":"IFERROR(VLOOKUP(Tableau122[[#This Row],[FACTURE]],Ecriture[[_FactureNumero]:[_DateFacture]],2,FALSE),\"\")","v":""},{"$f":"IFERROR(VLOOKUP(Tableau122[[#This Row],[FACTURE]],Ecriture[[_FactureNumero]:[_FactureLibelle]],7,FALSE),\"\")","v":""}]
[null,201,{"$f":"IFERROR(VLOOKUP(Tableau122[[#This Row],[REFERENCE DOSSIER]],Collaborateur_Dossier[[Collaborateur dossier]:[Responsable dossier]],2,FALSE),\"\")","v":""},{"$f":"IFERROR(VLOOKUP(VLOOKUP(Tableau122[[#This Row],[FACTURE]],Ecriture[[_FactureNumero]:[_ClientID]],4,FALSE),Personne[],7,FALSE),\"\")","v":""},{"$f":"IFERROR(VLOOKUP(Tableau122[[#This Row],[FACTURE]],Ecriture[[_DossierCode]:[_FactureNumero]],5,FALSE),\"\")","v":""},{"$f":"IFERROR(VLOOKUP(Tableau122[[#This Row],[REFERENCE DOSSIER]],Dossier[[DossierCode]:[DossierNom]],2,FALSE),\"\")","v":""},{"$f":"IFERROR(VLOOKUP(Tableau122[[#This Row],[FACTURE]],Ecriture[[_FactureNumero]:[_TotalTTC]],6,FALSE),\"\")","v":""},{"$f":"IF(AND(Tableau122[[#This Row],[+ 1 AN]]=\"\",Tableau122[[#This Row],[+ 4 MOIS]]=\"\",Tableau122[[#This Row],[DATE]]<=DATE(YEAR(TODAY()),MONTH(TODAY())-2,DAY(TODAY()))),Tableau122[[#This Row],[MONTANT]],\"\")","v":""},{"$f":"IF(AND(Tableau122[[#This Row],[+ 1 AN]]=\"\",Tableau122[[#This Row],[DATE]]<=DATE(YEAR(TODAY()),MONTH(TODAY())-4,DAY(TODAY()))),Tableau122[[#This Row],[MONTANT]],\"\")","v":""},{"$f":"IF(Tableau122[[#This Row],[DATE]]<=DATE(YEAR(TODAY())-1,MONTH(TODAY()),DAY(TODAY())),Tableau122[[#This Row],[MONTANT]],\"\")","v":""},{"$f":"Tableau122[[#This Row],[FACTURE]]","v":201},{"$f":"IFERROR(VLOOKUP(Tableau122[[#This Row],[FACTURE]],Ecriture[[_FactureNumero]:[_DateFacture]],2,FALSE),\"\")","v":""},{"$f":"IFERROR(VLOOKUP(Tableau122[[#This Row],[FACTURE]],Ecriture[[_FactureNumero]:[_FactureLibelle]],7,FALSE),\"\")","v":""}]
[null,159,{"$f":"IFERROR(VLOOKUP(Tableau122[[#This Row],[REFERENCE DOSSIER]],Collaborateur_Dossier[[Collaborateur dossier]:[Responsable dossier]],2,FALSE),\"\")","v":""},{"$f":"IFERROR(VLOOKUP(VLOOKUP(Tableau122[[#This Row],[FACTURE]],Ecriture[[_FactureNumero]:[_ClientID]],4,FALSE),Personne[],7,FALSE),\"\")","v":""},{"$f":"IFERROR(VLOOKUP(Tableau122[[#This Row],[FACTURE]],Ecriture[[_DossierCode]:[_FactureNumero]],5,FALSE),\"\")","v":""},{"$f":"IFERROR(VLOOKUP(Tableau122[[#This Row],[REFERENCE DOSSIER]],Dossier[[DossierCode]:[DossierNom]],2,FALSE),\"\")","v":""},{"$f":"IFERROR(VLOOKUP(Tableau122[[#This Row],[FACTURE]],Ecriture[[_FactureNumero]:[_TotalTTC]],6,FALSE),\"\")","v":""},{"$f":"IF(AND(Tableau122[[#This Row],[+ 1 AN]]=\"\",Tableau122[[#This Row],[+ 4 MOIS]]=\"\",Tableau122[[#This Row],[DATE]]<=DATE(YEAR(TODAY()),MONTH(TODAY())-2,DAY(TODAY()))),Tableau122[[#This Row],[MONTANT]],\"\")","v":""},{"$f":"IF(AND(Tableau122[[#This Row],[+ 1 AN]]=\"\",Tableau122[[#This Row],[DATE]]<=DATE(YEAR(TODAY()),MONTH(TODAY())-4,DAY(TODAY()))),Tableau122[[#This Row],[MONTANT]],\"\")","v":""},{"$f":"IF(Tableau122[[#This Row],[DATE]]<=DATE(YEAR(TODAY())-1,MONTH(TODAY()),DAY(TODAY())),Tableau122[[#This Row],[MONTANT]],\"\")","v":""},{"$f":"Tableau122[[#This Row],[FACTURE]]","v":159},{"$f":"IFERROR(VLOOKUP(Tableau122[[#This Row],[FACTURE]],Ecriture[[_FactureNumero]:[_DateFacture]],2,FALSE),\"\")","v":""},{"$f":"IFERROR(VLOOKUP(Tableau122[[#This Row],[FACTURE]],Ecriture[[_FactureNumero]:[_FactureLibelle]],7,FALSE),\"\")","v":""}]
[null,161,{"$f":"IFERROR(VLOOKUP(Tableau122[[#This Row],[REFERENCE DOSSIER]],Collaborateur_Dossier[[Collaborateur dossier]:[Responsable dossier]],2,FALSE),\"\")","v":""},{"$f":"IFERROR(VLOOKUP(VLOOKUP(Tableau122[[#This Row],[FACTURE]],Ecriture[[_FactureNumero]:[_ClientID]],4,FALSE),Personne[],7,FALSE),\"\")","v":""},{"$f":"IFERROR(VLOOKUP(Tableau122[[#This Row],[FACTURE]],Ecriture[[_DossierCode]:[_FactureNumero]],5,FALSE),\"\")","v":""},{"$f":"IFERROR(VLOOKUP(Tableau122[[#This Row],[REFERENCE DOSSIER]],Dossier[[DossierCode]:[DossierNom]],2,FALSE),\"\")","v":""},{"$f":"IFERROR(VLOOKUP(Tableau122[[#This Row],[FACTURE]],Ecriture[[_FactureNumero]:[_TotalTTC]],6,FALSE),\"\")","v":""},{"$f":"IF(AND(Tableau122[[#This Row],[+ 1 AN]]=\"\",Tableau122[[#This Row],[+ 4 MOIS]]=\"\",Tableau122[[#This Row],[DATE]]<=DATE(YEAR(TODAY()),MONTH(TODAY())-2,DAY(TODAY()))),Tableau122[[#This Row],[MONTANT]],\"\")","v":""},{"$f":"IF(AND(Tableau122[[#This Row],[+ 1 AN]]=\"\",Tableau122[[#This Row],[DATE]]<=DATE(YEAR(TODAY()),MONTH(TODAY())-4,DAY(TODAY()))),Tableau122[[#This Row],[MONTANT]],\"\")","v":""},{"$f":"IF(Tableau122[[#This Row],[DATE]]<=DATE(YEAR(TODAY())-1,MONTH(TODAY()),DAY(TODAY())),Tableau122[[#This Row],[MONTANT]],\"\")","v":""},{"$f":"Tableau122[[#This Row],[FACTURE]]","v":161},{"$f":"IFERROR(VLOOKUP(Tableau122[[#This Row],[FACTURE]],Ecriture[[_FactureNumero]:[_DateFacture]],2,FALSE),\"\")","v":""},{"$f":"IFERROR(VLOOKUP(Tableau122[[#This Row],[FACTURE]],Ecriture[[_FactureNumero]:[_FactureLibelle]],7,FALSE),\"\")","v":""}]
[null,166,{"$f":"IFERROR(VLOOKUP(Tableau122[[#This Row],[REFERENCE DOSSIER]],Collaborateur_Dossier[[Collaborateur dossier]:[Responsable dossier]],2,FALSE),\"\")","v":""},{"$f":"IFERROR(VLOOKUP(VLOOKUP(Tableau122[[#This Row],[FACTURE]],Ecriture[[_FactureNumero]:[_ClientID]],4,FALSE),Personne[],7,FALSE),\"\")","v":""},{"$f":"IFERROR(VLOOKUP(Tableau122[[#This Row],[FACTURE]],Ecriture[[_DossierCode]:[_FactureNumero]],5,FALSE),\"\")","v":""},{"$f":"IFERROR(VLOOKUP(Tableau122[[#This Row],[REFERENCE DOSSIER]],Dossier[[DossierCode]:[DossierNom]],2,FALSE),\"\")","v":""},{"$f":"IFERROR(VLOOKUP(Tableau122[[#This Row],[FACTURE]],Ecriture[[_FactureNumero]:[_TotalTTC]],6,FALSE),\"\")","v":""},{"$f":"IF(AND(Tableau122[[#This Row],[+ 1 AN]]=\"\",Tableau122[[#This Row],[+ 4 MOIS]]=\"\",Tableau122[[#This Row],[DATE]]<=DATE(YEAR(TODAY()),MONTH(TODAY())-2,DAY(TODAY()))),Tableau122[[#This Row],[MONTANT]],\"\")","v":""},{"$f":"IF(AND(Tableau122[[#This Row],[+ 1 AN]]=\"\",Tableau122[[#This Row],[DATE]]<=DATE(YEAR(TODAY()),MONTH(TODAY())-4,DAY(TODAY()))),Tableau122[[#This Row],[MONTANT]],\"\")","v":""},{"$f":"IF(Tableau122[[#This Row],[DATE]]<=DATE(YEAR(TODAY())-1,MONTH(TODAY()),DAY(TODAY())),Tableau122[[#This Row],[MONTANT]],\"\")","v":""},{"$f":"Tableau122[[#This Row],[FACTURE]]","v":166},{"$f":"IFERROR(VLOOKUP(Tableau122[[#This Row],[FACTURE]],Ecriture[[_FactureNumero]:[_DateFacture]],2,FALSE),\"\")","v":""},{"$f":"IFERROR(VLOOKUP(Tableau122[[#This Row],[FACTURE]],Ecriture[[_FactureNumero]:[_FactureLibelle]],7,FALSE),\"\")","v":""}]
[null,169,{"$f":"IFERROR(VLOOKUP(Tableau122[[#This Row],[REFERENCE DOSSIER]],Collaborateur_Dossier[[Collaborateur dossier]:[Responsable dossier]],2,FALSE),\"\")","v":""},{"$f":"IFERROR(VLOOKUP(VLOOKUP(Tableau122[[#This Row],[FACTURE]],Ecriture[[_FactureNumero]:[_ClientID]],4,FALSE),Personne[],7,FALSE),\"\")","v":""},{"$f":"IFERROR(VLOOKUP(Tableau122[[#This Row],[FACTURE]],Ecriture[[_DossierCode]:[_FactureNumero]],5,FALSE),\"\")","v":""},{"$f":"IFERROR(VLOOKUP(Tableau122[[#This Row],[REFERENCE DOSSIER]],Dossier[[DossierCode]:[DossierNom]],2,FALSE),\"\")","v":""},{"$f":"IFERROR(VLOOKUP(Tableau122[[#This Row],[FACTURE]],Ecriture[[_FactureNumero]:[_TotalTTC]],6,FALSE),\"\")","v":""},{"$f":"IF(AND(Tableau122[[#This Row],[+ 1 AN]]=\"\",Tableau122[[#This Row],[+ 4 MOIS]]=\"\",Tableau122[[#This Row],[DATE]]<=DATE(YEAR(TODAY()),MONTH(TODAY())-2,DAY(TODAY()))),Tableau122[[#This Row],[MONTANT]],\"\")","v":""},{"$f":"IF(AND(Tableau122[[#This Row],[+ 1 AN]]=\"\",Tableau122[[#This Row],[DATE]]<=DATE(YEAR(TODAY()),MONTH(TODAY())-4,DAY(TODAY()))),Tableau122[[#This Row],[MONTANT]],\"\")","v":""},{"$f":"IF(Tableau122[[#This Row],[DATE]]<=DATE(YEAR(TODAY())-1,MONTH(TODAY()),DAY(TODAY())),Tableau122[[#This Row],[MONTANT]],\"\")","v":""},{"$f":"Tableau122[[#This Row],[FACTURE]]","v":169},{"$f":"IFERROR(VLOOKUP(Tableau122[[#This Row],[FACTURE]],Ecriture[[_FactureNumero]:[_DateFacture]],2,FALSE),\"\")","v":""},{"$f":"IFERROR(VLOOKUP(Tableau122[[#This Row],[FACTURE]],Ecriture[[_FactureNumero]:[_FactureLibelle]],7,FALSE),\"\")","v":""}]
[null,178,{"$f":"IFERROR(VLOOKUP(Tableau122[[#This Row],[REFERENCE DOSSIER]],Collaborateur_Dossier[[Collaborateur dossier]:[Responsable dossier]],2,FALSE),\"\")","v":""},{"$f":"IFERROR(VLOOKUP(VLOOKUP(Tableau122[[#This Row],[FACTURE]],Ecriture[[_FactureNumero]:[_ClientID]],4,FALSE),Personne[],7,FALSE),\"\")","v":""},{"$f":"IFERROR(VLOOKUP(Tableau122[[#This Row],[FACTURE]],Ecriture[[_DossierCode]:[_FactureNumero]],5,FALSE),\"\")","v":""},{"$f":"IFERROR(VLOOKUP(Tableau122[[#This Row],[REFERENCE DOSSIER]],Dossier[[DossierCode]:[DossierNom]],2,FALSE),\"\")","v":""},{"$f":"IFERROR(VLOOKUP(Tableau122[[#This Row],[FACTURE]],Ecriture[[_FactureNumero]:[_TotalTTC]],6,FALSE),\"\")","v":""},{"$f":"IF(AND(Tableau122[[#This Row],[+ 1 AN]]=\"\",Tableau122[[#This Row],[+ 4 MOIS]]=\"\",Tableau122[[#This Row],[DATE]]<=DATE(YEAR(TODAY()),MONTH(TODAY())-2,DAY(TODAY()))),Tableau122[[#This Row],[MONTANT]],\"\")","v":""},{"$f":"IF(AND(Tableau122[[#This Row],[+ 1 AN]]=\"\",Tableau122[[#This Row],[DATE]]<=DATE(YEAR(TODAY()),MONTH(TODAY())-4,DAY(TODAY()))),Tableau122[[#This Row],[MONTANT]],\"\")","v":""},{"$f":"IF(Tableau122[[#This Row],[DATE]]<=DATE(YEAR(TODAY())-1,MONTH(TODAY()),DAY(TODAY())),Tableau122[[#This Row],[MONTANT]],\"\")","v":""},{"$f":"Tableau122[[#This Row],[FACTURE]]","v":178},{"$f":"IFERROR(VLOOKUP(Tableau122[[#This Row],[FACTURE]],Ecriture[[_FactureNumero]:[_DateFacture]],2,FALSE),\"\")","v":""},{"$f":"IFERROR(VLOOKUP(Tableau122[[#This Row],[FACTURE]],Ecriture[[_FactureNumero]:[_FactureLibelle]],7,FALSE),\"\")","v":""}]
[null,203,{"$f":"IFERROR(VLOOKUP(Tableau122[[#This Row],[REFERENCE DOSSIER]],Collaborateur_Dossier[[Collaborateur dossier]:[Responsable dossier]],2,FALSE),\"\")","v":""},{"$f":"IFERROR(VLOOKUP(VLOOKUP(Tableau122[[#This Row],[FACTURE]],Ecriture[[_FactureNumero]:[_ClientID]],4,FALSE),Personne[],7,FALSE),\"\")","v":""},{"$f":"IFERROR(VLOOKUP(Tableau122[[#This Row],[FACTURE]],Ecriture[[_DossierCode]:[_FactureNumero]],5,FALSE),\"\")","v":""},{"$f":"IFERROR(VLOOKUP(Tableau122[[#This Row],[REFERENCE DOSSIER]],Dossier[[DossierCode]:[DossierNom]],2,FALSE),\"\")","v":""},{"$f":"IFERROR(VLOOKUP(Tableau122[[#This Row],[FACTURE]],Ecriture[[_FactureNumero]:[_TotalTTC]],6,FALSE),\"\")","v":""},{"$f":"IF(AND(Tableau122[[#This Row],[+ 1 AN]]=\"\",Tableau122[[#This Row],[+ 4 MOIS]]=\"\",Tableau122[[#This Row],[DATE]]<=DATE(YEAR(TODAY()),MONTH(TODAY())-2,DAY(TODAY()))),Tableau122[[#This Row],[MONTANT]],\"\")","v":""},{"$f":"IF(AND(Tableau122[[#This Row],[+ 1 AN]]=\"\",Tableau122[[#This Row],[DATE]]<=DATE(YEAR(TODAY()),MONTH(TODAY())-4,DAY(TODAY()))),Tableau122[[#This Row],[MONTANT]],\"\")","v":""},{"$f":"IF(Tableau122[[#This Row],[DATE]]<=DATE(YEAR(TODAY())-1,MONTH(TODAY()),DAY(TODAY())),Tableau122[[#This Row],[MONTANT]],\"\")","v":""},{"$f":"Tableau122[[#This Row],[FACTURE]]","v":203},{"$f":"IFERROR(VLOOKUP(Tableau122[[#This Row],[FACTURE]],Ecriture[[_FactureNumero]:[_DateFacture]],2,FALSE),\"\")","v":""},{"$f":"IFERROR(VLOOKUP(Tableau122[[#This Row],[FACTURE]],Ecriture[[_FactureNumero]:[_FactureLibelle]],7,FALSE),\"\")","v":""}]
[null,207,{"$f":"IFERROR(VLOOKUP(Tableau122[[#This Row],[REFERENCE DOSSIER]],Collaborateur_Dossier[[Collaborateur dossier]:[Responsable dossier]],2,FALSE),\"\")","v":""},{"$f":"IFERROR(VLOOKUP(VLOOKUP(Tableau122[[#This Row],[FACTURE]],Ecriture[[_FactureNumero]:[_ClientID]],4,FALSE),Personne[],7,FALSE),\"\")","v":""},{"$f":"IFERROR(VLOOKUP(Tableau122[[#This Row],[FACTURE]],Ecriture[[_DossierCode]:[_FactureNumero]],5,FALSE),\"\")","v":""},{"$f":"IFERROR(VLOOKUP(Tableau122[[#This Row],[REFERENCE DOSSIER]],Dossier[[DossierCode]:[DossierNom]],2,FALSE),\"\")","v":""},{"$f":"IFERROR(VLOOKUP(Tableau122[[#This Row],[FACTURE]],Ecriture[[_FactureNumero]:[_TotalTTC]],6,FALSE),\"\")","v":""},{"$f":"IF(AND(Tableau122[[#This Row],[+ 1 AN]]=\"\",Tableau122[[#This Row],[+ 4 MOIS]]=\"\",Tableau122[[#This Row],[DATE]]<=DATE(YEAR(TODAY()),MONTH(TODAY())-2,DAY(TODAY()))),Tableau122[[#This Row],[MONTANT]],\"\")","v":""},{"$f":"IF(AND(Tableau122[[#This Row],[+ 1 AN]]=\"\",Tableau122[[#This Row],[DATE]]<=DATE(YEAR(TODAY()),MONTH(TODAY())-4,DAY(TODAY()))),Tableau122[[#This Row],[MONTANT]],\"\")","v":""},{"$f":"IF(Tableau122[[#This Row],[DATE]]<=DATE(YEAR(TODAY())-1,MONTH(TODAY()),DAY(TODAY())),Tableau122[[#This Row],[MONTANT]],\"\")","v":""},{"$f":"Tableau122[[#This Row],[FACTURE]]","v":207},{"$f":"IFERROR(VLOOKUP(Tableau122[[#This Row],[FACTURE]],Ecriture[[_FactureNumero]:[_DateFacture]],2,FALSE),\"\")","v":""},{"$f":"IFERROR(VLOOKUP(Tableau122[[#This Row],[FACTURE]],Ecriture[[_FactureNumero]:[_FactureLibelle]],7,FALSE),\"\")","v":""}]
[null,213,{"$f":"IFERROR(VLOOKUP(Tableau122[[#This Row],[REFERENCE DOSSIER]],Collaborateur_Dossier[[Collaborateur dossier]:[Responsable dossier]],2,FALSE),\"\")","v":""},{"$f":"IFERROR(VLOOKUP(VLOOKUP(Tableau122[[#This Row],[FACTURE]],Ecriture[[_FactureNumero]:[_ClientID]],4,FALSE),Personne[],7,FALSE),\"\")","v":""},{"$f":"IFERROR(VLOOKUP(Tableau122[[#This Row],[FACTURE]],Ecriture[[_DossierCode]:[_FactureNumero]],5,FALSE),\"\")","v":""},{"$f":"IFERROR(VLOOKUP(Tableau122[[#This Row],[REFERENCE DOSSIER]],Dossier[[DossierCode]:[DossierNom]],2,FALSE),\"\")","v":""},{"$f":"IFERROR(VLOOKUP(Tableau122[[#This Row],[FACTURE]],Ecriture[[_FactureNumero]:[_TotalTTC]],6,FALSE),\"\")","v":""},{"$f":"IF(AND(Tableau122[[#This Row],[+ 1 AN]]=\"\",Tableau122[[#This Row],[+ 4 MOIS]]=\"\",Tableau122[[#This Row],[DATE]]<=DATE(YEAR(TODAY()),MONTH(TODAY())-2,DAY(TODAY()))),Tableau122[[#This Row],[MONTANT]],\"\")","v":""},{"$f":"IF(AND(Tableau122[[#This Row],[+ 1 AN]]=\"\",Tableau122[[#This Row],[DATE]]<=DATE(YEAR(TODAY()),MONTH(TODAY())-4,DAY(TODAY()))),Tableau122[[#This Row],[MONTANT]],\"\")","v":""},{"$f":"IF(Tableau122[[#This Row],[DATE]]<=DATE(YEAR(TODAY())-1,MONTH(TODAY()),DAY(TODAY())),Tableau122[[#This Row],[MONTANT]],\"\")","v":""},{"$f":"Tableau122[[#This Row],[FACTURE]]","v":213},{"$f":"IFERROR(VLOOKUP(Tableau122[[#This Row],[FACTURE]],Ecriture[[_FactureNumero]:[_DateFacture]],2,FALSE),\"\")","v":""},{"$f":"IFERROR(VLOOKUP(Tableau122[[#This Row],[FACTURE]],Ecriture[[_FactureNumero]:[_FactureLibelle]],7,FALSE),\"\")","v":""}]
[null,216,{"$f":"IFERROR(VLOOKUP(Tableau122[[#This Row],[REFERENCE DOSSIER]],Collaborateur_Dossier[[Collaborateur dossier]:[Responsable dossier]],2,FALSE),\"\")","v":""},{"$f":"IFERROR(VLOOKUP(VLOOKUP(Tableau122[[#This Row],[FACTURE]],Ecriture[[_FactureNumero]:[_ClientID]],4,FALSE),Personne[],7,FALSE),\"\")","v":""},{"$f":"IFERROR(VLOOKUP(Tableau122[[#This Row],[FACTURE]],Ecriture[[_DossierCode]:[_FactureNumero]],5,FALSE),\"\")","v":""},{"$f":"IFERROR(VLOOKUP(Tableau122[[#This Row],[REFERENCE DOSSIER]],Dossier[[DossierCode]:[DossierNom]],2,FALSE),\"\")","v":""},{"$f":"IFERROR(VLOOKUP(Tableau122[[#This Row],[FACTURE]],Ecriture[[_FactureNumero]:[_TotalTTC]],6,FALSE),\"\")","v":""},{"$f":"IF(AND(Tableau122[[#This Row],[+ 1 AN]]=\"\",Tableau122[[#This Row],[+ 4 MOIS]]=\"\",Tableau122[[#This Row],[DATE]]<=DATE(YEAR(TODAY()),MONTH(TODAY())-2,DAY(TODAY()))),Tableau122[[#This Row],[MONTANT]],\"\")","v":""},{"$f":"IF(AND(Tableau122[[#This Row],[+ 1 AN]]=\"\",Tableau122[[#This Row],[DATE]]<=DATE(YEAR(TODAY()),MONTH(TODAY())-4,DAY(TODAY()))),Tableau122[[#This Row],[MONTANT]],\"\")","v":""},{"$f":"IF(Tableau122[[#This Row],[DATE]]<=DATE(YEAR(TODAY())-1,MONTH(TODAY()),DAY(TODAY())),Tableau122[[#This Row],[MONTANT]],\"\")","v":""},{"$f":"Tableau122[[#This Row],[FACTURE]]","v":216},{"$f":"IFERROR(VLOOKUP(Tableau122[[#This Row],[FACTURE]],Ecriture[[_FactureNumero]:[_DateFacture]],2,FALSE),\"\")","v":""},{"$f":"IFERROR(VLOOKUP(Tableau122[[#This Row],[FACTURE]],Ecriture[[_FactureNumero]:[_FactureLibelle]],7,FALSE),\"\")","v":""}]
[null,174,{"$f":"IFERROR(VLOOKUP(Tableau122[[#This Row],[REFERENCE DOSSIER]],Collaborateur_Dossier[[Collaborateur dossier]:[Responsable dossier]],2,FALSE),\"\")","v":""},{"$f":"IFERROR(VLOOKUP(VLOOKUP(Tableau122[[#This Row],[FACTURE]],Ecriture[[_FactureNumero]:[_ClientID]],4,FALSE),Personne[],7,FALSE),\"\")","v":""},{"$f":"IFERROR(VLOOKUP(Tableau122[[#This Row],[FACTURE]],Ecriture[[_DossierCode]:[_FactureNumero]],5,FALSE),\"\")","v":""},{"$f":"IFERROR(VLOOKUP(Tableau122[[#This Row],[REFERENCE DOSSIER]],Dossier[[DossierCode]:[DossierNom]],2,FALSE),\"\")","v":""},{"$f":"IFERROR(VLOOKUP(Tableau122[[#This Row],[FACTURE]],Ecriture[[_FactureNumero]:[_TotalTTC]],6,FALSE),\"\")","v":""},{"$f":"IF(AND(Tableau122[[#This Row],[+ 1 AN]]=\"\",Tableau122[[#This Row],[+ 4 MOIS]]=\"\",Tableau122[[#This Row],[DATE]]<=DATE(YEAR(TODAY()),MONTH(TODAY())-2,DAY(TODAY()))),Tableau122[[#This Row],[MONTANT]],\"\")","v":""},{"$f":"IF(AND(Tableau122[[#This Row],[+ 1 AN]]=\"\",Tableau122[[#This Row],[DATE]]<=DATE(YEAR(TODAY()),MONTH(TODAY())-4,DAY(TODAY()))),Tableau122[[#This Row],[MONTANT]],\"\")","v":""},{"$f":"IF(Tableau122[[#This Row],[DATE]]<=DATE(YEAR(TODAY())-1,MONTH(TODAY()),DAY(TODAY())),Tableau122[[#This Row],[MONTANT]],\"\")","v":""},{"$f":"Tableau122[[#This Row],[FACTURE]]","v":174},{"$f":"IFERROR(VLOOKUP(Tableau122[[#This Row],[FACTURE]],Ecriture[[_FactureNumero]:[_DateFacture]],2,FALSE),\"\")","v":""},{"$f":"IFERROR(VLOOKUP(Tableau122[[#This Row],[FACTURE]],Ecriture[[_FactureNumero]:[_FactureLibelle]],7,FALSE),\"\")","v":""}]
[null,175,{"$f":"IFERROR(VLOOKUP(Tableau122[[#This Row],[REFERENCE DOSSIER]],Collaborateur_Dossier[[Collaborateur dossier]:[Responsable dossier]],2,FALSE),\"\")","v":""},{"$f":"IFERROR(VLOOKUP(VLOOKUP(Tableau122[[#This Row],[FACTURE]],Ecriture[[_FactureNumero]:[_ClientID]],4,FALSE),Personne[],7,FALSE),\"\")","v":""},{"$f":"IFERROR(VLOOKUP(Tableau122[[#This Row],[FACTURE]],Ecriture[[_DossierCode]:[_FactureNumero]],5,FALSE),\"\")","v":""},{"$f":"IFERROR(VLOOKUP(Tableau122[[#This Row],[REFERENCE DOSSIER]],Dossier[[DossierCode]:[DossierNom]],2,FALSE),\"\")","v":""},{"$f":"IFERROR(VLOOKUP(Tableau122[[#This Row],[FACTURE]],Ecriture[[_FactureNumero]:[_TotalTTC]],6,FALSE),\"\")","v":""},{"$f":"IF(AND(Tableau122[[#This Row],[+ 1 AN]]=\"\",Tableau122[[#This Row],[+ 4 MOIS]]=\"\",Tableau122[[#This Row],[DATE]]<=DATE(YEAR(TODAY()),MONTH(TODAY())-2,DAY(TODAY()))),Tableau122[[#This Row],[MONTANT]],\"\")","v":""},{"$f":"IF(AND(Tableau122[[#This Row],[+ 1 AN]]=\"\",Tableau122[[#This Row],[DATE]]<=DATE(YEAR(TODAY()),MONTH(TODAY())-4,DAY(TODAY()))),Tableau122[[#This Row],[MONTANT]],\"\")","v":""},{"$f":"IF(Tableau122[[#This Row],[DATE]]<=DATE(YEAR(TODAY())-1,MONTH(TODAY()),DAY(TODAY())),Tableau122[[#This Row],[MONTANT]],\"\")","v":""},{"$f":"Tableau122[[#This Row],[FACTURE]]","v":175},{"$f":"IFERROR(VLOOKUP(Tableau122[[#This Row],[FACTURE]],Ecriture[[_FactureNumero]:[_DateFacture]],2,FALSE),\"\")","v":""},{"$f":"IFERROR(VLOOKUP(Tableau122[[#This Row],[FACTURE]],Ecriture[[_FactureNumero]:[_FactureLibelle]],7,FALSE),\"\")","v":""}]
[null,206,{"$f":"IFERROR(VLOOKUP(Tableau122[[#This Row],[REFERENCE DOSSIER]],Collaborateur_Dossier[[Collaborateur dossier]:[Responsable dossier]],2,FALSE),\"\")","v":""},{"$f":"IFERROR(VLOOKUP(VLOOKUP(Tableau122[[#This Row],[FACTURE]],Ecriture[[_FactureNumero]:[_ClientID]],4,FALSE),Personne[],7,FALSE),\"\")","v":""},{"$f":"IFERROR(VLOOKUP(Tableau122[[#This Row],[FACTURE]],Ecriture[[_DossierCode]:[_FactureNumero]],5,FALSE),\"\")","v":""},{"$f":"IFERROR(VLOOKUP(Tableau122[[#This Row],[REFERENCE DOSSIER]],Dossier[[DossierCode]:[DossierNom]],2,FALSE),\"\")","v":""},{"$f":"IFERROR(VLOOKUP(Tableau122[[#This Row],[FACTURE]],Ecriture[[_FactureNumero]:[_TotalTTC]],6,FALSE),\"\")","v":""},{"$f":"IF(AND(Tableau122[[#This Row],[+ 1 AN]]=\"\",Tableau122[[#This Row],[+ 4 MOIS]]=\"\",Tableau122[[#This Row],[DATE]]<=DATE(YEAR(TODAY()),MONTH(TODAY())-2,DAY(TODAY()))),Tableau122[[#This Row],[MONTANT]],\"\")","v":""},{"$f":"IF(AND(Tableau122[[#This Row],[+ 1 AN]]=\"\",Tableau122[[#This Row],[DATE]]<=DATE(YEAR(TODAY()),MONTH(TODAY())-4,DAY(TODAY()))),Tableau122[[#This Row],[MONTANT]],\"\")","v":""},{"$f":"IF(Tableau122[[#This Row],[DATE]]<=DATE(YEAR(TODAY())-1,MONTH(TODAY()),DAY(TODAY())),Tableau122[[#This Row],[MONTANT]],\"\")","v":""},{"$f":"Tableau122[[#This Row],[FACTURE]]","v":206},{"$f":"IFERROR(VLOOKUP(Tableau122[[#This Row],[FACTURE]],Ecriture[[_FactureNumero]:[_DateFacture]],2,FALSE),\"\")","v":""},{"$f":"IFERROR(VLOOKUP(Tableau122[[#This Row],[FACTURE]],Ecriture[[_FactureNumero]:[_FactureLibelle]],7,FALSE),\"\")","v":""}]
[null,196,{"$f":"IFERROR(VLOOKUP(Tableau122[[#This Row],[REFERENCE DOSSIER]],Collaborateur_Dossier[[Collaborateur dossier]:[Responsable dossier]],2,FALSE),\"\")","v":""},{"$f":"IFERROR(VLOOKUP(VLOOKUP(Tableau122[[#This Row],[FACTURE]],Ecriture[[_FactureNumero]:[_ClientID]],4,FALSE),Personne[],7,FALSE),\"\")","v":""},{"$f":"IFERROR(VLOOKUP(Tableau122[[#This Row],[FACTURE]],Ecriture[[_DossierCode]:[_FactureNumero]],5,FALSE),\"\")","v":""},{"$f":"IFERROR(VLOOKUP(Tableau122[[#This Row],[REFERENCE DOSSIER]],Dossier[[DossierCode]:[DossierNom]],2,FALSE),\"\")","v":""},{"$f":"IFERROR(VLOOKUP(Tableau122[[#This Row],[FACTURE]],Ecriture[[_FactureNumero]:[_TotalTTC]],6,FALSE),\"\")","v":""},{"$f":"IF(AND(Tableau122[[#This Row],[+ 1 AN]]=\"\",Tableau122[[#This Row],[+ 4 MOIS]]=\"\",Tableau122[[#This Row],[DATE]]<=DATE(YEAR(TODAY()),MONTH(TODAY())-2,DAY(TODAY()))),Tableau122[[#This Row],[MONTANT]],\"\")","v":""},{"$f":"IF(AND(Tableau122[[#This Row],[+ 1 AN]]=\"\",Tableau122[[#This Row],[DATE]]<=DATE(YEAR(TODAY()),MONTH(TODAY())-4,DAY(TODAY()))),Tableau122[[#This Row],[MONTANT]],\"\")","v":""},{"$f":"IF(Tableau122[[#This Row],[DATE]]<=DATE(YEAR(TODAY())-1,MONTH(TODAY()),DAY(TODAY())),Tableau122[[#This Row],[MONTANT]],\"\")","v":""},{"$f":"Tableau122[[#This Row],[FACTURE]]","v":196},{"$f":"IFERROR(VLOOKUP(Tableau122[[#This Row],[FACTURE]],Ecriture[[_FactureNumero]:[_DateFacture]],2,FALSE),\"\")","v":""},{"$f":"IFERROR(VLOOKUP(Tableau122[[#This Row],[FACTURE]],Ecriture[[_FactureNumero]:[_FactureLibelle]],7,FALSE),\"\")","v":""}]
[null,151,{"$f":"IFERROR(VLOOKUP(Tableau122[[#This Row],[REFERENCE DOSSIER]],Collaborateur_Dossier[[Collaborateur dossier]:[Responsable dossier]],2,FALSE),\"\")","v":""},{"$f":"IFERROR(VLOOKUP(VLOOKUP(Tableau122[[#This Row],[FACTURE]],Ecriture[[_FactureNumero]:[_ClientID]],4,FALSE),Personne[],7,FALSE),\"\")","v":""},{"$f":"IFERROR(VLOOKUP(Tableau122[[#This Row],[FACTURE]],Ecriture[[_DossierCode]:[_FactureNumero]],5,FALSE),\"\")","v":""},{"$f":"IFERROR(VLOOKUP(Tableau122[[#This Row],[REFERENCE DOSSIER]],Dossier[[DossierCode]:[DossierNom]],2,FALSE),\"\")","v":""},{"$f":"IFERROR(VLOOKUP(Tableau122[[#This Row],[FACTURE]],Ecriture[[_FactureNumero]:[_TotalTTC]],6,FALSE),\"\")","v":""},{"$f":"IF(AND(Tableau122[[#This Row],[+ 1 AN]]=\"\",Tableau122[[#This Row],[+ 4 MOIS]]=\"\",Tableau122[[#This Row],[DATE]]<=DATE(YEAR(TODAY()),MONTH(TODAY())-2,DAY(TODAY()))),Tableau122[[#This Row],[MONTANT]],\"\")","v":""},{"$f":"IF(AND(Tableau122[[#This Row],[+ 1 AN]]=\"\",Tableau122[[#This Row],[DATE]]<=DATE(YEAR(TODAY()),MONTH(TODAY())-4,DAY(TODAY()))),Tableau122[[#This Row],[MONTANT]],\"\")","v":""},{"$f":"IF(Tableau122[[#This Row],[DATE]]<=DATE(YEAR(TODAY())-1,MONTH(TODAY()),DAY(TODAY())),Tableau122[[#This Row],[MONTANT]],\"\")","v":""},{"$f":"Tableau122[[#This Row],[FACTURE]]","v":151},{"$f":"IFERROR(VLOOKUP(Tableau122[[#This Row],[FACTURE]],Ecriture[[_FactureNumero]:[_DateFacture]],2,FALSE),\"\")","v":""},{"$f":"IFERROR(VLOOKUP(Tableau122[[#This Row],[FACTURE]],Ecriture[[_FactureNumero]:[_FactureLibelle]],7,FALSE),\"\")","v":""}]
[null,155,{"$f":"IFERROR(VLOOKUP(Tableau122[[#This Row],[REFERENCE DOSSIER]],Collaborateur_Dossier[[Collaborateur dossier]:[Responsable dossier]],2,FALSE),\"\")","v":""},{"$f":"IFERROR(VLOOKUP(VLOOKUP(Tableau122[[#This Row],[FACTURE]],Ecriture[[_FactureNumero]:[_ClientID]],4,FALSE),Personne[],7,FALSE),\"\")","v":""},{"$f":"IFERROR(VLOOKUP(Tableau122[[#This Row],[FACTURE]],Ecriture[[_DossierCode]:[_FactureNumero]],5,FALSE),\"\")","v":""},{"$f":"IFERROR(VLOOKUP(Tableau122[[#This Row],[REFERENCE DOSSIER]],Dossier[[DossierCode]:[DossierNom]],2,FALSE),\"\")","v":""},{"$f":"IFERROR(VLOOKUP(Tableau122[[#This Row],[FACTURE]],Ecriture[[_FactureNumero]:[_TotalTTC]],6,FALSE),\"\")","v":""},{"$f":"IF(AND(Tableau122[[#This Row],[+ 1 AN]]=\"\",Tableau122[[#This Row],[+ 4 MOIS]]=\"\",Tableau122[[#This Row],[DATE]]<=DATE(YEAR(TODAY()),MONTH(TODAY())-2,DAY(TODAY()))),Tableau122[[#This Row],[MONTANT]],\"\")","v":""},{"$f":"IF(AND(Tableau122[[#This Row],[+ 1 AN]]=\"\",Tableau122[[#This Row],[DATE]]<=DATE(YEAR(TODAY()),MONTH(TODAY())-4,DAY(TODAY()))),Tableau122[[#This Row],[MONTANT]],\"\")","v":""},{"$f":"IF(Tableau122[[#This Row],[DATE]]<=DATE(YEAR(TODAY())-1,MONTH(TODAY()),DAY(TODAY())),Tableau122[[#This Row],[MONTANT]],\"\")","v":""},{"$f":"Tableau122[[#This Row],[FACTURE]]","v":155},{"$f":"IFERROR(VLOOKUP(Tableau122[[#This Row],[FACTURE]],Ecriture[[_FactureNumero]:[_DateFacture]],2,FALSE),\"\")","v":""},{"$f":"IFERROR(VLOOKUP(Tableau122[[#This Row],[FACTURE]],Ecriture[[_FactureNumero]:[_FactureLibelle]],7,FALSE),\"\")","v":""}]
[null,160,{"$f":"IFERROR(VLOOKUP(Tableau122[[#This Row],[REFERENCE DOSSIER]],Collaborateur_Dossier[[Collaborateur dossier]:[Responsable dossier]],2,FALSE),\"\")","v":""},{"$f":"IFERROR(VLOOKUP(VLOOKUP(Tableau122[[#This Row],[FACTURE]],Ecriture[[_FactureNumero]:[_ClientID]],4,FALSE),Personne[],7,FALSE),\"\")","v":""},{"$f":"IFERROR(VLOOKUP(Tableau122[[#This Row],[FACTURE]],Ecriture[[_DossierCode]:[_FactureNumero]],5,FALSE),\"\")","v":""},{"$f":"IFERROR(VLOOKUP(Tableau122[[#This Row],[REFERENCE DOSSIER]],Dossier[[DossierCode]:[DossierNom]],2,FALSE),\"\")","v":""},{"$f":"IFERROR(VLOOKUP(Tableau122[[#This Row],[FACTURE]],Ecriture[[_FactureNumero]:[_TotalTTC]],6,FALSE),\"\")","v":""},{"$f":"IF(AND(Tableau122[[#This Row],[+ 1 AN]]=\"\",Tableau122[[#This Row],[+ 4 MOIS]]=\"\",Tableau122[[#This Row],[DATE]]<=DATE(YEAR(TODAY()),MONTH(TODAY())-2,DAY(TODAY()))),Tableau122[[#This Row],[MONTANT]],\"\")","v":""},{"$f":"IF(AND(Tableau122[[#This Row],[+ 1 AN]]=\"\",Tableau122[[#This Row],[DATE]]<=DATE(YEAR(TODAY()),MONTH(TODAY())-4,DAY(TODAY()))),Tableau122[[#This Row],[MONTANT]],\"\")","v":""},{"$f":"IF(Tableau122[[#This Row],[DATE]]<=DATE(YEAR(TODAY())-1,MONTH(TODAY()),DAY(TODAY())),Tableau122[[#This Row],[MONTANT]],\"\")","v":""},{"$f":"Tableau122[[#This Row],[FACTURE]]","v":160},{"$f":"IFERROR(VLOOKUP(Tableau122[[#This Row],[FACTURE]],Ecriture[[_FactureNumero]:[_DateFacture]],2,FALSE),\"\")","v":""},{"$f":"IFERROR(VLOOKUP(Tableau122[[#This Row],[FACTURE]],Ecriture[[_FactureNumero]:[_FactureLibelle]],7,FALSE),\"\")","v":""}]
[null,168,{"$f":"IFERROR(VLOOKUP(Tableau122[[#This Row],[REFERENCE DOSSIER]],Collaborateur_Dossier[[Collaborateur dossier]:[Responsable dossier]],2,FALSE),\"\")","v":""},{"$f":"IFERROR(VLOOKUP(VLOOKUP(Tableau122[[#This Row],[FACTURE]],Ecriture[[_FactureNumero]:[_ClientID]],4,FALSE),Personne[],7,FALSE),\"\")","v":""},{"$f":"IFERROR(VLOOKUP(Tableau122[[#This Row],[FACTURE]],Ecriture[[_DossierCode]:[_FactureNumero]],5,FALSE),\"\")","v":""},{"$f":"IFERROR(VLOOKUP(Tableau122[[#This Row],[REFERENCE DOSSIER]],Dossier[[DossierCode]:[DossierNom]],2,FALSE),\"\")","v":""},{"$f":"IFERROR(VLOOKUP(Tableau122[[#This Row],[FACTURE]],Ecriture[[_FactureNumero]:[_TotalTTC]],6,FALSE),\"\")","v":""},{"$f":"IF(AND(Tableau122[[#This Row],[+ 1 AN]]=\"\",Tableau122[[#This Row],[+ 4 MOIS]]=\"\",Tableau122[[#This Row],[DATE]]<=DATE(YEAR(TODAY()),MONTH(TODAY())-2,DAY(TODAY()))),Tableau122[[#This Row],[MONTANT]],\"\")","v":""},{"$f":"IF(AND(Tableau122[[#This Row],[+ 1 AN]]=\"\",Tableau122[[#This Row],[DATE]]<=DATE(YEAR(TODAY()),MONTH(TODAY())-4,DAY(TODAY()))),Tableau122[[#This Row],[MONTANT]],\"\")","v":""},{"$f":"IF(Tableau122[[#This Row],[DATE]]<=DATE(YEAR(TODAY())-1,MONTH(TODAY()),DAY(TODAY())),Tableau122[[#This Row],[MONTANT]],\"\")","v":""},{"$f":"Tableau122[[#This Row],[FACTURE]]","v":168},{"$f":"IFERROR(VLOOKUP(Tableau122[[#This Row],[FACTURE]],Ecriture[[_FactureNumero]:[_DateFacture]],2,FALSE),\"\")","v":""},{"$f":"IFERROR(VLOOKUP(Tableau122[[#This Row],[FACTURE]],Ecriture[[_FactureNumero]:[_FactureLibelle]],7,FALSE),\"\")","v":""}]
[null,171,{"$f":"IFERROR(VLOOKUP(Tableau122[[#This Row],[REFERENCE DOSSIER]],Collaborateur_Dossier[[Collaborateur dossier]:[Responsable dossier]],2,FALSE),\"\")","v":""},{"$f":"IFERROR(VLOOKUP(VLOOKUP(Tableau122[[#This Row],[FACTURE]],Ecriture[[_FactureNumero]:[_ClientID]],4,FALSE),Personne[],7,FALSE),\"\")","v":""},{"$f":"IFERROR(VLOOKUP(Tableau122[[#This Row],[FACTURE]],Ecriture[[_DossierCode]:[_FactureNumero]],5,FALSE),\"\")","v":""},{"$f":"IFERROR(VLOOKUP(Tableau122[[#This Row],[REFERENCE DOSSIER]],Dossier[[DossierCode]:[DossierNom]],2,FALSE),\"\")","v":""},{"$f":"IFERROR(VLOOKUP(Tableau122[[#This Row],[FACTURE]],Ecriture[[_FactureNumero]:[_TotalTTC]],6,FALSE),\"\")","v":""},{"$f":"IF(AND(Tableau122[[#This Row],[+ 1 AN]]=\"\",Tableau122[[#This Row],[+ 4 MOIS]]=\"\",Tableau122[[#This Row],[DATE]]<=DATE(YEAR(TODAY()),MONTH(TODAY())-2,DAY(TODAY()))),Tableau122[[#This Row],[MONTANT]],\"\")","v":""},{"$f":"IF(AND(Tableau122[[#This Row],[+ 1 AN]]=\"\",Tableau122[[#This Row],[DATE]]<=DATE(YEAR(TODAY()),MONTH(TODAY())-4,DAY(TODAY()))),Tableau122[[#This Row],[MONTANT]],\"\")","v":""},{"$f":"IF(Tableau122[[#This Row],[DATE]]<=DATE(YEAR(TODAY())-1,MONTH(TODAY()),DAY(TODAY())),Tableau122[[#This Row],[MONTANT]],\"\")","v":""},{"$f":"Tableau122[[#This Row],[FACTURE]]","v":171},{"$f":"IFERROR(VLOOKUP(Tableau122[[#This Row],[FACTURE]],Ecriture[[_FactureNumero]:[_DateFacture]],2,FALSE),\"\")","v":""},{"$f":"IFERROR(VLOOKUP(Tableau122[[#This Row],[FACTURE]],Ecriture[[_FactureNumero]:[_FactureLibelle]],7,FALSE),\"\")","v":""}]
[null,183,{"$f":"IFERROR(VLOOKUP(Tableau122[[#This Row],[REFERENCE DOSSIER]],Collaborateur_Dossier[[Collaborateur dossier]:[Responsable dossier]],2,FALSE),\"\")","v":""},{"$f":"IFERROR(VLOOKUP(VLOOKUP(Tableau122[[#This Row],[FACTURE]],Ecriture[[_FactureNumero]:[_ClientID]],4,FALSE),Personne[],7,FALSE),\"\")","v":""},{"$f":"IFERROR(VLOOKUP(Tableau122[[#This Row],[FACTURE]],Ecriture[[_DossierCode]:[_FactureNumero]],5,FALSE),\"\")","v":""},{"$f":"IFERROR(VLOOKUP(Tableau122[[#This Row],[REFERENCE DOSSIER]],Dossier[[DossierCode]:[DossierNom]],2,FALSE),\"\")","v":""},{"$f":"IFERROR(VLOOKUP(Tableau122[[#This Row],[FACTURE]],Ecriture[[_FactureNumero]:[_TotalTTC]],6,FALSE),\"\")","v":""},{"$f":"IF(AND(Tableau122[[#This Row],[+ 1 AN]]=\"\",Tableau122[[#This Row],[+ 4 MOIS]]=\"\",Tableau122[[#This Row],[DATE]]<=DATE(YEAR(TODAY()),MONTH(TODAY())-2,DAY(TODAY()))),Tableau122[[#This Row],[MONTANT]],\"\")","v":""},{"$f":"IF(AND(Tableau122[[#This Row],[+ 1 AN]]=\"\",Tableau122[[#This Row],[DATE]]<=DATE(YEAR(TODAY()),MONTH(TODAY())-4,DAY(TODAY()))),Tableau122[[#This Row],[MONTANT]],\"\")","v":""},{"$f":"IF(Tableau122[[#This Row],[DATE]]<=DATE(YEAR(TODAY())-1,MONTH(TODAY()),DAY(TODAY())),Tableau122[[#This Row],[MONTANT]],\"\")","v":""},{"$f":"Tableau122[[#This Row],[FACTURE]]","v":183},{"$f":"IFERROR(VLOOKUP(Tableau122[[#This Row],[FACTURE]],Ecriture[[_FactureNumero]:[_DateFacture]],2,FALSE),\"\")","v":""},{"$f":"IFERROR(VLOOKUP(Tableau122[[#This Row],[FACTURE]],Ecriture[[_FactureNumero]:[_FactureLibelle]],7,FALSE),\"\")","v":""}]
[null,184,{"$f":"IFERROR(VLOOKUP(Tableau122[[#This Row],[REFERENCE DOSSIER]],Collaborateur_Dossier[[Collaborateur dossier]:[Responsable dossier]],2,FALSE),\"\")","v":""},{"$f":"IFERROR(VLOOKUP(VLOOKUP(Tableau122[[#This Row],[FACTURE]],Ecriture[[_FactureNumero]:[_ClientID]],4,FALSE),Personne[],7,FALSE),\"\")","v":""},{"$f":"IFERROR(VLOOKUP(Tableau122[[#This Row],[FACTURE]],Ecriture[[_DossierCode]:[_FactureNumero]],5,FALSE),\"\")","v":""},{"$f":"IFERROR(VLOOKUP(Tableau122[[#This Row],[REFERENCE DOSSIER]],Dossier[[DossierCode]:[DossierNom]],2,FALSE),\"\")","v":""},{"$f":"IFERROR(VLOOKUP(Tableau122[[#This Row],[FACTURE]],Ecriture[[_FactureNumero]:[_TotalTTC]],6,FALSE),\"\")","v":""},{"$f":"IF(AND(Tableau122[[#This Row],[+ 1 AN]]=\"\",Tableau122[[#This Row],[+ 4 MOIS]]=\"\",Tableau122[[#This Row],[DATE]]<=DATE(YEAR(TODAY()),MONTH(TODAY())-2,DAY(TODAY()))),Tableau122[[#This Row],[MONTANT]],\"\")","v":""},{"$f":"IF(AND(Tableau122[[#This Row],[+ 1 AN]]=\"\",Tableau122[[#This Row],[DATE]]<=DATE(YEAR(TODAY()),MONTH(TODAY())-4,DAY(TODAY()))),Tableau122[[#This Row],[MONTANT]],\"\")","v":""},{"$f":"IF(Tableau122[[#This Row],[DATE]]<=DATE(YEAR(TODAY())-1,MONTH(TODAY()),DAY(TODAY())),Tableau122[[#This Row],[MONTANT]],\"\")","v":""},{"$f":"Tableau122[[#This Row],[FACTURE]]","v":184},{"$f":"IFERROR(VLOOKUP(Tableau122[[#This Row],[FACTURE]],Ecriture[[_FactureNumero]:[_DateFacture]],2,FALSE),\"\")","v":""},{"$f":"IFERROR(VLOOKUP(Tableau122[[#This Row],[FACTURE]],Ecriture[[_FactureNumero]:[_FactureLibelle]],7,FALSE),\"\")","v":""}]
[null,190,{"$f":"IFERROR(VLOOKUP(Tableau122[[#This Row],[REFERENCE DOSSIER]],Collaborateur_Dossier[[Collaborateur dossier]:[Responsable dossier]],2,FALSE),\"\")","v":""},{"$f":"IFERROR(VLOOKUP(VLOOKUP(Tableau122[[#This Row],[FACTURE]],Ecriture[[_FactureNumero]:[_ClientID]],4,FALSE),Personne[],7,FALSE),\"\")","v":""},{"$f":"IFERROR(VLOOKUP(Tableau122[[#This Row],[FACTURE]],Ecriture[[_DossierCode]:[_FactureNumero]],5,FALSE),\"\")","v":""},{"$f":"IFERROR(VLOOKUP(Tableau122[[#This Row],[REFERENCE DOSSIER]],Dossier[[DossierCode]:[DossierNom]],2,FALSE),\"\")","v":""},{"$f":"IFERROR(VLOOKUP(Tableau122[[#This Row],[FACTURE]],Ecriture[[_FactureNumero]:[_TotalTTC]],6,FALSE),\"\")","v":""},{"$f":"IF(AND(Tableau122[[#This Row],[+ 1 AN]]=\"\",Tableau122[[#This Row],[+ 4 MOIS]]=\"\",Tableau122[[#This Row],[DATE]]<=DATE(YEAR(TODAY()),MONTH(TODAY())-2,DAY(TODAY()))),Tableau122[[#This Row],[MONTANT]],\"\")","v":""},{"$f":"IF(AND(Tableau122[[#This Row],[+ 1 AN]]=\"\",Tableau122[[#This Row],[DATE]]<=DATE(YEAR(TODAY()),MONTH(TODAY())-4,DAY(TODAY()))),Tableau122[[#This Row],[MONTANT]],\"\")","v":""},{"$f":"IF(Tableau122[[#This Row],[DATE]]<=DATE(YEAR(TODAY())-1,MONTH(TODAY()),DAY(TODAY())),Tableau122[[#This Row],[MONTANT]],\"\")","v":""},{"$f":"Tableau122[[#This Row],[FACTURE]]","v":190},{"$f":"IFERROR(VLOOKUP(Tableau122[[#This Row],[FACTURE]],Ecriture[[_FactureNumero]:[_DateFacture]],2,FALSE),\"\")","v":""},{"$f":"IFERROR(VLOOKUP(Tableau122[[#This Row],[FACTURE]],Ecriture[[_FactureNumero]:[_FactureLibelle]],7,FALSE),\"\")","v":""}]
[null,195,{"$f":"IFERROR(VLOOKUP(Tableau122[[#This Row],[REFERENCE DOSSIER]],Collaborateur_Dossier[[Collaborateur dossier]:[Responsable dossier]],2,FALSE),\"\")","v":""},{"$f":"IFERROR(VLOOKUP(VLOOKUP(Tableau122[[#This Row],[FACTURE]],Ecriture[[_FactureNumero]:[_ClientID]],4,FALSE),Personne[],7,FALSE),\"\")","v":""},{"$f":"IFERROR(VLOOKUP(Tableau122[[#This Row],[FACTURE]],Ecriture[[_DossierCode]:[_FactureNumero]],5,FALSE),\"\")","v":""},{"$f":"IFERROR(VLOOKUP(Tableau122[[#This Row],[REFERENCE DOSSIER]],Dossier[[DossierCode]:[DossierNom]],2,FALSE),\"\")","v":""},{"$f":"IFERROR(VLOOKUP(Tableau122[[#This Row],[FACTURE]],Ecriture[[_FactureNumero]:[_TotalTTC]],6,FALSE),\"\")","v":""},{"$f":"IF(AND(Tableau122[[#This Row],[+ 1 AN]]=\"\",Tableau122[[#This Row],[+ 4 MOIS]]=\"\",Tableau122[[#This Row],[DATE]]<=DATE(YEAR(TODAY()),MONTH(TODAY())-2,DAY(TODAY()))),Tableau122[[#This Row],[MONTANT]],\"\")","v":""},{"$f":"IF(AND(Tableau122[[#This Row],[+ 1 AN]]=\"\",Tableau122[[#This Row],[DATE]]<=DATE(YEAR(TODAY()),MONTH(TODAY())-4,DAY(TODAY()))),Tableau122[[#This Row],[MONTANT]],\"\")","v":""},{"$f":"IF(Tableau122[[#This Row],[DATE]]<=DATE(YEAR(TODAY())-1,MONTH(TODAY()),DAY(TODAY())),Tableau122[[#This Row],[MONTANT]],\"\")","v":""},{"$f":"Tableau122[[#This Row],[FACTURE]]","v":195},{"$f":"IFERROR(VLOOKUP(Tableau122[[#This Row],[FACTURE]],Ecriture[[_FactureNumero]:[_DateFacture]],2,FALSE),\"\")","v":""},{"$f":"IFERROR(VLOOKUP(Tableau122[[#This Row],[FACTURE]],Ecriture[[_FactureNumero]:[_FactureLibelle]],7,FALSE),\"\")","v":""}]
[null,205,{"$f":"IFERROR(VLOOKUP(Tableau122[[#This Row],[REFERENCE DOSSIER]],Collaborateur_Dossier[[Collaborateur dossier]:[Responsable dossier]],2,FALSE),\"\")","v":""},{"$f":"IFERROR(VLOOKUP(VLOOKUP(Tableau122[[#This Row],[FACTURE]],Ecriture[[_FactureNumero]:[_ClientID]],4,FALSE),Personne[],7,FALSE),\"\")","v":""},{"$f":"IFERROR(VLOOKUP(Tableau122[[#This Row],[FACTURE]],Ecriture[[_DossierCode]:[_FactureNumero]],5,FALSE),\"\")","v":""},{"$f":"IFERROR(VLOOKUP(Tableau122[[#This Row],[REFERENCE DOSSIER]],Dossier[[DossierCode]:[DossierNom]],2,FALSE),\"\")","v":""},{"$f":"IFERROR(VLOOKUP(Tableau122[[#This Row],[FACTURE]],Ecriture[[_FactureNumero]:[_TotalTTC]],6,FALSE),\"\")","v":""},{"$f":"IF(AND(Tableau122[[#This Row],[+ 1 AN]]=\"\",Tableau122[[#This Row],[+ 4 MOIS]]=\"\",Tableau122[[#This Row],[DATE]]<=DATE(YEAR(TODAY()),MONTH(TODAY())-2,DAY(TODAY()))),Tableau122[[#This Row],[MONTANT]],\"\")","v":""},{"$f":"IF(AND(Tableau122[[#This Row],[+ 1 AN]]=\"\",Tableau122[[#This Row],[DATE]]<=DATE(YEAR(TODAY()),MONTH(TODAY())-4,DAY(TODAY()))),Tableau122[[#This Row],[MONTANT]],\"\")","v":""},{"$f":"IF(Tableau122[[#This Row],[DATE]]<=DATE(YEAR(TODAY())-1,MONTH(TODAY()),DAY(TODAY())),Tableau122[[#This Row],[MONTANT]],\"\")","v":""},{"$f":"Tableau122[[#This Row],[FACTURE]]","v":205},{"$f":"IFERROR(VLOOKUP(Tableau122[[#This Row],[FACTURE]],Ecriture[[_FactureNumero]:[_DateFacture]],2,FALSE),\"\")","v":""},{"$f":"IFERROR(VLOOKUP(Tableau122[[#This Row],[FACTURE]],Ecriture[[_FactureNumero]:[_FactureLibelle]],7,FALSE),\"\")","v":""}]
[null,209,{"$f":"IFERROR(VLOOKUP(Tableau122[[#This Row],[REFERENCE DOSSIER]],Collaborateur_Dossier[[Collaborateur dossier]:[Responsable dossier]],2,FALSE),\"\")","v":""},{"$f":"IFERROR(VLOOKUP(VLOOKUP(Tableau122[[#This Row],[FACTURE]],Ecriture[[_FactureNumero]:[_ClientID]],4,FALSE),Personne[],7,FALSE),\"\")","v":""},{"$f":"IFERROR(VLOOKUP(Tableau122[[#This Row],[FACTURE]],Ecriture[[_DossierCode]:[_FactureNumero]],5,FALSE),\"\")","v":""},{"$f":"IFERROR(VLOOKUP(Tableau122[[#This Row],[REFERENCE DOSSIER]],Dossier[[DossierCode]:[DossierNom]],2,FALSE),\"\")","v":""},{"$f":"IFERROR(VLOOKUP(Tableau122[[#This Row],[FACTURE]],Ecriture[[_FactureNumero]:[_TotalTTC]],6,FALSE),\"\")","v":""},{"$f":"IF(AND(Tableau122[[#This Row],[+ 1 AN]]=\"\",Tableau122[[#This Row],[+ 4 MOIS]]=\"\",Tableau122[[#This Row],[DATE]]<=DATE(YEAR(TODAY()),MONTH(TODAY())-2,DAY(TODAY()))),Tableau122[[#This Row],[MONTANT]],\"\")","v":""},{"$f":"IF(AND(Tableau122[[#This Row],[+ 1 AN]]=\"\",Tableau122[[#This Row],[DATE]]<=DATE(YEAR(TODAY()),MONTH(TODAY())-4,DAY(TODAY()))),Tableau122[[#This Row],[MONTANT]],\"\")","v":""},{"$f":"IF(Tableau122[[#This Row],[DATE]]<=DATE(YEAR(TODAY())-1,MONTH(TODAY()),DAY(TODAY())),Tableau122[[#This Row],[MONTANT]],\"\")","v":""},{"$f":"Tableau122[[#This Row],[FACTURE]]","v":209},{"$f":"IFERROR(VLOOKUP(Tableau122[[#This Row],[FACTURE]],Ecriture[[_FactureNumero]:[_DateFacture]],2,FALSE),\"\")","v":""},{"$f":"IFERROR(VLOOKUP(Tableau122[[#This Row],[FACTURE]],Ecriture[[_FactureNumero]:[_FactureLibelle]],7,FALSE),\"\")","v":""}]
[null,215,{"$f":"IFERROR(VLOOKUP(Tableau122[[#This Row],[REFERENCE DOSSIER]],Collaborateur_Dossier[[Collaborateur dossier]:[Responsable dossier]],2,FALSE),\"\")","v":""},{"$f":"IFERROR(VLOOKUP(VLOOKUP(Tableau122[[#This Row],[FACTURE]],Ecriture[[_FactureNumero]:[_ClientID]],4,FALSE),Personne[],7,FALSE),\"\")","v":""},{"$f":"IFERROR(VLOOKUP(Tableau122[[#This Row],[FACTURE]],Ecriture[[_DossierCode]:[_FactureNumero]],5,FALSE),\"\")","v":""},{"$f":"IFERROR(VLOOKUP(Tableau122[[#This Row],[REFERENCE DOSSIER]],Dossier[[DossierCode]:[DossierNom]],2,FALSE),\"\")","v":""},{"$f":"IFERROR(VLOOKUP(Tableau122[[#This Row],[FACTURE]],Ecriture[[_FactureNumero]:[_TotalTTC]],6,FALSE),\"\")","v":""},{"$f":"IF(AND(Tableau122[[#This Row],[+ 1 AN]]=\"\",Tableau122[[#This Row],[+ 4 MOIS]]=\"\",Tableau122[[#This Row],[DATE]]<=DATE(YEAR(TODAY()),MONTH(TODAY())-2,DAY(TODAY()))),Tableau122[[#This Row],[MONTANT]],\"\")","v":""},{"$f":"IF(AND(Tableau122[[#This Row],[+ 1 AN]]=\"\",Tableau122[[#This Row],[DATE]]<=DATE(YEAR(TODAY()),MONTH(TODAY())-4,DAY(TODAY()))),Tableau122[[#This Row],[MONTANT]],\"\")","v":""},{"$f":"IF(Tableau122[[#This Row],[DATE]]<=DATE(YEAR(TODAY())-1,MONTH(TODAY()),DAY(TODAY())),Tableau122[[#This Row],[MONTANT]],\"\")","v":""},{"$f":"Tableau122[[#This Row],[FACTURE]]","v":215},{"$f":"IFERROR(VLOOKUP(Tableau122[[#This Row],[FACTURE]],Ecriture[[_FactureNumero]:[_DateFacture]],2,FALSE),\"\")","v":""},{"$f":"IFERROR(VLOOKUP(Tableau122[[#This Row],[FACTURE]],Ecriture[[_FactureNumero]:[_FactureLibelle]],7,FALSE),\"\")","v":""}]
[null,218,{"$f":"IFERROR(VLOOKUP(Tableau122[[#This Row],[REFERENCE DOSSIER]],Collaborateur_Dossier[[Collaborateur dossier]:[Responsable dossier]],2,FALSE),\"\")","v":""},{"$f":"IFERROR(VLOOKUP(VLOOKUP(Tableau122[[#This Row],[FACTURE]],Ecriture[[_FactureNumero]:[_ClientID]],4,FALSE),Personne[],7,FALSE),\"\")","v":""},{"$f":"IFERROR(VLOOKUP(Tableau122[[#This Row],[FACTURE]],Ecriture[[_DossierCode]:[_FactureNumero]],5,FALSE),\"\")","v":""},{"$f":"IFERROR(VLOOKUP(Tableau122[[#This Row],[REFERENCE DOSSIER]],Dossier[[DossierCode]:[DossierNom]],2,FALSE),\"\")","v":""},{"$f":"IFERROR(VLOOKUP(Tableau122[[#This Row],[FACTURE]],Ecriture[[_FactureNumero]:[_TotalTTC]],6,FALSE),\"\")","v":""},{"$f":"IF(AND(Tableau122[[#This Row],[+ 1 AN]]=\"\",Tableau122[[#This Row],[+ 4 MOIS]]=\"\",Tableau122[[#This Row],[DATE]]<=DATE(YEAR(TODAY()),MONTH(TODAY())-2,DAY(TODAY()))),Tableau122[[#This Row],[MONTANT]],\"\")","v":""},{"$f":"IF(AND(Tableau122[[#This Row],[+ 1 AN]]=\"\",Tableau122[[#This Row],[DATE]]<=DATE(YEAR(TODAY()),MONTH(TODAY())-4,DAY(TODAY()))),Tableau122[[#This Row],[MONTANT]],\"\")","v":""},{"$f":"IF(Tableau122[[#This Row],[DATE]]<=DATE(YEAR(TODAY())-1,MONTH(TODAY()),DAY(TODAY())),Tableau122[[#This Row],[MONTANT]],\"\")","v":""},{"$f":"Tableau122[[#This Row],[FACTURE]]","v":218},{"$f":"IFERROR(VLOOKUP(Tableau122[[#This Row],[FACTURE]],Ecriture[[_FactureNumero]:[_DateFacture]],2,FALSE),\"\")","v":""},{"$f":"IFERROR(VLOOKUP(Tableau122[[#This Row],[FACTURE]],Ecriture[[_FactureNumero]:[_FactureLibelle]],7,FALSE),\"\")","v":""}]
[null,156,{"$f":"IFERROR(VLOOKUP(Tableau122[[#This Row],[REFERENCE DOSSIER]],Collaborateur_Dossier[[Collaborateur dossier]:[Responsable dossier]],2,FALSE),\"\")","v":""},{"$f":"IFERROR(VLOOKUP(VLOOKUP(Tableau122[[#This Row],[FACTURE]],Ecriture[[_FactureNumero]:[_ClientID]],4,FALSE),Personne[],7,FALSE),\"\")","v":""},{"$f":"IFERROR(VLOOKUP(Tableau122[[#This Row],[FACTURE]],Ecriture[[_DossierCode]:[_FactureNumero]],5,FALSE),\"\")","v":""},{"$f":"IFERROR(VLOOKUP(Tableau122[[#This Row],[REFERENCE DOSSIER]],Dossier[[DossierCode]:[DossierNom]],2,FALSE),\"\")","v":""},{"$f":"IFERROR(VLOOKUP(Tableau122[[#This Row],[FACTURE]],Ecriture[[_FactureNumero]:[_TotalTTC]],6,FALSE),\"\")","v":""},{"$f":"IF(AND(Tableau122[[#This Row],[+ 1 AN]]=\"\",Tableau122[[#This Row],[+ 4 MOIS]]=\"\",Tableau122[[#This Row],[DATE]]<=DATE(YEAR(TODAY()),MONTH(TODAY())-2,DAY(TODAY()))),Tableau122[[#This Row],[MONTANT]],\"\")","v":""},{"$f":"IF(AND(Tableau122[[#This Row],[+ 1 AN]]=\"\",Tableau122[[#This Row],[DATE]]<=DATE(YEAR(TODAY()),MONTH(TODAY())-4,DAY(TODAY()))),Tableau122[[#This Row],[MONTANT]],\"\")","v":""},{"$f":"IF(Tableau122[[#This Row],[DATE]]<=DATE(YEAR(TODAY())-1,MONTH(TODAY()),DAY(TODAY())),Tableau122[[#This Row],[MONTANT]],\"\")","v":""},{"$f":"Tableau122[[#This Row],[FACTURE]]","v":156},{"$f":"IFERROR(VLOOKUP(Tableau122[[#This Row],[FACTURE]],Ecriture[[_FactureNumero]:[_DateFacture]],2,FALSE),\"\")","v":""},{"$f":"IFERROR(VLOOKUP(Tableau122[[#This Row],[FACTURE]],Ecriture[[_FactureNumero]:[_FactureLibelle]],7,FALSE),\"\")","v":""}]
[null,197,{"$f":"IFERROR(VLOOKUP(Tableau122[[#This Row],[REFERENCE DOSSIER]],Collaborateur_Dossier[[Collaborateur dossier]:[Responsable dossier]],2,FALSE),\"\")","v":""},{"$f":"IFERROR(VLOOKUP(VLOOKUP(Tableau122[[#This Row],[FACTURE]],Ecriture[[_FactureNumero]:[_ClientID]],4,FALSE),Personne[],7,FALSE),\"\")","v":""},{"$f":"IFERROR(VLOOKUP(Tableau122[[#This Row],[FACTURE]],Ecriture[[_DossierCode]:[_FactureNumero]],5,FALSE),\"\")","v":""},{"$f":"IFERROR(VLOOKUP(Tableau122[[#This Row],[REFERENCE DOSSIER]],Dossier[[DossierCode]:[DossierNom]],2,FALSE),\"\")","v":""},{"$f":"IFERROR(VLOOKUP(Tableau122[[#This Row],[FACTURE]],Ecriture[[_FactureNumero]:[_TotalTTC]],6,FALSE),\"\")","v":""},{"$f":"IF(AND(Tableau122[[#This Row],[+ 1 AN]]=\"\",Tableau122[[#This Row],[+ 4 MOIS]]=\"\",Tableau122[[#This Row],[DATE]]<=DATE(YEAR(TODAY()),MONTH(TODAY())-2,DAY(TODAY()))),Tableau122[[#This Row],[MONTANT]],\"\")","v":""},{"$f":"IF(AND(Tableau122[[#This Row],[+ 1 AN]]=\"\",Tableau122[[#This Row],[DATE]]<=DATE(YEAR(TODAY()),MONTH(TODAY())-4,DAY(TODAY()))),Tableau122[[#This Row],[MONTANT]],\"\")","v":""},{"$f":"IF(Tableau122[[#This Row],[DATE]]<=DATE(YEAR(TODAY())-1,MONTH(TODAY()),DAY(TODAY())),Tableau122[[#This Row],[MONTANT]],\"\")","v":""},{"$f":"Tableau122[[#This Row],[FACTURE]]","v":197},{"$f":"IFERROR(VLOOKUP(Tableau122[[#This Row],[FACTURE]],Ecriture[[_FactureNumero]:[_DateFacture]],2,FALSE),\"\")","v":""},{"$f":"IFERROR(VLOOKUP(Tableau122[[#This Row],[FACTURE]],Ecriture[[_FactureNumero]:[_FactureLibelle]],7,FALSE),\"\")","v":""}]
[null,179,{"$f":"IFERROR(VLOOKUP(Tableau122[[#This Row],[REFERENCE DOSSIER]],Collaborateur_Dossier[[Collaborateur dossier]:[Responsable dossier]],2,FALSE),\"\")","v":""},{"$f":"IFERROR(VLOOKUP(VLOOKUP(Tableau122[[#This Row],[FACTURE]],Ecriture[[_FactureNumero]:[_ClientID]],4,FALSE),Personne[],7,FALSE),\"\")","v":""},{"$f":"IFERROR(VLOOKUP(Tableau122[[#This Row],[FACTURE]],Ecriture[[_DossierCode]:[_FactureNumero]],5,FALSE),\"\")","v":""},{"$f":"IFERROR(VLOOKUP(Tableau122[[#This Row],[REFERENCE DOSSIER]],Dossier[[DossierCode]:[DossierNom]],2,FALSE),\"\")","v":""},{"$f":"IFERROR(VLOOKUP(Tableau122[[#This Row],[FACTURE]],Ecriture[[_FactureNumero]:[_TotalTTC]],6,FALSE),\"\")","v":""},{"$f":"IF(AND(Tableau122[[#This Row],[+ 1 AN]]=\"\",Tableau122[[#This Row],[+ 4 MOIS]]=\"\",Tableau122[[#This Row],[DATE]]<=DATE(YEAR(TODAY()),MONTH(TODAY())-2,DAY(TODAY()))),Tableau122[[#This Row],[MONTANT]],\"\")","v":""},{"$f":"IF(AND(Tableau122[[#This Row],[+ 1 AN]]=\"\",Tableau122[[#This Row],[DATE]]<=DATE(YEAR(TODAY()),MONTH(TODAY())-4,DAY(TODAY()))),Tableau122[[#This Row],[MONTANT]],\"\")","v":""},{"$f":"IF(Tableau122[[#This Row],[DATE]]<=DATE(YEAR(TODAY())-1,MONTH(TODAY()),DAY(TODAY())),Tableau122[[#This Row],[MONTANT]],\"\")","v":""},{"$f":"Tableau122[[#This Row],[FACTURE]]","v":179},{"$f":"IFERROR(VLOOKUP(Tableau122[[#This Row],[FACTURE]],Ecriture[[_FactureNumero]:[_DateFacture]],2,FALSE),\"\")","v":""},{"$f":"IFERROR(VLOOKUP(Tableau122[[#This Row],[FACTURE]],Ecriture[[_FactureNumero]:[_FactureLibelle]],7,FALSE),\"\")","v":""}]
[null,182,{"$f":"IFERROR(VLOOKUP(Tableau122[[#This Row],[REFERENCE DOSSIER]],Collaborateur_Dossier[[Collaborateur dossier]:[Responsable dossier]],2,FALSE),\"\")","v":""},{"$f":"IFERROR(VLOOKUP(VLOOKUP(Tableau122[[#This Row],[FACTURE]],Ecriture[[_FactureNumero]:[_ClientID]],4,FALSE),Personne[],7,FALSE),\"\")","v":""},{"$f":"IFERROR(VLOOKUP(Tableau122[[#This Row],[FACTURE]],Ecriture[[_DossierCode]:[_FactureNumero]],5,FALSE),\"\")","v":""},{"$f":"IFERROR(VLOOKUP(Tableau122[[#This Row],[REFERENCE DOSSIER]],Dossier[[DossierCode]:[DossierNom]],2,FALSE),\"\")","v":""},{"$f":"IFERROR(VLOOKUP(Tableau122[[#This Row],[FACTURE]],Ecriture[[_FactureNumero]:[_TotalTTC]],6,FALSE),\"\")","v":""},{"$f":"IF(AND(Tableau122[[#This Row],[+ 1 AN]]=\"\",Tableau122[[#This Row],[+ 4 MOIS]]=\"\",Tableau122[[#This Row],[DATE]]<=DATE(YEAR(TODAY()),MONTH(TODAY())-2,DAY(TODAY()))),Tableau122[[#This Row],[MONTANT]],\"\")","v":""},{"$f":"IF(AND(Tableau122[[#This Row],[+ 1 AN]]=\"\",Tableau122[[#This Row],[DATE]]<=DATE(YEAR(TODAY()),MONTH(TODAY())-4,DAY(TODAY()))),Tableau122[[#This Row],[MONTANT]],\"\")","v":""},{"$f":"IF(Tableau122[[#This Row],[DATE]]<=DATE(YEAR(TODAY())-1,MONTH(TODAY()),DAY(TODAY())),Tableau122[[#This Row],[MONTANT]],\"\")","v":""},{"$f":"Tableau122[[#This Row],[FACTURE]]","v":182},{"$f":"IFERROR(VLOOKUP(Tableau122[[#This Row],[FACTURE]],Ecriture[[_FactureNumero]:[_DateFacture]],2,FALSE),\"\")","v":""},{"$f":"IFERROR(VLOOKUP(Tableau122[[#This Row],[FACTURE]],Ecriture[[_FactureNumero]:[_FactureLibelle]],7,FALSE),\"\")","v":""}]
[null,185,{"$f":"IFERROR(VLOOKUP(Tableau122[[#This Row],[REFERENCE DOSSIER]],Collaborateur_Dossier[[Collaborateur dossier]:[Responsable dossier]],2,FALSE),\"\")","v":""},{"$f":"IFERROR(VLOOKUP(VLOOKUP(Tableau122[[#This Row],[FACTURE]],Ecriture[[_FactureNumero]:[_ClientID]],4,FALSE),Personne[],7,FALSE),\"\")","v":""},{"$f":"IFERROR(VLOOKUP(Tableau122[[#This Row],[FACTURE]],Ecriture[[_DossierCode]:[_FactureNumero]],5,FALSE),\"\")","v":""},{"$f":"IFERROR(VLOOKUP(Tableau122[[#This Row],[REFERENCE DOSSIER]],Dossier[[DossierCode]:[DossierNom]],2,FALSE),\"\")","v":""},{"$f":"IFERROR(VLOOKUP(Tableau122[[#This Row],[FACTURE]],Ecriture[[_FactureNumero]:[_TotalTTC]],6,FALSE),\"\")","v":""},{"$f":"IF(AND(Tableau122[[#This Row],[+ 1 AN]]=\"\",Tableau122[[#This Row],[+ 4 MOIS]]=\"\",Tableau122[[#This Row],[DATE]]<=DATE(YEAR(TODAY()),MONTH(TODAY())-2,DAY(TODAY()))),Tableau122[[#This Row],[MONTANT]],\"\")","v":""},{"$f":"IF(AND(Tableau122[[#This Row],[+ 1 AN]]=\"\",Tableau122[[#This Row],[DATE]]<=DATE(YEAR(TODAY()),MONTH(TODAY())-4,DAY(TODAY()))),Tableau122[[#This Row],[MONTANT]],\"\")","v":""},{"$f":"IF(Tableau122[[#This Row],[DATE]]<=DATE(YEAR(TODAY())-1,MONTH(TODAY()),DAY(TODAY())),Tableau122[[#This Row],[MONTANT]],\"\")","v":""},{"$f":"Tableau122[[#This Row],[FACTURE]]","v":185},{"$f":"IFERROR(VLOOKUP(Tableau122[[#This Row],[FACTURE]],Ecriture[[_FactureNumero]:[_DateFacture]],2,FALSE),\"\")","v":""},{"$f":"IFERROR(VLOOKUP(Tableau122[[#This Row],[FACTURE]],Ecriture[[_FactureNumero]:[_FactureLibelle]],7,FALSE),\"\")","v":""}]
[null,210,{"$f":"IFERROR(VLOOKUP(Tableau122[[#This Row],[REFERENCE DOSSIER]],Collaborateur_Dossier[[Collaborateur dossier]:[Responsable dossier]],2,FALSE),\"\")","v":""},{"$f":"IFERROR(VLOOKUP(VLOOKUP(Tableau122[[#This Row],[FACTURE]],Ecriture[[_FactureNumero]:[_ClientID]],4,FALSE),Personne[],7,FALSE),\"\")","v":""},{"$f":"IFERROR(VLOOKUP(Tableau122[[#This Row],[FACTURE]],Ecriture[[_DossierCode]:[_FactureNumero]],5,FALSE),\"\")","v":""},{"$f":"IFERROR(VLOOKUP(Tableau122[[#This Row],[REFERENCE DOSSIER]],Dossier[[DossierCode]:[DossierNom]],2,FALSE),\"\")","v":""},{"$f":"IFERROR(VLOOKUP(Tableau122[[#This Row],[FACTURE]],Ecriture[[_FactureNumero]:[_TotalTTC]],6,FALSE),\"\")","v":""},{"$f":"IF(AND(Tableau122[[#This Row],[+ 1 AN]]=\"\",Tableau122[[#This Row],[+ 4 MOIS]]=\"\",Tableau122[[#This Row],[DATE]]<=DATE(YEAR(TODAY()),MONTH(TODAY())-2,DAY(TODAY()))),Tableau122[[#This Row],[MONTANT]],\"\")","v":""},{"$f":"IF(AND(Tableau122[[#This Row],[+ 1 AN]]=\"\",Tableau122[[#This Row],[DATE]]<=DATE(YEAR(TODAY()),MONTH(TODAY())-4,DAY(TODAY()))),Tableau122[[#This Row],[MONTANT]],\"\")","v":""},{"$f":"IF(Tableau122[[#This Row],[DATE]]<=DATE(YEAR(TODAY())-1,MONTH(TODAY()),DAY(TODAY())),Tableau122[[#This Row],[MONTANT]],\"\")","v":""},{"$f":"Tableau122[[#This Row],[FACTURE]]","v":210},{"$f":"IFERROR(VLOOKUP(Tableau122[[#This Row],[FACTURE]],Ecriture[[_FactureNumero]:[_DateFacture]],2,FALSE),\"\")","v":""},{"$f":"IFERROR(VLOOKUP(Tableau122[[#This Row],[FACTURE]],Ecriture[[_FactureNumero]:[_FactureLibelle]],7,FALSE),\"\")","v":""}]
[null,172,{"$f":"IFERROR(VLOOKUP(Tableau122[[#This Row],[REFERENCE DOSSIER]],Collaborateur_Dossier[[Collaborateur dossier]:[Responsable dossier]],2,FALSE),\"\")","v":""},{"$f":"IFERROR(VLOOKUP(VLOOKUP(Tableau122[[#This Row],[FACTURE]],Ecriture[[_FactureNumero]:[_ClientID]],4,FALSE),Personne[],7,FALSE),\"\")","v":""},{"$f":"IFERROR(VLOOKUP(Tableau122[[#This Row],[FACTURE]],Ecriture[[_DossierCode]:[_FactureNumero]],5,FALSE),\"\")","v":""},{"$f":"IFERROR(VLOOKUP(Tableau122[[#This Row],[REFERENCE DOSSIER]],Dossier[[DossierCode]:[DossierNom]],2,FALSE),\"\")","v":""},{"$f":"IFERROR(VLOOKUP(Tableau122[[#This Row],[FACTURE]],Ecriture[[_FactureNumero]:[_TotalTTC]],6,FALSE),\"\")","v":""},{"$f":"IF(AND(Tableau122[[#This Row],[+ 1 AN]]=\"\",Tableau122[[#This Row],[+ 4 MOIS]]=\"\",Tableau122[[#This Row],[DATE]]<=DATE(YEAR(TODAY()),MONTH(TODAY())-2,DAY(TODAY()))),Tableau122[[#This Row],[MONTANT]],\"\")","v":""},{"$f":"IF(AND(Tableau122[[#This Row],[+ 1 AN]]=\"\",Tableau122[[#This Row],[DATE]]<=DATE(YEAR(TODAY()),MONTH(TODAY())-4,DAY(TODAY()))),Tableau122[[#This Row],[MONTANT]],\"\")","v":""},{"$f":"IF(Tableau122[[#This Row],[DATE]]<=DATE(YEAR(TODAY())-1,MONTH(TODAY()),DAY(TODAY())),Tableau122[[#This Row],[MONTANT]],\"\")","v":""},{"$f":"Tableau122[[#This Row],[FACTURE]]","v":172},{"$f":"IFERROR(VLOOKUP(Tableau122[[#This Row],[FACTURE]],Ecriture[[_FactureNumero]:[_DateFacture]],2,FALSE),\"\")","v":""},{"$f":"IFERROR(VLOOKUP(Tableau122[[#This Row],[FACTURE]],Ecriture[[_FactureNumero]:[_FactureLibelle]],7,FALSE),\"\")","v":""}]
[null,211,{"$f":"IFERROR(VLOOKUP(Tableau122[[#This Row],[REFERENCE DOSSIER]],Collaborateur_Dossier[[Collaborateur dossier]:[Responsable dossier]],2,FALSE),\"\")","v":""},{"$f":"IFERROR(VLOOKUP(VLOOKUP(Tableau122[[#This Row],[FACTURE]],Ecriture[[_FactureNumero]:[_ClientID]],4,FALSE),Personne[],7,FALSE),\"\")","v":""},{"$f":"IFERROR(VLOOKUP(Tableau122[[#This Row],[FACTURE]],Ecriture[[_DossierCode]:[_FactureNumero]],5,FALSE),\"\")","v":""},{"$f":"IFERROR(VLOOKUP(Tableau122[[#This Row],[REFERENCE DOSSIER]],Dossier[[DossierCode]:[DossierNom]],2,FALSE),\"\")","v":""},{"$f":"IFERROR(VLOOKUP(Tableau122[[#This Row],[FACTURE]],Ecriture[[_FactureNumero]:[_TotalTTC]],6,FALSE),\"\")","v":""},{"$f":"IF(AND(Tableau122[[#This Row],[+ 1 AN]]=\"\",Tableau122[[#This Row],[+ 4 MOIS]]=\"\",Tableau122[[#This Row],[DATE]]<=DATE(YEAR(TODAY()),MONTH(TODAY())-2,DAY(TODAY()))),Tableau122[[#This Row],[MONTANT]],\"\")","v":""},{"$f":"IF(AND(Tableau122[[#This Row],[+ 1 AN]]=\"\",Tableau122[[#This Row],[DATE]]<=DATE(YEAR(TODAY()),MONTH(TODAY())-4,DAY(TODAY()))),Tableau122[[#This Row],[MONTANT]],\"\")","v":""},{"$f":"IF(Tableau122[[#This Row],[DATE]]<=DATE(YEAR(TODAY())-1,MONTH(TODAY()),DAY(TODAY())),Tableau122[[#This Row],[MONTANT]],\"\")","v":""},{"$f":"Tableau122[[#This Row],[FACTURE]]","v":211},{"$f":"IFERROR(VLOOKUP(Tableau122[[#This Row],[FACTURE]],Ecriture[[_FactureNumero]:[_DateFacture]],2,FALSE),\"\")","v":""},{"$f":"IFERROR(VLOOKUP(Tableau122[[#This Row],[FACTURE]],Ecriture[[_FactureNumero]:[_FactureLibelle]],7,FALSE),\"\")","v":""}]
[null,219,{"$f":"IFERROR(VLOOKUP(Tableau122[[#This Row],[REFERENCE DOSSIER]],Collaborateur_Dossier[[Collaborateur dossier]:[Responsable dossier]],2,FALSE),\"\")","v":""},{"$f":"IFERROR(VLOOKUP(VLOOKUP(Tableau122[[#This Row],[FACTURE]],Ecriture[[_FactureNumero]:[_ClientID]],4,FALSE),Personne[],7,FALSE),\"\")","v":""},{"$f":"IFERROR(VLOOKUP(Tableau122[[#This Row],[FACTURE]],Ecriture[[_DossierCode]:[_FactureNumero]],5,FALSE),\"\")","v":""},{"$f":"IFERROR(VLOOKUP(Tableau122[[#This Row],[REFERENCE DOSSIER]],Dossier[[DossierCode]:[DossierNom]],2,FALSE),\"\")","v":""},{"$f":"IFERROR(VLOOKUP(Tableau122[[#This Row],[FACTURE]],Ecriture[[_FactureNumero]:[_TotalTTC]],6,FALSE),\"\")","v":""},{"$f":"IF(AND(Tableau122[[#This Row],[+ 1 AN]]=\"\",Tableau122[[#This Row],[+ 4 MOIS]]=\"\",Tableau122[[#This Row],[DATE]]<=DATE(YEAR(TODAY()),MONTH(TODAY())-2,DAY(TODAY()))),Tableau122[[#This Row],[MONTANT]],\"\")","v":""},{"$f":"IF(AND(Tableau122[[#This Row],[+ 1 AN]]=\"\",Tableau122[[#This Row],[DATE]]<=DATE(YEAR(TODAY()),MONTH(TODAY())-4,DAY(TODAY()))),Tableau122[[#This Row],[MONTANT]],\"\")","v":""},{"$f":"IF(Tableau122[[#This Row],[DATE]]<=DATE(YEAR(TODAY())-1,MONTH(TODAY()),DAY(TODAY())),Tableau122[[#This Row],[MONTANT]],\"\")","v":""},{"$f":"Tableau122[[#This Row],[FACTURE]]","v":219},{"$f":"IFERROR(VLOOKUP(Tableau122[[#This Row],[FACTURE]],Ecriture[[_FactureNumero]:[_DateFacture]],2,FALSE),\"\")","v":""},{"$f":"IFERROR(VLOOKUP(Tableau122[[#This Row],[FACTURE]],Ecriture[[_FactureNumero]:[_FactureLibelle]],7,FALSE),\"\")","v":""}]
[null,220,{"$f":"IFERROR(VLOOKUP(Tableau122[[#This Row],[REFERENCE DOSSIER]],Collaborateur_Dossier[[Collaborateur dossier]:[Responsable dossier]],2,FALSE),\"\")","v":""},{"$f":"IFERROR(VLOOKUP(VLOOKUP(Tableau122[[#This Row],[FACTURE]],Ecriture[[_FactureNumero]:[_ClientID]],4,FALSE),Personne[],7,FALSE),\"\")","v":""},{"$f":"IFERROR(VLOOKUP(Tableau122[[#This Row],[FACTURE]],Ecriture[[_DossierCode]:[_FactureNumero]],5,FALSE),\"\")","v":""},{"$f":"IFERROR(VLOOKUP(Tableau122[[#This Row],[REFERENCE DOSSIER]],Dossier[[DossierCode]:[DossierNom]],2,FALSE),\"\")","v":""},{"$f":"IFERROR(VLOOKUP(Tableau122[[#This Row],[FACTURE]],Ecriture[[_FactureNumero]:[_TotalTTC]],6,FALSE),\"\")","v":""},{"$f":"IF(AND(Tableau122[[#This Row],[+ 1 AN]]=\"\",Tableau122[[#This Row],[+ 4 MOIS]]=\"\",Tableau122[[#This Row],[DATE]]<=DATE(YEAR(TODAY()),MONTH(TODAY())-2,DAY(TODAY()))),Tableau122[[#This Row],[MONTANT]],\"\")","v":""},{"$f":"IF(AND(Tableau122[[#This Row],[+ 1 AN]]=\"\",Tableau122[[#This Row],[DATE]]<=DATE(YEAR(TODAY()),MONTH(TODAY())-4,DAY(TODAY()))),Tableau122[[#This Row],[MONTANT]],\"\")","v":""},{"$f":"IF(Tableau122[[#This Row],[DATE]]<=DATE(YEAR(TODAY())-1,MONTH(TODAY()),DAY(TODAY())),Tableau122[[#This Row],[MONTANT]],\"\")","v":""},{"$f":"Tableau122[[#This Row],[FACTURE]]","v":220},{"$f":"IFERROR(VLOOKUP(Tableau122[[#This Row],[FACTURE]],Ecriture[[_FactureNumero]:[_DateFacture]],2,FALSE),\"\")","v":""},{"$f":"IFERROR(VLOOKUP(Tableau122[[#This Row],[FACTURE]],Ecriture[[_FactureNumero]:[_FactureLibelle]],7,FALSE),\"\")","v":""}]
[null,158,{"$f":"IFERROR(VLOOKUP(Tableau122[[#This Row],[REFERENCE DOSSIER]],Collaborateur_Dossier[[Collaborateur dossier]:[Responsable dossier]],2,FALSE),\"\")","v":""},{"$f":"IFERROR(VLOOKUP(VLOOKUP(Tableau122[[#This Row],[FACTURE]],Ecriture[[_FactureNumero]:[_ClientID]],4,FALSE),Personne[],7,FALSE),\"\")","v":""},{"$f":"IFERROR(VLOOKUP(Tableau122[[#This Row],[FACTURE]],Ecriture[[_DossierCode]:[_FactureNumero]],5,FALSE),\"\")","v":""},{"$f":"IFERROR(VLOOKUP(Tableau122[[#This Row],[REFERENCE DOSSIER]],Dossier[[DossierCode]:[DossierNom]],2,FALSE),\"\")","v":""},{"$f":"IFERROR(VLOOKUP(Tableau122[[#This Row],[FACTURE]],Ecriture[[_FactureNumero]:[_TotalTTC]],6,FALSE),\"\")","v":""},{"$f":"IF(AND(Tableau122[[#This Row],[+ 1 AN]]=\"\",Tableau122[[#This Row],[+ 4 MOIS]]=\"\",Tableau122[[#This Row],[DATE]]<=DATE(YEAR(TODAY()),MONTH(TODAY())-2,DAY(TODAY()))),Tableau122[[#This Row],[MONTANT]],\"\")","v":""},{"$f":"IF(AND(Tableau122[[#This Row],[+ 1 AN]]=\"\",Tableau122[[#This Row],[DATE]]<=DATE(YEAR(TODAY()),MONTH(TODAY())-4,DAY(TODAY()))),Tableau122[[#This Row],[MONTANT]],\"\")","v":""},{"$f":"IF(Tableau122[[#This Row],[DATE]]<=DATE(YEAR(TODAY())-1,MONTH(TODAY()),DAY(TODAY())),Tableau122[[#This Row],[MONTANT]],\"\")","v":""},{"$f":"Tableau122[[#This Row],[FACTURE]]","v":158},{"$f":"IFERROR(VLOOKUP(Tableau122[[#This Row],[FACTURE]],Ecriture[[_FactureNumero]:[_DateFacture]],2,FALSE),\"\")","v":""},{"$f":"IFERROR(VLOOKUP(Tableau122[[#This Row],[FACTURE]],Ecriture[[_FactureNumero]:[_FactureLibelle]],7,FALSE),\"\")","v":""}]
[null,165,{"$f":"IFERROR(VLOOKUP(Tableau122[[#This Row],[REFERENCE DOSSIER]],Collaborateur_Dossier[[Collaborateur dossier]:[Responsable dossier]],2,FALSE),\"\")","v":""},{"$f":"IFERROR(VLOOKUP(VLOOKUP(Tableau122[[#This Row],[FACTURE]],Ecriture[[_FactureNumero]:[_ClientID]],4,FALSE),Personne[],7,FALSE),\"\")","v":""},{"$f":"IFERROR(VLOOKUP(Tableau122[[#This Row],[FACTURE]],Ecriture[[_DossierCode]:[_FactureNumero]],5,FALSE),\"\")","v":""},{"$f":"IFERROR(VLOOKUP(Tableau122[[#This Row],[REFERENCE DOSSIER]],Dossier[[DossierCode]:[DossierNom]],2,FALSE),\"\")","v":""},{"$f":"IFERROR(VLOOKUP(Tableau122[[#This Row],[FACTURE]],Ecriture[[_FactureNumero]:[_TotalTTC]],6,FALSE),\"\")","v":""},{"$f":"IF(AND(Tableau122[[#This Row],[+ 1 AN]]=\"\",Tableau122[[#This Row],[+ 4 MOIS]]=\"\",Tableau122[[#This Row],[DATE]]<=DATE(YEAR(TODAY()),MONTH(TODAY())-2,DAY(TODAY()))),Tableau122[[#This Row],[MONTANT]],\"\")","v":""},{"$f":"IF(AND(Tableau122[[#This Row],[+ 1 AN]]=\"\",Tableau122[[#This Row],[DATE]]<=DATE(YEAR(TODAY()),MONTH(TODAY())-4,DAY(TODAY()))),Tableau122[[#This Row],[MONTANT]],\"\")","v":""},{"$f":"IF(Tableau122[[#This Row],[DATE]]<=DATE(YEAR(TODAY())-1,MONTH(TODAY()),DAY(TODAY())),Tableau122[[#This Row],[MONTANT]],\"\")","v":""},{"$f":"Tableau122[[#This Row],[FACTURE]]","v":165},{"$f":"IFERROR(VLOOKUP(Tableau122[[#This Row],[FACTURE]],Ecriture[[_FactureNumero]:[_DateFacture]],2,FALSE),\"\")","v":""},{"$f":"IFERROR(VLOOKUP(Tableau122[[#This Row],[FACTURE]],Ecriture[[_FactureNumero]:[_FactureLibelle]],7,FALSE),\"\")","v":""}]
[null,202,{"$f":"IFERROR(VLOOKUP(Tableau122[[#This Row],[REFERENCE DOSSIER]],Collaborateur_Dossier[[Collaborateur dossier]:[Responsable dossier]],2,FALSE),\"\")","v":""},{"$f":"IFERROR(VLOOKUP(VLOOKUP(Tableau122[[#This Row],[FACTURE]],Ecriture[[_FactureNumero]:[_ClientID]],4,FALSE),Personne[],7,FALSE),\"\")","v":""},{"$f":"IFERROR(VLOOKUP(Tableau122[[#This Row],[FACTURE]],Ecriture[[_DossierCode]:[_FactureNumero]],5,FALSE),\"\")","v":""},{"$f":"IFERROR(VLOOKUP(Tableau122[[#This Row],[REFERENCE DOSSIER]],Dossier[[DossierCode]:[DossierNom]],2,FALSE),\"\")","v":""},{"$f":"IFERROR(VLOOKUP(Tableau122[[#This Row],[FACTURE]],Ecriture[[_FactureNumero]:[_TotalTTC]],6,FALSE),\"\")","v":""},{"$f":"IF(AND(Tableau122[[#This Row],[+ 1 AN]]=\"\",Tableau122[[#This Row],[+ 4 MOIS]]=\"\",Tableau122[[#This Row],[DATE]]<=DATE(YEAR(TODAY()),MONTH(TODAY())-2,DAY(TODAY()))),Tableau122[[#This Row],[MONTANT]],\"\")","v":""},{"$f":"IF(AND(Tableau122[[#This Row],[+ 1 AN]]=\"\",Tableau122[[#This Row],[DATE]]<=DATE(YEAR(TODAY()),MONTH(TODAY())-4,DAY(TODAY()))),Tableau122[[#This Row],[MONTANT]],\"\")","v":""},{"$f":"IF(Tableau122[[#This Row],[DATE]]<=DATE(YEAR(TODAY())-1,MONTH(TODAY()),DAY(TODAY())),Tableau122[[#This Row],[MONTANT]],\"\")","v":""},{"$f":"Tableau122[[#This Row],[FACTURE]]","v":202},{"$f":"IFERROR(VLOOKUP(Tableau122[[#This Row],[FACTURE]],Ecriture[[_FactureNumero]:[_DateFacture]],2,FALSE),\"\")","v":""},{"$f":"IFERROR(VLOOKUP(Tableau122[[#This Row],[FACTURE]],Ecriture[[_FactureNumero]:[_FactureLibelle]],7,FALSE),\"\")","v":""}]
[null,212,{"$f":"IFERROR(VLOOKUP(Tableau122[[#This Row],[REFERENCE DOSSIER]],Collaborateur_Dossier[[Collaborateur dossier]:[Responsable dossier]],2,FALSE),\"\")","v":""},{"$f":"IFERROR(VLOOKUP(VLOOKUP(Tableau122[[#This Row],[FACTURE]],Ecriture[[_FactureNumero]:[_ClientID]],4,FALSE),Personne[],7,FALSE),\"\")","v":""},{"$f":"IFERROR(VLOOKUP(Tableau122[[#This Row],[FACTURE]],Ecriture[[_DossierCode]:[_FactureNumero]],5,FALSE),\"\")","v":""},{"$f":"IFERROR(VLOOKUP(Tableau122[[#This Row],[REFERENCE DOSSIER]],Dossier[[DossierCode]:[DossierNom]],2,FALSE),\"\")","v":""},{"$f":"IFERROR(VLOOKUP(Tableau122[[#This Row],[FACTURE]],Ecriture[[_FactureNumero]:[_TotalTTC]],6,FALSE),\"\")","v":""},{"$f":"IF(AND(Tableau122[[#This Row],[+ 1 AN]]=\"\",Tableau122[[#This Row],[+ 4 MOIS]]=\"\",Tableau122[[#This Row],[DATE]]<=DATE(YEAR(TODAY()),MONTH(TODAY())-2,DAY(TODAY()))),Tableau122[[#This Row],[MONTANT]],\"\")","v":""},{"$f":"IF(AND(Tableau122[[#This Row],[+ 1 AN]]=\"\",Tableau122[[#This Row],[DATE]]<=DATE(YEAR(TODAY()),MONTH(TODAY())-4,DAY(TODAY()))),Tableau122[[#This Row],[MONTANT]],\"\")","v":""},{"$f":"IF(Tableau122[[#This Row],[DATE]]<=DATE(YEAR(TODAY())-1,MONTH(TODAY()),DAY(TODAY())),Tableau122[[#This Row],[MONTANT]],\"\")","v":""},{"$f":"Tableau122[[#This Row],[FACTURE]]","v":212},{"$f":"IFERROR(VLOOKUP(Tableau122[[#This Row],[FACTURE]],Ecriture[[_FactureNumero]:[_DateFacture]],2,FALSE),\"\")","v":""},{"$f":"IFERROR(VLOOKUP(Tableau122[[#This Row],[FACTURE]],Ecriture[[_FactureNumero]:[_FactureLibelle]],7,FALSE),\"\")","v":""}]
[null,150,{"$f":"IFERROR(VLOOKUP(Tableau122[[#This Row],[REFERENCE DOSSIER]],Collaborateur_Dossier[[Collaborateur dossier]:[Responsable dossier]],2,FALSE),\"\")","v":""},{"$f":"IFERROR(VLOOKUP(VLOOKUP(Tableau122[[#This Row],[FACTURE]],Ecriture[[_FactureNumero]:[_ClientID]],4,FALSE),Personne[],7,FALSE),\"\")","v":""},{"$f":"IFERROR(VLOOKUP(Tableau122[[#This Row],[FACTURE]],Ecriture[[_DossierCode]:[_FactureNumero]],5,FALSE),\"\")","v":""},{"$f":"IFERROR(VLOOKUP(Tableau122[[#This Row],[REFERENCE DOSSIER]],Dossier[[DossierCode]:[DossierNom]],2,FALSE),\"\")","v":""},{"$f":"IFERROR(VLOOKUP(Tableau122[[#This Row],[FACTURE]],Ecriture[[_FactureNumero]:[_TotalTTC]],6,FALSE),\"\")","v":""},{"$f":"IF(AND(Tableau122[[#This Row],[+ 1 AN]]=\"\",Tableau122[[#This Row],[+ 4 MOIS]]=\"\",Tableau122[[#This Row],[DATE]]<=DATE(YEAR(TODAY()),MONTH(TODAY())-2,DAY(TODAY()))),Tableau122[[#This Row],[MONTANT]],\"\")","v":""},{"$f":"IF(AND(Tableau122[[#This Row],[+ 1 AN]]=\"\",Tableau122[[#This Row],[DATE]]<=DATE(YEAR(TODAY()),MONTH(TODAY())-4,DAY(TODAY()))),Tableau122[[#This Row],[MONTANT]],\"\")","v":""},{"$f":"IF(Tableau122[[#This Row],[DATE]]<=DATE(YEAR(TODAY())-1,MONTH(TODAY()),DAY(TODAY())),Tableau122[[#This Row],[MONTANT]],\"\")","v":""},{"$f":"Tableau122[[#This Row],[FACTURE]]","v":150},{"$f":"IFERROR(VLOOKUP(Tableau122[[#This Row],[FACTURE]],Ecriture[[_FactureNumero]:[_DateFacture]],2,FALSE),\"\")","v":""},{"$f":"IFERROR(VLOOKUP(Tableau122[[#This Row],[FACTURE]],Ecriture[[_FactureNumero]:[_FactureLibelle]],7,FALSE),\"\")","v":""}]
[null,154,{"$f":"IFERROR(VLOOKUP(Tableau122[[#This Row],[REFERENCE DOSSIER]],Collaborateur_Dossier[[Collaborateur dossier]:[Responsable dossier]],2,FALSE),\"\")","v":""},{"$f":"IFERROR(VLOOKUP(VLOOKUP(Tableau122[[#This Row],[FACTURE]],Ecriture[[_FactureNumero]:[_ClientID]],4,FALSE),Personne[],7,FALSE),\"\")","v":""},{"$f":"IFERROR(VLOOKUP(Tableau122[[#This Row],[FACTURE]],Ecriture[[_DossierCode]:[_FactureNumero]],5,FALSE),\"\")","v":""},{"$f":"IFERROR(VLOOKUP(Tableau122[[#This Row],[REFERENCE DOSSIER]],Dossier[[DossierCode]:[DossierNom]],2,FALSE),\"\")","v":""},{"$f":"IFERROR(VLOOKUP(Tableau122[[#This Row],[FACTURE]],Ecriture[[_FactureNumero]:[_TotalTTC]],6,FALSE),\"\")","v":""},{"$f":"IF(AND(Tableau122[[#This Row],[+ 1 AN]]=\"\",Tableau122[[#This Row],[+ 4 MOIS]]=\"\",Tableau122[[#This Row],[DATE]]<=DATE(YEAR(TODAY()),MONTH(TODAY())-2,DAY(TODAY()))),Tableau122[[#This Row],[MONTANT]],\"\")","v":""},{"$f":"IF(AND(Tableau122[[#This Row],[+ 1 AN]]=\"\",Tableau122[[#This Row],[DATE]]<=DATE(YEAR(TODAY()),MONTH(TODAY())-4,DAY(TODAY()))),Tableau122[[#This Row],[MONTANT]],\"\")","v":""},{"$f":"IF(Tableau122[[#This Row],[DATE]]<=DATE(YEAR(TODAY())-1,MONTH(TODAY()),DAY(TODAY())),Tableau122[[#This Row],[MONTANT]],\"\")","v":""},{"$f":"Tableau122[[#This Row],[FACTURE]]","v":154},{"$f":"IFERROR(VLOOKUP(Tableau122[[#This Row],[FACTURE]],Ecriture[[_FactureNumero]:[_DateFacture]],2,FALSE),\"\")","v":""},{"$f":"IFERROR(VLOOKUP(Tableau122[[#This Row],[FACTURE]],Ecriture[[_FactureNumero]:[_FactureLibelle]],7,FALSE),\"\")","v":""}]
[null,167,{"$f":"IFERROR(VLOOKUP(Tableau122[[#This Row],[REFERENCE DOSSIER]],Collaborateur_Dossier[[Collaborateur dossier]:[Responsable dossier]],2,FALSE),\"\")","v":""},{"$f":"IFERROR(VLOOKUP(VLOOKUP(Tableau122[[#This Row],[FACTURE]],Ecriture[[_FactureNumero]:[_ClientID]],4,FALSE),Personne[],7,FALSE),\"\")","v":""},{"$f":"IFERROR(VLOOKUP(Tableau122[[#This Row],[FACTURE]],Ecriture[[_DossierCode]:[_FactureNumero]],5,FALSE),\"\")","v":""},{"$f":"IFERROR(VLOOKUP(Tableau122[[#This Row],[REFERENCE DOSSIER]],Dossier[[DossierCode]:[DossierNom]],2,FALSE),\"\")","v":""},{"$f":"IFERROR(VLOOKUP(Tableau122[[#This Row],[FACTURE]],Ecriture[[_FactureNumero]:[_TotalTTC]],6,FALSE),\"\")","v":""},{"$f":"IF(AND(Tableau122[[#This Row],[+ 1 AN]]=\"\",Tableau122[[#This Row],[+ 4 MOIS]]=\"\",Tableau122[[#This Row],[DATE]]<=DATE(YEAR(TODAY()),MONTH(TODAY())-2,DAY(TODAY()))),Tableau122[[#This Row],[MONTANT]],\"\")","v":""},{"$f":"IF(AND(Tableau122[[#This Row],[+ 1 AN]]=\"\",Tableau122[[#This Row],[DATE]]<=DATE(YEAR(TODAY()),MONTH(TODAY())-4,DAY(TODAY()))),Tableau122[[#This Row],[MONTANT]],\"\")","v":""},{"$f":"IF(Tableau122[[#This Row],[DATE]]<=DATE(YEAR(TODAY())-1,MONTH(TODAY()),DAY(TODAY())),Tableau122[[#This Row],[MONTANT]],\"\")","v":""},{"$f":"Tableau122[[#This Row],[FACTURE]]","v":167},{"$f":"IFERROR(VLOOKUP(Tableau122[[#This Row],[FACTURE]],Ecriture[[_FactureNumero]:[_DateFacture]],2,FALSE),\"\")","v":""},{"$f":"IFERROR(VLOOKUP(Tableau122[[#This Row],[FACTURE]],Ecriture[[_FactureNumero]:[_FactureLibelle]],7,FALSE),\"\")","v":""}]
[null,186,{"$f":"IFERROR(VLOOKUP(Tableau122[[#This Row],[REFERENCE DOSSIER]],Collaborateur_Dossier[[Collaborateur dossier]:[Responsable dossier]],2,FALSE),\"\")","v":""},{"$f":"IFERROR(VLOOKUP(VLOOKUP(Tableau122[[#This Row],[FACTURE]],Ecriture[[_FactureNumero]:[_ClientID]],4,FALSE),Personne[],7,FALSE),\"\")","v":""},{"$f":"IFERROR(VLOOKUP(Tableau122[[#This Row],[FACTURE]],Ecriture[[_DossierCode]:[_FactureNumero]],5,FALSE),\"\")","v":""},{"$f":"IFERROR(VLOOKUP(Tableau122[[#This Row],[REFERENCE DOSSIER]],Dossier[[DossierCode]:[DossierNom]],2,FALSE),\"\")","v":""},{"$f":"IFERROR(VLOOKUP(Tableau122[[#This Row],[FACTURE]],Ecriture[[_FactureNumero]:[_TotalTTC]],6,FALSE),\"\")","v":""},{"$f":"IF(AND(Tableau122[[#This Row],[+ 1 AN]]=\"\",Tableau122[[#This Row],[+ 4 MOIS]]=\"\",Tableau122[[#This Row],[DATE]]<=DATE(YEAR(TODAY()),MONTH(TODAY())-2,DAY(TODAY()))),Tableau122[[#This Row],[MONTANT]],\"\")","v":""},{"$f":"IF(AND(Tableau122[[#This Row],[+ 1 AN]]=\"\",Tableau122[[#This Row],[DATE]]<=DATE(YEAR(TODAY()),MONTH(TODAY())-4,DAY(TODAY()))),Tableau122[[#This Row],[MONTANT]],\"\")","v":""},{"$f":"IF(Tableau122[[#This Row],[DATE]]<=DATE(YEAR(TODAY())-1,MONTH(TODAY()),DAY(TODAY())),Tableau122[[#This Row],[MONTANT]],\"\")","v":""},{"$f":"Tableau122[[#This Row],[FACTURE]]","v":186},{"$f":"IFERROR(VLOOKUP(Tableau122[[#This Row],[FACTURE]],Ecriture[[_FactureNumero]:[_DateFacture]],2,FALSE),\"\")","v":""},{"$f":"IFERROR(VLOOKUP(Tableau122[[#This Row],[FACTURE]],Ecriture[[_FactureNumero]:[_FactureLibelle]],7,FALSE),\"\")","v":""}]
[null,187,{"$f":"IFERROR(VLOOKUP(Tableau122[[#This Row],[REFERENCE DOSSIER]],Collaborateur_Dossier[[Collaborateur dossier]:[Responsable dossier]],2,FALSE),\"\")","v":""},{"$f":"IFERROR(VLOOKUP(VLOOKUP(Tableau122[[#This Row],[FACTURE]],Ecriture[[_FactureNumero]:[_ClientID]],4,FALSE),Personne[],7,FALSE),\"\")","v":""},{"$f":"IFERROR(VLOOKUP(Tableau122[[#This Row],[FACTURE]],Ecriture[[_DossierCode]:[_FactureNumero]],5,FALSE),\"\")","v":""},{"$f":"IFERROR(VLOOKUP(Tableau122[[#This Row],[REFERENCE DOSSIER]],Dossier[[DossierCode]:[DossierNom]],2,FALSE),\"\")","v":""},{"$f":"IFERROR(VLOOKUP(Tableau122[[#This Row],[FACTURE]],Ecriture[[_FactureNumero]:[_TotalTTC]],6,FALSE),\"\")","v":""},{"$f":"IF(AND(Tableau122[[#This Row],[+ 1 AN]]=\"\",Tableau122[[#This Row],[+ 4 MOIS]]=\"\",Tableau122[[#This Row],[DATE]]<=DATE(YEAR(TODAY()),MONTH(TODAY())-2,DAY(TODAY()))),Tableau122[[#This Row],[MONTANT]],\"\")","v":""},{"$f":"IF(AND(Tableau122[[#This Row],[+ 1 AN]]=\"\",Tableau122[[#This Row],[DATE]]<=DATE(YEAR(TODAY()),MONTH(TODAY())-4,DAY(TODAY()))),Tableau122[[#This Row],[MONTANT]],\"\")","v":""},{"$f":"IF(Tableau122[[#This Row],[DATE]]<=DATE(YEAR(TODAY())-1,MONTH(TODAY()),DAY(TODAY())),Tableau122[[#This Row],[MONTANT]],\"\")","v":""},{"$f":"Tableau122[[#This Row],[FACTURE]]","v":187},{"$f":"IFERROR(VLOOKUP(Tableau122[[#This Row],[FACTURE]],Ecriture[[_FactureNumero]:[_DateFacture]],2,FALSE),\"\")","v":""},{"$f":"IFERROR(VLOOKUP(Tableau122[[#This Row],[FACTURE]],Ecriture[[_FactureNumero]:[_FactureLibelle]],7,FALSE),\"\")","v":""}]
[null,204,{"$f":"IFERROR(VLOOKUP(Tableau122[[#This Row],[REFERENCE DOSSIER]],Collaborateur_Dossier[[Collaborateur dossier]:[Responsable dossier]],2,FALSE),\"\")","v":""},{"$f":"IFERROR(VLOOKUP(VLOOKUP(Tableau122[[#This Row],[FACTURE]],Ecriture[[_FactureNumero]:[_ClientID]],4,FALSE),Personne[],7,FALSE),\"\")","v":""},{"$f":"IFERROR(VLOOKUP(Tableau122[[#This Row],[FACTURE]],Ecriture[[_DossierCode]:[_FactureNumero]],5,FALSE),\"\")","v":""},{"$f":"IFERROR(VLOOKUP(Tableau122[[#This Row],[REFERENCE DOSSIER]],Dossier[[DossierCode]:[DossierNom]],2,FALSE),\"\")","v":""},{"$f":"IFERROR(VLOOKUP(Tableau122[[#This Row],[FACTURE]],Ecriture[[_FactureNumero]:[_TotalTTC]],6,FALSE),\"\")","v":""},{"$f":"IF(AND(Tableau122[[#This Row],[+ 1 AN]]=\"\",Tableau122[[#This Row],[+ 4 MOIS]]=\"\",Tableau122[[#This Row],[DATE]]<=DATE(YEAR(TODAY()),MONTH(TODAY())-2,DAY(TODAY()))),Tableau122[[#This Row],[MONTANT]],\"\")","v":""},{"$f":"IF(AND(Tableau122[[#This Row],[+ 1 AN]]=\"\",Tableau122[[#This Row],[DATE]]<=DATE(YEAR(TODAY()),MONTH(TODAY())-4,DAY(TODAY()))),Tableau122[[#This Row],[MONTANT]],\"\")","v":""},{"$f":"IF(Tableau122[[#This Row],[DATE]]<=DATE(YEAR(TODAY())-1,MONTH(TODAY()),DAY(TODAY())),Tableau122[[#This Row],[MONTANT]],\"\")","v":""},{"$f":"Tableau122[[#This Row],[FACTURE]]","v":204},{"$f":"IFERROR(VLOOKUP(Tableau122[[#This Row],[FACTURE]],Ecriture[[_FactureNumero]:[_DateFacture]],2,FALSE),\"\")","v":""},{"$f":"IFERROR(VLOOKUP(Tableau122[[#This Row],[FACTURE]],Ecriture[[_FactureNumero]:[_FactureLibelle]],7,FALSE),\"\")","v":""}]
[null,214,{"$f":"IFERROR(VLOOKUP(Tableau122[[#This Row],[REFERENCE DOSSIER]],Collaborateur_Dossier[[Collaborateur dossier]:[Responsable dossier]],2,FALSE),\"\")","v":""},{"$f":"IFERROR(VLOOKUP(VLOOKUP(Tableau122[[#This Row],[FACTURE]],Ecriture[[_FactureNumero]:[_ClientID]],4,FALSE),Personne[],7,FALSE),\"\")","v":""},{"$f":"IFERROR(VLOOKUP(Tableau122[[#This Row],[FACTURE]],Ecriture[[_DossierCode]:[_FactureNumero]],5,FALSE),\"\")","v":""},{"$f":"IFERROR(VLOOKUP(Tableau122[[#This Row],[REFERENCE DOSSIER]],Dossier[[DossierCode]:[DossierNom]],2,FALSE),\"\")","v":""},{"$f":"IFERROR(VLOOKUP(Tableau122[[#This Row],[FACTURE]],Ecriture[[_FactureNumero]:[_TotalTTC]],6,FALSE),\"\")","v":""},{"$f":"IF(AND(Tableau122[[#This Row],[+ 1 AN]]=\"\",Tableau122[[#This Row],[+ 4 MOIS]]=\"\",Tableau122[[#This Row],[DATE]]<=DATE(YEAR(TODAY()),MONTH(TODAY())-2,DAY(TODAY()))),Tableau122[[#This Row],[MONTANT]],\"\")","v":""},{"$f":"IF(AND(Tableau122[[#This Row],[+ 1 AN]]=\"\",Tableau122[[#This Row],[DATE]]<=DATE(YEAR(TODAY()),MONTH(TODAY())-4,DAY(TODAY()))),Tableau122[[#This Row],[MONTANT]],\"\")","v":""},{"$f":"IF(Tableau122[[#This Row],[DATE]]<=DATE(YEAR(TODAY())-1,MONTH(TODAY()),DAY(TODAY())),Tableau122[[#This Row],[MONTANT]],\"\")","v":""},{"$f":"Tableau122[[#This Row],[FACTURE]]","v":214},{"$f":"IFERROR(VLOOKUP(Tableau122[[#This Row],[FACTURE]],Ecriture[[_FactureNumero]:[_DateFacture]],2,FALSE),\"\")","v":""},{"$f":"IFERROR(VLOOKUP(Tableau122[[#This Row],[FACTURE]],Ecriture[[_FactureNumero]:[_FactureLibelle]],7,FALSE),\"\")","v":""}]
[null,199,{"$f":"IFERROR(VLOOKUP(Tableau122[[#This Row],[REFERENCE DOSSIER]],Collaborateur_Dossier[[Collaborateur dossier]:[Responsable dossier]],2,FALSE),\"\")","v":""},{"$f":"IFERROR(VLOOKUP(VLOOKUP(Tableau122[[#This Row],[FACTURE]],Ecriture[[_FactureNumero]:[_ClientID]],4,FALSE),Personne[],7,FALSE),\"\")","v":""},{"$f":"IFERROR(VLOOKUP(Tableau122[[#This Row],[FACTURE]],Ecriture[[_DossierCode]:[_FactureNumero]],5,FALSE),\"\")","v":""},{"$f":"IFERROR(VLOOKUP(Tableau122[[#This Row],[REFERENCE DOSSIER]],Dossier[[DossierCode]:[DossierNom]],2,FALSE),\"\")","v":""},{"$f":"IFERROR(VLOOKUP(Tableau122[[#This Row],[FACTURE]],Ecriture[[_FactureNumero]:[_TotalTTC]],6,FALSE),\"\")","v":""},{"$f":"IF(AND(Tableau122[[#This Row],[+ 1 AN]]=\"\",Tableau122[[#This Row],[+ 4 MOIS]]=\"\",Tableau122[[#This Row],[DATE]]<=DATE(YEAR(TODAY()),MONTH(TODAY())-2,DAY(TODAY()))),Tableau122[[#This Row],[MONTANT]],\"\")","v":""},{"$f":"IF(AND(Tableau122[[#This Row],[+ 1 AN]]=\"\",Tableau122[[#This Row],[DATE]]<=DATE(YEAR(TODAY()),MONTH(TODAY())-4,DAY(TODAY()))),Tableau122[[#This Row],[MONTANT]],\"\")","v":""},{"$f":"IF(Tableau122[[#This Row],[DATE]]<=DATE(YEAR(TODAY())-1,MONTH(TODAY()),DAY(TODAY())),Tableau122[[#This Row],[MONTANT]],\"\")","v":""},{"$f":"Tableau122[[#This Row],[FACTURE]]","v":199},{"$f":"IFERROR(VLOOKUP(Tableau122[[#This Row],[FACTURE]],Ecriture[[_FactureNumero]:[_DateFacture]],2,FALSE),\"\")","v":""},{"$f":"IFERROR(VLOOKUP(Tableau122[[#This Row],[FACTURE]],Ecriture[[_FactureNumero]:[_FactureLibelle]],7,FALSE),\"\")","v":""}]
[null,145,{"$f":"IFERROR(VLOOKUP(Tableau122[[#This Row],[REFERENCE DOSSIER]],Collaborateur_Dossier[[Collaborateur dossier]:[Responsable dossier]],2,FALSE),\"\")","v":""},{"$f":"IFERROR(VLOOKUP(VLOOKUP(Tableau122[[#This Row],[FACTURE]],Ecriture[[_FactureNumero]:[_ClientID]],4,FALSE),Personne[],7,FALSE),\"\")","v":""},{"$f":"IFERROR(VLOOKUP(Tableau122[[#This Row],[FACTURE]],Ecriture[[_DossierCode]:[_FactureNumero]],5,FALSE),\"\")","v":""},{"$f":"IFERROR(VLOOKUP(Tableau122[[#This Row],[REFERENCE DOSSIER]],Dossier[[DossierCode]:[DossierNom]],2,FALSE),\"\")","v":""},{"$f":"IFERROR(VLOOKUP(Tableau122[[#This Row],[FACTURE]],Ecriture[[_FactureNumero]:[_TotalTTC]],6,FALSE),\"\")","v":""},{"$f":"IF(AND(Tableau122[[#This Row],[+ 1 AN]]=\"\",Tableau122[[#This Row],[+ 4 MOIS]]=\"\",Tableau122[[#This Row],[DATE]]<=DATE(YEAR(TODAY()),MONTH(TODAY())-2,DAY(TODAY()))),Tableau122[[#This Row],[MONTANT]],\"\")","v":""},{"$f":"IF(AND(Tableau122[[#This Row],[+ 1 AN]]=\"\",Tableau122[[#This Row],[DATE]]<=DATE(YEAR(TODAY()),MONTH(TODAY())-4,DAY(TODAY()))),Tableau122[[#This Row],[MONTANT]],\"\")","v":""},{"$f":"IF(Tableau122[[#This Row],[DATE]]<=DATE(YEAR(TODAY())-1,MONTH(TODAY()),DAY(TODAY())),Tableau122[[#This Row],[MONTANT]],\"\")","v":""},{"$f":"Tableau122[[#This Row],[FACTURE]]","v":145},{"$f":"IFERROR(VLOOKUP(Tableau122[[#This Row],[FACTURE]],Ecriture[[_FactureNumero]:[_DateFacture]],2,FALSE),\"\")","v":""},{"$f":"IFERROR(VLOOKUP(Tableau122[[#This Row],[FACTURE]],Ecriture[[_FactureNumero]:[_FactureLibelle]],7,FALSE),\"\")","v":""}]
[null,181,{"$f":"IFERROR(VLOOKUP(Tableau122[[#This Row],[REFERENCE DOSSIER]],Collaborateur_Dossier[[Collaborateur dossier]:[Responsable dossier]],2,FALSE),\"\")","v":""},{"$f":"IFERROR(VLOOKUP(VLOOKUP(Tableau122[[#This Row],[FACTURE]],Ecriture[[_FactureNumero]:[_ClientID]],4,FALSE),Personne[],7,FALSE),\"\")","v":""},{"$f":"IFERROR(VLOOKUP(Tableau122[[#This Row],[FACTURE]],Ecriture[[_DossierCode]:[_FactureNumero]],5,FALSE),\"\")","v":""},{"$f":"IFERROR(VLOOKUP(Tableau122[[#This Row],[REFERENCE DOSSIER]],Dossier[[DossierCode]:[DossierNom]],2,FALSE),\"\")","v":""},{"$f":"IFERROR(VLOOKUP(Tableau122[[#This Row],[FACTURE]],Ecriture[[_FactureNumero]:[_TotalTTC]],6,FALSE),\"\")","v":""},{"$f":"IF(AND(Tableau122[[#This Row],[+ 1 AN]]=\"\",Tableau122[[#This Row],[+ 4 MOIS]]=\"\",Tableau122[[#This Row],[DATE]]<=DATE(YEAR(TODAY()),MONTH(TODAY())-2,DAY(TODAY()))),Tableau122[[#This Row],[MONTANT]],\"\")","v":""},{"$f":"IF(AND(Tableau122[[#This Row],[+ 1 AN]]=\"\",Tableau122[[#This Row],[DATE]]<=DATE(YEAR(TODAY()),MONTH(TODAY())-4,DAY(TODAY()))),Tableau122[[#This Row],[MONTANT]],\"\")","v":""},{"$f":"IF(Tableau122[[#This Row],[DATE]]<=DATE(YEAR(TODAY())-1,MONTH(TODAY()),DAY(TODAY())),Tableau122[[#This Row],[MONTANT]],\"\")","v":""},{"$f":"Tableau122[[#This Row],[FACTURE]]","v":181},{"$f":"IFERROR(VLOOKUP(Tableau122[[#This Row],[FACTURE]],Ecriture[[_FactureNumero]:[_DateFacture]],2,FALSE),\"\")","v":""},{"$f":"IFERROR(VLOOKUP(Tableau122[[#This Row],[FACTURE]],Ecriture[[_FactureNumero]:[_FactureLibelle]],7,FALSE),\"\")","v":""}]
[null,188,{"$f":"IFERROR(VLOOKUP(Tableau122[[#This Row],[REFERENCE DOSSIER]],Collaborateur_Dossier[[Collaborateur dossier]:[Responsable dossier]],2,FALSE),\"\")","v":""},{"$f":"IFERROR(VLOOKUP(VLOOKUP(Tableau122[[#This Row],[FACTURE]],Ecriture[[_FactureNumero]:[_ClientID]],4,FALSE),Personne[],7,FALSE),\"\")","v":""},{"$f":"IFERROR(VLOOKUP(Tableau122[[#This Row],[FACTURE]],Ecriture[[_DossierCode]:[_FactureNumero]],5,FALSE),\"\")","v":""},{"$f":"IFERROR(VLOOKUP(Tableau122[[#This Row],[REFERENCE DOSSIER]],Dossier[[DossierCode]:[DossierNom]],2,FALSE),\"\")","v":""},{"$f":"IFERROR(VLOOKUP(Tableau122[[#This Row],[FACTURE]],Ecriture[[_FactureNumero]:[_TotalTTC]],6,FALSE),\"\")","v":""},{"$f":"IF(AND(Tableau122[[#This Row],[+ 1 AN]]=\"\",Tableau122[[#This Row],[+ 4 MOIS]]=\"\",Tableau122[[#This Row],[DATE]]<=DATE(YEAR(TODAY()),MONTH(TODAY())-2,DAY(TODAY()))),Tableau122[[#This Row],[MONTANT]],\"\")","v":""},{"$f":"IF(AND(Tableau122[[#This Row],[+ 1 AN]]=\"\",Tableau122[[#This Row],[DATE]]<=DATE(YEAR(TODAY()),MONTH(TODAY())-4,DAY(TODAY()))),Tableau122[[#This Row],[MONTANT]],\"\")","v":""},{"$f":"IF(Tableau122[[#This Row],[DATE]]<=DATE(YEAR(TODAY())-1,MONTH(TODAY()),DAY(TODAY())),Tableau122[[#This Row],[MONTANT]],\"\")","v":""},{"$f":"Tableau122[[#This Row],[FACTURE]]","v":188},{"$f":"IFERROR(VLOOKUP(Tableau122[[#This Row],[FACTURE]],Ecriture[[_FactureNumero]:[_DateFacture]],2,FALSE),\"\")","v":""},{"$f":"IFERROR(VLOOKUP(Tableau122[[#This Row],[FACTURE]],Ecriture[[_FactureNumero]:[_FactureLibelle]],7,FALSE),\"\")","v":""}]
[null,200,{"$f":"IFERROR(VLOOKUP(Tableau122[[#This Row],[REFERENCE DOSSIER]],Collaborateur_Dossier[[Collaborateur dossier]:[Responsable dossier]],2,FALSE),\"\")","v":""},{"$f":"IFERROR(VLOOKUP(VLOOKUP(Tableau122[[#This Row],[FACTURE]],Ecriture[[_FactureNumero]:[_ClientID]],4,FALSE),Personne[],7,FALSE),\"\")","v":""},{"$f":"IFERROR(VLOOKUP(Tableau122[[#This Row],[FACTURE]],Ecriture[[_DossierCode]:[_FactureNumero]],5,FALSE),\"\")","v":""},{"$f":"IFERROR(VLOOKUP(Tableau122[[#This Row],[REFERENCE DOSSIER]],Dossier[[DossierCode]:[DossierNom]],2,FALSE),\"\")","v":""},{"$f":"IFERROR(VLOOKUP(Tableau122[[#This Row],[FACTURE]],Ecriture[[_FactureNumero]:[_TotalTTC]],6,FALSE),\"\")","v":""},{"$f":"IF(AND(Tableau122[[#This Row],[+ 1 AN]]=\"\",Tableau122[[#This Row],[+ 4 MOIS]]=\"\",Tableau122[[#This Row],[DATE]]<=DATE(YEAR(TODAY()),MONTH(TODAY())-2,DAY(TODAY()))),Tableau122[[#This Row],[MONTANT]],\"\")","v":""},{"$f":"IF(AND(Tableau122[[#This Row],[+ 1 AN]]=\"\",Tableau122[[#This Row],[DATE]]<=DATE(YEAR(TODAY()),MONTH(TODAY())-4,DAY(TODAY()))),Tableau122[[#This Row],[MONTANT]],\"\")","v":""},{"$f":"IF(Tableau122[[#This Row],[DATE]]<=DATE(YEAR(TODAY())-1,MONTH(TODAY()),DAY(TODAY())),Tableau122[[#This Row],[MONTANT]],\"\")","v":""},{"$f":"Tableau122[[#This Row],[FACTURE]]","v":200},{"$f":"IFERROR(VLOOKUP(Tableau122[[#This Row],[FACTURE]],Ecriture[[_FactureNumero]:[_DateFacture]],2,FALSE),\"\")","v":""},{"$f":"IFERROR(VLOOKUP(Tableau122[[#This Row],[FACTURE]],Ecriture[[_FactureNumero]:[_FactureLibelle]],7,FALSE),\"\")","v":""}]
[null,162,{"$f":"IFERROR(VLOOKUP(Tableau122[[#This Row],[REFERENCE DOSSIER]],Collaborateur_Dossier[[Collaborateur dossier]:[Responsable dossier]],2,FALSE),\"\")","v":""},{"$f":"IFERROR(VLOOKUP(VLOOKUP(Tableau122[[#This Row],[FACTURE]],Ecriture[[_FactureNumero]:[_ClientID]],4,FALSE),Personne[],7,FALSE),\"\")","v":""},{"$f":"IFERROR(VLOOKUP(Tableau122[[#This Row],[FACTURE]],Ecriture[[_DossierCode]:[_FactureNumero]],5,FALSE),\"\")","v":""},{"$f":"IFERROR(VLOOKUP(Tableau122[[#This Row],[REFERENCE DOSSIER]],Dossier[[DossierCode]:[DossierNom]],2,FALSE),\"\")","v":""},{"$f":"IFERROR(VLOOKUP(Tableau122[[#This Row],[FACTURE]],Ecriture[[_FactureNumero]:[_TotalTTC]],6,FALSE),\"\")","v":""},{"$f":"IF(AND(Tableau122[[#This Row],[+ 1 AN]]=\"\",Tableau122[[#This Row],[+ 4 MOIS]]=\"\",Tableau122[[#This Row],[DATE]]<=DATE(YEAR(TODAY()),MONTH(TODAY())-2,DAY(TODAY()))),Tableau122[[#This Row],[MONTANT]],\"\")","v":""},{"$f":"IF(AND(Tableau122[[#This Row],[+ 1 AN]]=\"\",Tableau122[[#This Row],[DATE]]<=DATE(YEAR(TODAY()),MONTH(TODAY())-4,DAY(TODAY()))),Tableau122[[#This Row],[MONTANT]],\"\")","v":""},{"$f":"IF(Tableau122[[#This Row],[DATE]]<=DATE(YEAR(TODAY())-1,MONTH(TODAY()),DAY(TODAY())),Tableau122[[#This Row],[MONTANT]],\"\")","v":""},{"$f":"Tableau122[[#This Row],[FACTURE]]","v":162},{"$f":"IFERROR(VLOOKUP(Tableau122[[#This Row],[FACTURE]],Ecriture[[_FactureNumero]:[_DateFacture]],2,FALSE),\"\")","v":""},{"$f":"IFERROR(VLOOKUP(Tableau122[[#This Row],[FACTURE]],Ecriture[[_FactureNumero]:[_FactureLibelle]],7,FALSE),\"\")","v":""}]
[null,170,{"$f":"IFERROR(VLOOKUP(Tableau122[[#This Row],[REFERENCE DOSSIER]],Collaborateur_Dossier[[Collaborateur dossier]:[Responsable dossier]],2,FALSE),\"\")","v":""},{"$f":"IFERROR(VLOOKUP(VLOOKUP(Tableau122[[#This Row],[FACTURE]],Ecriture[[_FactureNumero]:[_ClientID]],4,FALSE),Personne[],7,FALSE),\"\")","v":""},{"$f":"IFERROR(VLOOKUP(Tableau122[[#This Row],[FACTURE]],Ecriture[[_DossierCode]:[_FactureNumero]],5,FALSE),\"\")","v":""},{"$f":"IFERROR(VLOOKUP(Tableau122[[#This Row],[REFERENCE DOSSIER]],Dossier[[DossierCode]:[DossierNom]],2,FALSE),\"\")","v":""},{"$f":"IFERROR(VLOOKUP(Tableau122[[#This Row],[FACTURE]],Ecriture[[_FactureNumero]:[_TotalTTC]],6,FALSE),\"\")","v":""},{"$f":"IF(AND(Tableau122[[#This Row],[+ 1 AN]]=\"\",Tableau122[[#This Row],[+ 4 MOIS]]=\"\",Tableau122[[#This Row],[DATE]]<=DATE(YEAR(TODAY()),MONTH(TODAY())-2,DAY(TODAY()))),Tableau122[[#This Row],[MONTANT]],\"\")","v":""},{"$f":"IF(AND(Tableau122[[#This Row],[+ 1 AN]]=\"\",Tableau122[[#This Row],[DATE]]<=DATE(YEAR(TODAY()),MONTH(TODAY())-4,DAY(TODAY()))),Tableau122[[#This Row],[MONTANT]],\"\")","v":""},{"$f":"IF(Tableau122[[#This Row],[DATE]]<=DATE(YEAR(TODAY())-1,MONTH(TODAY()),DAY(TODAY())),Tableau122[[#This Row],[MONTANT]],\"\")","v":""},{"$f":"Tableau122[[#This Row],[FACTURE]]","v":170},{"$f":"IFERROR(VLOOKUP(Tableau122[[#This Row],[FACTURE]],Ecriture[[_FactureNumero]:[_DateFacture]],2,FALSE),\"\")","v":""},{"$f":"IFERROR(VLOOKUP(Tableau122[[#This Row],[FACTURE]],Ecriture[[_FactureNumero]:[_FactureLibelle]],7,FALSE),\"\")","v":""}]
[null,208,{"$f":"IFERROR(VLOOKUP(Tableau122[[#This Row],[REFERENCE DOSSIER]],Collaborateur_Dossier[[Collaborateur dossier]:[Responsable dossier]],2,FALSE),\"\")","v":""},{"$f":"IFERROR(VLOOKUP(VLOOKUP(Tableau122[[#This Row],[FACTURE]],Ecriture[[_FactureNumero]:[_ClientID]],4,FALSE),Personne[],7,FALSE),\"\")","v":""},{"$f":"IFERROR(VLOOKUP(Tableau122[[#This Row],[FACTURE]],Ecriture[[_DossierCode]:[_FactureNumero]],5,FALSE),\"\")","v":""},{"$f":"IFERROR(VLOOKUP(Tableau122[[#This Row],[REFERENCE DOSSIER]],Dossier[[DossierCode]:[DossierNom]],2,FALSE),\"\")","v":""},{"$f":"IFERROR(VLOOKUP(Tableau122[[#This Row],[FACTURE]],Ecriture[[_FactureNumero]:[_TotalTTC]],6,FALSE),\"\")","v":""},{"$f":"IF(AND(Tableau122[[#This Row],[+ 1 AN]]=\"\",Tableau122[[#This Row],[+ 4 MOIS]]=\"\",Tableau122[[#This Row],[DATE]]<=DATE(YEAR(TODAY()),MONTH(TODAY())-2,DAY(TODAY()))),Tableau122[[#This Row],[MONTANT]],\"\")","v":""},{"$f":"IF(AND(Tableau122[[#This Row],[+ 1 AN]]=\"\",Tableau122[[#This Row],[DATE]]<=DATE(YEAR(TODAY()),MONTH(TODAY())-4,DAY(TODAY()))),Tableau122[[#This Row],[MONTANT]],\"\")","v":""},{"$f":"IF(Tableau122[[#This Row],[DATE]]<=DATE(YEAR(TODAY())-1,MONTH(TODAY()),DAY(TODAY())),Tableau122[[#This Row],[MONTANT]],\"\")","v":""},{"$f":"Tableau122[[#This Row],[FACTURE]]","v":208},{"$f":"IFERROR(VLOOKUP(Tableau122[[#This Row],[FACTURE]],Ecriture[[_FactureNumero]:[_DateFacture]],2,FALSE),\"\")","v":""},{"$f":"IFERROR(VLOOKUP(Tableau122[[#This Row],[FACTURE]],Ecriture[[_FactureNumero]:[_FactureLibelle]],7,FALSE),\"\")","v":""}]
[null,217,{"$f":"IFERROR(VLOOKUP(Tableau122[[#This Row],[REFERENCE DOSSIER]],Collaborateur_Dossier[[Collaborateur dossier]:[Responsable dossier]],2,FALSE),\"\")","v":""},{"$f":"IFERROR(VLOOKUP(VLOOKUP(Tableau122[[#This Row],[FACTURE]],Ecriture[[_FactureNumero]:[_ClientID]],4,FALSE),Personne[],7,FALSE),\"\")","v":""},{"$f":"IFERROR(VLOOKUP(Tableau122[[#This Row],[FACTURE]],Ecriture[[_DossierCode]:[_FactureNumero]],5,FALSE),\"\")","v":""},{"$f":"IFERROR(VLOOKUP(Tableau122[[#This Row],[REFERENCE DOSSIER]],Dossier[[DossierCode]:[DossierNom]],2,FALSE),\"\")","v":""},{"$f":"IFERROR(VLOOKUP(Tableau122[[#This Row],[FACTURE]],Ecriture[[_FactureNumero]:[_TotalTTC]],6,FALSE),\"\")","v":""},{"$f":"IF(AND(Tableau122[[#This Row],[+ 1 AN]]=\"\",Tableau122[[#This Row],[+ 4 MOIS]]=\"\",Tableau122[[#This Row],[DATE]]<=DATE(YEAR(TODAY()),MONTH(TODAY())-2,DAY(TODAY()))),Tableau122[[#This Row],[MONTANT]],\"\")","v":""},{"$f":"IF(AND(Tableau122[[#This Row],[+ 1 AN]]=\"\",Tableau122[[#This Row],[DATE]]<=DATE(YEAR(TODAY()),MONTH(TODAY())-4,DAY(TODAY()))),Tableau122[[#This Row],[MONTANT]],\"\")","v":""},{"$f":"IF(Tableau122[[#This Row],[DATE]]<=DATE(YEAR(TODAY())-1,MONTH(TODAY()),DAY(TODAY())),Tableau122[[#This Row],[MONTANT]],\"\")","v":""},{"$f":"Tableau122[[#This Row],[FACTURE]]","v":217},{"$f":"IFERROR(VLOOKUP(Tableau122[[#This Row],[FACTURE]],Ecriture[[_FactureNumero]:[_DateFacture]],2,FALSE),\"\")","v":""},{"$f":"IFERROR(VLOOKUP(Tableau122[[#This Row],[FACTURE]],Ecriture[[_FactureNumero]:[_FactureLibelle]],7,FALSE),\"\")","v":""}]
[null,157,{"$f":"IFERROR(VLOOKUP(Tableau122[[#This Row],[REFERENCE DOSSIER]],Collaborateur_Dossier[[Collaborateur dossier]:[Responsable dossier]],2,FALSE),\"\")","v":""},{"$f":"IFERROR(VLOOKUP(VLOOKUP(Tableau122[[#This Row],[FACTURE]],Ecriture[[_FactureNumero]:[_ClientID]],4,FALSE),Personne[],7,FALSE),\"\")","v":""},{"$f":"IFERROR(VLOOKUP(Tableau122[[#This Row],[FACTURE]],Ecriture[[_DossierCode]:[_FactureNumero]],5,FALSE),\"\")","v":""},{"$f":"IFERROR(VLOOKUP(Tableau122[[#This Row],[REFERENCE DOSSIER]],Dossier[[DossierCode]:[DossierNom]],2,FALSE),\"\")","v":""},{"$f":"IFERROR(VLOOKUP(Tableau122[[#This Row],[FACTURE]],Ecriture[[_FactureNumero]:[_TotalTTC]],6,FALSE),\"\")","v":""},{"$f":"IF(AND(Tableau122[[#This Row],[+ 1 AN]]=\"\",Tableau122[[#This Row],[+ 4 MOIS]]=\"\",Tableau122[[#This Row],[DATE]]<=DATE(YEAR(TODAY()),MONTH(TODAY())-2,DAY(TODAY()))),Tableau122[[#This Row],[MONTANT]],\"\")","v":""},{"$f":"IF(AND(Tableau122[[#This Row],[+ 1 AN]]=\"\",Tableau122[[#This Row],[DATE]]<=DATE(YEAR(TODAY()),MONTH(TODAY())-4,DAY(TODAY()))),Tableau122[[#This Row],[MONTANT]],\"\")","v":""},{"$f":"IF(Tableau122[[#This Row],[DATE]]<=DATE(YEAR(TODAY())-1,MONTH(TODAY()),DAY(TODAY())),Tableau122[[#This Row],[MONTANT]],\"\")","v":""},{"$f":"Tableau122[[#This Row],[FACTURE]]","v":157},{"$f":"IFERROR(VLOOKUP(Tableau122[[#This Row],[FACTURE]],Ecriture[[_FactureNumero]:[_DateFacture]],2,FALSE),\"\")","v":""},{"$f":"IFERROR(VLOOKUP(Tableau122[[#This Row],[FACTURE]],Ecriture[[_FactureNumero]:[_FactureLibelle]],7,FALSE),\"\")","v":""}]
[null,194,{"$f":"IFERROR(VLOOKUP(Tableau122[[#This Row],[REFERENCE DOSSIER]],Collaborateur_Dossier[[Collaborateur dossier]:[Responsable dossier]],2,FALSE),\"\")","v":""},{"$f":"IFERROR(VLOOKUP(VLOOKUP(Tableau122[[#This Row],[FACTURE]],Ecriture[[_FactureNumero]:[_ClientID]],4,FALSE),Personne[],7,FALSE),\"\")","v":""},{"$f":"IFERROR(VLOOKUP(Tableau122[[#This Row],[FACTURE]],Ecriture[[_DossierCode]:[_FactureNumero]],5,FALSE),\"\")","v":""},{"$f":"IFERROR(VLOOKUP(Tableau122[[#This Row],[REFERENCE DOSSIER]],Dossier[[DossierCode]:[DossierNom]],2,FALSE),\"\")","v":""},{"$f":"IFERROR(VLOOKUP(Tableau122[[#This Row],[FACTURE]],Ecriture[[_FactureNumero]:[_TotalTTC]],6,FALSE),\"\")","v":""},{"$f":"IF(AND(Tableau122[[#This Row],[+ 1 AN]]=\"\",Tableau122[[#This Row],[+ 4 MOIS]]=\"\",Tableau122[[#This Row],[DATE]]<=DATE(YEAR(TODAY()),MONTH(TODAY())-2,DAY(TODAY()))),Tableau122[[#This Row],[MONTANT]],\"\")","v":""},{"$f":"IF(AND(Tableau122[[#This Row],[+ 1 AN]]=\"\",Tableau122[[#This Row],[DATE]]<=DATE(YEAR(TODAY()),MONTH(TODAY())-4,DAY(TODAY()))),Tableau122[[#This Row],[MONTANT]],\"\")","v":""},{"$f":"IF(Tableau122[[#This Row],[DATE]]<=DATE(YEAR(TODAY())-1,MONTH(TODAY()),DAY(TODAY())),Tableau122[[#This Row],[MONTANT]],\"\")","v":""},{"$f":"Tableau122[[#This Row],[FACTURE]]","v":194},{"$f":"IFERROR(VLOOKUP(Tableau122[[#This Row],[FACTURE]],Ecriture[[_FactureNumero]:[_DateFacture]],2,FALSE),\"\")","v":""},{"$f":"IFERROR(VLOOKUP(Tableau122[[#This Row],[FACTURE]],Ecriture[[_FactureNumero]:[_FactureLibelle]],7,FALSE),\"\")","v":""}]
[null,149,{"$f":"IFERROR(VLOOKUP(Tableau122[[#This Row],[REFERENCE DOSSIER]],Collaborateur_Dossier[[Collaborateur dossier]:[Responsable dossier]],2,FALSE),\"\")","v":""},{"$f":"IFERROR(VLOOKUP(VLOOKUP(Tableau122[[#This Row],[FACTURE]],Ecriture[[_FactureNumero]:[_ClientID]],4,FALSE),Personne[],7,FALSE),\"\")","v":""},{"$f":"IFERROR(VLOOKUP(Tableau122[[#This Row],[FACTURE]],Ecriture[[_DossierCode]:[_FactureNumero]],5,FALSE),\"\")","v":""},{"$f":"IFERROR(VLOOKUP(Tableau122[[#This Row],[REFERENCE DOSSIER]],Dossier[[DossierCode]:[DossierNom]],2,FALSE),\"\")","v":""},{"$f":"IFERROR(VLOOKUP(Tableau122[[#This Row],[FACTURE]],Ecriture[[_FactureNumero]:[_TotalTTC]],6,FALSE),\"\")","v":""},{"$f":"IF(AND(Tableau122[[#This Row],[+ 1 AN]]=\"\",Tableau122[[#This Row],[+ 4 MOIS]]=\"\",Tableau122[[#This Row],[DATE]]<=DATE(YEAR(TODAY()),MONTH(TODAY())-2,DAY(TODAY()))),Tableau122[[#This Row],[MONTANT]],\"\")","v":""},{"$f":"IF(AND(Tableau122[[#This Row],[+ 1 AN]]=\"\",Tableau122[[#This Row],[DATE]]<=DATE(YEAR(TODAY()),MONTH(TODAY())-4,DAY(TODAY()))),Tableau122[[#This Row],[MONTANT]],\"\")","v":""},{"$f":"IF(Tableau122[[#This Row],[DATE]]<=DATE(YEAR(TODAY())-1,MONTH(TODAY()),DAY(TODAY())),Tableau122[[#This Row],[MONTANT]],\"\")","v":""},{"$f":"Tableau122[[#This Row],[FACTURE]]","v":149},{"$f":"IFERROR(VLOOKUP(Tableau122[[#This Row],[FACTURE]],Ecriture[[_FactureNumero]:[_DateFacture]],2,FALSE),\"\")","v":""},{"$f":"IFERROR(VLOOKUP(Tableau122[[#This Row],[FACTURE]],Ecriture[[_FactureNumero]:[_FactureLibelle]],7,FALSE),\"\")","v":""}]
[null,152,{"$f":"IFERROR(VLOOKUP(Tableau122[[#This Row],[REFERENCE DOSSIER]],Collaborateur_Dossier[[Collaborateur dossier]:[Responsable dossier]],2,FALSE),\"\")","v":""},{"$f":"IFERROR(VLOOKUP(VLOOKUP(Tableau122[[#This Row],[FACTURE]],Ecriture[[_FactureNumero]:[_ClientID]],4,FALSE),Personne[],7,FALSE),\"\")","v":""},{"$f":"IFERROR(VLOOKUP(Tableau122[[#This Row],[FACTURE]],Ecriture[[_DossierCode]:[_FactureNumero]],5,FALSE),\"\")","v":""},{"$f":"IFERROR(VLOOKUP(Tableau122[[#This Row],[REFERENCE DOSSIER]],Dossier[[DossierCode]:[DossierNom]],2,FALSE),\"\")","v":""},{"$f":"IFERROR(VLOOKUP(Tableau122[[#This Row],[FACTURE]],Ecriture[[_FactureNumero]:[_TotalTTC]],6,FALSE),\"\")","v":""},{"$f":"IF(AND(Tableau122[[#This Row],[+ 1 AN]]=\"\",Tableau122[[#This Row],[+ 4 MOIS]]=\"\",Tableau122[[#This Row],[DATE]]<=DATE(YEAR(TODAY()),MONTH(TODAY())-2,DAY(TODAY()))),Tableau122[[#This Row],[MONTANT]],\"\")","v":""},{"$f":"IF(AND(Tableau122[[#This Row],[+ 1 AN]]=\"\",Tableau122[[#This Row],[DATE]]<=DATE(YEAR(TODAY()),MONTH(TODAY())-4,DAY(TODAY()))),Tableau122[[#This Row],[MONTANT]],\"\")","v":""},{"$f":"IF(Tableau122[[#This Row],[DATE]]<=DATE(YEAR(TODAY())-1,MONTH(TODAY()),DAY(TODAY())),Tableau122[[#This Row],[MONTANT]],\"\")","v":""},{"$f":"Tableau122[[#This Row],[FACTURE]]","v":152},{"$f":"IFERROR(VLOOKUP(Tableau122[[#This Row],[FACTURE]],Ecriture[[_FactureNumero]:[_DateFacture]],2,FALSE),\"\")","v":""},{"$f":"IFERROR(VLOOKUP(Tableau122[[#This Row],[FACTURE]],Ecriture[[_FactureNumero]:[_FactureLibelle]],7,FALSE),\"\")","v":""}]
[null,153,{"$f":"IFERROR(VLOOKUP(Tableau122[[#This Row],[REFERENCE DOSSIER]],Collaborateur_Dossier[[Collaborateur dossier]:[Responsable dossier]],2,FALSE),\"\")","v":""},{"$f":"IFERROR(VLOOKUP(VLOOKUP(Tableau122[[#This Row],[FACTURE]],Ecriture[[_FactureNumero]:[_ClientID]],4,FALSE),Personne[],7,FALSE),\"\")","v":""},{"$f":"IFERROR(VLOOKUP(Tableau122[[#This Row],[FACTURE]],Ecriture[[_DossierCode]:[_FactureNumero]],5,FALSE),\"\")","v":""},{"$f":"IFERROR(VLOOKUP(Tableau122[[#This Row],[REFERENCE DOSSIER]],Dossier[[DossierCode]:[DossierNom]],2,FALSE),\"\")","v":""},{"$f":"IFERROR(VLOOKUP(Tableau122[[#This Row],[FACTURE]],Ecriture[[_FactureNumero]:[_TotalTTC]],6,FALSE),\"\")","v":""},{"$f":"IF(AND(Tableau122[[#This Row],[+ 1 AN]]=\"\",Tableau122[[#This Row],[+ 4 MOIS]]=\"\",Tableau122[[#This Row],[DATE]]<=DATE(YEAR(TODAY()),MONTH(TODAY())-2,DAY(TODAY()))),Tableau122[[#This Row],[MONTANT]],\"\")","v":""},{"$f":"IF(AND(Tableau122[[#This Row],[+ 1 AN]]=\"\",Tableau122[[#This Row],[DATE]]<=DATE(YEAR(TODAY()),MONTH(TODAY())-4,DAY(TODAY()))),Tableau122[[#This Row],[MONTANT]],\"\")","v":""},{"$f":"IF(Tableau122[[#This Row],[DATE]]<=DATE(YEAR(TODAY())-1,MONTH(TODAY()),DAY(TODAY())),Tableau122[[#This Row],[MONTANT]],\"\")","v":""},{"$f":"Tableau122[[#This Row],[FACTURE]]","v":153},{"$f":"IFERROR(VLOOKUP(Tableau122[[#This Row],[FACTURE]],Ecriture[[_FactureNumero]:[_DateFacture]],2,FALSE),\"\")","v":""},{"$f":"IFERROR(VLOOKUP(Tableau122[[#This Row],[FACTURE]],Ecriture[[_FactureNumero]:[_FactureLibelle]],7,FALSE),\"\")","v":""}]

{"sheet":"BI - PER","index":3,"n_rows":3434,"n_cols":33,"rows_kept":2250,"cut":true,"hidden":false,"merged":[],"bounds":{"rows_first":1000,"rows_last":250,"rows_between":1000,"halvings":1}}
[]
[null,"FICHES PERSONNES"]
[null,"EXPORT DE DONNEES"]
[]
[null,"PersonneId","Actif","TypePersonne","ClientFacture","Territoire","Juridiction","TypeJuridiction","NumeroCompteComptable","NomComplet","Civilite","Nom","Prenom","Capital","Adresse","CodePostal","Ville","VilleRCS","CodePays","Pays","CodeNAF","Siren","Siret","GroupeId","GroupeNom","Forme","SituationFamiliale","RegimeMatrimonial","DateModification","DateFraicheur","Facture (HT)","Facture unique (HT)","Adresse complète"]
[null,null,null,null,null,null,null,null,null,null,null,null,null,null,null,null,null,null,null,null,null,null,null,null,null,null,null,null,null,null,{"$f":"IF(PARAMETRES!$B$3=\"SANS\",SUMIFS(Honoraire[TotalHonoraireHT],Honoraire[ClientId],Personne[[#This Row],[PersonneId]]),SUMIFS(Honoraire[TotalHT],Honoraire[ClientId],Personne[[#This Row],[PersonneId]]))","v":0},{"$f":"Personne[[#This Row],[Facture (HT)]]+ROW()/100000","v":6.0000000000000002E-5},{"$f":"_xlfn.CONCAT(Personne[[#This Row],[Adresse]],\" \",Personne[[#This Row],[CodePostal]],\" \",Personne[[#This Row],[Ville]],\" \",Personne[[#This Row],[CodePays]])","v":"   "}]
[null,null,null,null,null,null,null,null,null,null,null,null,null,null,null,null,null,null,null,null,null,null,null,null,null,null,null,null,null,null,{"$f":"IF(PARAMETRES!$B$3=\"SANS\",SUMIFS(Honoraire[TotalHonoraireHT],Honoraire[ClientId],Personne[[#This Row],[PersonneId]]),SUMIFS(Honoraire[TotalHT],Honoraire[ClientId],Personne[[#This Row],[PersonneId]]))","v":0},{"$f":"Personne[[#This Row],[Facture (HT)]]+ROW()/100000","v":6.9999999999999994E-5},{"$f":"_xlfn.CONCAT(Personne[[#This Row],[Adresse]],\" \",Personne[[#This Row],[CodePostal]],\" \",Personne[[#This Row],[Ville]],\" \",Personne[[#This Row],[CodePays]])","v":"   "}]
[null,null,null,null,null,null,null,null,null,null,null,null,null,null,null,null,null,null,null,null,null,null,null,null,null,null,null,null,null,null,{"$f":"IF(PARAMETRES!$B$3=\"SANS\",SUMIFS(Honoraire[TotalHonoraireHT],Honoraire[ClientId],Personne[[#This Row],[PersonneId]]),SUMIFS(Honoraire[TotalHT],Honoraire[ClientId],Personne[[#This Row],[PersonneId]]))","v":0},{"$f":"Personne[[#This Row],[Facture (HT)]]+ROW()/100000","v":8.0000000000000007E-5},{"$f":"_xlfn.CONCAT(Personne[[#This Row],[Adresse]],\" \",Personne[[#This Row],[CodePostal]],\" \",Personne[[#This Row],[Ville]],\" \",Personne[[#This Row],[CodePays]])","v":"   "}]
[null,null,null,null,null,null,null,null,null,null,null,null,null,null,null,null,null,null,null,null,null,null,null,null,null,null,null,null,null,null,{"$f":"IF(PARAMETRES!$B$3=\"SANS\",SUMIFS(Honoraire[TotalHonoraireHT],Honoraire[ClientId],Personne[[#This Row],[PersonneId]]),SUMIFS(Honoraire[TotalHT],Honoraire[ClientId],Personne[[#This Row],[PersonneId]]))","v":0},{"$f":"Personne[[#This Row],[Facture (HT)]]+ROW()/100000","v":9.0000000000000006E-5},{"$f":"_xlfn.CONCAT(Personne[[#This Row],[Adresse]],\" \",Personne[[#This Row],[CodePostal]],\" \",Personne[[#This Row],[Ville]],\" \",Personne[[#This Row],[CodePays]])","v":"   "}]
[null,null,null,null,null,null,null,null,null,null,null,null,null,null,null,null,null,null,null,null,null,null,null,null,null,null,null,null,null,null,{"$f":"IF(PARAMETRES!$B$3=\"SANS\",SUMIFS(Honoraire[TotalHonoraireHT],Honoraire[ClientId],Personne[[#This Row],[PersonneId]]),SUMIFS(Honoraire[TotalHT],Honoraire[ClientId],Personne[[#This Row],[PersonneId]]))","v":0},{"$f":"Personne[[#This Row],[Facture (HT)]]+ROW()/100000","v":1E-4},{"$f":"_xlfn.CONCAT(Personne[[#This Row],[Adresse]],\" \",Personne[[#This Row],[CodePostal]],\" \",Personne[[#This Row],[Ville]],\" \",Personne[[#This Row],[CodePays]])","v":"   "}]
[null,null,null,null,null,null,null,null,null,null,null,null,null,null,null,null,null,null,null,null,null,null,null,null,null,null,null,null,null,null,{"$f":"IF(PARAMETRES!$B$3=\"SANS\",SUMIFS(Honoraire[TotalHonoraireHT],Honoraire[ClientId],Personne[[#This Row],[PersonneId]]),SUMIFS(Honoraire[TotalHT],Honoraire[ClientId],Personne[[#This Row],[PersonneId]]))","v":0},{"$f":"Personne[[#This Row],[Facture (HT)]]+ROW()/100000","v":1.1E-4},{"$f":"_xlfn.CONCAT(Personne[[#This Row],[Adresse]],\" \",Personne[[#This Row],[CodePostal]],\" \",Personne[[#This Row],[Ville]],\" \",Personne[[#This Row],[CodePays]])","v":"   "}]
[null,null,null,null,null,null,null,null,null,null,null,null,null,null,null,null,null,null,null,null,null,null,null,null,null,null,null,null,null,null,{"$f":"IF(PARAMETRES!$B$3=\"SANS\",SUMIFS(Honoraire[TotalHonoraireHT],Honoraire[ClientId],Personne[[#This Row],[PersonneId]]),SUMIFS(Honoraire[TotalHT],Honoraire[ClientId],Personne[[#This Row],[PersonneId]]))","v":0},{"$f":"Personne[[#This Row],[Facture (HT)]]+ROW()/100000","v":1.2E-4},{"$f":"_xlfn.CONCAT(Personne[[#This Row],[Adresse]],\" \",Personne[[#This Row],[CodePostal]],\" \",Personne[[#This Row],[Ville]],\" \",Personne[[#This Row],[CodePays]])","v":"   "}]
[null,null,null,null,null,null,null,null,null,null,null,null,null,null,null,null,null,null,null,null,null,null,null,null,null,null,null,null,null,null,{"$f":"IF(PARAMETRES!$B$3=\"SANS\",SUMIFS(Honoraire[TotalHonoraireHT],Honoraire[ClientId],Personne[[#This Row],[PersonneId]]),SUMIFS(Honoraire[TotalHT],Honoraire[ClientId],Personne[[#This Row],[PersonneId]]))","v":0},{"$f":"Personne[[#This Row],[Facture (HT)]]+ROW()/100000","v":1.2999999999999999E-4},{"$f":"_xlfn.CONCAT(Personne[[#This Row],[Adresse]],\" \",Personne[[#This Row],[CodePostal]],\" \",Personne[[#This Row],[Ville]],\" \",Personne[[#This Row],[CodePays]])","v":"   "}]
[null,null,null,null,null,null,null,null,null,null,null,null,null,null,null,null,null,null,null,null,null,null,null,null,null,null,null,null,null,null,{"$f":"IF(PARAMETRES!$B$3=\"SANS\",SUMIFS(Honoraire[TotalHonoraireHT],Honoraire[ClientId],Personne[[#This Row],[PersonneId]]),SUMIFS(Honoraire[TotalHT],Honoraire[ClientId],Personne[[#This Row],[PersonneId]]))","v":0},{"$f":"Personne[[#This Row],[Facture (HT)]]+ROW()/100000","v":1.3999999999999999E-4},{"$f":"_xlfn.CONCAT(Personne[[#This Row],[Adresse]],\" \",Personne[[#This Row],[CodePostal]],\" \",Personne[[#This Row],[Ville]],\" \",Personne[[#This Row],[CodePays]])","v":"   "}]
[null,null,null,null,null,null,null,null,null,null,null,null,null,null,null,null,null,null,null,null,null,null,null,null,null,null,null,null,null,null,{"$f":"IF(PARAMETRES!$B$3=\"SANS\",SUMIFS(Honoraire[TotalHonoraireHT],Honoraire[ClientId],Personne[[#This Row],[PersonneId]]),SUMIFS(Honoraire[TotalHT],Honoraire[ClientId],Personne[[#This Row],[PersonneId]]))","v":0},{"$f":"Personne[[#This Row],[Facture (HT)]]+ROW()/100000","v":1.4999999999999999E-4},{"$f":"_xlfn.CONCAT(Personne[[#This Row],[Adresse]],\" \",Personne[[#This Row],[CodePostal]],\" \",Personne[[#This Row],[Ville]],\" \",Personne[[#This Row],[CodePays]])","v":"   "}]
[null,null,null,null,null,null,null,null,null,null,null,null,null,null,null,null,null,null,null,null,null,null,null,null,null,null,null,null,null,null,{"$f":"IF(PARAMETRES!$B$3=\"SANS\",SUMIFS(Honoraire[TotalHonoraireHT],Honoraire[ClientId],Personne[[#This Row],[PersonneId]]),SUMIFS(Honoraire[TotalHT],Honoraire[ClientId],Personne[[#This Row],[PersonneId]]))","v":0},{"$f":"Personne[[#This Row],[Facture (HT)]]+ROW()/100000","v":1.6000000000000001E-4},{"$f":"_xlfn.CONCAT(Personne[[#This Row],[Adresse]],\" \",Personne[[#This Row],[CodePostal]],\" \",Personne[[#This Row],[Ville]],\" \",Personne[[#This Row],[CodePays]])","v":"   "}]
[null,null,null,null,null,null,null,null,null,null,null,null,null,null,null,null,null,null,null,null,null,null,null,null,null,null,null,null,null,null,{"$f":"IF(PARAMETRES!$B$3=\"SANS\",SUMIFS(Honoraire[TotalHonoraireHT],Honoraire[ClientId],Personne[[#This Row],[PersonneId]]),SUMIFS(Honoraire[TotalHT],Honoraire[ClientId],Personne[[#This Row],[PersonneId]]))","v":0},{"$f":"Personne[[#This Row],[Facture (HT)]]+ROW()/100000","v":1.7000000000000001E-4},{"$f":"_xlfn.CONCAT(Personne[[#This Row],[Adresse]],\" \",Personne[[#This Row],[CodePostal]],\" \",Personne[[#This Row],[Ville]],\" \",Personne[[#This Row],[CodePays]])","v":"   "}]
[null,null,null,null,null,null,null,null,null,null,null,null,null,null,null,null,null,null,null,null,null,null,null,null,null,null,null,null,null,null,{"$f":"IF(PARAMETRES!$B$3=\"SANS\",SUMIFS(Honoraire[TotalHonoraireHT],Honoraire[ClientId],Personne[[#This Row],[PersonneId]]),SUMIFS(Honoraire[TotalHT],Honoraire[ClientId],Personne[[#This Row],[PersonneId]]))","v":0},{"$f":"Personne[[#This Row],[Facture (HT)]]+ROW()/100000","v":1.8000000000000001E-4},{"$f":"_xlfn.CONCAT(Personne[[#This Row],[Adresse]],\" \",Personne[[#This Row],[CodePostal]],\" \",Personne[[#This Row],[Ville]],\" \",Personne[[#This Row],[CodePays]])","v":"   "}]
[null,null,null,null,null,null,null,null,null,null,null,null,null,null,null,null,null,null,null,null,null,null,null,null,null,null,null,null,null,null,{"$f":"IF(PARAMETRES!$B$3=\"SANS\",SUMIFS(Honoraire[TotalHonoraireHT],Honoraire[ClientId],Personne[[#This Row],[PersonneId]]),SUMIFS(Honoraire[TotalHT],Honoraire[ClientId],Personne[[#This Row],[PersonneId]]))","v":0},{"$f":"Personne[[#This Row],[Facture (HT)]]+ROW()/100000","v":1.9000000000000001E-4},{"$f":"_xlfn.CONCAT(Personne[[#This Row],[Adresse]],\" \",Personne[[#This Row],[CodePostal]],\" \",Personne[[#This Row],[Ville]],\" \",Personne[[#This Row],[CodePays]])","v":"   "}]
[null,null,null,null,null,null,null,null,null,null,null,null,null,null,null,null,null,null,null,null,null,null,null,null,null,null,null,null,null,null,{"$f":"IF(PARAMETRES!$B$3=\"SANS\",SUMIFS(Honoraire[TotalHonoraireHT],Honoraire[ClientId],Personne[[#This Row],[PersonneId]]),SUMIFS(Honoraire[TotalHT],Honoraire[ClientId],Personne[[#This Row],[PersonneId]]))","v":0},{"$f":"Personne[[#This Row],[Facture (HT)]]+ROW()/100000","v":2.0000000000000001E-4},{"$f":"_xlfn.CONCAT(Personne[[#This Row],[Adresse]],\" \",Personne[[#This Row],[CodePostal]],\" \",Personne[[#This Row],[Ville]],\" \",Personne[[#This Row],[CodePays]])","v":"   "}]
[null,null,null,null,null,null,null,null,null,null,null,null,null,null,null,null,null,null,null,null,null,null,null,null,null,null,null,null,null,null,{"$f":"IF(PARAMETRES!$B$3=\"SANS\",SUMIFS(Honoraire[TotalHonoraireHT],Honoraire[ClientId],Personne[[#This Row],[PersonneId]]),SUMIFS(Honoraire[TotalHT],Honoraire[ClientId],Personne[[#This Row],[PersonneId]]))","v":0},{"$f":"Personne[[#This Row],[Facture (HT)]]+ROW()/100000","v":2.1000000000000001E-4},{"$f":"_xlfn.CONCAT(Personne[[#This Row],[Adresse]],\" \",Personne[[#This Row],[CodePostal]],\" \",Personne[[#This Row],[Ville]],\" \",Personne[[#This Row],[CodePays]])","v":"   "}]
[null,null,null,null,null,null,null,null,null,null,null,null,null,null,null,null,null,null,null,null,null,null,null,null,null,null,null,null,null,null,{"$f":"IF(PARAMETRES!$B$3=\"SANS\",SUMIFS(Honoraire[TotalHonoraireHT],Honoraire[ClientId],Personne[[#This Row],[PersonneId]]),SUMIFS(Honoraire[TotalHT],Honoraire[ClientId],Personne[[#This Row],[PersonneId]]))","v":0},{"$f":"Personne[[#This Row],[Facture (HT)]]+ROW()/100000","v":2.2000000000000001E-4},{"$f":"_xlfn.CONCAT(Personne[[#This Row],[Adresse]],\" \",Personne[[#This Row],[CodePostal]],\" \",Personne[[#This Row],[Ville]],\" \",Personne[[#This Row],[CodePays]])","v":"   "}]
[null,null,null,null,null,null,null,null,null,null,null,null,null,null,null,null,null,null,null,null,null,null,null,null,null,null,null,null,null,null,{"$f":"IF(PARAMETRES!$B$3=\"SANS\",SUMIFS(Honoraire[TotalHonoraireHT],Honoraire[ClientId],Personne[[#This Row],[PersonneId]]),SUMIFS(Honoraire[TotalHT],Honoraire[ClientId],Personne[[#This Row],[PersonneId]]))","v":0},{"$f":"Personne[[#This Row],[Facture (HT)]]+ROW()/100000","v":2.3000000000000001E-4},{"$f":"_xlfn.CONCAT(Personne[[#This Row],[Adresse]],\" \",Personne[[#This Row],[CodePostal]],\" \",Personne[[#This Row],[Ville]],\" \",Personne[[#This Row],[CodePays]])","v":"   "}]
[null,null,null,null,null,null,null,null,null,null,null,null,null,null,null,null,null,null,null,null,null,null,null,null,null,null,null,null,null,null,{"$f":"IF(PARAMETRES!$B$3=\"SANS\",SUMIFS(Honoraire[TotalHonoraireHT],Honoraire[ClientId],Personne[[#This Row],[PersonneId]]),SUMIFS(Honoraire[TotalHT],Honoraire[ClientId],Personne[[#This Row],[PersonneId]]))","v":0},{"$f":"Personne[[#This Row],[Facture (HT)]]+ROW()/100000","v":2.4000000000000001E-4},{"$f":"_xlfn.CONCAT(Personne[[#This Row],[Adresse]],\" \",Personne[[#This Row],[CodePostal]],\" \",Personne[[#This Row],[Ville]],\" \",Personne[[#This Row],[CodePays]])","v":"   "}]
[null,null,null,null,null,null,null,null,null,null,null,null,null,null,null,null,null,null,null,null,null,null,null,null,null,null,null,null,null,null,{"$f":"IF(PARAMETRES!$B$3=\"SANS\",SUMIFS(Honoraire[TotalHonoraireHT],Honoraire[ClientId],Personne[[#This Row],[PersonneId]]),SUMIFS(Honoraire[TotalHT],Honoraire[ClientId],Personne[[#This Row],[PersonneId]]))","v":0},{"$f":"Personne[[#This Row],[Facture (HT)]]+ROW()/100000","v":2.5000000000000001E-4},{"$f":"_xlfn.CONCAT(Personne[[#This Row],[Adresse]],\" \",Personne[[#This Row],[CodePostal]],\" \",Personne[[#This Row],[Ville]],\" \",Personne[[#This Row],[CodePays]])","v":"   "}]
[null,null,null,null,null,null,null,null,null,null,null,null,null,null,null,null,null,null,null,null,null,null,null,null,null,null,null,null,null,null,{"$f":"IF(PARAMETRES!$B$3=\"SANS\",SUMIFS(Honoraire[TotalHonoraireHT],Honoraire[ClientId],Personne[[#This Row],[PersonneId]]),SUMIFS(Honoraire[TotalHT],Honoraire[ClientId],Personne[[#This Row],[PersonneId]]))","v":0},{"$f":"Personne[[#This Row],[Facture (HT)]]+ROW()/100000","v":2.5999999999999998E-4},{"$f":"_xlfn.CONCAT(Personne[[#This Row],[Adresse]],\" \",Personne[[#This Row],[CodePostal]],\" \",Personne[[#This Row],[Ville]],\" \",Personne[[#This Row],[CodePays]])","v":"   "}]
[null,null,null,null,null,null,null,null,null,null,null,null,null,null,null,null,null,null,null,null,null,null,null,null,null,null,null,null,null,null,{"$f":"IF(PARAMETRES!$B$3=\"SANS\",SUMIFS(Honoraire[TotalHonoraireHT],Honoraire[ClientId],Personne[[#This Row],[PersonneId]]),SUMIFS(Honoraire[TotalHT],Honoraire[ClientId],Personne[[#This Row],[PersonneId]]))","v":0},{"$f":"Personne[[#This Row],[Facture (HT)]]+ROW()/100000","v":2.7E-4},{"$f":"_xlfn.CONCAT(Personne[[#This Row],[Adresse]],\" \",Personne[[#This Row],[CodePostal]],\" \",Personne[[#This Row],[Ville]],\" \",Personne[[#This Row],[CodePays]])","v":"   "}]
[null,null,null,null,null,null,null,null,null,null,null,null,null,null,null,null,null,null,null,null,null,null,null,null,null,null,null,null,null,null,{"$f":"IF(PARAMETRES!$B$3=\"SANS\",SUMIFS(Honoraire[TotalHonoraireHT],Honoraire[ClientId],Personne[[#This Row],[PersonneId]]),SUMIFS(Honoraire[TotalHT],Honoraire[ClientId],Personne[[#This Row],[PersonneId]]))","v":0},{"$f":"Personne[[#This Row],[Facture (HT)]]+ROW()/100000","v":2.7999999999999998E-4},{"$f":"_xlfn.CONCAT(Personne[[#This Row],[Adresse]],\" \",Personne[[#This Row],[CodePostal]],\" \",Personne[[#This Row],[Ville]],\" \",Personne[[#This Row],[CodePays]])","v":"   "}]
[null,null,null,null,null,null,null,null,null,null,null,null,null,null,null,null,null,null,null,null,null,null,null,null,null,null,null,null,null,null,{"$f":"IF(PARAMETRES!$B$3=\"SANS\",SUMIFS(Honoraire[TotalHonoraireHT],Honoraire[ClientId],Personne[[#This Row],[PersonneId]]),SUMIFS(Honoraire[TotalHT],Honoraire[ClientId],Personne[[#This Row],[PersonneId]]))","v":0},{"$f":"Personne[[#This Row],[Facture (HT)]]+ROW()/100000","v":2.9E-4},{"$f":"_xlfn.CONCAT(Personne[[#This Row],[Adresse]],\" \",Personne[[#This Row],[CodePostal]],\" \",Personne[[#This Row],[Ville]],\" \",Personne[[#This Row],[CodePays]])","v":"   "}]
[null,null,null,null,null,null,null,null,null,null,null,null,null,null,null,null,null,null,null,null,null,null,null,null,null,null,null,null,null,null,{"$f":"IF(PARAMETRES!$B$3=\"SANS\",SUMIFS(Honoraire[TotalHonoraireHT],Honoraire[ClientId],Personne[[#This Row],[PersonneId]]),SUMIFS(Honoraire[TotalHT],Honoraire[ClientId],Personne[[#This Row],[PersonneId]]))","v":0},{"$f":"Personne[[#This Row],[Facture (HT)]]+ROW()/100000","v":2.9999999999999997E-4},{"$f":"_xlfn.CONCAT(Personne[[#This Row],[Adresse]],\" \",Personne[[#This Row],[CodePostal]],\" \",Personne[[#This Row],[Ville]],\" \",Personne[[#This Row],[CodePays]])","v":"   "}]
[null,null,null,null,null,null,null,null,null,null,null,null,null,null,null,null,null,null,null,null,null,null,null,null,null,null,null,null,null,null,{"$f":"IF(PARAMETRES!$B$3=\"SANS\",SUMIFS(Honoraire[TotalHonoraireHT],Honoraire[ClientId],Personne[[#This Row],[PersonneId]]),SUMIFS(Honoraire[TotalHT],Honoraire[ClientId],Personne[[#This Row],[PersonneId]]))","v":0},{"$f":"Personne[[#This Row],[Facture (HT)]]+ROW()/100000","v":3.1E-4},{"$f":"_xlfn.CONCAT(Personne[[#This Row],[Adresse]],\" \",Personne[[#This Row],[CodePostal]],\" \",Personne[[#This Row],[Ville]],\" \",Personne[[#This Row],[CodePays]])","v":"   "}]
[null,null,null,null,null,null,null,null,null,null,null,null,null,null,null,null,null,null,null,null,null,null,null,null,null,null,null,null,null,null,{"$f":"IF(PARAMETRES!$B$3=\"SANS\",SUMIFS(Honoraire[TotalHonoraireHT],Honoraire[ClientId],Personne[[#This Row],[PersonneId]]),SUMIFS(Honoraire[TotalHT],Honoraire[ClientId],Personne[[#This Row],[PersonneId]]))","v":0},{"$f":"Personne[[#This Row],[Facture (HT)]]+ROW()/100000","v":3.2000000000000003E-4},{"$f":"_xlfn.CONCAT(Personne[[#This Row],[Adresse]],\" \",Personne[[#This Row],[CodePostal]],\" \",Personne[[#This Row],[Ville]],\" \",Personne[[#This Row],[CodePays]])","v":"   "}]
[null,null,null,null,null,null,null,null,null,null,null,null,null,null,null,null,null,null,null,null,null,null,null,null,null,null,null,null,null,null,{"$f":"IF(PARAMETRES!$B$3=\"SANS\",SUMIFS(Honoraire[TotalHonoraireHT],Honoraire[ClientId],Personne[[#This Row],[PersonneId]]),SUMIFS(Honoraire[TotalHT],Honoraire[ClientId],Personne[[#This Row],[PersonneId]]))","v":0},{"$f":"Personne[[#This Row],[Facture (HT)]]+ROW()/100000","v":3.3E-4},{"$f":"_xlfn.CONCAT(Personne[[#This Row],[Adresse]],\" \",Personne[[#This Row],[CodePostal]],\" \",Personne[[#This Row],[Ville]],\" \",Personne[[#This Row],[CodePays]])","v":"   "}]
[null,null,null,null,null,null,null,null,null,null,null,null,null,null,null,null,null,null,null,null,null,null,null,null,null,null,null,null,null,null,{"$f":"IF(PARAMETRES!$B$3=\"SANS\",SUMIFS(Honoraire[TotalHonoraireHT],Honoraire[ClientId],Personne[[#This Row],[PersonneId]]),SUMIFS(Honoraire[TotalHT],Honoraire[ClientId],Personne[[#This Row],[PersonneId]]))","v":0},{"$f":"Personne[[#This Row],[Facture (HT)]]+ROW()/100000","v":3.4000000000000002E-4},{"$f":"_xlfn.CONCAT(Personne[[#This Row],[Adresse]],\" \",Personne[[#This Row],[CodePostal]],\" \",Personne[[#This Row],[Ville]],\" \",Personne[[#This Row],[CodePays]])","v":"   "}]
[null,null,null,null,null,null,null,null,null,null,null,null,null,null,null,null,null,null,null,null,null,null,null,null,null,null,null,null,null,null,{"$f":"IF(PARAMETRES!$B$3=\"SANS\",SUMIFS(Honoraire[TotalHonoraireHT],Honoraire[ClientId],Personne[[#This Row],[PersonneId]]),SUMIFS(Honoraire[TotalHT],Honoraire[ClientId],Personne[[#This Row],[PersonneId]]))","v":0},{"$f":"Personne[[#This Row],[Facture (HT)]]+ROW()/100000","v":3.5E-4},{"$f":"_xlfn.CONCAT(Personne[[#This Row],[Adresse]],\" \",Personne[[#This Row],[CodePostal]],\" \",Personne[[#This Row],[Ville]],\" \",Personne[[#This Row],[CodePays]])","v":"   "}]
[null,null,null,null,null,null,null,null,null,null,null,null,null,null,null,null,null,null,null,null,null,null,null,null,null,null,null,null,null,null,{"$f":"IF(PARAMETRES!$B$3=\"SANS\",SUMIFS(Honoraire[TotalHonoraireHT],Honoraire[ClientId],Personne[[#This Row],[PersonneId]]),SUMIFS(Honoraire[TotalHT],Honoraire[ClientId],Personne[[#This Row],[PersonneId]]))","v":0},{"$f":"Personne[[#This Row],[Facture (HT)]]+ROW()/100000","v":3.6000000000000002E-4},{"$f":"_xlfn.CONCAT(Personne[[#This Row],[Adresse]],\" \",Personne[[#This Row],[CodePostal]],\" \",Personne[[#This Row],[Ville]],\" \",Personne[[#This Row],[CodePays]])","v":"   "}]
[null,null,null,null,null,null,null,null,null,null,null,null,null,null,null,null,null,null,null,null,null,null,null,null,null,null,null,null,null,null,{"$f":"IF(PARAMETRES!$B$3=\"SANS\",SUMIFS(Honoraire[TotalHonoraireHT],Honoraire[ClientId],Personne[[#This Row],[PersonneId]]),SUMIFS(Honoraire[TotalHT],Honoraire[ClientId],Personne[[#This Row],[PersonneId]]))","v":0},{"$f":"Personne[[#This Row],[Facture (HT)]]+ROW()/100000","v":3.6999999999999999E-4},{"$f":"_xlfn.CONCAT(Personne[[#This Row],[Adresse]],\" \",Personne[[#This Row],[CodePostal]],\" \",Personne[[#This Row],[Ville]],\" \",Personne[[#This Row],[CodePays]])","v":"   "}]
[null,null,null,null,null,null,null,null,null,null,null,null,null,null,null,null,null,null,null,null,null,null,null,null,null,null,null,null,null,null,{"$f":"IF(PARAMETRES!$B$3=\"SANS\",SUMIFS(Honoraire[TotalHonoraireHT],Honoraire[ClientId],Personne[[#This Row],[PersonneId]]),SUMIFS(Honoraire[TotalHT],Honoraire[ClientId],Personne[[#This Row],[PersonneId]]))","v":0},{"$f":"Personne[[#This Row],[Facture (HT)]]+ROW()/100000","v":3.8000000000000002E-4},{"$f":"_xlfn.CONCAT(Personne[[#This Row],[Adresse]],\" \",Personne[[#This Row],[CodePostal]],\" \",Personne[[#This Row],[Ville]],\" \",Personne[[#This Row],[CodePays]])","v":"   "}]
[null,null,null,null,null,null,null,null,null,null,null,null,null,null,null,null,null,null,null,null,null,null,null,null,null,null,null,null,null,null,{"$f":"IF(PARAMETRES!$B$3=\"SANS\",SUMIFS(Honoraire[TotalHonoraireHT],Honoraire[ClientId],Personne[[#This Row],[PersonneId]]),SUMIFS(Honoraire[TotalHT],Honoraire[ClientId],Personne[[#This Row],[PersonneId]]))","v":0},{"$f":"Personne[[#This Row],[Facture (HT)]]+ROW()/100000","v":3.8999999999999999E-4},{"$f":"_xlfn.CONCAT(Personne[[#This Row],[Adresse]],\" \",Personne[[#This Row],[CodePostal]],\" \",Personne[[#This Row],[Ville]],\" \",Personne[[#This Row],[CodePays]])","v":"   "}]
[null,null,null,null,null,null,null,null,null,null,null,null,null,null,null,null,null,null,null,null,null,null,null,null,null,null,null,null,null,null,{"$f":"IF(PARAMETRES!$B$3=\"SANS\",SUMIFS(Honoraire[TotalHonoraireHT],Honoraire[ClientId],Personne[[#This Row],[PersonneId]]),SUMIFS(Honoraire[TotalHT],Honoraire[ClientId],Personne[[#This Row],[PersonneId]]))","v":0},{"$f":"Personne[[#This Row],[Facture (HT)]]+ROW()/100000","v":4.0000000000000002E-4},{"$f":"_xlfn.CONCAT(Personne[[#This Row],[Adresse]],\" \",Personne[[#This Row],[CodePostal]],\" \",Personne[[#This Row],[Ville]],\" \",Personne[[#This Row],[CodePays]])","v":"   "}]
[null,null,null,null,null,null,null,null,null,null,null,null,null,null,null,null,null,null,null,null,null,null,null,null,null,null,null,null,null,null,{"$f":"IF(PARAMETRES!$B$3=\"SANS\",SUMIFS(Honoraire[TotalHonoraireHT],Honoraire[ClientId],Personne[[#This Row],[PersonneId]]),SUMIFS(Honoraire[TotalHT],Honoraire[ClientId],Personne[[#This Row],[PersonneId]]))","v":0},{"$f":"Personne[[#This Row],[Facture (HT)]]+ROW()/100000","v":4.0999999999999999E-4},{"$f":"_xlfn.CONCAT(Personne[[#This Row],[Adresse]],\" \",Personne[[#This Row],[CodePostal]],\" \",Personne[[#This Row],[Ville]],\" \",Personne[[#This Row],[CodePays]])","v":"   "}]
[null,null,null,null,null,null,null,null,null,null,null,null,null,null,null,null,null,null,null,null,null,null,null,null,null,null,null,null,null,null,{"$f":"IF(PARAMETRES!$B$3=\"SANS\",SUMIFS(Honoraire[TotalHonoraireHT],Honoraire[ClientId],Personne[[#This Row],[PersonneId]]),SUMIFS(Honoraire[TotalHT],Honoraire[ClientId],Personne[[#This Row],[PersonneId]]))","v":0},{"$f":"Personne[[#This Row],[Facture (HT)]]+ROW()/100000","v":4.2000000000000002E-4},{"$f":"_xlfn.CONCAT(Personne[[#This Row],[Adresse]],\" \",Personne[[#This Row],[CodePostal]],\" \",Personne[[#This Row],[Ville]],\" \",Personne[[#This Row],[CodePays]])","v":"   "}]
[null,null,null,null,null,null,null,null,null,null,null,null,null,null,null,null,null,null,null,null,null,null,null,null,null,null,null,null,null,null,{"$f":"IF(PARAMETRES!$B$3=\"SANS\",SUMIFS(Honoraire[TotalHonoraireHT],Honoraire[ClientId],Personne[[#This Row],[PersonneId]]),SUMIFS(Honoraire[TotalHT],Honoraire[ClientId],Personne[[#This Row],[PersonneId]]))","v":0},{"$f":"Personne[[#This Row],[Facture (HT)]]+ROW()/100000","v":4.2999999999999999E-4},{"$f":"_xlfn.CONCAT(Personne[[#This Row],[Adresse]],\" \",Personne[[#This Row],[CodePostal]],\" \",Personne[[#This Row],[Ville]],\" \",Personne[[#This Row],[CodePays]])","v":"   "}]
[null,null,null,null,null,null,null,null,null,null,null,null,null,null,null,null,null,null,null,null,null,null,null,null,null,null,null,null,null,null,{"$f":"IF(PARAMETRES!$B$3=\"SANS\",SUMIFS(Honoraire[TotalHonoraireHT],Honoraire[ClientId],Personne[[#This Row],[PersonneId]]),SUMIFS(Honoraire[TotalHT],Honoraire[ClientId],Personne[[#This Row],[PersonneId]]))","v":0},{"$f":"Personne[[#This Row],[Facture (HT)]]+ROW()/100000","v":4.4000000000000002E-4},{"$f":"_xlfn.CONCAT(Personne[[#This Row],[Adresse]],\" \",Personne[[#This Row],[CodePostal]],\" \",Personne[[#This Row],[Ville]],\" \",Personne[[#This Row],[CodePays]])","v":"   "}]
[null,null,null,null,null,null,null,null,null,null,null,null,null,null,null,null,null,null,null,null,null,null,null,null,null,null,null,null,null,null,{"$f":"IF(PARAMETRES!$B$3=\"SANS\",SUMIFS(Honoraire[TotalHonoraireHT],Honoraire[ClientId],Personne[[#This Row],[PersonneId]]),SUMIFS(Honoraire[TotalHT],Honoraire[ClientId],Personne[[#This Row],[PersonneId]]))","v":0},{"$f":"Personne[[#This Row],[Facture (HT)]]+ROW()/100000","v":4.4999999999999999E-4},{"$f":"_xlfn.CONCAT(Personne[[#This Row],[Adresse]],\" \",Personne[[#This Row],[CodePostal]],\" \",Personne[[#This Row],[Ville]],\" \",Personne[[#This Row],[CodePays]])","v":"   "}]
[null,null,null,null,null,null,null,null,null,null,null,null,null,null,null,null,null,null,null,null,null,null,null,null,null,null,null,null,null,null,{"$f":"IF(PARAMETRES!$B$3=\"SANS\",SUMIFS(Honoraire[TotalHonoraireHT],Honoraire[ClientId],Personne[[#This Row],[PersonneId]]),SUMIFS(Honoraire[TotalHT],Honoraire[ClientId],Personne[[#This Row],[PersonneId]]))","v":0},{"$f":"Personne[[#This Row],[Facture (HT)]]+ROW()/100000","v":4.6000000000000001E-4},{"$f":"_xlfn.CONCAT(Personne[[#This Row],[Adresse]],\" \",Personne[[#This Row],[CodePostal]],\" \",Personne[[#This Row],[Ville]],\" \",Personne[[#This Row],[CodePays]])","v":"   "}]
[null,null,null,null,null,null,null,null,null,null,null,null,null,null,null,null,null,null,null,null,null,null,null,null,null,null,null,null,null,null,{"$f":"IF(PARAMETRES!$B$3=\"SANS\",SUMIFS(Honoraire[TotalHonoraireHT],Honoraire[ClientId],Personne[[#This Row],[PersonneId]]),SUMIFS(Honoraire[TotalHT],Honoraire[ClientId],Personne[[#This Row],[PersonneId]]))","v":0},{"$f":"Personne[[#This Row],[Facture (HT)]]+ROW()/100000","v":4.6999999999999999E-4},{"$f":"_xlfn.CONCAT(Personne[[#This Row],[Adresse]],\" \",Personne[[#This Row],[CodePostal]],\" \",Personne[[#This Row],[Ville]],\" \",Personne[[#This Row],[CodePays]])","v":"   "}]
[null,null,null,null,null,null,null,null,null,null,null,null,null,null,null,null,null,null,null,null,null,null,null,null,null,null,null,null,null,null,{"$f":"IF(PARAMETRES!$B$3=\"SANS\",SUMIFS(Honoraire[TotalHonoraireHT],Honoraire[ClientId],Personne[[#This Row],[PersonneId]]),SUMIFS(Honoraire[TotalHT],Honoraire[ClientId],Personne[[#This Row],[PersonneId]]))","v":0},{"$f":"Personne[[#This Row],[Facture (HT)]]+ROW()/100000","v":4.8000000000000001E-4},{"$f":"_xlfn.CONCAT(Personne[[#This Row],[Adresse]],\" \",Personne[[#This Row],[CodePostal]],\" \",Personne[[#This Row],[Ville]],\" \",Personne[[#This Row],[CodePays]])","v":"   "}]
[null,null,null,null,null,null,null,null,null,null,null,null,null,null,null,null,null,null,null,null,null,null,null,null,null,null,null,null,null,null,{"$f":"IF(PARAMETRES!$B$3=\"SANS\",SUMIFS(Honoraire[TotalHonoraireHT],Honoraire[ClientId],Personne[[#This Row],[PersonneId]]),SUMIFS(Honoraire[TotalHT],Honoraire[ClientId],Personne[[#This Row],[PersonneId]]))","v":0},{"$f":"Personne[[#This Row],[Facture (HT)]]+ROW()/100000","v":4.8999999999999998E-4},{"$f":"_xlfn.CONCAT(Personne[[#This Row],[Adresse]],\" \",Personne[[#This Row],[CodePostal]],\" \",Personne[[#This Row],[Ville]],\" \",Personne[[#This Row],[CodePays]])","v":"   "}]
[null,null,null,null,null,null,null,null,null,null,null,null,null,null,null,null,null,null,null,null,null,null,null,null,null,null,null,null,null,null,{"$f":"IF(PARAMETRES!$B$3=\"SANS\",SUMIFS(Honoraire[TotalHonoraireHT],Honoraire[ClientId],Personne[[#This Row],[PersonneId]]),SUMIFS(Honoraire[TotalHT],Honoraire[ClientId],Personne[[#This Row],[PersonneId]]))","v":0},{"$f":"Personne[[#This Row],[Facture (HT)]]+ROW()/100000","v":5.0000000000000001E-4},{"$f":"_xlfn.CONCAT(Personne[[#This Row],[Adresse]],\" \",Personne[[#This Row],[CodePostal]],\" \",Personne[[#This Row],[Ville]],\" \",Personne[[#This Row],[CodePays]])","v":"   "}]
[null,null,null,null,null,null,null,null,null,null,null,null,null,null,null,null,null,null,null,null,null,null,null,null,null,null,null,null,null,null,{"$f":"IF(PARAMETRES!$B$3=\"SANS\",SUMIFS(Honoraire[TotalHonoraireHT],Honoraire[ClientId],Personne[[#This Row],[PersonneId]]),SUMIFS(Honoraire[TotalHT],Honoraire[ClientId],Personne[[#This Row],[PersonneId]]))","v":0},{"$f":"Personne[[#This Row],[Facture (HT)]]+ROW()/100000","v":5.1000000000000004E-4},{"$f":"_xlfn.CONCAT(Personne[[#This Row],[Adresse]],\" \",Personne[[#This Row],[CodePostal]],\" \",Personne[[#This Row],[Ville]],\" \",Personne[[#This Row],[CodePays]])","v":"   "}]
[null,null,null,null,null,null,null,null,null,null,null,null,null,null,null,null,null,null,null,null,null,null,null,null,null,null,null,null,null,null,{"$f":"IF(PARAMETRES!$B$3=\"SANS\",SUMIFS(Honoraire[TotalHonoraireHT],Honoraire[ClientId],Personne[[#This Row],[PersonneId]]),SUMIFS(Honoraire[TotalHT],Honoraire[ClientId],Personne[[#This Row],[PersonneId]]))","v":0},{"$f":"Personne[[#This Row],[Facture (HT)]]+ROW()/100000","v":5.1999999999999995E-4},{"$f":"_xlfn.CONCAT(Personne[[#This Row],[Adresse]],\" \",Personne[[#This Row],[CodePostal]],\" \",Personne[[#This Row],[Ville]],\" \",Personne[[#This Row],[CodePays]])","v":"   "}]
[null,null,null,null,null,null,null,null,null,null,null,null,null,null,null,null,null,null,null,null,null,null,null,null,null,null,null,null,null,null,{"$f":"IF(PARAMETRES!$B$3=\"SANS\",SUMIFS(Honoraire[TotalHonoraireHT],Honoraire[ClientId],Personne[[#This Row],[PersonneId]]),SUMIFS(Honoraire[TotalHT],Honoraire[ClientId],Personne[[#This Row],[PersonneId]]))","v":0},{"$f":"Personne[[#This Row],[Facture (HT)]]+ROW()/100000","v":5.2999999999999998E-4},{"$f":"_xlfn.CONCAT(Personne[[#This Row],[Adresse]],\" \",Personne[[#This Row],[CodePostal]],\" \",Personne[[#This Row],[Ville]],\" \",Personne[[#This Row],[CodePays]])","v":"   "}]
[null,null,null,null,null,null,null,null,null,null,null,null,null,null,null,null,null,null,null,null,null,null,null,null,null,null,null,null,null,null,{"$f":"IF(PARAMETRES!$B$3=\"SANS\",SUMIFS(Honoraire[TotalHonoraireHT],Honoraire[ClientId],Personne[[#This Row],[PersonneId]]),SUMIFS(Honoraire[TotalHT],Honoraire[ClientId],Personne[[#This Row],[PersonneId]]))","v":0},{"$f":"Personne[[#This Row],[Facture (HT)]]+ROW()/100000","v":5.4000000000000001E-4},{"$f":"_xlfn.CONCAT(Personne[[#This Row],[Adresse]],\" \",Personne[[#This Row],[CodePostal]],\" \",Personne[[#This Row],[Ville]],\" \",Personne[[#This Row],[CodePays]])","v":"   "}]
[null,null,null,null,null,null,null,null,null,null,null,null,null,null,null,null,null,null,null,null,null,null,null,null,null,null,null,null,null,null,{"$f":"IF(PARAMETRES!$B$3=\"SANS\",SUMIFS(Honoraire[TotalHonoraireHT],Honoraire[ClientId],Personne[[#This Row],[PersonneId]]),SUMIFS(Honoraire[TotalHT],Honoraire[ClientId],Personne[[#This Row],[PersonneId]]))","v":0},{"$f":"Personne[[#This Row],[Facture (HT)]]+ROW()/100000","v":5.5000000000000003E-4},{"$f":"_xlfn.CONCAT(Personne[[#This Row],[Adresse]],\" \",Personne[[#This Row],[CodePostal]],\" \",Personne[[#This Row],[Ville]],\" \",Personne[[#This Row],[CodePays]])","v":"   "}]
[null,null,null,null,null,null,null,null,null,null,null,null,null,null,null,null,null,null,null,null,null,null,null,null,null,null,null,null,null,null,{"$f":"IF(PARAMETRES!$B$3=\"SANS\",SUMIFS(Honoraire[TotalHonoraireHT],Honoraire[ClientId],Personne[[#This Row],[PersonneId]]),SUMIFS(Honoraire[TotalHT],Honoraire[ClientId],Personne[[#This Row],[PersonneId]]))","v":0},{"$f":"Personne[[#This Row],[Facture (HT)]]+ROW()/100000","v":5.5999999999999995E-4},{"$f":"_xlfn.CONCAT(Personne[[#This Row],[Adresse]],\" \",Personne[[#This Row],[CodePostal]],\" \",Personne[[#This Row],[Ville]],\" \",Personne[[#This Row],[CodePays]])","v":"   "}]
[null,null,null,null,null,null,null,null,null,null,null,null,null,null,null,null,null,null,null,null,null,null,null,null,null,null,null,null,null,null,{"$f":"IF(PARAMETRES!$B$3=\"SANS\",SUMIFS(Honoraire[TotalHonoraireHT],Honoraire[ClientId],Personne[[#This Row],[PersonneId]]),SUMIFS(Honoraire[TotalHT],Honoraire[ClientId],Personne[[#This Row],[PersonneId]]))","v":0},{"$f":"Personne[[#This Row],[Facture (HT)]]+ROW()/100000","v":5.6999999999999998E-4},{"$f":"_xlfn.CONCAT(Personne[[#This Row],[Adresse]],\" \",Personne[[#This Row],[CodePostal]],\" \",Personne[[#This Row],[Ville]],\" \",Personne[[#This Row],[CodePays]])","v":"   "}]
[null,null,null,null,null,null,null,null,null,null,null,null,null,null,null,null,null,null,null,null,null,null,null,null,null,null,null,null,null,null,{"$f":"IF(PARAMETRES!$B$3=\"SANS\",SUMIFS(Honoraire[TotalHonoraireHT],Honoraire[ClientId],Personne[[#This Row],[PersonneId]]),SUMIFS(Honoraire[TotalHT],Honoraire[ClientId],Personne[[#This Row],[PersonneId]]))","v":0},{"$f":"Personne[[#This Row],[Facture (HT)]]+ROW()/100000","v":5.8E-4},{"$f":"_xlfn.CONCAT(Personne[[#This Row],[Adresse]],\" \",Personne[[#This Row],[CodePostal]],\" \",Personne[[#This Row],[Ville]],\" \",Personne[[#This Row],[CodePays]])","v":"   "}]
[null,null,null,null,null,null,null,null,null,null,null,null,null,null,null,null,null,null,null,null,null,null,null,null,null,null,null,null,null,null,{"$f":"IF(PARAMETRES!$B$3=\"SANS\",SUMIFS(Honoraire[TotalHonoraireHT],Honoraire[ClientId],Personne[[#This Row],[PersonneId]]),SUMIFS(Honoraire[TotalHT],Honoraire[ClientId],Personne[[#This Row],[PersonneId]]))","v":0},{"$f":"Personne[[#This Row],[Facture (HT)]]+ROW()/100000","v":5.9000000000000003E-4},{"$f":"_xlfn.CONCAT(Personne[[#This Row],[Adresse]],\" \",Personne[[#This Row],[CodePostal]],\" \",Personne[[#This Row],[Ville]],\" \",Personne[[#This Row],[CodePays]])","v":"   "}]
[null,null,null,null,null,null,null,null,null,null,null,null,null,null,null,null,null,null,null,null,null,null,null,null,null,null,null,null,null,null,{"$f":"IF(PARAMETRES!$B$3=\"SANS\",SUMIFS(Honoraire[TotalHonoraireHT],Honoraire[ClientId],Personne[[#This Row],[PersonneId]]),SUMIFS(Honoraire[TotalHT],Honoraire[ClientId],Personne[[#This Row],[PersonneId]]))","v":0},{"$f":"Personne[[#This Row],[Facture (HT)]]+ROW()/100000","v":5.9999999999999995E-4},{"$f":"_xlfn.CONCAT(Personne[[#This Row],[Adresse]],\" \",Personne[[#This Row],[CodePostal]],\" \",Personne[[#This Row],[Ville]],\" \",Personne[[#This Row],[CodePays]])","v":"   "}]
[null,null,null,null,null,null,null,null,null,null,null,null,null,null,null,null,null,null,null,null,null,null,null,null,null,null,null,null,null,null,{"$f":"IF(PARAMETRES!$B$3=\"SANS\",SUMIFS(Honoraire[TotalHonoraireHT],Honoraire[ClientId],Personne[[#This Row],[PersonneId]]),SUMIFS(Honoraire[TotalHT],Honoraire[ClientId],Personne[[#This Row],[PersonneId]]))","v":0},{"$f":"Personne[[#This Row],[Facture (HT)]]+ROW()/100000","v":6.0999999999999997E-4},{"$f":"_xlfn.CONCAT(Personne[[#This Row],[Adresse]],\" \",Personne[[#This Row],[CodePostal]],\" \",Personne[[#This Row],[Ville]],\" \",Personne[[#This Row],[CodePays]])","v":"   "}]
[null,null,null,null,null,null,null,null,null,null,null,null,null,null,null,null,null,null,null,null,null,null,null,null,null,null,null,null,null,null,{"$f":"IF(PARAMETRES!$B$3=\"SANS\",SUMIFS(Honoraire[TotalHonoraireHT],Honoraire[ClientId],Personne[[#This Row],[PersonneId]]),SUMIFS(Honoraire[TotalHT],Honoraire[ClientId],Personne[[#This Row],[PersonneId]]))","v":0},{"$f":"Personne[[#This Row],[Facture (HT)]]+ROW()/100000","v":6.2E-4},{"$f":"_xlfn.CONCAT(Personne[[#This Row],[Adresse]],\" \",Personne[[#This Row],[CodePostal]],\" \",Personne[[#This Row],[Ville]],\" \",Personne[[#This Row],[CodePays]])","v":"   "}]
[null,null,null,null,null,null,null,null,null,null,null,null,null,null,null,null,null,null,null,null,null,null,null,null,null,null,null,null,null,null,{"$f":"IF(PARAMETRES!$B$3=\"SANS\",SUMIFS(Honoraire[TotalHonoraireHT],Honoraire[ClientId],Personne[[#This Row],[PersonneId]]),SUMIFS(Honoraire[TotalHT],Honoraire[ClientId],Personne[[#This Row],[PersonneId]]))","v":0},{"$f":"Personne[[#This Row],[Facture (HT)]]+ROW()/100000","v":6.3000000000000003E-4},{"$f":"_xlfn.CONCAT(Personne[[#This Row],[Adresse]],\" \",Personne[[#This Row],[CodePostal]],\" \",Personne[[#This Row],[Ville]],\" \",Personne[[#This Row],[CodePays]])","v":"   "}]
[null,null,null,null,null,null,null,null,null,null,null,null,null,null,null,null,null,null,null,null,null,null,null,null,null,null,null,null,null,null,{"$f":"IF(PARAMETRES!$B$3=\"SANS\",SUMIFS(Honoraire[TotalHonoraireHT],Honoraire[ClientId],Personne[[#This Row],[PersonneId]]),SUMIFS(Honoraire[TotalHT],Honoraire[ClientId],Personne[[#This Row],[PersonneId]]))","v":0},{"$f":"Personne[[#This Row],[Facture (HT)]]+ROW()/100000","v":6.4000000000000005E-4},{"$f":"_xlfn.CONCAT(Personne[[#This Row],[Adresse]],\" \",Personne[[#This Row],[CodePostal]],\" \",Personne[[#This Row],[Ville]],\" \",Personne[[#This Row],[CodePays]])","v":"   "}]
[null,null,null,null,null,null,null,null,null,null,null,null,null,null,null,null,null,null,null,null,null,null,null,null,null,null,null,null,null,null,{"$f":"IF(PARAMETRES!$B$3=\"SANS\",SUMIFS(Honoraire[TotalHonoraireHT],Honoraire[ClientId],Personne[[#This Row],[PersonneId]]),SUMIFS(Honoraire[TotalHT],Honoraire[ClientId],Personne[[#This Row],[PersonneId]]))","v":0},{"$f":"Personne[[#This Row],[Facture (HT)]]+ROW()/100000","v":6.4999999999999997E-4},{"$f":"_xlfn.CONCAT(Personne[[#This Row],[Adresse]],\" \",Personne[[#This Row],[CodePostal]],\" \",Personne[[#This Row],[Ville]],\" \",Personne[[#This Row],[CodePays]])","v":"   "}]
[null,null,null,null,null,null,null,null,null,null,null,null,null,null,null,null,null,null,null,null,null,null,null,null,null,null,null,null,null,null,{"$f":"IF(PARAMETRES!$B$3=\"SANS\",SUMIFS(Honoraire[TotalHonoraireHT],Honoraire[ClientId],Personne[[#This Row],[PersonneId]]),SUMIFS(Honoraire[TotalHT],Honoraire[ClientId],Personne[[#This Row],[PersonneId]]))","v":0},{"$f":"Personne[[#This Row],[Facture (HT)]]+ROW()/100000","v":6.6E-4},{"$f":"_xlfn.CONCAT(Personne[[#This Row],[Adresse]],\" \",Personne[[#This Row],[CodePostal]],\" \",Personne[[#This Row],[Ville]],\" \",Personne[[#This Row],[CodePays]])","v":"   "}]
[null,null,null,null,null,null,null,null,null,null,null,null,null,null,null,null,null,null,null,null,null,null,null,null,null,null,null,null,null,null,{"$f":"IF(PARAMETRES!$B$3=\"SANS\",SUMIFS(Honoraire[TotalHonoraireHT],Honoraire[ClientId],Personne[[#This Row],[PersonneId]]),SUMIFS(Honoraire[TotalHT],Honoraire[ClientId],Personne[[#This Row],[PersonneId]]))","v":0},{"$f":"Personne[[#This Row],[Facture (HT)]]+ROW()/100000","v":6.7000000000000002E-4},{"$f":"_xlfn.CONCAT(Personne[[#This Row],[Adresse]],\" \",Personne[[#This Row],[CodePostal]],\" \",Personne[[#This Row],[Ville]],\" \",Personne[[#This Row],[CodePays]])","v":"   "}]
[null,null,null,null,null,null,null,null,null,null,null,null,null,null,null,null,null,null,null,null,null,null,null,null,null,null,null,null,null,null,{"$f":"IF(PARAMETRES!$B$3=\"SANS\",SUMIFS(Honoraire[TotalHonoraireHT],Honoraire[ClientId],Personne[[#This Row],[PersonneId]]),SUMIFS(Honoraire[TotalHT],Honoraire[ClientId],Personne[[#This Row],[PersonneId]]))","v":0},{"$f":"Personne[[#This Row],[Facture (HT)]]+ROW()/100000","v":6.8000000000000005E-4},{"$f":"_xlfn.CONCAT(Personne[[#This Row],[Adresse]],\" \",Personne[[#This Row],[CodePostal]],\" \",Personne[[#This Row],[Ville]],\" \",Personne[[#This Row],[CodePays]])","v":"   "}]
[null,null,null,null,null,null,null,null,null,null,null,null,null,null,null,null,null,null,null,null,null,null,null,null,null,null,null,null,null,null,{"$f":"IF(PARAMETRES!$B$3=\"SANS\",SUMIFS(Honoraire[TotalHonoraireHT],Honoraire[ClientId],Personne[[#This Row],[PersonneId]]),SUMIFS(Honoraire[TotalHT],Honoraire[ClientId],Personne[[#This Row],[PersonneId]]))","v":0},{"$f":"Personne[[#This Row],[Facture (HT)]]+ROW()/100000","v":6.8999999999999997E-4},{"$f":"_xlfn.CONCAT(Personne[[#This Row],[Adresse]],\" \",Personne[[#This Row],[CodePostal]],\" \",Personne[[#This Row],[Ville]],\" \",Personne[[#This Row],[CodePays]])","v":"   "}]
[null,null,null,null,null,null,null,null,null,null,null,null,null,null,null,null,null,null,null,null,null,null,null,null,null,null,null,null,null,null,{"$f":"IF(PARAMETRES!$B$3=\"SANS\",SUMIFS(Honoraire[TotalHonoraireHT],Honoraire[ClientId],Personne[[#This Row],[PersonneId]]),SUMIFS(Honoraire[TotalHT],Honoraire[ClientId],Personne[[#This Row],[PersonneId]]))","v":0},{"$f":"Personne[[#This Row],[Facture (HT)]]+ROW()/100000","v":6.9999999999999999E-4},{"$f":"_xlfn.CONCAT(Personne[[#This Row],[Adresse]],\" \",Personne[[#This Row],[CodePostal]],\" \",Personne[[#This Row],[Ville]],\" \",Personne[[#This Row],[CodePays]])","v":"   "}]
[null,null,null,null,null,null,null,null,null,null,null,null,null,null,null,null,null,null,null,null,null,null,null,null,null,null,null,null,null,null,{"$f":"IF(PARAMETRES!$B$3=\"SANS\",SUMIFS(Honoraire[TotalHonoraireHT],Honoraire[ClientId],Personne[[#This Row],[PersonneId]]),SUMIFS(Honoraire[TotalHT],Honoraire[ClientId],Personne[[#This Row],[PersonneId]]))","v":0},{"$f":"Personne[[#This Row],[Facture (HT)]]+ROW()/100000","v":7.1000000000000002E-4},{"$f":"_xlfn.CONCAT(Personne[[#This Row],[Adresse]],\" \",Personne[[#This Row],[CodePostal]],\" \",Personne[[#This Row],[Ville]],\" \",Personne[[#This Row],[CodePays]])","v":"   "}]
[null,null,null,null,null,null,null,null,null,null,null,null,null,null,null,null,null,null,null,null,null,null,null,null,null,null,null,null,null,null,{"$f":"IF(PARAMETRES!$B$3=\"SANS\",SUMIFS(Honoraire[TotalHonoraireHT],Honoraire[ClientId],Personne[[#This Row],[PersonneId]]),SUMIFS(Honoraire[TotalHT],Honoraire[ClientId],Personne[[#This Row],[PersonneId]]))","v":0},{"$f":"Personne[[#This Row],[Facture (HT)]]+ROW()/100000","v":7.2000000000000005E-4},{"$f":"_xlfn.CONCAT(Personne[[#This Row],[Adresse]],\" \",Personne[[#This Row],[CodePostal]],\" \",Personne[[#This Row],[Ville]],\" \",Personne[[#This Row],[CodePays]])","v":"   "}]
[null,null,null,null,null,null,null,null,null,null,null,null,null,null,null,null,null,null,null,null,null,null,null,null,null,null,null,null,null,null,{"$f":"IF(PARAMETRES!$B$3=\"SANS\",SUMIFS(Honoraire[TotalHonoraireHT],Honoraire[ClientId],Personne[[#This Row],[PersonneId]]),SUMIFS(Honoraire[TotalHT],Honoraire[ClientId],Personne[[#This Row],[PersonneId]]))","v":0},{"$f":"Personne[[#This Row],[Facture (HT)]]+ROW()/100000","v":7.2999999999999996E-4},{"$f":"_xlfn.CONCAT(Personne[[#This Row],[Adresse]],\" \",Personne[[#This Row],[CodePostal]],\" \",Personne[[#This Row],[Ville]],\" \",Personne[[#This Row],[CodePays]])","v":"   "}]
[null,null,null,null,null,null,null,null,null,null,null,null,null,null,null,null,null,null,null,null,null,null,null,null,null,null,null,null,null,null,{"$f":"IF(PARAMETRES!$B$3=\"SANS\",SUMIFS(Honoraire[TotalHonoraireHT],Honoraire[ClientId],Personne[[#This Row],[PersonneId]]),SUMIFS(Honoraire[TotalHT],Honoraire[ClientId],Personne[[#This Row],[PersonneId]]))","v":0},{"$f":"Personne[[#This Row],[Facture (HT)]]+ROW()/100000","v":7.3999999999999999E-4},{"$f":"_xlfn.CONCAT(Personne[[#This Row],[Adresse]],\" \",Personne[[#This Row],[CodePostal]],\" \",Personne[[#This Row],[Ville]],\" \",Personne[[#This Row],[CodePays]])","v":"   "}]
[null,null,null,null,null,null,null,null,null,null,null,null,null,null,null,null,null,null,null,null,null,null,null,null,null,null,null,null,null,null,{"$f":"IF(PARAMETRES!$B$3=\"SANS\",SUMIFS(Honoraire[TotalHonoraireHT],Honoraire[ClientId],Personne[[#This Row],[PersonneId]]),SUMIFS(Honoraire[TotalHT],Honoraire[ClientId],Personne[[#This Row],[PersonneId]]))","v":0},{"$f":"Personne[[#This Row],[Facture (HT)]]+ROW()/100000","v":7.5000000000000002E-4},{"$f":"_xlfn.CONCAT(Personne[[#This Row],[Adresse]],\" \",Personne[[#This Row],[CodePostal]],\" \",Personne[[#This Row],[Ville]],\" \",Personne[[#This Row],[CodePays]])","v":"   "}]
[null,null,null,null,null,null,null,null,null,null,null,null,null,null,null,null,null,null,null,null,null,null,null,null,null,null,null,null,null,null,{"$f":"IF(PARAMETRES!$B$3=\"SANS\",SUMIFS(Honoraire[TotalHonoraireHT],Honoraire[ClientId],Personne[[#This Row],[PersonneId]]),SUMIFS(Honoraire[TotalHT],Honoraire[ClientId],Personne[[#This Row],[PersonneId]]))","v":0},{"$f":"Personne[[#This Row],[Facture (HT)]]+ROW()/100000","v":7.6000000000000004E-4},{"$f":"_xlfn.CONCAT(Personne[[#This Row],[Adresse]],\" \",Personne[[#This Row],[CodePostal]],\" \",Personne[[#This Row],[Ville]],\" \",Personne[[#This Row],[CodePays]])","v":"   "}]
[null,null,null,null,null,null,null,null,null,null,null,null,null,null,null,null,null,null,null,null,null,null,null,null,null,null,null,null,null,null,{"$f":"IF(PARAMETRES!$B$3=\"SANS\",SUMIFS(Honoraire[TotalHonoraireHT],Honoraire[ClientId],Personne[[#This Row],[PersonneId]]),SUMIFS(Honoraire[TotalHT],Honoraire[ClientId],Personne[[#This Row],[PersonneId]]))","v":0},{"$f":"Personne[[#This Row],[Facture (HT)]]+ROW()/100000","v":7.6999999999999996E-4},{"$f":"_xlfn.CONCAT(Personne[[#This Row],[Adresse]],\" \",Personne[[#This Row],[CodePostal]],\" \",Personne[[#This Row],[Ville]],\" \",Personne[[#This Row],[CodePays]])","v":"   "}]
[null,null,null,null,null,null,null,null,null,null,null,null,null,null,null,null,null,null,null,null,null,null,null,null,null,null,null,null,null,null,{"$f":"IF(PARAMETRES!$B$3=\"SANS\",SUMIFS(Honoraire[TotalHonoraireHT],Honoraire[ClientId],Personne[[#This Row],[PersonneId]]),SUMIFS(Honoraire[TotalHT],Honoraire[ClientId],Personne[[#This Row],[PersonneId]]))","v":0},{"$f":"Personne[[#This Row],[Facture (HT)]]+ROW()/100000","v":7.7999999999999999E-4},{"$f":"_xlfn.CONCAT(Personne[[#This Row],[Adresse]],\" \",Personne[[#This Row],[CodePostal]],\" \",Personne[[#This Row],[Ville]],\" \",Personne[[#This Row],[CodePays]])","v":"   "}]
[null,null,null,null,null,null,null,null,null,null,null,null,null,null,null,null,null,null,null,null,null,null,null,null,null,null,null,null,null,null,{"$f":"IF(PARAMETRES!$B$3=\"SANS\",SUMIFS(Honoraire[TotalHonoraireHT],Honoraire[ClientId],Personne[[#This Row],[PersonneId]]),SUMIFS(Honoraire[TotalHT],Honoraire[ClientId],Personne[[#This Row],[PersonneId]]))","v":0},{"$f":"Personne[[#This Row],[Facture (HT)]]+ROW()/100000","v":7.9000000000000001E-4},{"$f":"_xlfn.CONCAT(Personne[[#This Row],[Adresse]],\" \",Personne[[#This Row],[CodePostal]],\" \",Personne[[#This Row],[Ville]],\" \",Personne[[#This Row],[CodePays]])","v":"   "}]
[null,null,null,null,null,null,null,null,null,null,null,null,null,null,null,null,null,null,null,null,null,null,null,null,null,null,null,null,null,null,{"$f":"IF(PARAMETRES!$B$3=\"SANS\",SUMIFS(Honoraire[TotalHonoraireHT],Honoraire[ClientId],Personne[[#This Row],[PersonneId]]),SUMIFS(Honoraire[TotalHT],Honoraire[ClientId],Personne[[#This Row],[PersonneId]]))","v":0},{"$f":"Personne[[#This Row],[Facture (HT)]]+ROW()/100000","v":8.0000000000000004E-4},{"$f":"_xlfn.CONCAT(Personne[[#This Row],[Adresse]],\" \",Personne[[#This Row],[CodePostal]],\" \",Personne[[#This Row],[Ville]],\" \",Personne[[#This Row],[CodePays]])","v":"   "}]
[null,null,null,null,null,null,null,null,null,null,null,null,null,null,null,null,null,null,null,null,null,null,null,null,null,null,null,null,null,null,{"$f":"IF(PARAMETRES!$B$3=\"SANS\",SUMIFS(Honoraire[TotalHonoraireHT],Honoraire[ClientId],Personne[[#This Row],[PersonneId]]),SUMIFS(Honoraire[TotalHT],Honoraire[ClientId],Personne[[#This Row],[PersonneId]]))","v":0},{"$f":"Personne[[#This Row],[Facture (HT)]]+ROW()/100000","v":8.0999999999999996E-4},{"$f":"_xlfn.CONCAT(Personne[[#This Row],[Adresse]],\" \",Personne[[#This Row],[CodePostal]],\" \",Personne[[#This Row],[Ville]],\" \",Personne[[#This Row],[CodePays]])","v":"   "}]
[null,null,null,null,null,null,null,null,null,null,null,null,null,null,null,null,null,null,null,null,null,null,null,null,null,null,null,null,null,null,{"$f":"IF(PARAMETRES!$B$3=\"SANS\",SUMIFS(Honoraire[TotalHonoraireHT],Honoraire[ClientId],Personne[[#This Row],[PersonneId]]),SUMIFS(Honoraire[TotalHT],Honoraire[ClientId],Personne[[#This Row],[PersonneId]]))","v":0},{"$f":"Personne[[#This Row],[Facture (HT)]]+ROW()/100000","v":8.1999999999999998E-4},{"$f":"_xlfn.CONCAT(Personne[[#This Row],[Adresse]],\" \",Personne[[#This Row],[CodePostal]],\" \",Personne[[#This Row],[Ville]],\" \",Personne[[#This Row],[CodePays]])","v":"   "}]
[null,null,null,null,null,null,null,null,null,null,null,null,null,null,null,null,null,null,null,null,null,null,null,null,null,null,null,null,null,null,{"$f":"IF(PARAMETRES!$B$3=\"SANS\",SUMIFS(Honoraire[TotalHonoraireHT],Honoraire[ClientId],Personne[[#This Row],[PersonneId]]),SUMIFS(Honoraire[TotalHT],Honoraire[ClientId],Personne[[#This Row],[PersonneId]]))","v":0},{"$f":"Personne[[#This Row],[Facture (HT)]]+ROW()/100000","v":8.3000000000000001E-4},{"$f":"_xlfn.CONCAT(Personne[[#This Row],[Adresse]],\" \",Personne[[#This Row],[CodePostal]],\" \",Personne[[#This Row],[Ville]],\" \",Personne[[#This Row],[CodePays]])","v":"   "}]
[null,null,null,null,null,null,null,null,null,null,null,null,null,null,null,null,null,null,null,null,null,null,null,null,null,null,null,null,null,null,{"$f":"IF(PARAMETRES!$B$3=\"SANS\",SUMIFS(Honoraire[TotalHonoraireHT],Honoraire[ClientId],Personne[[#This Row],[PersonneId]]),SUMIFS(Honoraire[TotalHT],Honoraire[ClientId],Personne[[#This Row],[PersonneId]]))","v":0},{"$f":"Personne[[#This Row],[Facture (HT)]]+ROW()/100000","v":8.4000000000000003E-4},{"$f":"_xlfn.CONCAT(Personne[[#This Row],[Adresse]],\" \",Personne[[#This Row],[CodePostal]],\" \",Personne[[#This Row],[Ville]],\" \",Personne[[#This Row],[CodePays]])","v":"   "}]
[null,null,null,null,null,null,null,null,null,null,null,null,null,null,null,null,null,null,null,null,null,null,null,null,null,null,null,null,null,null,{"$f":"IF(PARAMETRES!$B$3=\"SANS\",SUMIFS(Honoraire[TotalHonoraireHT],Honoraire[ClientId],Personne[[#This Row],[PersonneId]]),SUMIFS(Honoraire[TotalHT],Honoraire[ClientId],Personne[[#This Row],[PersonneId]]))","v":0},{"$f":"Personne[[#This Row],[Facture (HT)]]+ROW()/100000","v":8.4999999999999995E-4},{"$f":"_xlfn.CONCAT(Personne[[#This Row],[Adresse]],\" \",Personne[[#This Row],[CodePostal]],\" \",Personne[[#This Row],[Ville]],\" \",Personne[[#This Row],[CodePays]])","v":"   "}]
[null,null,null,null,null,null,null,null,null,null,null,null,null,null,null,null,null,null,null,null,null,null,null,null,null,null,null,null,null,null,{"$f":"IF(PARAMETRES!$B$3=\"SANS\",SUMIFS(Honoraire[TotalHonoraireHT],Honoraire[ClientId],Personne[[#This Row],[PersonneId]]),SUMIFS(Honoraire[TotalHT],Honoraire[ClientId],Personne[[#This Row],[PersonneId]]))","v":0},{"$f":"Personne[[#This Row],[Facture (HT)]]+ROW()/100000","v":8.5999999999999998E-4},{"$f":"_xlfn.CONCAT(Personne[[#This Row],[Adresse]],\" \",Personne[[#This Row],[CodePostal]],\" \",Personne[[#This Row],[Ville]],\" \",Personne[[#This Row],[CodePays]])","v":"   "}]
[null,null,null,null,null,null,null,null,null,null,null,null,null,null,null,null,null,null,null,null,null,null,null,null,null,null,null,null,null,null,{"$f":"IF(PARAMETRES!$B$3=\"SANS\",SUMIFS(Honoraire[TotalHonoraireHT],Honoraire[ClientId],Personne[[#This Row],[PersonneId]]),SUMIFS(Honoraire[TotalHT],Honoraire[ClientId],Personne[[#This Row],[PersonneId]]))","v":0},{"$f":"Personne[[#This Row],[Facture (HT)]]+ROW()/100000","v":8.7000000000000001E-4},{"$f":"_xlfn.CONCAT(Personne[[#This Row],[Adresse]],\" \",Personne[[#This Row],[CodePostal]],\" \",Personne[[#This Row],[Ville]],\" \",Personne[[#This Row],[CodePays]])","v":"   "}]
[null,null,null,null,null,null,null,null,null,null,null,null,null,null,null,null,null,null,null,null,null,null,null,null,null,null,null,null,null,null,{"$f":"IF(PARAMETRES!$B$3=\"SANS\",SUMIFS(Honoraire[TotalHonoraireHT],Honoraire[ClientId],Personne[[#This Row],[PersonneId]]),SUMIFS(Honoraire[TotalHT],Honoraire[ClientId],Personne[[#This Row],[PersonneId]]))","v":0},{"$f":"Personne[[#This Row],[Facture (HT)]]+ROW()/100000","v":8.8000000000000003E-4},{"$f":"_xlfn.CONCAT(Personne[[#This Row],[Adresse]],\" \",Personne[[#This Row],[CodePostal]],\" \",Personne[[#This Row],[Ville]],\" \",Personne[[#This Row],[CodePays]])","v":"   "}]
[null,null,null,null,null,null,null,null,null,null,null,null,null,null,null,null,null,null,null,null,null,null,null,null,null,null,null,null,null,null,{"$f":"IF(PARAMETRES!$B$3=\"SANS\",SUMIFS(Honoraire[TotalHonoraireHT],Honoraire[ClientId],Personne[[#This Row],[PersonneId]]),SUMIFS(Honoraire[TotalHT],Honoraire[ClientId],Personne[[#This Row],[PersonneId]]))","v":0},{"$f":"Personne[[#This Row],[Facture (HT)]]+ROW()/100000","v":8.8999999999999995E-4},{"$f":"_xlfn.CONCAT(Personne[[#This Row],[Adresse]],\" \",Personne[[#This Row],[CodePostal]],\" \",Personne[[#This Row],[Ville]],\" \",Personne[[#This Row],[CodePays]])","v":"   "}]
[null,null,null,null,null,null,null,null,null,null,null,null,null,null,null,null,null,null,null,null,null,null,null,null,null,null,null,null,null,null,{"$f":"IF(PARAMETRES!$B$3=\"SANS\",SUMIFS(Honoraire[TotalHonoraireHT],Honoraire[ClientId],Personne[[#This Row],[PersonneId]]),SUMIFS(Honoraire[TotalHT],Honoraire[ClientId],Personne[[#This Row],[PersonneId]]))","v":0},{"$f":"Personne[[#This Row],[Facture (HT)]]+ROW()/100000","v":8.9999999999999998E-4},{"$f":"_xlfn.CONCAT(Personne[[#This Row],[Adresse]],\" \",Personne[[#This Row],[CodePostal]],\" \",Personne[[#This Row],[Ville]],\" \",Personne[[#This Row],[CodePays]])","v":"   "}]
[null,null,null,null,null,null,null,null,null,null,null,null,null,null,null,null,null,null,null,null,null,null,null,null,null,null,null,null,null,null,{"$f":"IF(PARAMETRES!$B$3=\"SANS\",SUMIFS(Honoraire[TotalHonoraireHT],Honoraire[ClientId],Personne[[#This Row],[PersonneId]]),SUMIFS(Honoraire[TotalHT],Honoraire[ClientId],Personne[[#This Row],[PersonneId]]))","v":0},{"$f":"Personne[[#This Row],[Facture (HT)]]+ROW()/100000","v":9.1E-4},{"$f":"_xlfn.CONCAT(Personne[[#This Row],[Adresse]],\" \",Personne[[#This Row],[CodePostal]],\" \",Personne[[#This Row],[Ville]],\" \",Personne[[#This Row],[CodePays]])","v":"   "}]
[null,null,null,null,null,null,null,null,null,null,null,null,null,null,null,null,null,null,null,null,null,null,null,null,null,null,null,null,null,null,{"$f":"IF(PARAMETRES!$B$3=\"SANS\",SUMIFS(Honoraire[TotalHonoraireHT],Honoraire[ClientId],Personne[[#This Row],[PersonneId]]),SUMIFS(Honoraire[TotalHT],Honoraire[ClientId],Personne[[#This Row],[PersonneId]]))","v":0},{"$f":"Personne[[#This Row],[Facture (HT)]]+ROW()/100000","v":9.2000000000000003E-4},{"$f":"_xlfn.CONCAT(Personne[[#This Row],[Adresse]],\" \",Personne[[#This Row],[CodePostal]],\" \",Personne[[#This Row],[Ville]],\" \",Personne[[#This Row],[CodePays]])","v":"   "}]
[null,null,null,null,null,null,null,null,null,null,null,null,null,null,null,null,null,null,null,null,null,null,null,null,null,null,null,null,null,null,{"$f":"IF(PARAMETRES!$B$3=\"SANS\",SUMIFS(Honoraire[TotalHonoraireHT],Honoraire[ClientId],Personne[[#This Row],[PersonneId]]),SUMIFS(Honoraire[TotalHT],Honoraire[ClientId],Personne[[#This Row],[PersonneId]]))","v":0},{"$f":"Personne[[#This Row],[Facture (HT)]]+ROW()/100000","v":9.3000000000000005E-4},{"$f":"_xlfn.CONCAT(Personne[[#This Row],[Adresse]],\" \",Personne[[#This Row],[CodePostal]],\" \",Personne[[#This Row],[Ville]],\" \",Personne[[#This Row],[CodePays]])","v":"   "}]
[null,null,null,null,null,null,null,null,null,null,null,null,null,null,null,null,null,null,null,null,null,null,null,null,null,null,null,null,null,null,{"$f":"IF(PARAMETRES!$B$3=\"SANS\",SUMIFS(Honoraire[TotalHonoraireHT],Honoraire[ClientId],Personne[[#This Row],[PersonneId]]),SUMIFS(Honoraire[TotalHT],Honoraire[ClientId],Personne[[#This Row],[PersonneId]]))","v":0},{"$f":"Personne[[#This Row],[Facture (HT)]]+ROW()/100000","v":9.3999999999999997E-4},{"$f":"_xlfn.CONCAT(Personne[[#This Row],[Adresse]],\" \",Personne[[#This Row],[CodePostal]],\" \",Personne[[#This Row],[Ville]],\" \",Personne[[#This Row],[CodePays]])","v":"   "}]
[null,null,null,null,null,null,null,null,null,null,null,null,null,null,null,null,null,null,null,null,null,null,null,null,null,null,null,null,null,null,{"$f":"IF(PARAMETRES!$B$3=\"SANS\",SUMIFS(Honoraire[TotalHonoraireHT],Honoraire[ClientId],Personne[[#This Row],[PersonneId]]),SUMIFS(Honoraire[TotalHT],Honoraire[ClientId],Personne[[#This Row],[PersonneId]]))","v":0},{"$f":"Personne[[#This Row],[Facture (HT)]]+ROW()/100000","v":9.5E-4},{"$f":"_xlfn.CONCAT(Personne[[#This Row],[Adresse]],\" \",Personne[[#This Row],[CodePostal]],\" \",Personne[[#This Row],[Ville]],\" \",Personne[[#This Row],[CodePays]])","v":"   "}]
[null,null,null,null,null,null,null,null,null,null,null,null,null,null,null,null,null,null,null,null,null,null,null,null,null,null,null,null,null,null,{"$f":"IF(PARAMETRES!$B$3=\"SANS\",SUMIFS(Honoraire[TotalHonoraireHT],Honoraire[ClientId],Personne[[#This Row],[PersonneId]]),SUMIFS(Honoraire[TotalHT],Honoraire[ClientId],Personne[[#This Row],[PersonneId]]))","v":0},{"$f":"Personne[[#This Row],[Facture (HT)]]+ROW()/100000","v":9.6000000000000002E-4},{"$f":"_xlfn.CONCAT(Personne[[#This Row],[Adresse]],\" \",Personne[[#This Row],[CodePostal]],\" \",Personne[[#This Row],[Ville]],\" \",Personne[[#This Row],[CodePays]])","v":"   "}]
[null,null,null,null,null,null,null,null,null,null,null,null,null,null,null,null,null,null,null,null,null,null,null,null,null,null,null,null,null,null,{"$f":"IF(PARAMETRES!$B$3=\"SANS\",SUMIFS(Honoraire[TotalHonoraireHT],Honoraire[ClientId],Personne[[#This Row],[PersonneId]]),SUMIFS(Honoraire[TotalHT],Honoraire[ClientId],Personne[[#This Row],[PersonneId]]))","v":0},{"$f":"Personne[[#This Row],[Facture (HT)]]+ROW()/100000","v":9.7000000000000005E-4},{"$f":"_xlfn.CONCAT(Personne[[#This Row],[Adresse]],\" \",Personne[[#This Row],[CodePostal]],\" \",Personne[[#This Row],[Ville]],\" \",Personne[[#This Row],[CodePays]])","v":"   "}]
[null,null,null,null,null,null,null,null,null,null,null,null,null,null,null,null,null,null,null,null,null,null,null,null,null,null,null,null,null,null,{"$f":"IF(PARAMETRES!$B$3=\"SANS\",SUMIFS(Honoraire[TotalHonoraireHT],Honoraire[ClientId],Personne[[#This Row],[PersonneId]]),SUMIFS(Honoraire[TotalHT],Honoraire[ClientId],Personne[[#This Row],[PersonneId]]))","v":0},{"$f":"Personne[[#This Row],[Facture (HT)]]+ROW()/100000","v":9.7999999999999997E-4},{"$f":"_xlfn.CONCAT(Personne[[#This Row],[Adresse]],\" \",Personne[[#This Row],[CodePostal]],\" \",Personne[[#This Row],[Ville]],\" \",Personne[[#This Row],[CodePays]])","v":"   "}]
[null,null,null,null,null,null,null,null,null,null,null,null,null,null,null,null,null,null,null,null,null,null,null,null,null,null,null,null,null,null,{"$f":"IF(PARAMETRES!$B$3=\"SANS\",SUMIFS(Honoraire[TotalHonoraireHT],Honoraire[ClientId],Personne[[#This Row],[PersonneId]]),SUMIFS(Honoraire[TotalHT],Honoraire[ClientId],Personne[[#This Row],[PersonneId]]))","v":0},{"$f":"Personne[[#This Row],[Facture (HT)]]+ROW()/100000","v":9.8999999999999999E-4},{"$f":"_xlfn.CONCAT(Personne[[#This Row],[Adresse]],\" \",Personne[[#This Row],[CodePostal]],\" \",Personne[[#This Row],[Ville]],\" \",Personne[[#This Row],[CodePays]])","v":"   "}]
[null,null,null,null,null,null,null,null,null,null,null,null,null,null,null,null,null,null,null,null,null,null,null,null,null,null,null,null,null,null,{"$f":"IF(PARAMETRES!$B$3=\"SANS\",SUMIFS(Honoraire[TotalHonoraireHT],Honoraire[ClientId],Personne[[#This Row],[PersonneId]]),SUMIFS(Honoraire[TotalHT],Honoraire[ClientId],Personne[[#This Row],[PersonneId]]))","v":0},{"$f":"Personne[[#This Row],[Facture (HT)]]+ROW()/100000","v":1E-3},{"$f":"_xlfn.CONCAT(Personne[[#This Row],[Adresse]],\" \",Personne[[#This Row],[CodePostal]],\" \",Personne[[#This Row],[Ville]],\" \",Personne[[#This Row],[CodePays]])","v":"   "}]
[null,null,null,null,null,null,null,null,null,null,null,null,null,null,null,null,null,null,null,null,null,null,null,null,null,null,null,null,null,null,{"$f":"IF(PARAMETRES!$B$3=\"SANS\",SUMIFS(Honoraire[TotalHonoraireHT],Honoraire[ClientId],Personne[[#This Row],[PersonneId]]),SUMIFS(Honoraire[TotalHT],Honoraire[ClientId],Personne[[#This Row],[PersonneId]]))","v":0},{"$f":"Personne[[#This Row],[Facture (HT)]]+ROW()/100000","v":1.01E-3},{"$f":"_xlfn.CONCAT(Personne[[#This Row],[Adresse]],\" \",Personne[[#This Row],[CodePostal]],\" \",Personne[[#This Row],[Ville]],\" \",Personne[[#This Row],[CodePays]])","v":"   "}]
[null,null,null,null,null,null,null,null,null,null,null,null,null,null,null,null,null,null,null,null,null,null,null,null,null,null,null,null,null,null,{"$f":"IF(PARAMETRES!$B$3=\"SANS\",SUMIFS(Honoraire[TotalHonoraireHT],Honoraire[ClientId],Personne[[#This Row],[PersonneId]]),SUMIFS(Honoraire[TotalHT],Honoraire[ClientId],Personne[[#This Row],[PersonneId]]))","v":0},{"$f":"Personne[[#This Row],[Facture (HT)]]+ROW()/100000","v":1.0200000000000001E-3},{"$f":"_xlfn.CONCAT(Personne[[#This Row],[Adresse]],\" \",Personne[[#This Row],[CodePostal]],\" \",Personne[[#This Row],[Ville]],\" \",Personne[[#This Row],[CodePays]])","v":"   "}]
[null,null,null,null,null,null,null,null,null,null,null,null,null,null,null,null,null,null,null,null,null,null,null,null,null,null,null,null,null,null,{"$f":"IF(PARAMETRES!$B$3=\"SANS\",SUMIFS(Honoraire[TotalHonoraireHT],Honoraire[ClientId],Personne[[#This Row],[PersonneId]]),SUMIFS(Honoraire[TotalHT],Honoraire[ClientId],Personne[[#This Row],[PersonneId]]))","v":0},{"$f":"Personne[[#This Row],[Facture (HT)]]+ROW()/100000","v":1.0300000000000001E-3},{"$f":"_xlfn.CONCAT(Personne[[#This Row],[Adresse]],\" \",Personne[[#This Row],[CodePostal]],\" \",Personne[[#This Row],[Ville]],\" \",Personne[[#This Row],[CodePays]])","v":"   "}]
[null,null,null,null,null,null,null,null,null,null,null,null,null,null,null,null,null,null,null,null,null,null,null,null,null,null,null,null,null,null,{"$f":"IF(PARAMETRES!$B$3=\"SANS\",SUMIFS(Honoraire[TotalHonoraireHT],Honoraire[ClientId],Personne[[#This Row],[PersonneId]]),SUMIFS(Honoraire[TotalHT],Honoraire[ClientId],Personne[[#This Row],[PersonneId]]))","v":0},{"$f":"Personne[[#This Row],[Facture (HT)]]+ROW()/100000","v":1.0399999999999999E-3},{"$f":"_xlfn.CONCAT(Personne[[#This Row],[Adresse]],\" \",Personne[[#This Row],[CodePostal]],\" \",Personne[[#This Row],[Ville]],\" \",Personne[[#This Row],[CodePays]])","v":"   "}]
[null,null,null,null,null,null,null,null,null,null,null,null,null,null,null,null,null,null,null,null,null,null,null,null,null,null,null,null,null,null,{"$f":"IF(PARAMETRES!$B$3=\"SANS\",SUMIFS(Honoraire[TotalHonoraireHT],Honoraire[ClientId],Personne[[#This Row],[PersonneId]]),SUMIFS(Honoraire[TotalHT],Honoraire[ClientId],Personne[[#This Row],[PersonneId]]))","v":0},{"$f":"Personne[[#This Row],[Facture (HT)]]+ROW()/100000","v":1.0499999999999999E-3},{"$f":"_xlfn.CONCAT(Personne[[#This Row],[Adresse]],\" \",Personne[[#This Row],[CodePostal]],\" \",Personne[[#This Row],[Ville]],\" \",Personne[[#This Row],[CodePays]])","v":"   "}]
[null,null,null,null,null,null,null,null,null,null,null,null,null,null,null,null,null,null,null,null,null,null,null,null,null,null,null,null,null,null,{"$f":"IF(PARAMETRES!$B$3=\"SANS\",SUMIFS(Honoraire[TotalHonoraireHT],Honoraire[ClientId],Personne[[#This Row],[PersonneId]]),SUMIFS(Honoraire[TotalHT],Honoraire[ClientId],Personne[[#This Row],[PersonneId]]))","v":0},{"$f":"Personne[[#This Row],[Facture (HT)]]+ROW()/100000","v":1.06E-3},{"$f":"_xlfn.CONCAT(Personne[[#This Row],[Adresse]],\" \",Personne[[#This Row],[CodePostal]],\" \",Personne[[#This Row],[Ville]],\" \",Personne[[#This Row],[CodePays]])","v":"   "}]
[null,null,null,null,null,null,null,null,null,null,null,null,null,null,null,null,null,null,null,null,null,null,null,null,null,null,null,null,null,null,{"$f":"IF(PARAMETRES!$B$3=\"SANS\",SUMIFS(Honoraire[TotalHonoraireHT],Honoraire[ClientId],Personne[[#This Row],[PersonneId]]),SUMIFS(Honoraire[TotalHT],Honoraire[ClientId],Personne[[#This Row],[PersonneId]]))","v":0},{"$f":"Personne[[#This Row],[Facture (HT)]]+ROW()/100000","v":1.07E-3},{"$f":"_xlfn.CONCAT(Personne[[#This Row],[Adresse]],\" \",Personne[[#This Row],[CodePostal]],\" \",Personne[[#This Row],[Ville]],\" \",Personne[[#This Row],[CodePays]])","v":"   "}]
[null,null,null,null,null,null,null,null,null,null,null,null,null,null,null,null,null,null,null,null,null,null,null,null,null,null,null,null,null,null,{"$f":"IF(PARAMETRES!$B$3=\"SANS\",SUMIFS(Honoraire[TotalHonoraireHT],Honoraire[ClientId],Personne[[#This Row],[PersonneId]]),SUMIFS(Honoraire[TotalHT],Honoraire[ClientId],Personne[[#This Row],[PersonneId]]))","v":0},{"$f":"Personne[[#This Row],[Facture (HT)]]+ROW()/100000","v":1.08E-3},{"$f":"_xlfn.CONCAT(Personne[[#This Row],[Adresse]],\" \",Personne[[#This Row],[CodePostal]],\" \",Personne[[#This Row],[Ville]],\" \",Personne[[#This Row],[CodePays]])","v":"   "}]
[null,null,null,null,null,null,null,null,null,null,null,null,null,null,null,null,null,null,null,null,null,null,null,null,null,null,null,null,null,null,{"$f":"IF(PARAMETRES!$B$3=\"SANS\",SUMIFS(Honoraire[TotalHonoraireHT],Honoraire[ClientId],Personne[[#This Row],[PersonneId]]),SUMIFS(Honoraire[TotalHT],Honoraire[ClientId],Personne[[#This Row],[PersonneId]]))","v":0},{"$f":"Personne[[#This Row],[Facture (HT)]]+ROW()/100000","v":1.09E-3},{"$f":"_xlfn.CONCAT(Personne[[#This Row],[Adresse]],\" \",Personne[[#This Row],[CodePostal]],\" \",Personne[[#This Row],[Ville]],\" \",Personne[[#This Row],[CodePays]])","v":"   "}]
[null,null,null,null,null,null,null,null,null,null,null,null,null,null,null,null,null,null,null,null,null,null,null,null,null,null,null,null,null,null,{"$f":"IF(PARAMETRES!$B$3=\"SANS\",SUMIFS(Honoraire[TotalHonoraireHT],Honoraire[ClientId],Personne[[#This Row],[PersonneId]]),SUMIFS(Honoraire[TotalHT],Honoraire[ClientId],Personne[[#This Row],[PersonneId]]))","v":0},{"$f":"Personne[[#This Row],[Facture (HT)]]+ROW()/100000","v":1.1000000000000001E-3},{"$f":"_xlfn.CONCAT(Personne[[#This Row],[Adresse]],\" \",Personne[[#This Row],[CodePostal]],\" \",Personne[[#This Row],[Ville]],\" \",Personne[[#This Row],[CodePays]])","v":"   "}]
[null,null,null,null,null,null,null,null,null,null,null,null,null,null,null,null,null,null,null,null,null,null,null,null,null,null,null,null,null,null,{"$f":"IF(PARAMETRES!$B$3=\"SANS\",SUMIFS(Honoraire[TotalHonoraireHT],Honoraire[ClientId],Personne[[#This Row],[PersonneId]]),SUMIFS(Honoraire[TotalHT],Honoraire[ClientId],Personne[[#This Row],[PersonneId]]))","v":0},{"$f":"Personne[[#This Row],[Facture (HT)]]+ROW()/100000","v":1.1100000000000001E-3},{"$f":"_xlfn.CONCAT(Personne[[#This Row],[Adresse]],\" \",Personne[[#This Row],[CodePostal]],\" \",Personne[[#This Row],[Ville]],\" \",Personne[[#This Row],[CodePays]])","v":"   "}]
[null,null,null,null,null,null,null,null,null,null,null,null,null,null,null,null,null,null,null,null,null,null,null,null,null,null,null,null,null,null,{"$f":"IF(PARAMETRES!$B$3=\"SANS\",SUMIFS(Honoraire[TotalHonoraireHT],Honoraire[ClientId],Personne[[#This Row],[PersonneId]]),SUMIFS(Honoraire[TotalHT],Honoraire[ClientId],Personne[[#This Row],[PersonneId]]))","v":0},{"$f":"Personne[[#This Row],[Facture (HT)]]+ROW()/100000","v":1.1199999999999999E-3},{"$f":"_xlfn.CONCAT(Personne[[#This Row],[Adresse]],\" \",Personne[[#This Row],[CodePostal]],\" \",Personne[[#This Row],[Ville]],\" \",Personne[[#This Row],[CodePays]])","v":"   "}]
[null,null,null,null,null,null,null,null,null,null,null,null,null,null,null,null,null,null,null,null,null,null,null,null,null,null,null,null,null,null,{"$f":"IF(PARAMETRES!$B$3=\"SANS\",SUMIFS(Honoraire[TotalHonoraireHT],Honoraire[ClientId],Personne[[#This Row],[PersonneId]]),SUMIFS(Honoraire[TotalHT],Honoraire[ClientId],Personne[[#This Row],[PersonneId]]))","v":0},{"$f":"Personne[[#This Row],[Facture (HT)]]+ROW()/100000","v":1.1299999999999999E-3},{"$f":"_xlfn.CONCAT(Personne[[#This Row],[Adresse]],\" \",Personne[[#This Row],[CodePostal]],\" \",Personne[[#This Row],[Ville]],\" \",Personne[[#This Row],[CodePays]])","v":"   "}]
[null,null,null,null,null,null,null,null,null,null,null,null,null,null,null,null,null,null,null,null,null,null,null,null,null,null,null,null,null,null,{"$f":"IF(PARAMETRES!$B$3=\"SANS\",SUMIFS(Honoraire[TotalHonoraireHT],Honoraire[ClientId],Personne[[#This Row],[PersonneId]]),SUMIFS(Honoraire[TotalHT],Honoraire[ClientId],Personne[[#This Row],[PersonneId]]))","v":0},{"$f":"Personne[[#This Row],[Facture (HT)]]+ROW()/100000","v":1.14E-3},{"$f":"_xlfn.CONCAT(Personne[[#This Row],[Adresse]],\" \",Personne[[#This Row],[CodePostal]],\" \",Personne[[#This Row],[Ville]],\" \",Personne[[#This Row],[CodePays]])","v":"   "}]
[null,null,null,null,null,null,null,null,null,null,null,null,null,null,null,null,null,null,null,null,null,null,null,null,null,null,null,null,null,null,{"$f":"IF(PARAMETRES!$B$3=\"SANS\",SUMIFS(Honoraire[TotalHonoraireHT],Honoraire[ClientId],Personne[[#This Row],[PersonneId]]),SUMIFS(Honoraire[TotalHT],Honoraire[ClientId],Personne[[#This Row],[PersonneId]]))","v":0},{"$f":"Personne[[#This Row],[Facture (HT)]]+ROW()/100000","v":1.15E-3},{"$f":"_xlfn.CONCAT(Personne[[#This Row],[Adresse]],\" \",Personne[[#This Row],[CodePostal]],\" \",Personne[[#This Row],[Ville]],\" \",Personne[[#This Row],[CodePays]])","v":"   "}]
[null,null,null,null,null,null,null,null,null,null,null,null,null,null,null,null,null,null,null,null,null,null,null,null,null,null,null,null,null,null,{"$f":"IF(PARAMETRES!$B$3=\"SANS\",SUMIFS(Honoraire[TotalHonoraireHT],Honoraire[ClientId],Personne[[#This Row],[PersonneId]]),SUMIFS(Honoraire[TotalHT],Honoraire[ClientId],Personne[[#This Row],[PersonneId]]))","v":0},{"$f":"Personne[[#This Row],[Facture (HT)]]+ROW()/100000","v":1.16E-3},{"$f":"_xlfn.CONCAT(Personne[[#This Row],[Adresse]],\" \",Personne[[#This Row],[CodePostal]],\" \",Personne[[#This Row],[Ville]],\" \",Personne[[#This Row],[CodePays]])","v":"   "}]
[null,null,null,null,null,null,null,null,null,null,null,null,null,null,null,null,null,null,null,null,null,null,null,null,null,null,null,null,null,null,{"$f":"IF(PARAMETRES!$B$3=\"SANS\",SUMIFS(Honoraire[TotalHonoraireHT],Honoraire[ClientId],Personne[[#This Row],[PersonneId]]),SUMIFS(Honoraire[TotalHT],Honoraire[ClientId],Personne[[#This Row],[PersonneId]]))","v":0},{"$f":"Personne[[#This Row],[Facture (HT)]]+ROW()/100000","v":1.17E-3},{"$f":"_xlfn.CONCAT(Personne[[#This Row],[Adresse]],\" \",Personne[[#This Row],[CodePostal]],\" \",Personne[[#This Row],[Ville]],\" \",Personne[[#This Row],[CodePays]])","v":"   "}]
[null,null,null,null,null,null,null,null,null,null,null,null,null,null,null,null,null,null,null,null,null,null,null,null,null,null,null,null,null,null,{"$f":"IF(PARAMETRES!$B$3=\"SANS\",SUMIFS(Honoraire[TotalHonoraireHT],Honoraire[ClientId],Personne[[#This Row],[PersonneId]]),SUMIFS(Honoraire[TotalHT],Honoraire[ClientId],Personne[[#This Row],[PersonneId]]))","v":0},{"$f":"Personne[[#This Row],[Facture (HT)]]+ROW()/100000","v":1.1800000000000001E-3},{"$f":"_xlfn.CONCAT(Personne[[#This Row],[Adresse]],\" \",Personne[[#This Row],[CodePostal]],\" \",Personne[[#This Row],[Ville]],\" \",Personne[[#This Row],[CodePays]])","v":"   "}]
[null,null,null,null,null,null,null,null,null,null,null,null,null,null,null,null,null,null,null,null,null,null,null,null,null,null,null,null,null,null,{"$f":"IF(PARAMETRES!$B$3=\"SANS\",SUMIFS(Honoraire[TotalHonoraireHT],Honoraire[ClientId],Personne[[#This Row],[PersonneId]]),SUMIFS(Honoraire[TotalHT],Honoraire[ClientId],Personne[[#This Row],[PersonneId]]))","v":0},{"$f":"Personne[[#This Row],[Facture (HT)]]+ROW()/100000","v":1.1900000000000001E-3},{"$f":"_xlfn.CONCAT(Personne[[#This Row],[Adresse]],\" \",Personne[[#This Row],[CodePostal]],\" \",Personne[[#This Row],[Ville]],\" \",Personne[[#This Row],[CodePays]])","v":"   "}]
[null,null,null,null,null,null,null,null,null,null,null,null,null,null,null,null,null,null,null,null,null,null,null,null,null,null,null,null,null,null,{"$f":"IF(PARAMETRES!$B$3=\"SANS\",SUMIFS(Honoraire[TotalHonoraireHT],Honoraire[ClientId],Personne[[#This Row],[PersonneId]]),SUMIFS(Honoraire[TotalHT],Honoraire[ClientId],Personne[[#This Row],[PersonneId]]))","v":0},{"$f":"Personne[[#This Row],[Facture (HT)]]+ROW()/100000","v":1.1999999999999999E-3},{"$f":"_xlfn.CONCAT(Personne[[#This Row],[Adresse]],\" \",Personne[[#This Row],[CodePostal]],\" \",Personne[[#This Row],[Ville]],\" \",Personne[[#This Row],[CodePays]])","v":"   "}]
[null,null,null,null,null,null,null,null,null,null,null,null,null,null,null,null,null,null,null,null,null,null,null,null,null,null,null,null,null,null,{"$f":"IF(PARAMETRES!$B$3=\"SANS\",SUMIFS(Honoraire[TotalHonoraireHT],Honoraire[ClientId],Personne[[#This Row],[PersonneId]]),SUMIFS(Honoraire[TotalHT],Honoraire[ClientId],Personne[[#This Row],[PersonneId]]))","v":0},{"$f":"Personne[[#This Row],[Facture (HT)]]+ROW()/100000","v":1.2099999999999999E-3},{"$f":"_xlfn.CONCAT(Personne[[#This Row],[Adresse]],\" \",Personne[[#This Row],[CodePostal]],\" \",Personne[[#This Row],[Ville]],\" \",Personne[[#This Row],[CodePays]])","v":"   "}]
[null,null,null,null,null,null,null,null,null,null,null,null,null,null,null,null,null,null,null,null,null,null,null,null,null,null,null,null,null,null,{"$f":"IF(PARAMETRES!$B$3=\"SANS\",SUMIFS(Honoraire[TotalHonoraireHT],Honoraire[ClientId],Personne[[#This Row],[PersonneId]]),SUMIFS(Honoraire[TotalHT],Honoraire[ClientId],Personne[[#This Row],[PersonneId]]))","v":0},{"$f":"Personne[[#This Row],[Facture (HT)]]+ROW()/100000","v":1.2199999999999999E-3},{"$f":"_xlfn.CONCAT(Personne[[#This Row],[Adresse]],\" \",Personne[[#This Row],[CodePostal]],\" \",Personne[[#This Row],[Ville]],\" \",Personne[[#This Row],[CodePays]])","v":"   "}]
[null,null,null,null,null,null,null,null,null,null,null,null,null,null,null,null,null,null,null,null,null,null,null,null,null,null,null,null,null,null,{"$f":"IF(PARAMETRES!$B$3=\"SANS\",SUMIFS(Honoraire[TotalHonoraireHT],Honoraire[ClientId],Personne[[#This Row],[PersonneId]]),SUMIFS(Honoraire[TotalHT],Honoraire[ClientId],Personne[[#This Row],[PersonneId]]))","v":0},{"$f":"Personne[[#This Row],[Facture (HT)]]+ROW()/100000","v":1.23E-3},{"$f":"_xlfn.CONCAT(Personne[[#This Row],[Adresse]],\" \",Personne[[#This Row],[CodePostal]],\" \",Personne[[#This Row],[Ville]],\" \",Personne[[#This Row],[CodePays]])","v":"   "}]
[null,null,null,null,null,null,null,null,null,null,null,null,null,null,null,null,null,null,null,null,null,null,null,null,null,null,null,null,null,null,{"$f":"IF(PARAMETRES!$B$3=\"SANS\",SUMIFS(Honoraire[TotalHonoraireHT],Honoraire[ClientId],Personne[[#This Row],[PersonneId]]),SUMIFS(Honoraire[TotalHT],Honoraire[ClientId],Personne[[#This Row],[PersonneId]]))","v":0},{"$f":"Personne[[#This Row],[Facture (HT)]]+ROW()/100000","v":1.24E-3},{"$f":"_xlfn.CONCAT(Personne[[#This Row],[Adresse]],\" \",Personne[[#This Row],[CodePostal]],\" \",Personne[[#This Row],[Ville]],\" \",Personne[[#This Row],[CodePays]])","v":"   "}]
[null,null,null,null,null,null,null,null,null,null,null,null,null,null,null,null,null,null,null,null,null,null,null,null,null,null,null,null,null,null,{"$f":"IF(PARAMETRES!$B$3=\"SANS\",SUMIFS(Honoraire[TotalHonoraireHT],Honoraire[ClientId],Personne[[#This Row],[PersonneId]]),SUMIFS(Honoraire[TotalHT],Honoraire[ClientId],Personne[[#This Row],[PersonneId]]))","v":0},{"$f":"Personne[[#This Row],[Facture (HT)]]+ROW()/100000","v":1.25E-3},{"$f":"_xlfn.CONCAT(Personne[[#This Row],[Adresse]],\" \",Personne[[#This Row],[CodePostal]],\" \",Personne[[#This Row],[Ville]],\" \",Personne[[#This Row],[CodePays]])","v":"   "}]
[null,null,null,null,null,null,null,null,null,null,null,null,null,null,null,null,null,null,null,null,null,null,null,null,null,null,null,null,null,null,{"$f":"IF(PARAMETRES!$B$3=\"SANS\",SUMIFS(Honoraire[TotalHonoraireHT],Honoraire[ClientId],Personne[[#This Row],[PersonneId]]),SUMIFS(Honoraire[TotalHT],Honoraire[ClientId],Personne[[#This Row],[PersonneId]]))","v":0},{"$f":"Personne[[#This Row],[Facture (HT)]]+ROW()/100000","v":1.2600000000000001E-3},{"$f":"_xlfn.CONCAT(Personne[[#This Row],[Adresse]],\" \",Personne[[#This Row],[CodePostal]],\" \",Personne[[#This Row],[Ville]],\" \",Personne[[#This Row],[CodePays]])","v":"   "}]
[null,null,null,null,null,null,null,null,null,null,null,null,null,null,null,null,null,null,null,null,null,null,null,null,null,null,null,null,null,null,{"$f":"IF(PARAMETRES!$B$3=\"SANS\",SUMIFS(Honoraire[TotalHonoraireHT],Honoraire[ClientId],Personne[[#This Row],[PersonneId]]),SUMIFS(Honoraire[TotalHT],Honoraire[ClientId],Personne[[#This Row],[PersonneId]]))","v":0},{"$f":"Personne[[#This Row],[Facture (HT)]]+ROW()/100000","v":1.2700000000000001E-3},{"$f":"_xlfn.CONCAT(Personne[[#This Row],[Adresse]],\" \",Personne[[#This Row],[CodePostal]],\" \",Personne[[#This Row],[Ville]],\" \",Personne[[#This Row],[CodePays]])","v":"   "}]
[null,null,null,null,null,null,null,null,null,null,null,null,null,null,null,null,null,null,null,null,null,null,null,null,null,null,null,null,null,null,{"$f":"IF(PARAMETRES!$B$3=\"SANS\",SUMIFS(Honoraire[TotalHonoraireHT],Honoraire[ClientId],Personne[[#This Row],[PersonneId]]),SUMIFS(Honoraire[TotalHT],Honoraire[ClientId],Personne[[#This Row],[PersonneId]]))","v":0},{"$f":"Personne[[#This Row],[Facture (HT)]]+ROW()/100000","v":1.2800000000000001E-3},{"$f":"_xlfn.CONCAT(Personne[[#This Row],[Adresse]],\" \",Personne[[#This Row],[CodePostal]],\" \",Personne[[#This Row],[Ville]],\" \",Personne[[#This Row],[CodePays]])","v":"   "}]
[null,null,null,null,null,null,null,null,null,null,null,null,null,null,null,null,null,null,null,null,null,null,null,null,null,null,null,null,null,null,{"$f":"IF(PARAMETRES!$B$3=\"SANS\",SUMIFS(Honoraire[TotalHonoraireHT],Honoraire[ClientId],Personne[[#This Row],[PersonneId]]),SUMIFS(Honoraire[TotalHT],Honoraire[ClientId],Personne[[#This Row],[PersonneId]]))","v":0},{"$f":"Personne[[#This Row],[Facture (HT)]]+ROW()/100000","v":1.2899999999999999E-3},{"$f":"_xlfn.CONCAT(Personne[[#This Row],[Adresse]],\" \",Personne[[#This Row],[CodePostal]],\" \",Personne[[#This Row],[Ville]],\" \",Personne[[#This Row],[CodePays]])","v":"   "}]
[null,null,null,null,null,null,null,null,null,null,null,null,null,null,null,null,null,null,null,null,null,null,null,null,null,null,null,null,null,null,{"$f":"IF(PARAMETRES!$B$3=\"SANS\",SUMIFS(Honoraire[TotalHonoraireHT],Honoraire[ClientId],Personne[[#This Row],[PersonneId]]),SUMIFS(Honoraire[TotalHT],Honoraire[ClientId],Personne[[#This Row],[PersonneId]]))","v":0},{"$f":"Personne[[#This Row],[Facture (HT)]]+ROW()/100000","v":1.2999999999999999E-3},{"$f":"_xlfn.CONCAT(Personne[[#This Row],[Adresse]],\" \",Personne[[#This Row],[CodePostal]],\" \",Personne[[#This Row],[Ville]],\" \",Personne[[#This Row],[CodePays]])","v":"   "}]
[null,null,null,null,null,null,null,null,null,null,null,null,null,null,null,null,null,null,null,null,null,null,null,null,null,null,null,null,null,null,{"$f":"IF(PARAMETRES!$B$3=\"SANS\",SUMIFS(Honoraire[TotalHonoraireHT],Honoraire[ClientId],Personne[[#This Row],[PersonneId]]),SUMIFS(Honoraire[TotalHT],Honoraire[ClientId],Personne[[#This Row],[PersonneId]]))","v":0},{"$f":"Personne[[#This Row],[Facture (HT)]]+ROW()/100000","v":1.31E-3},{"$f":"_xlfn.CONCAT(Personne[[#This Row],[Adresse]],\" \",Personne[[#This Row],[CodePostal]],\" \",Personne[[#This Row],[Ville]],\" \",Personne[[#This Row],[CodePays]])","v":"   "}]
[null,null,null,null,null,null,null,null,null,null,null,null,null,null,null,null,null,null,null,null,null,null,null,null,null,null,null,null,null,null,{"$f":"IF(PARAMETRES!$B$3=\"SANS\",SUMIFS(Honoraire[TotalHonoraireHT],Honoraire[ClientId],Personne[[#This Row],[PersonneId]]),SUMIFS(Honoraire[TotalHT],Honoraire[ClientId],Personne[[#This Row],[PersonneId]]))","v":0},{"$f":"Personne[[#This Row],[Facture (HT)]]+ROW()/100000","v":1.32E-3},{"$f":"_xlfn.CONCAT(Personne[[#This Row],[Adresse]],\" \",Personne[[#This Row],[CodePostal]],\" \",Personne[[#This Row],[Ville]],\" \",Personne[[#This Row],[CodePays]])","v":"   "}]
[null,null,null,null,null,null,null,null,null,null,null,null,null,null,null,null,null,null,null,null,null,null,null,null,null,null,null,null,null,null,{"$f":"IF(PARAMETRES!$B$3=\"SANS\",SUMIFS(Honoraire[TotalHonoraireHT],Honoraire[ClientId],Personne[[#This Row],[PersonneId]]),SUMIFS(Honoraire[TotalHT],Honoraire[ClientId],Personne[[#This Row],[PersonneId]]))","v":0},{"$f":"Personne[[#This Row],[Facture (HT)]]+ROW()/100000","v":1.33E-3},{"$f":"_xlfn.CONCAT(Personne[[#This Row],[Adresse]],\" \",Personne[[#This Row],[CodePostal]],\" \",Personne[[#This Row],[Ville]],\" \",Personne[[#This Row],[CodePays]])","v":"   "}]
[null,null,null,null,null,null,null,null,null,null,null,null,null,null,null,null,null,null,null,null,null,null,null,null,null,null,null,null,null,null,{"$f":"IF(PARAMETRES!$B$3=\"SANS\",SUMIFS(Honoraire[TotalHonoraireHT],Honoraire[ClientId],Personne[[#This Row],[PersonneId]]),SUMIFS(Honoraire[TotalHT],Honoraire[ClientId],Personne[[#This Row],[PersonneId]]))","v":0},{"$f":"Personne[[#This Row],[Facture (HT)]]+ROW()/100000","v":1.34E-3},{"$f":"_xlfn.CONCAT(Personne[[#This Row],[Adresse]],\" \",Personne[[#This Row],[CodePostal]],\" \",Personne[[#This Row],[Ville]],\" \",Personne[[#This Row],[CodePays]])","v":"   "}]
[null,null,null,null,null,null,null,null,null,null,null,null,null,null,null,null,null,null,null,null,null,null,null,null,null,null,null,null,null,null,{"$f":"IF(PARAMETRES!$B$3=\"SANS\",SUMIFS(Honoraire[TotalHonoraireHT],Honoraire[ClientId],Personne[[#This Row],[PersonneId]]),SUMIFS(Honoraire[TotalHT],Honoraire[ClientId],Personne[[#This Row],[PersonneId]]))","v":0},{"$f":"Personne[[#This Row],[Facture (HT)]]+ROW()/100000","v":1.3500000000000001E-3},{"$f":"_xlfn.CONCAT(Personne[[#This Row],[Adresse]],\" \",Personne[[#This Row],[CodePostal]],\" \",Personne[[#This Row],[Ville]],\" \",Personne[[#This Row],[CodePays]])","v":"   "}]
[null,null,null,null,null,null,null,null,null,null,null,null,null,null,null,null,null,null,null,null,null,null,null,null,null,null,null,null,null,null,{"$f":"IF(PARAMETRES!$B$3=\"SANS\",SUMIFS(Honoraire[TotalHonoraireHT],Honoraire[ClientId],Personne[[#This Row],[PersonneId]]),SUMIFS(Honoraire[TotalHT],Honoraire[ClientId],Personne[[#This Row],[PersonneId]]))","v":0},{"$f":"Personne[[#This Row],[Facture (HT)]]+ROW()/100000","v":1.3600000000000001E-3},{"$f":"_xlfn.CONCAT(Personne[[#This Row],[Adresse]],\" \",Personne[[#This Row],[CodePostal]],\" \",Personne[[#This Row],[Ville]],\" \",Personne[[#This Row],[CodePays]])","v":"   "}]
[null,null,null,null,null,null,null,null,null,null,null,null,null,null,null,null,null,null,null,null,null,null,null,null,null,null,null,null,null,null,{"$f":"IF(PARAMETRES!$B$3=\"SANS\",SUMIFS(Honoraire[TotalHonoraireHT],Honoraire[ClientId],Personne[[#This Row],[PersonneId]]),SUMIFS(Honoraire[TotalHT],Honoraire[ClientId],Personne[[#This Row],[PersonneId]]))","v":0},{"$f":"Personne[[#This Row],[Facture (HT)]]+ROW()/100000","v":1.3699999999999999E-3},{"$f":"_xlfn.CONCAT(Personne[[#This Row],[Adresse]],\" \",Personne[[#This Row],[CodePostal]],\" \",Personne[[#This Row],[Ville]],\" \",Personne[[#This Row],[CodePays]])","v":"   "}]
[null,null,null,null,null,null,null,null,null,null,null,null,null,null,null,null,null,null,null,null,null,null,null,null,null,null,null,null,null,null,{"$f":"IF(PARAMETRES!$B$3=\"SANS\",SUMIFS(Honoraire[TotalHonoraireHT],Honoraire[ClientId],Personne[[#This Row],[PersonneId]]),SUMIFS(Honoraire[TotalHT],Honoraire[ClientId],Personne[[#This Row],[PersonneId]]))","v":0},{"$f":"Personne[[#This Row],[Facture (HT)]]+ROW()/100000","v":1.3799999999999999E-3},{"$f":"_xlfn.CONCAT(Personne[[#This Row],[Adresse]],\" \",Personne[[#This Row],[CodePostal]],\" \",Personne[[#This Row],[Ville]],\" \",Personne[[#This Row],[CodePays]])","v":"   "}]
[null,null,null,null,null,null,null,null,null,null,null,null,null,null,null,null,null,null,null,null,null,null,null,null,null,null,null,null,null,null,{"$f":"IF(PARAMETRES!$B$3=\"SANS\",SUMIFS(Honoraire[TotalHonoraireHT],Honoraire[ClientId],Personne[[#This Row],[PersonneId]]),SUMIFS(Honoraire[TotalHT],Honoraire[ClientId],Personne[[#This Row],[PersonneId]]))","v":0},{"$f":"Personne[[#This Row],[Facture (HT)]]+ROW()/100000","v":1.39E-3},{"$f":"_xlfn.CONCAT(Personne[[#This Row],[Adresse]],\" \",Personne[[#This Row],[CodePostal]],\" \",Personne[[#This Row],[Ville]],\" \",Personne[[#This Row],[CodePays]])","v":"   "}]
[null,null,null,null,null,null,null,null,null,null,null,null,null,null,null,null,null,null,null,null,null,null,null,null,null,null,null,null,null,null,{"$f":"IF(PARAMETRES!$B$3=\"SANS\",SUMIFS(Honoraire[TotalHonoraireHT],Honoraire[ClientId],Personne[[#This Row],[PersonneId]]),SUMIFS(Honoraire[TotalHT],Honoraire[ClientId],Personne[[#This Row],[PersonneId]]))","v":0},{"$f":"Personne[[#This Row],[Facture (HT)]]+ROW()/100000","v":1.4E-3},{"$f":"_xlfn.CONCAT(Personne[[#This Row],[Adresse]],\" \",Personne[[#This Row],[CodePostal]],\" \",Personne[[#This Row],[Ville]],\" \",Personne[[#This Row],[CodePays]])","v":"   "}]
[null,null,null,null,null,null,null,null,null,null,null,null,null,null,null,null,null,null,null,null,null,null,null,null,null,null,null,null,null,null,{"$f":"IF(PARAMETRES!$B$3=\"SANS\",SUMIFS(Honoraire[TotalHonoraireHT],Honoraire[ClientId],Personne[[#This Row],[PersonneId]]),SUMIFS(Honoraire[TotalHT],Honoraire[ClientId],Personne[[#This Row],[PersonneId]]))","v":0},{"$f":"Personne[[#This Row],[Facture (HT)]]+ROW()/100000","v":1.41E-3},{"$f":"_xlfn.CONCAT(Personne[[#This Row],[Adresse]],\" \",Personne[[#This Row],[CodePostal]],\" \",Personne[[#This Row],[Ville]],\" \",Personne[[#This Row],[CodePays]])","v":"   "}]
[null,null,null,null,null,null,null,null,null,null,null,null,null,null,null,null,null,null,null,null,null,null,null,null,null,null,null,null,null,null,{"$f":"IF(PARAMETRES!$B$3=\"SANS\",SUMIFS(Honoraire[TotalHonoraireHT],Honoraire[ClientId],Personne[[#This Row],[PersonneId]]),SUMIFS(Honoraire[TotalHT],Honoraire[ClientId],Personne[[#This Row],[PersonneId]]))","v":0},{"$f":"Personne[[#This Row],[Facture (HT)]]+ROW()/100000","v":1.42E-3},{"$f":"_xlfn.CONCAT(Personne[[#This Row],[Adresse]],\" \",Personne[[#This Row],[CodePostal]],\" \",Personne[[#This Row],[Ville]],\" \",Personne[[#This Row],[CodePays]])","v":"   "}]
[null,null,null,null,null,null,null,null,null,null,null,null,null,null,null,null,null,null,null,null,null,null,null,null,null,null,null,null,null,null,{"$f":"IF(PARAMETRES!$B$3=\"SANS\",SUMIFS(Honoraire[TotalHonoraireHT],Honoraire[ClientId],Personne[[#This Row],[PersonneId]]),SUMIFS(Honoraire[TotalHT],Honoraire[ClientId],Personne[[#This Row],[PersonneId]]))","v":0},{"$f":"Personne[[#This Row],[Facture (HT)]]+ROW()/100000","v":1.4300000000000001E-3},{"$f":"_xlfn.CONCAT(Personne[[#This Row],[Adresse]],\" \",Personne[[#This Row],[CodePostal]],\" \",Personne[[#This Row],[Ville]],\" \",Personne[[#This Row],[CodePays]])","v":"   "}]
[null,null,null,null,null,null,null,null,null,null,null,null,null,null,null,null,null,null,null,null,null,null,null,null,null,null,null,null,null,null,{"$f":"IF(PARAMETRES!$B$3=\"SANS\",SUMIFS(Honoraire[TotalHonoraireHT],Honoraire[ClientId],Personne[[#This Row],[PersonneId]]),SUMIFS(Honoraire[TotalHT],Honoraire[ClientId],Personne[[#This Row],[PersonneId]]))","v":0},{"$f":"Personne[[#This Row],[Facture (HT)]]+ROW()/100000","v":1.4400000000000001E-3},{"$f":"_xlfn.CONCAT(Personne[[#This Row],[Adresse]],\" \",Personne[[#This Row],[CodePostal]],\" \",Personne[[#This Row],[Ville]],\" \",Personne[[#This Row],[CodePays]])","v":"   "}]
[null,null,null,null,null,null,null,null,null,null,null,null,null,null,null,null,null,null,null,null,null,null,null,null,null,null,null,null,null,null,{"$f":"IF(PARAMETRES!$B$3=\"SANS\",SUMIFS(Honoraire[TotalHonoraireHT],Honoraire[ClientId],Personne[[#This Row],[PersonneId]]),SUMIFS(Honoraire[TotalHT],Honoraire[ClientId],Personne[[#This Row],[PersonneId]]))","v":0},{"$f":"Personne[[#This Row],[Facture (HT)]]+ROW()/100000","v":1.4499999999999999E-3},{"$f":"_xlfn.CONCAT(Personne[[#This Row],[Adresse]],\" \",Personne[[#This Row],[CodePostal]],\" \",Personne[[#This Row],[Ville]],\" \",Personne[[#This Row],[CodePays]])","v":"   "}]
[null,null,null,null,null,null,null,null,null,null,null,null,null,null,null,null,null,null,null,null,null,null,null,null,null,null,null,null,null,null,{"$f":"IF(PARAMETRES!$B$3=\"SANS\",SUMIFS(Honoraire[TotalHonoraireHT],Honoraire[ClientId],Personne[[#This Row],[PersonneId]]),SUMIFS(Honoraire[TotalHT],Honoraire[ClientId],Personne[[#This Row],[PersonneId]]))","v":0},{"$f":"Personne[[#This Row],[Facture (HT)]]+ROW()/100000","v":1.4599999999999999E-3},{"$f":"_xlfn.CONCAT(Personne[[#This Row],[Adresse]],\" \",Personne[[#This Row],[CodePostal]],\" \",Personne[[#This Row],[Ville]],\" \",Personne[[#This Row],[CodePays]])","v":"   "}]
[null,null,null,null,null,null,null,null,null,null,null,null,null,null,null,null,null,null,null,null,null,null,null,null,null,null,null,null,null,null,{"$f":"IF(PARAMETRES!$B$3=\"SANS\",SUMIFS(Honoraire[TotalHonoraireHT],Honoraire[ClientId],Personne[[#This Row],[PersonneId]]),SUMIFS(Honoraire[TotalHT],Honoraire[ClientId],Personne[[#This Row],[PersonneId]]))","v":0},{"$f":"Personne[[#This Row],[Facture (HT)]]+ROW()/100000","v":1.47E-3},{"$f":"_xlfn.CONCAT(Personne[[#This Row],[Adresse]],\" \",Personne[[#This Row],[CodePostal]],\" \",Personne[[#This Row],[Ville]],\" \",Personne[[#This Row],[CodePays]])","v":"   "}]
[null,null,null,null,null,null,null,null,null,null,null,null,null,null,null,null,null,null,null,null,null,null,null,null,null,null,null,null,null,null,{"$f":"IF(PARAMETRES!$B$3=\"SANS\",SUMIFS(Honoraire[TotalHonoraireHT],Honoraire[ClientId],Personne[[#This Row],[PersonneId]]),SUMIFS(Honoraire[TotalHT],Honoraire[ClientId],Personne[[#This Row],[PersonneId]]))","v":0},{"$f":"Personne[[#This Row],[Facture (HT)]]+ROW()/100000","v":1.48E-3},{"$f":"_xlfn.CONCAT(Personne[[#This Row],[Adresse]],\" \",Personne[[#This Row],[CodePostal]],\" \",Personne[[#This Row],[Ville]],\" \",Personne[[#This Row],[CodePays]])","v":"   "}]
[null,null,null,null,null,null,null,null,null,null,null,null,null,null,null,null,null,null,null,null,null,null,null,null,null,null,null,null,null,null,{"$f":"IF(PARAMETRES!$B$3=\"SANS\",SUMIFS(Honoraire[TotalHonoraireHT],Honoraire[ClientId],Personne[[#This Row],[PersonneId]]),SUMIFS(Honoraire[TotalHT],Honoraire[ClientId],Personne[[#This Row],[PersonneId]]))","v":0},{"$f":"Personne[[#This Row],[Facture (HT)]]+ROW()/100000","v":1.49E-3},{"$f":"_xlfn.CONCAT(Personne[[#This Row],[Adresse]],\" \",Personne[[#This Row],[CodePostal]],\" \",Personne[[#This Row],[Ville]],\" \",Personne[[#This Row],[CodePays]])","v":"   "}]
[null,null,null,null,null,null,null,null,null,null,null,null,null,null,null,null,null,null,null,null,null,null,null,null,null,null,null,null,null,null,{"$f":"IF(PARAMETRES!$B$3=\"SANS\",SUMIFS(Honoraire[TotalHonoraireHT],Honoraire[ClientId],Personne[[#This Row],[PersonneId]]),SUMIFS(Honoraire[TotalHT],Honoraire[ClientId],Personne[[#This Row],[PersonneId]]))","v":0},{"$f":"Personne[[#This Row],[Facture (HT)]]+ROW()/100000","v":1.5E-3},{"$f":"_xlfn.CONCAT(Personne[[#This Row],[Adresse]],\" \",Personne[[#This Row],[CodePostal]],\" \",Personne[[#This Row],[Ville]],\" \",Personne[[#This Row],[CodePays]])","v":"   "}]
[null,null,null,null,null,null,null,null,null,null,null,null,null,null,null,null,null,null,null,null,null,null,null,null,null,null,null,null,null,null,{"$f":"IF(PARAMETRES!$B$3=\"SANS\",SUMIFS(Honoraire[TotalHonoraireHT],Honoraire[ClientId],Personne[[#This Row],[PersonneId]]),SUMIFS(Honoraire[TotalHT],Honoraire[ClientId],Personne[[#This Row],[PersonneId]]))","v":0},{"$f":"Personne[[#This Row],[Facture (HT)]]+ROW()/100000","v":1.5100000000000001E-3},{"$f":"_xlfn.CONCAT(Personne[[#This Row],[Adresse]],\" \",Personne[[#This Row],[CodePostal]],\" \",Personne[[#This Row],[Ville]],\" \",Personne[[#This Row],[CodePays]])","v":"   "}]
[null,null,null,null,null,null,null,null,null,null,null,null,null,null,null,null,null,null,null,null,null,null,null,null,null,null,null,null,null,null,{"$f":"IF(PARAMETRES!$B$3=\"SANS\",SUMIFS(Honoraire[TotalHonoraireHT],Honoraire[ClientId],Personne[[#This Row],[PersonneId]]),SUMIFS(Honoraire[TotalHT],Honoraire[ClientId],Personne[[#This Row],[PersonneId]]))","v":0},{"$f":"Personne[[#This Row],[Facture (HT)]]+ROW()/100000","v":1.5200000000000001E-3},{"$f":"_xlfn.CONCAT(Personne[[#This Row],[Adresse]],\" \",Personne[[#This Row],[CodePostal]],\" \",Personne[[#This Row],[Ville]],\" \",Personne[[#This Row],[CodePays]])","v":"   "}]
[null,null,null,null,null,null,null,null,null,null,null,null,null,null,null,null,null,null,null,null,null,null,null,null,null,null,null,null,null,null,{"$f":"IF(PARAMETRES!$B$3=\"SANS\",SUMIFS(Honoraire[TotalHonoraireHT],Honoraire[ClientId],Personne[[#This Row],[PersonneId]]),SUMIFS(Honoraire[TotalHT],Honoraire[ClientId],Personne[[#This Row],[PersonneId]]))","v":0},{"$f":"Personne[[#This Row],[Facture (HT)]]+ROW()/100000","v":1.5299999999999999E-3},{"$f":"_xlfn.CONCAT(Personne[[#This Row],[Adresse]],\" \",Personne[[#This Row],[CodePostal]],\" \",Personne[[#This Row],[Ville]],\" \",Personne[[#This Row],[CodePays]])","v":"   "}]
[null,null,null,null,null,null,null,null,null,null,null,null,null,null,null,null,null,null,null,null,null,null,null,null,null,null,null,null,null,null,{"$f":"IF(PARAMETRES!$B$3=\"SANS\",SUMIFS(Honoraire[TotalHonoraireHT],Honoraire[ClientId],Personne[[#This Row],[PersonneId]]),SUMIFS(Honoraire[TotalHT],Honoraire[ClientId],Personne[[#This Row],[PersonneId]]))","v":0},{"$f":"Personne[[#This Row],[Facture (HT)]]+ROW()/100000","v":1.5399999999999999E-3},{"$f":"_xlfn.CONCAT(Personne[[#This Row],[Adresse]],\" \",Personne[[#This Row],[CodePostal]],\" \",Personne[[#This Row],[Ville]],\" \",Personne[[#This Row],[CodePays]])","v":"   "}]
[null,null,null,null,null,null,null,null,null,null,null,null,null,null,null,null,null,null,null,null,null,null,null,null,null,null,null,null,null,null,{"$f":"IF(PARAMETRES!$B$3=\"SANS\",SUMIFS(Honoraire[TotalHonoraireHT],Honoraire[ClientId],Personne[[#This Row],[PersonneId]]),SUMIFS(Honoraire[TotalHT],Honoraire[ClientId],Personne[[#This Row],[PersonneId]]))","v":0},{"$f":"Personne[[#This Row],[Facture (HT)]]+ROW()/100000","v":1.5499999999999999E-3},{"$f":"_xlfn.CONCAT(Personne[[#This Row],[Adresse]],\" \",Personne[[#This Row],[CodePostal]],\" \",Personne[[#This Row],[Ville]],\" \",Personne[[#This Row],[CodePays]])","v":"   "}]
[null,null,null,null,null,null,null,null,null,null,null,null,null,null,null,null,null,null,null,null,null,null,null,null,null,null,null,null,null,null,{"$f":"IF(PARAMETRES!$B$3=\"SANS\",SUMIFS(Honoraire[TotalHonoraireHT],Honoraire[ClientId],Personne[[#This Row],[PersonneId]]),SUMIFS(Honoraire[TotalHT],Honoraire[ClientId],Personne[[#This Row],[PersonneId]]))","v":0},{"$f":"Personne[[#This Row],[Facture (HT)]]+ROW()/100000","v":1.56E-3},{"$f":"_xlfn.CONCAT(Personne[[#This Row],[Adresse]],\" \",Personne[[#This Row],[CodePostal]],\" \",Personne[[#This Row],[Ville]],\" \",Personne[[#This Row],[CodePays]])","v":"   "}]
[null,null,null,null,null,null,null,null,null,null,null,null,null,null,null,null,null,null,null,null,null,null,null,null,null,null,null,null,null,null,{"$f":"IF(PARAMETRES!$B$3=\"SANS\",SUMIFS(Honoraire[TotalHonoraireHT],Honoraire[ClientId],Personne[[#This Row],[PersonneId]]),SUMIFS(Honoraire[TotalHT],Honoraire[ClientId],Personne[[#This Row],[PersonneId]]))","v":0},{"$f":"Personne[[#This Row],[Facture (HT)]]+ROW()/100000","v":1.57E-3},{"$f":"_xlfn.CONCAT(Personne[[#This Row],[Adresse]],\" \",Personne[[#This Row],[CodePostal]],\" \",Personne[[#This Row],[Ville]],\" \",Personne[[#This Row],[CodePays]])","v":"   "}]
[null,null,null,null,null,null,null,null,null,null,null,null,null,null,null,null,null,null,null,null,null,null,null,null,null,null,null,null,null,null,{"$f":"IF(PARAMETRES!$B$3=\"SANS\",SUMIFS(Honoraire[TotalHonoraireHT],Honoraire[ClientId],Personne[[#This Row],[PersonneId]]),SUMIFS(Honoraire[TotalHT],Honoraire[ClientId],Personne[[#This Row],[PersonneId]]))","v":0},{"$f":"Personne[[#This Row],[Facture (HT)]]+ROW()/100000","v":1.58E-3},{"$f":"_xlfn.CONCAT(Personne[[#This Row],[Adresse]],\" \",Personne[[#This Row],[CodePostal]],\" \",Personne[[#This Row],[Ville]],\" \",Personne[[#This Row],[CodePays]])","v":"   "}]
[null,null,null,null,null,null,null,null,null,null,null,null,null,null,null,null,null,null,null,null,null,null,null,null,null,null,null,null,null,null,{"$f":"IF(PARAMETRES!$B$3=\"SANS\",SUMIFS(Honoraire[TotalHonoraireHT],Honoraire[ClientId],Personne[[#This Row],[PersonneId]]),SUMIFS(Honoraire[TotalHT],Honoraire[ClientId],Personne[[#This Row],[PersonneId]]))","v":0},{"$f":"Personne[[#This Row],[Facture (HT)]]+ROW()/100000","v":1.5900000000000001E-3},{"$f":"_xlfn.CONCAT(Personne[[#This Row],[Adresse]],\" \",Personne[[#This Row],[CodePostal]],\" \",Personne[[#This Row],[Ville]],\" \",Personne[[#This Row],[CodePays]])","v":"   "}]
[null,null,null,null,null,null,null,null,null,null,null,null,null,null,null,null,null,null,null,null,null,null,null,null,null,null,null,null,null,null,{"$f":"IF(PARAMETRES!$B$3=\"SANS\",SUMIFS(Honoraire[TotalHonoraireHT],Honoraire[ClientId],Personne[[#This Row],[PersonneId]]),SUMIFS(Honoraire[TotalHT],Honoraire[ClientId],Personne[[#This Row],[PersonneId]]))","v":0},{"$f":"Personne[[#This Row],[Facture (HT)]]+ROW()/100000","v":1.6000000000000001E-3},{"$f":"_xlfn.CONCAT(Personne[[#This Row],[Adresse]],\" \",Personne[[#This Row],[CodePostal]],\" \",Personne[[#This Row],[Ville]],\" \",Personne[[#This Row],[CodePays]])","v":"   "}]
[null,null,null,null,null,null,null,null,null,null,null,null,null,null,null,null,null,null,null,null,null,null,null,null,null,null,null,null,null,null,{"$f":"IF(PARAMETRES!$B$3=\"SANS\",SUMIFS(Honoraire[TotalHonoraireHT],Honoraire[ClientId],Personne[[#This Row],[PersonneId]]),SUMIFS(Honoraire[TotalHT],Honoraire[ClientId],Personne[[#This Row],[PersonneId]]))","v":0},{"$f":"Personne[[#This Row],[Facture (HT)]]+ROW()/100000","v":1.6100000000000001E-3},{"$f":"_xlfn.CONCAT(Personne[[#This Row],[Adresse]],\" \",Personne[[#This Row],[CodePostal]],\" \",Personne[[#This Row],[Ville]],\" \",Personne[[#This Row],[CodePays]])","v":"   "}]
[null,null,null,null,null,null,null,null,null,null,null,null,null,null,null,null,null,null,null,null,null,null,null,null,null,null,null,null,null,null,{"$f":"IF(PARAMETRES!$B$3=\"SANS\",SUMIFS(Honoraire[TotalHonoraireHT],Honoraire[ClientId],Personne[[#This Row],[PersonneId]]),SUMIFS(Honoraire[TotalHT],Honoraire[ClientId],Personne[[#This Row],[PersonneId]]))","v":0},{"$f":"Personne[[#This Row],[Facture (HT)]]+ROW()/100000","v":1.6199999999999999E-3},{"$f":"_xlfn.CONCAT(Personne[[#This Row],[Adresse]],\" \",Personne[[#This Row],[CodePostal]],\" \",Personne[[#This Row],[Ville]],\" \",Personne[[#This Row],[CodePays]])","v":"   "}]
[null,null,null,null,null,null,null,null,null,null,null,null,null,null,null,null,null,null,null,null,null,null,null,null,null,null,null,null,null,null,{"$f":"IF(PARAMETRES!$B$3=\"SANS\",SUMIFS(Honoraire[TotalHonoraireHT],Honoraire[ClientId],Personne[[#This Row],[PersonneId]]),SUMIFS(Honoraire[TotalHT],Honoraire[ClientId],Personne[[#This Row],[PersonneId]]))","v":0},{"$f":"Personne[[#This Row],[Facture (HT)]]+ROW()/100000","v":1.6299999999999999E-3},{"$f":"_xlfn.CONCAT(Personne[[#This Row],[Adresse]],\" \",Personne[[#This Row],[CodePostal]],\" \",Personne[[#This Row],[Ville]],\" \",Personne[[#This Row],[CodePays]])","v":"   "}]
[null,null,null,null,null,null,null,null,null,null,null,null,null,null,null,null,null,null,null,null,null,null,null,null,null,null,null,null,null,null,{"$f":"IF(PARAMETRES!$B$3=\"SANS\",SUMIFS(Honoraire[TotalHonoraireHT],Honoraire[ClientId],Personne[[#This Row],[PersonneId]]),SUMIFS(Honoraire[TotalHT],Honoraire[ClientId],Personne[[#This Row],[PersonneId]]))","v":0},{"$f":"Personne[[#This Row],[Facture (HT)]]+ROW()/100000","v":1.64E-3},{"$f":"_xlfn.CONCAT(Personne[[#This Row],[Adresse]],\" \",Personne[[#This Row],[CodePostal]],\" \",Personne[[#This Row],[Ville]],\" \",Personne[[#This Row],[CodePays]])","v":"   "}]
[null,null,null,null,null,null,null,null,null,null,null,null,null,null,null,null,null,null,null,null,null,null,null,null,null,null,null,null,null,null,{"$f":"IF(PARAMETRES!$B$3=\"SANS\",SUMIFS(Honoraire[TotalHonoraireHT],Honoraire[ClientId],Personne[[#This Row],[PersonneId]]),SUMIFS(Honoraire[TotalHT],Honoraire[ClientId],Personne[[#This Row],[PersonneId]]))","v":0},{"$f":"Personne[[#This Row],[Facture (HT)]]+ROW()/100000","v":1.65E-3},{"$f":"_xlfn.CONCAT(Personne[[#This Row],[Adresse]],\" \",Personne[[#This Row],[CodePostal]],\" \",Personne[[#This Row],[Ville]],\" \",Personne[[#This Row],[CodePays]])","v":"   "}]
[null,null,null,null,null,null,null,null,null,null,null,null,null,null,null,null,null,null,null,null,null,null,null,null,null,null,null,null,null,null,{"$f":"IF(PARAMETRES!$B$3=\"SANS\",SUMIFS(Honoraire[TotalHonoraireHT],Honoraire[ClientId],Personne[[#This Row],[PersonneId]]),SUMIFS(Honoraire[TotalHT],Honoraire[ClientId],Personne[[#This Row],[PersonneId]]))","v":0},{"$f":"Personne[[#This Row],[Facture (HT)]]+ROW()/100000","v":1.66E-3},{"$f":"_xlfn.CONCAT(Personne[[#This Row],[Adresse]],\" \",Personne[[#This Row],[CodePostal]],\" \",Personne[[#This Row],[Ville]],\" \",Personne[[#This Row],[CodePays]])","v":"   "}]
[null,null,null,null,null,null,null,null,null,null,null,null,null,null,null,null,null,null,null,null,null,null,null,null,null,null,null,null,null,null,{"$f":"IF(PARAMETRES!$B$3=\"SANS\",SUMIFS(Honoraire[TotalHonoraireHT],Honoraire[ClientId],Personne[[#This Row],[PersonneId]]),SUMIFS(Honoraire[TotalHT],Honoraire[ClientId],Personne[[#This Row],[PersonneId]]))","v":0},{"$f":"Personne[[#This Row],[Facture (HT)]]+ROW()/100000","v":1.67E-3},{"$f":"_xlfn.CONCAT(Personne[[#This Row],[Adresse]],\" \",Personne[[#This Row],[CodePostal]],\" \",Personne[[#This Row],[Ville]],\" \",Personne[[#This Row],[CodePays]])","v":"   "}]
[null,null,null,null,null,null,null,null,null,null,null,null,null,null,null,null,null,null,null,null,null,null,null,null,null,null,null,null,null,null,{"$f":"IF(PARAMETRES!$B$3=\"SANS\",SUMIFS(Honoraire[TotalHonoraireHT],Honoraire[ClientId],Personne[[#This Row],[PersonneId]]),SUMIFS(Honoraire[TotalHT],Honoraire[ClientId],Personne[[#This Row],[PersonneId]]))","v":0},{"$f":"Personne[[#This Row],[Facture (HT)]]+ROW()/100000","v":1.6800000000000001E-3},{"$f":"_xlfn.CONCAT(Personne[[#This Row],[Adresse]],\" \",Personne[[#This Row],[CodePostal]],\" \",Personne[[#This Row],[Ville]],\" \",Personne[[#This Row],[CodePays]])","v":"   "}]
[null,null,null,null,null,null,null,null,null,null,null,null,null,null,null,null,null,null,null,null,null,null,null,null,null,null,null,null,null,null,{"$f":"IF(PARAMETRES!$B$3=\"SANS\",SUMIFS(Honoraire[TotalHonoraireHT],Honoraire[ClientId],Personne[[#This Row],[PersonneId]]),SUMIFS(Honoraire[TotalHT],Honoraire[ClientId],Personne[[#This Row],[PersonneId]]))","v":0},{"$f":"Personne[[#This Row],[Facture (HT)]]+ROW()/100000","v":1.6900000000000001E-3},{"$f":"_xlfn.CONCAT(Personne[[#This Row],[Adresse]],\" \",Personne[[#This Row],[CodePostal]],\" \",Personne[[#This Row],[Ville]],\" \",Personne[[#This Row],[CodePays]])","v":"   "}]
[null,null,null,null,null,null,null,null,null,null,null,null,null,null,null,null,null,null,null,null,null,null,null,null,null,null,null,null,null,null,{"$f":"IF(PARAMETRES!$B$3=\"SANS\",SUMIFS(Honoraire[TotalHonoraireHT],Honoraire[ClientId],Personne[[#This Row],[PersonneId]]),SUMIFS(Honoraire[TotalHT],Honoraire[ClientId],Personne[[#This Row],[PersonneId]]))","v":0},{"$f":"Personne[[#This Row],[Facture (HT)]]+ROW()/100000","v":1.6999999999999999E-3},{"$f":"_xlfn.CONCAT(Personne[[#This Row],[Adresse]],\" \",Personne[[#This Row],[CodePostal]],\" \",Personne[[#This Row],[Ville]],\" \",Personne[[#This Row],[CodePays]])","v":"   "}]
[null,null,null,null,null,null,null,null,null,null,null,null,null,null,null,null,null,null,null,null,null,null,null,null,null,null,null,null,null,null,{"$f":"IF(PARAMETRES!$B$3=\"SANS\",SUMIFS(Honoraire[TotalHonoraireHT],Honoraire[ClientId],Personne[[#This Row],[PersonneId]]),SUMIFS(Honoraire[TotalHT],Honoraire[ClientId],Personne[[#This Row],[PersonneId]]))","v":0},{"$f":"Personne[[#This Row],[Facture (HT)]]+ROW()/100000","v":1.7099999999999999E-3},{"$f":"_xlfn.CONCAT(Personne[[#This Row],[Adresse]],\" \",Personne[[#This Row],[CodePostal]],\" \",Personne[[#This Row],[Ville]],\" \",Personne[[#This Row],[CodePays]])","v":"   "}]
[null,null,null,null,null,null,null,null,null,null,null,null,null,null,null,null,null,null,null,null,null,null,null,null,null,null,null,null,null,null,{"$f":"IF(PARAMETRES!$B$3=\"SANS\",SUMIFS(Honoraire[TotalHonoraireHT],Honoraire[ClientId],Personne[[#This Row],[PersonneId]]),SUMIFS(Honoraire[TotalHT],Honoraire[ClientId],Personne[[#This Row],[PersonneId]]))","v":0},{"$f":"Personne[[#This Row],[Facture (HT)]]+ROW()/100000","v":1.72E-3},{"$f":"_xlfn.CONCAT(Personne[[#This Row],[Adresse]],\" \",Personne[[#This Row],[CodePostal]],\" \",Personne[[#This Row],[Ville]],\" \",Personne[[#This Row],[CodePays]])","v":"   "}]
[null,null,null,null,null,null,null,null,null,null,null,null,null,null,null,null,null,null,null,null,null,null,null,null,null,null,null,null,null,null,{"$f":"IF(PARAMETRES!$B$3=\"SANS\",SUMIFS(Honoraire[TotalHonoraireHT],Honoraire[ClientId],Personne[[#This Row],[PersonneId]]),SUMIFS(Honoraire[TotalHT],Honoraire[ClientId],Personne[[#This Row],[PersonneId]]))","v":0},{"$f":"Personne[[#This Row],[Facture (HT)]]+ROW()/100000","v":1.73E-3},{"$f":"_xlfn.CONCAT(Personne[[#This Row],[Adresse]],\" \",Personne[[#This Row],[CodePostal]],\" \",Personne[[#This Row],[Ville]],\" \",Personne[[#This Row],[CodePays]])","v":"   "}]
[null,null,null,null,null,null,null,null,null,null,null,null,null,null,null,null,null,null,null,null,null,null,null,null,null,null,null,null,null,null,{"$f":"IF(PARAMETRES!$B$3=\"SANS\",SUMIFS(Honoraire[TotalHonoraireHT],Honoraire[ClientId],Personne[[#This Row],[PersonneId]]),SUMIFS(Honoraire[TotalHT],Honoraire[ClientId],Personne[[#This Row],[PersonneId]]))","v":0},{"$f":"Personne[[#This Row],[Facture (HT)]]+ROW()/100000","v":1.74E-3},{"$f":"_xlfn.CONCAT(Personne[[#This Row],[Adresse]],\" \",Personne[[#This Row],[CodePostal]],\" \",Personne[[#This Row],[Ville]],\" \",Personne[[#This Row],[CodePays]])","v":"   "}]
[null,null,null,null,null,null,null,null,null,null,null,null,null,null,null,null,null,null,null,null,null,null,null,null,null,null,null,null,null,null,{"$f":"IF(PARAMETRES!$B$3=\"SANS\",SUMIFS(Honoraire[TotalHonoraireHT],Honoraire[ClientId],Personne[[#This Row],[PersonneId]]),SUMIFS(Honoraire[TotalHT],Honoraire[ClientId],Personne[[#This Row],[PersonneId]]))","v":0},{"$f":"Personne[[#This Row],[Facture (HT)]]+ROW()/100000","v":1.75E-3},{"$f":"_xlfn.CONCAT(Personne[[#This Row],[Adresse]],\" \",Personne[[#This Row],[CodePostal]],\" \",Personne[[#This Row],[Ville]],\" \",Personne[[#This Row],[CodePays]])","v":"   "}]
[null,null,null,null,null,null,null,null,null,null,null,null,null,null,null,null,null,null,null,null,null,null,null,null,null,null,null,null,null,null,{"$f":"IF(PARAMETRES!$B$3=\"SANS\",SUMIFS(Honoraire[TotalHonoraireHT],Honoraire[ClientId],Personne[[#This Row],[PersonneId]]),SUMIFS(Honoraire[TotalHT],Honoraire[ClientId],Personne[[#This Row],[PersonneId]]))","v":0},{"$f":"Personne[[#This Row],[Facture (HT)]]+ROW()/100000","v":1.7600000000000001E-3},{"$f":"_xlfn.CONCAT(Personne[[#This Row],[Adresse]],\" \",Personne[[#This Row],[CodePostal]],\" \",Personne[[#This Row],[Ville]],\" \",Personne[[#This Row],[CodePays]])","v":"   "}]
[null,null,null,null,null,null,null,null,null,null,null,null,null,null,null,null,null,null,null,null,null,null,null,null,null,null,null,null,null,null,{"$f":"IF(PARAMETRES!$B$3=\"SANS\",SUMIFS(Honoraire[TotalHonoraireHT],Honoraire[ClientId],Personne[[#This Row],[PersonneId]]),SUMIFS(Honoraire[TotalHT],Honoraire[ClientId],Personne[[#This Row],[PersonneId]]))","v":0},{"$f":"Personne[[#This Row],[Facture (HT)]]+ROW()/100000","v":1.7700000000000001E-3},{"$f":"_xlfn.CONCAT(Personne[[#This Row],[Adresse]],\" \",Personne[[#This Row],[CodePostal]],\" \",Personne[[#This Row],[Ville]],\" \",Personne[[#This Row],[CodePays]])","v":"   "}]
[null,null,null,null,null,null,null,null,null,null,null,null,null,null,null,null,null,null,null,null,null,null,null,null,null,null,null,null,null,null,{"$f":"IF(PARAMETRES!$B$3=\"SANS\",SUMIFS(Honoraire[TotalHonoraireHT],Honoraire[ClientId],Personne[[#This Row],[PersonneId]]),SUMIFS(Honoraire[TotalHT],Honoraire[ClientId],Personne[[#This Row],[PersonneId]]))","v":0},{"$f":"Personne[[#This Row],[Facture (HT)]]+ROW()/100000","v":1.7799999999999999E-3},{"$f":"_xlfn.CONCAT(Personne[[#This Row],[Adresse]],\" \",Personne[[#This Row],[CodePostal]],\" \",Personne[[#This Row],[Ville]],\" \",Personne[[#This Row],[CodePays]])","v":"   "}]
[null,null,null,null,null,null,null,null,null,null,null,null,null,null,null,null,null,null,null,null,null,null,null,null,null,null,null,null,null,null,{"$f":"IF(PARAMETRES!$B$3=\"SANS\",SUMIFS(Honoraire[TotalHonoraireHT],Honoraire[ClientId],Personne[[#This Row],[PersonneId]]),SUMIFS(Honoraire[TotalHT],Honoraire[ClientId],Personne[[#This Row],[PersonneId]]))","v":0},{"$f":"Personne[[#This Row],[Facture (HT)]]+ROW()/100000","v":1.7899999999999999E-3},{"$f":"_xlfn.CONCAT(Personne[[#This Row],[Adresse]],\" \",Personne[[#This Row],[CodePostal]],\" \",Personne[[#This Row],[Ville]],\" \",Personne[[#This Row],[CodePays]])","v":"   "}]
[null,null,null,null,null,null,null,null,null,null,null,null,null,null,null,null,null,null,null,null,null,null,null,null,null,null,null,null,null,null,{"$f":"IF(PARAMETRES!$B$3=\"SANS\",SUMIFS(Honoraire[TotalHonoraireHT],Honoraire[ClientId],Personne[[#This Row],[PersonneId]]),SUMIFS(Honoraire[TotalHT],Honoraire[ClientId],Personne[[#This Row],[PersonneId]]))","v":0},{"$f":"Personne[[#This Row],[Facture (HT)]]+ROW()/100000","v":1.8E-3},{"$f":"_xlfn.CONCAT(Personne[[#This Row],[Adresse]],\" \",Personne[[#This Row],[CodePostal]],\" \",Personne[[#This Row],[Ville]],\" \",Personne[[#This Row],[CodePays]])","v":"   "}]
[null,null,null,null,null,null,null,null,null,null,null,null,null,null,null,null,null,null,null,null,null,null,null,null,null,null,null,null,null,null,{"$f":"IF(PARAMETRES!$B$3=\"SANS\",SUMIFS(Honoraire[TotalHonoraireHT],Honoraire[ClientId],Personne[[#This Row],[PersonneId]]),SUMIFS(Honoraire[TotalHT],Honoraire[ClientId],Personne[[#This Row],[PersonneId]]))","v":0},{"$f":"Personne[[#This Row],[Facture (HT)]]+ROW()/100000","v":1.81E-3},{"$f":"_xlfn.CONCAT(Personne[[#This Row],[Adresse]],\" \",Personne[[#This Row],[CodePostal]],\" \",Personne[[#This Row],[Ville]],\" \",Personne[[#This Row],[CodePays]])","v":"   "}]
[null,null,null,null,null,null,null,null,null,null,null,null,null,null,null,null,null,null,null,null,null,null,null,null,null,null,null,null,null,null,{"$f":"IF(PARAMETRES!$B$3=\"SANS\",SUMIFS(Honoraire[TotalHonoraireHT],Honoraire[ClientId],Personne[[#This Row],[PersonneId]]),SUMIFS(Honoraire[TotalHT],Honoraire[ClientId],Personne[[#This Row],[PersonneId]]))","v":0},{"$f":"Personne[[#This Row],[Facture (HT)]]+ROW()/100000","v":1.82E-3},{"$f":"_xlfn.CONCAT(Personne[[#This Row],[Adresse]],\" \",Personne[[#This Row],[CodePostal]],\" \",Personne[[#This Row],[Ville]],\" \",Personne[[#This Row],[CodePays]])","v":"   "}]
[null,null,null,null,null,null,null,null,null,null,null,null,null,null,null,null,null,null,null,null,null,null,null,null,null,null,null,null,null,null,{"$f":"IF(PARAMETRES!$B$3=\"SANS\",SUMIFS(Honoraire[TotalHonoraireHT],Honoraire[ClientId],Personne[[#This Row],[PersonneId]]),SUMIFS(Honoraire[TotalHT],Honoraire[ClientId],Personne[[#This Row],[PersonneId]]))","v":0},{"$f":"Personne[[#This Row],[Facture (HT)]]+ROW()/100000","v":1.83E-3},{"$f":"_xlfn.CONCAT(Personne[[#This Row],[Adresse]],\" \",Personne[[#This Row],[CodePostal]],\" \",Personne[[#This Row],[Ville]],\" \",Personne[[#This Row],[CodePays]])","v":"   "}]
[null,null,null,null,null,null,null,null,null,null,null,null,null,null,null,null,null,null,null,null,null,null,null,null,null,null,null,null,null,null,{"$f":"IF(PARAMETRES!$B$3=\"SANS\",SUMIFS(Honoraire[TotalHonoraireHT],Honoraire[ClientId],Personne[[#This Row],[PersonneId]]),SUMIFS(Honoraire[TotalHT],Honoraire[ClientId],Personne[[#This Row],[PersonneId]]))","v":0},{"$f":"Personne[[#This Row],[Facture (HT)]]+ROW()/100000","v":1.8400000000000001E-3},{"$f":"_xlfn.CONCAT(Personne[[#This Row],[Adresse]],\" \",Personne[[#This Row],[CodePostal]],\" \",Personne[[#This Row],[Ville]],\" \",Personne[[#This Row],[CodePays]])","v":"   "}]
[null,null,null,null,null,null,null,null,null,null,null,null,null,null,null,null,null,null,null,null,null,null,null,null,null,null,null,null,null,null,{"$f":"IF(PARAMETRES!$B$3=\"SANS\",SUMIFS(Honoraire[TotalHonoraireHT],Honoraire[ClientId],Personne[[#This Row],[PersonneId]]),SUMIFS(Honoraire[TotalHT],Honoraire[ClientId],Personne[[#This Row],[PersonneId]]))","v":0},{"$f":"Personne[[#This Row],[Facture (HT)]]+ROW()/100000","v":1.8500000000000001E-3},{"$f":"_xlfn.CONCAT(Personne[[#This Row],[Adresse]],\" \",Personne[[#This Row],[CodePostal]],\" \",Personne[[#This Row],[Ville]],\" \",Personne[[#This Row],[CodePays]])","v":"   "}]
[null,null,null,null,null,null,null,null,null,null,null,null,null,null,null,null,null,null,null,null,null,null,null,null,null,null,null,null,null,null,{"$f":"IF(PARAMETRES!$B$3=\"SANS\",SUMIFS(Honoraire[TotalHonoraireHT],Honoraire[ClientId],Personne[[#This Row],[PersonneId]]),SUMIFS(Honoraire[TotalHT],Honoraire[ClientId],Personne[[#This Row],[PersonneId]]))","v":0},{"$f":"Personne[[#This Row],[Facture (HT)]]+ROW()/100000","v":1.8600000000000001E-3},{"$f":"_xlfn.CONCAT(Personne[[#This Row],[Adresse]],\" \",Personne[[#This Row],[CodePostal]],\" \",Personne[[#This Row],[Ville]],\" \",Personne[[#This Row],[CodePays]])","v":"   "}]
[null,null,null,null,null,null,null,null,null,null,null,null,null,null,null,null,null,null,null,null,null,null,null,null,null,null,null,null,null,null,{"$f":"IF(PARAMETRES!$B$3=\"SANS\",SUMIFS(Honoraire[TotalHonoraireHT],Honoraire[ClientId],Personne[[#This Row],[PersonneId]]),SUMIFS(Honoraire[TotalHT],Honoraire[ClientId],Personne[[#This Row],[PersonneId]]))","v":0},{"$f":"Personne[[#This Row],[Facture (HT)]]+ROW()/100000","v":1.8699999999999999E-3},{"$f":"_xlfn.CONCAT(Personne[[#This Row],[Adresse]],\" \",Personne[[#This Row],[CodePostal]],\" \",Personne[[#This Row],[Ville]],\" \",Personne[[#This Row],[CodePays]])","v":"   "}]
[null,null,null,null,null,null,null,null,null,null,null,null,null,null,null,null,null,null,null,null,null,null,null,null,null,null,null,null,null,null,{"$f":"IF(PARAMETRES!$B$3=\"SANS\",SUMIFS(Honoraire[TotalHonoraireHT],Honoraire[ClientId],Personne[[#This Row],[PersonneId]]),SUMIFS(Honoraire[TotalHT],Honoraire[ClientId],Personne[[#This Row],[PersonneId]]))","v":0},{"$f":"Personne[[#This Row],[Facture (HT)]]+ROW()/100000","v":1.8799999999999999E-3},{"$f":"_xlfn.CONCAT(Personne[[#This Row],[Adresse]],\" \",Personne[[#This Row],[CodePostal]],\" \",Personne[[#This Row],[Ville]],\" \",Personne[[#This Row],[CodePays]])","v":"   "}]
[null,null,null,null,null,null,null,null,null,null,null,null,null,null,null,null,null,null,null,null,null,null,null,null,null,null,null,null,null,null,{"$f":"IF(PARAMETRES!$B$3=\"SANS\",SUMIFS(Honoraire[TotalHonoraireHT],Honoraire[ClientId],Personne[[#This Row],[PersonneId]]),SUMIFS(Honoraire[TotalHT],Honoraire[ClientId],Personne[[#This Row],[PersonneId]]))","v":0},{"$f":"Personne[[#This Row],[Facture (HT)]]+ROW()/100000","v":1.89E-3},{"$f":"_xlfn.CONCAT(Personne[[#This Row],[Adresse]],\" \",Personne[[#This Row],[CodePostal]],\" \",Personne[[#This Row],[Ville]],\" \",Personne[[#This Row],[CodePays]])","v":"   "}]
[null,null,null,null,null,null,null,null,null,null,null,null,null,null,null,null,null,null,null,null,null,null,null,null,null,null,null,null,null,null,{"$f":"IF(PARAMETRES!$B$3=\"SANS\",SUMIFS(Honoraire[TotalHonoraireHT],Honoraire[ClientId],Personne[[#This Row],[PersonneId]]),SUMIFS(Honoraire[TotalHT],Honoraire[ClientId],Personne[[#This Row],[PersonneId]]))","v":0},{"$f":"Personne[[#This Row],[Facture (HT)]]+ROW()/100000","v":1.9E-3},{"$f":"_xlfn.CONCAT(Personne[[#This Row],[Adresse]],\" \",Personne[[#This Row],[CodePostal]],\" \",Personne[[#This Row],[Ville]],\" \",Personne[[#This Row],[CodePays]])","v":"   "}]
[null,null,null,null,null,null,null,null,null,null,null,null,null,null,null,null,null,null,null,null,null,null,null,null,null,null,null,null,null,null,{"$f":"IF(PARAMETRES!$B$3=\"SANS\",SUMIFS(Honoraire[TotalHonoraireHT],Honoraire[ClientId],Personne[[#This Row],[PersonneId]]),SUMIFS(Honoraire[TotalHT],Honoraire[ClientId],Personne[[#This Row],[PersonneId]]))","v":0},{"$f":"Personne[[#This Row],[Facture (HT)]]+ROW()/100000","v":1.91E-3},{"$f":"_xlfn.CONCAT(Personne[[#This Row],[Adresse]],\" \",Personne[[#This Row],[CodePostal]],\" \",Personne[[#This Row],[Ville]],\" \",Personne[[#This Row],[CodePays]])","v":"   "}]
[null,null,null,null,null,null,null,null,null,null,null,null,null,null,null,null,null,null,null,null,null,null,null,null,null,null,null,null,null,null,{"$f":"IF(PARAMETRES!$B$3=\"SANS\",SUMIFS(Honoraire[TotalHonoraireHT],Honoraire[ClientId],Personne[[#This Row],[PersonneId]]),SUMIFS(Honoraire[TotalHT],Honoraire[ClientId],Personne[[#This Row],[PersonneId]]))","v":0},{"$f":"Personne[[#This Row],[Facture (HT)]]+ROW()/100000","v":1.92E-3},{"$f":"_xlfn.CONCAT(Personne[[#This Row],[Adresse]],\" \",Personne[[#This Row],[CodePostal]],\" \",Personne[[#This Row],[Ville]],\" \",Personne[[#This Row],[CodePays]])","v":"   "}]
[null,null,null,null,null,null,null,null,null,null,null,null,null,null,null,null,null,null,null,null,null,null,null,null,null,null,null,null,null,null,{"$f":"IF(PARAMETRES!$B$3=\"SANS\",SUMIFS(Honoraire[TotalHonoraireHT],Honoraire[ClientId],Personne[[#This Row],[PersonneId]]),SUMIFS(Honoraire[TotalHT],Honoraire[ClientId],Personne[[#This Row],[PersonneId]]))","v":0},{"$f":"Personne[[#This Row],[Facture (HT)]]+ROW()/100000","v":1.9300000000000001E-3},{"$f":"_xlfn.CONCAT(Personne[[#This Row],[Adresse]],\" \",Personne[[#This Row],[CodePostal]],\" \",Personne[[#This Row],[Ville]],\" \",Personne[[#This Row],[CodePays]])","v":"   "}]
[null,null,null,null,null,null,null,null,null,null,null,null,null,null,null,null,null,null,null,null,null,null,null,null,null,null,null,null,null,null,{"$f":"IF(PARAMETRES!$B$3=\"SANS\",SUMIFS(Honoraire[TotalHonoraireHT],Honoraire[ClientId],Personne[[#This Row],[PersonneId]]),SUMIFS(Honoraire[TotalHT],Honoraire[ClientId],Personne[[#This Row],[PersonneId]]))","v":0},{"$f":"Personne[[#This Row],[Facture (HT)]]+ROW()/100000","v":1.9400000000000001E-3},{"$f":"_xlfn.CONCAT(Personne[[#This Row],[Adresse]],\" \",Personne[[#This Row],[CodePostal]],\" \",Personne[[#This Row],[Ville]],\" \",Personne[[#This Row],[CodePays]])","v":"   "}]
[null,null,null,null,null,null,null,null,null,null,null,null,null,null,null,null,null,null,null,null,null,null,null,null,null,null,null,null,null,null,{"$f":"IF(PARAMETRES!$B$3=\"SANS\",SUMIFS(Honoraire[TotalHonoraireHT],Honoraire[ClientId],Personne[[#This Row],[PersonneId]]),SUMIFS(Honoraire[TotalHT],Honoraire[ClientId],Personne[[#This Row],[PersonneId]]))","v":0},{"$f":"Personne[[#This Row],[Facture (HT)]]+ROW()/100000","v":1.9499999999999999E-3},{"$f":"_xlfn.CONCAT(Personne[[#This Row],[Adresse]],\" \",Personne[[#This Row],[CodePostal]],\" \",Personne[[#This Row],[Ville]],\" \",Personne[[#This Row],[CodePays]])","v":"   "}]
[null,null,null,null,null,null,null,null,null,null,null,null,null,null,null,null,null,null,null,null,null,null,null,null,null,null,null,null,null,null,{"$f":"IF(PARAMETRES!$B$3=\"SANS\",SUMIFS(Honoraire[TotalHonoraireHT],Honoraire[ClientId],Personne[[#This Row],[PersonneId]]),SUMIFS(Honoraire[TotalHT],Honoraire[ClientId],Personne[[#This Row],[PersonneId]]))","v":0},{"$f":"Personne[[#This Row],[Facture (HT)]]+ROW()/100000","v":1.9599999999999999E-3},{"$f":"_xlfn.CONCAT(Personne[[#This Row],[Adresse]],\" \",Personne[[#This Row],[CodePostal]],\" \",Personne[[#This Row],[Ville]],\" \",Personne[[#This Row],[CodePays]])","v":"   "}]
[null,null,null,null,null,null,null,null,null,null,null,null,null,null,null,null,null,null,null,null,null,null,null,null,null,null,null,null,null,null,{"$f":"IF(PARAMETRES!$B$3=\"SANS\",SUMIFS(Honoraire[TotalHonoraireHT],Honoraire[ClientId],Personne[[#This Row],[PersonneId]]),SUMIFS(Honoraire[TotalHT],Honoraire[ClientId],Personne[[#This Row],[PersonneId]]))","v":0},{"$f":"Personne[[#This Row],[Facture (HT)]]+ROW()/100000","v":1.97E-3},{"$f":"_xlfn.CONCAT(Personne[[#This Row],[Adresse]],\" \",Personne[[#This Row],[CodePostal]],\" \",Personne[[#This Row],[Ville]],\" \",Personne[[#This Row],[CodePays]])","v":"   "}]
[null,null,null,null,null,null,null,null,null,null,null,null,null,null,null,null,null,null,null,null,null,null,null,null,null,null,null,null,null,null,{"$f":"IF(PARAMETRES!$B$3=\"SANS\",SUMIFS(Honoraire[TotalHonoraireHT],Honoraire[ClientId],Personne[[#This Row],[PersonneId]]),SUMIFS(Honoraire[TotalHT],Honoraire[ClientId],Personne[[#This Row],[PersonneId]]))","v":0},{"$f":"Personne[[#This Row],[Facture (HT)]]+ROW()/100000","v":1.98E-3},{"$f":"_xlfn.CONCAT(Personne[[#This Row],[Adresse]],\" \",Personne[[#This Row],[CodePostal]],\" \",Personne[[#This Row],[Ville]],\" \",Personne[[#This Row],[CodePays]])","v":"   "}]
[null,null,null,null,null,null,null,null,null,null,null,null,null,null,null,null,null,null,null,null,null,null,null,null,null,null,null,null,null,null,{"$f":"IF(PARAMETRES!$B$3=\"SANS\",SUMIFS(Honoraire[TotalHonoraireHT],Honoraire[ClientId],Personne[[#This Row],[PersonneId]]),SUMIFS(Honoraire[TotalHT],Honoraire[ClientId],Personne[[#This Row],[PersonneId]]))","v":0},{"$f":"Personne[[#This Row],[Facture (HT)]]+ROW()/100000","v":1.99E-3},{"$f":"_xlfn.CONCAT(Personne[[#This Row],[Adresse]],\" \",Personne[[#This Row],[CodePostal]],\" \",Personne[[#This Row],[Ville]],\" \",Personne[[#This Row],[CodePays]])","v":"   "}]
[null,null,null,null,null,null,null,null,null,null,null,null,null,null,null,null,null,null,null,null,null,null,null,null,null,null,null,null,null,null,{"$f":"IF(PARAMETRES!$B$3=\"SANS\",SUMIFS(Honoraire[TotalHonoraireHT],Honoraire[ClientId],Personne[[#This Row],[PersonneId]]),SUMIFS(Honoraire[TotalHT],Honoraire[ClientId],Personne[[#This Row],[PersonneId]]))","v":0},{"$f":"Personne[[#This Row],[Facture (HT)]]+ROW()/100000","v":2E-3},{"$f":"_xlfn.CONCAT(Personne[[#This Row],[Adresse]],\" \",Personne[[#This Row],[CodePostal]],\" \",Personne[[#This Row],[Ville]],\" \",Personne[[#This Row],[CodePays]])","v":"   "}]
[null,null,null,null,null,null,null,null,null,null,null,null,null,null,null,null,null,null,null,null,null,null,null,null,null,null,null,null,null,null,{"$f":"IF(PARAMETRES!$B$3=\"SANS\",SUMIFS(Honoraire[TotalHonoraireHT],Honoraire[ClientId],Personne[[#This Row],[PersonneId]]),SUMIFS(Honoraire[TotalHT],Honoraire[ClientId],Personne[[#This Row],[PersonneId]]))","v":0},{"$f":"Personne[[#This Row],[Facture (HT)]]+ROW()/100000","v":2.0100000000000001E-3},{"$f":"_xlfn.CONCAT(Personne[[#This Row],[Adresse]],\" \",Personne[[#This Row],[CodePostal]],\" \",Personne[[#This Row],[Ville]],\" \",Personne[[#This Row],[CodePays]])","v":"   "}]
[null,null,null,null,null,null,null,null,null,null,null,null,null,null,null,null,null,null,null,null,null,null,null,null,null,null,null,null,null,null,{"$f":"IF(PARAMETRES!$B$3=\"SANS\",SUMIFS(Honoraire[TotalHonoraireHT],Honoraire[ClientId],Personne[[#This Row],[PersonneId]]),SUMIFS(Honoraire[TotalHT],Honoraire[ClientId],Personne[[#This Row],[PersonneId]]))","v":0},{"$f":"Personne[[#This Row],[Facture (HT)]]+ROW()/100000","v":2.0200000000000001E-3},{"$f":"_xlfn.CONCAT(Personne[[#This Row],[Adresse]],\" \",Personne[[#This Row],[CodePostal]],\" \",Personne[[#This Row],[Ville]],\" \",Personne[[#This Row],[CodePays]])","v":"   "}]
[null,null,null,null,null,null,null,null,null,null,null,null,null,null,null,null,null,null,null,null,null,null,null,null,null,null,null,null,null,null,{"$f":"IF(PARAMETRES!$B$3=\"SANS\",SUMIFS(Honoraire[TotalHonoraireHT],Honoraire[ClientId],Personne[[#This Row],[PersonneId]]),SUMIFS(Honoraire[TotalHT],Honoraire[ClientId],Personne[[#This Row],[PersonneId]]))","v":0},{"$f":"Personne[[#This Row],[Facture (HT)]]+ROW()/100000","v":2.0300000000000001E-3},{"$f":"_xlfn.CONCAT(Personne[[#This Row],[Adresse]],\" \",Personne[[#This Row],[CodePostal]],\" \",Personne[[#This Row],[Ville]],\" \",Personne[[#This Row],[CodePays]])","v":"   "}]
[null,null,null,null,null,null,null,null,null,null,null,null,null,null,null,null,null,null,null,null,null,null,null,null,null,null,null,null,null,null,{"$f":"IF(PARAMETRES!$B$3=\"SANS\",SUMIFS(Honoraire[TotalHonoraireHT],Honoraire[ClientId],Personne[[#This Row],[PersonneId]]),SUMIFS(Honoraire[TotalHT],Honoraire[ClientId],Personne[[#This Row],[PersonneId]]))","v":0},{"$f":"Personne[[#This Row],[Facture (HT)]]+ROW()/100000","v":2.0400000000000001E-3},{"$f":"_xlfn.CONCAT(Personne[[#This Row],[Adresse]],\" \",Personne[[#This Row],[CodePostal]],\" \",Personne[[#This Row],[Ville]],\" \",Personne[[#This Row],[CodePays]])","v":"   "}]
[null,null,null,null,null,null,null,null,null,null,null,null,null,null,null,null,null,null,null,null,null,null,null,null,null,null,null,null,null,null,{"$f":"IF(PARAMETRES!$B$3=\"SANS\",SUMIFS(Honoraire[TotalHonoraireHT],Honoraire[ClientId],Personne[[#This Row],[PersonneId]]),SUMIFS(Honoraire[TotalHT],Honoraire[ClientId],Personne[[#This Row],[PersonneId]]))","v":0},{"$f":"Personne[[#This Row],[Facture (HT)]]+ROW()/100000","v":2.0500000000000002E-3},{"$f":"_xlfn.CONCAT(Personne[[#This Row],[Adresse]],\" \",Personne[[#This Row],[CodePostal]],\" \",Personne[[#This Row],[Ville]],\" \",Personne[[#This Row],[CodePays]])","v":"   "}]
[null,null,null,null,null,null,null,null,null,null,null,null,null,null,null,null,null,null,null,null,null,null,null,null,null,null,null,null,null,null,{"$f":"IF(PARAMETRES!$B$3=\"SANS\",SUMIFS(Honoraire[TotalHonoraireHT],Honoraire[ClientId],Personne[[#This Row],[PersonneId]]),SUMIFS(Honoraire[TotalHT],Honoraire[ClientId],Personne[[#This Row],[PersonneId]]))","v":0},{"$f":"Personne[[#This Row],[Facture (HT)]]+ROW()/100000","v":2.0600000000000002E-3},{"$f":"_xlfn.CONCAT(Personne[[#This Row],[Adresse]],\" \",Personne[[#This Row],[CodePostal]],\" \",Personne[[#This Row],[Ville]],\" \",Personne[[#This Row],[CodePays]])","v":"   "}]
[null,null,null,null,null,null,null,null,null,null,null,null,null,null,null,null,null,null,null,null,null,null,null,null,null,null,null,null,null,null,{"$f":"IF(PARAMETRES!$B$3=\"SANS\",SUMIFS(Honoraire[TotalHonoraireHT],Honoraire[ClientId],Personne[[#This Row],[PersonneId]]),SUMIFS(Honoraire[TotalHT],Honoraire[ClientId],Personne[[#This Row],[PersonneId]]))","v":0},{"$f":"Personne[[#This Row],[Facture (HT)]]+ROW()/100000","v":2.0699999999999998E-3},{"$f":"_xlfn.CONCAT(Personne[[#This Row],[Adresse]],\" \",Personne[[#This Row],[CodePostal]],\" \",Personne[[#This Row],[Ville]],\" \",Personne[[#This Row],[CodePays]])","v":"   "}]
[null,null,null,null,null,null,null,null,null,null,null,null,null,null,null,null,null,null,null,null,null,null,null,null,null,null,null,null,null,null,{"$f":"IF(PARAMETRES!$B$3=\"SANS\",SUMIFS(Honoraire[TotalHonoraireHT],Honoraire[ClientId],Personne[[#This Row],[PersonneId]]),SUMIFS(Honoraire[TotalHT],Honoraire[ClientId],Personne[[#This Row],[PersonneId]]))","v":0},{"$f":"Personne[[#This Row],[Facture (HT)]]+ROW()/100000","v":2.0799999999999998E-3},{"$f":"_xlfn.CONCAT(Personne[[#This Row],[Adresse]],\" \",Personne[[#This Row],[CodePostal]],\" \",Personne[[#This Row],[Ville]],\" \",Personne[[#This Row],[CodePays]])","v":"   "}]
[null,null,null,null,null,null,null,null,null,null,null,null,null,null,null,null,null,null,null,null,null,null,null,null,null,null,null,null,null,null,{"$f":"IF(PARAMETRES!$B$3=\"SANS\",SUMIFS(Honoraire[TotalHonoraireHT],Honoraire[ClientId],Personne[[#This Row],[PersonneId]]),SUMIFS(Honoraire[TotalHT],Honoraire[ClientId],Personne[[#This Row],[PersonneId]]))","v":0},{"$f":"Personne[[#This Row],[Facture (HT)]]+ROW()/100000","v":2.0899999999999998E-3},{"$f":"_xlfn.CONCAT(Personne[[#This Row],[Adresse]],\" \",Personne[[#This Row],[CodePostal]],\" \",Personne[[#This Row],[Ville]],\" \",Personne[[#This Row],[CodePays]])","v":"   "}]
[null,null,null,null,null,null,null,null,null,null,null,null,null,null,null,null,null,null,null,null,null,null,null,null,null,null,null,null,null,null,{"$f":"IF(PARAMETRES!$B$3=\"SANS\",SUMIFS(Honoraire[TotalHonoraireHT],Honoraire[ClientId],Personne[[#This Row],[PersonneId]]),SUMIFS(Honoraire[TotalHT],Honoraire[ClientId],Personne[[#This Row],[PersonneId]]))","v":0},{"$f":"Personne[[#This Row],[Facture (HT)]]+ROW()/100000","v":2.0999999999999999E-3},{"$f":"_xlfn.CONCAT(Personne[[#This Row],[Adresse]],\" \",Personne[[#This Row],[CodePostal]],\" \",Personne[[#This Row],[Ville]],\" \",Personne[[#This Row],[CodePays]])","v":"   "}]
[null,null,null,null,null,null,null,null,null,null,null,null,null,null,null,null,null,null,null,null,null,null,null,null,null,null,null,null,null,null,{"$f":"IF(PARAMETRES!$B$3=\"SANS\",SUMIFS(Honoraire[TotalHonoraireHT],Honoraire[ClientId],Personne[[#This Row],[PersonneId]]),SUMIFS(Honoraire[TotalHT],Honoraire[ClientId],Personne[[#This Row],[PersonneId]]))","v":0},{"$f":"Personne[[#This Row],[Facture (HT)]]+ROW()/100000","v":2.1099999999999999E-3},{"$f":"_xlfn.CONCAT(Personne[[#This Row],[Adresse]],\" \",Personne[[#This Row],[CodePostal]],\" \",Personne[[#This Row],[Ville]],\" \",Personne[[#This Row],[CodePays]])","v":"   "}]
[null,null,null,null,null,null,null,null,null,null,null,null,null,null,null,null,null,null,null,null,null,null,null,null,null,null,null,null,null,null,{"$f":"IF(PARAMETRES!$B$3=\"SANS\",SUMIFS(Honoraire[TotalHonoraireHT],Honoraire[ClientId],Personne[[#This Row],[PersonneId]]),SUMIFS(Honoraire[TotalHT],Honoraire[ClientId],Personne[[#This Row],[PersonneId]]))","v":0},{"$f":"Personne[[#This Row],[Facture (HT)]]+ROW()/100000","v":2.1199999999999999E-3},{"$f":"_xlfn.CONCAT(Personne[[#This Row],[Adresse]],\" \",Personne[[#This Row],[CodePostal]],\" \",Personne[[#This Row],[Ville]],\" \",Personne[[#This Row],[CodePays]])","v":"   "}]
[null,null,null,null,null,null,null,null,null,null,null,null,null,null,null,null,null,null,null,null,null,null,null,null,null,null,null,null,null,null,{"$f":"IF(PARAMETRES!$B$3=\"SANS\",SUMIFS(Honoraire[TotalHonoraireHT],Honoraire[ClientId],Personne[[#This Row],[PersonneId]]),SUMIFS(Honoraire[TotalHT],Honoraire[ClientId],Personne[[#This Row],[PersonneId]]))","v":0},{"$f":"Personne[[#This Row],[Facture (HT)]]+ROW()/100000","v":2.1299999999999999E-3},{"$f":"_xlfn.CONCAT(Personne[[#This Row],[Adresse]],\" \",Personne[[#This Row],[CodePostal]],\" \",Personne[[#This Row],[Ville]],\" \",Personne[[#This Row],[CodePays]])","v":"   "}]
[null,null,null,null,null,null,null,null,null,null,null,null,null,null,null,null,null,null,null,null,null,null,null,null,null,null,null,null,null,null,{"$f":"IF(PARAMETRES!$B$3=\"SANS\",SUMIFS(Honoraire[TotalHonoraireHT],Honoraire[ClientId],Personne[[#This Row],[PersonneId]]),SUMIFS(Honoraire[TotalHT],Honoraire[ClientId],Personne[[#This Row],[PersonneId]]))","v":0},{"$f":"Personne[[#This Row],[Facture (HT)]]+ROW()/100000","v":2.14E-3},{"$f":"_xlfn.CONCAT(Personne[[#This Row],[Adresse]],\" \",Personne[[#This Row],[CodePostal]],\" \",Personne[[#This Row],[Ville]],\" \",Personne[[#This Row],[CodePays]])","v":"   "}]
[null,null,null,null,null,null,null,null,null,null,null,null,null,null,null,null,null,null,null,null,null,null,null,null,null,null,null,null,null,null,{"$f":"IF(PARAMETRES!$B$3=\"SANS\",SUMIFS(Honoraire[TotalHonoraireHT],Honoraire[ClientId],Personne[[#This Row],[PersonneId]]),SUMIFS(Honoraire[TotalHT],Honoraire[ClientId],Personne[[#This Row],[PersonneId]]))","v":0},{"$f":"Personne[[#This Row],[Facture (HT)]]+ROW()/100000","v":2.15E-3},{"$f":"_xlfn.CONCAT(Personne[[#This Row],[Adresse]],\" \",Personne[[#This Row],[CodePostal]],\" \",Personne[[#This Row],[Ville]],\" \",Personne[[#This Row],[CodePays]])","v":"   "}]
[null,null,null,null,null,null,null,null,null,null,null,null,null,null,null,null,null,null,null,null,null,null,null,null,null,null,null,null,null,null,{"$f":"IF(PARAMETRES!$B$3=\"SANS\",SUMIFS(Honoraire[TotalHonoraireHT],Honoraire[ClientId],Personne[[#This Row],[PersonneId]]),SUMIFS(Honoraire[TotalHT],Honoraire[ClientId],Personne[[#This Row],[PersonneId]]))","v":0},{"$f":"Personne[[#This Row],[Facture (HT)]]+ROW()/100000","v":2.16E-3},{"$f":"_xlfn.CONCAT(Personne[[#This Row],[Adresse]],\" \",Personne[[#This Row],[CodePostal]],\" \",Personne[[#This Row],[Ville]],\" \",Personne[[#This Row],[CodePays]])","v":"   "}]
[null,null,null,null,null,null,null,null,null,null,null,null,null,null,null,null,null,null,null,null,null,null,null,null,null,null,null,null,null,null,{"$f":"IF(PARAMETRES!$B$3=\"SANS\",SUMIFS(Honoraire[TotalHonoraireHT],Honoraire[ClientId],Personne[[#This Row],[PersonneId]]),SUMIFS(Honoraire[TotalHT],Honoraire[ClientId],Personne[[#This Row],[PersonneId]]))","v":0},{"$f":"Personne[[#This Row],[Facture (HT)]]+ROW()/100000","v":2.1700000000000001E-3},{"$f":"_xlfn.CONCAT(Personne[[#This Row],[Adresse]],\" \",Personne[[#This Row],[CodePostal]],\" \",Personne[[#This Row],[Ville]],\" \",Personne[[#This Row],[CodePays]])","v":"   "}]
[null,null,null,null,null,null,null,null,null,null,null,null,null,null,null,null,null,null,null,null,null,null,null,null,null,null,null,null,null,null,{"$f":"IF(PARAMETRES!$B$3=\"SANS\",SUMIFS(Honoraire[TotalHonoraireHT],Honoraire[ClientId],Personne[[#This Row],[PersonneId]]),SUMIFS(Honoraire[TotalHT],Honoraire[ClientId],Personne[[#This Row],[PersonneId]]))","v":0},{"$f":"Personne[[#This Row],[Facture (HT)]]+ROW()/100000","v":2.1800000000000001E-3},{"$f":"_xlfn.CONCAT(Personne[[#This Row],[Adresse]],\" \",Personne[[#This Row],[CodePostal]],\" \",Personne[[#This Row],[Ville]],\" \",Personne[[#This Row],[CodePays]])","v":"   "}]
[null,null,null,null,null,null,null,null,null,null,null,null,null,null,null,null,null,null,null,null,null,null,null,null,null,null,null,null,null,null,{"$f":"IF(PARAMETRES!$B$3=\"SANS\",SUMIFS(Honoraire[TotalHonoraireHT],Honoraire[ClientId],Personne[[#This Row],[PersonneId]]),SUMIFS(Honoraire[TotalHT],Honoraire[ClientId],Personne[[#This Row],[PersonneId]]))","v":0},{"$f":"Personne[[#This Row],[Facture (HT)]]+ROW()/100000","v":2.1900000000000001E-3},{"$f":"_xlfn.CONCAT(Personne[[#This Row],[Adresse]],\" \",Personne[[#This Row],[CodePostal]],\" \",Personne[[#This Row],[Ville]],\" \",Personne[[#This Row],[CodePays]])","v":"   "}]
[null,null,null,null,null,null,null,null,null,null,null,null,null,null,null,null,null,null,null,null,null,null,null,null,null,null,null,null,null,null,{"$f":"IF(PARAMETRES!$B$3=\"SANS\",SUMIFS(Honoraire[TotalHonoraireHT],Honoraire[ClientId],Personne[[#This Row],[PersonneId]]),SUMIFS(Honoraire[TotalHT],Honoraire[ClientId],Personne[[#This Row],[PersonneId]]))","v":0},{"$f":"Personne[[#This Row],[Facture (HT)]]+ROW()/100000","v":2.2000000000000001E-3},{"$f":"_xlfn.CONCAT(Personne[[#This Row],[Adresse]],\" \",Personne[[#This Row],[CodePostal]],\" \",Personne[[#This Row],[Ville]],\" \",Personne[[#This Row],[CodePays]])","v":"   "}]
[null,null,null,null,null,null,null,null,null,null,null,null,null,null,null,null,null,null,null,null,null,null,null,null,null,null,null,null,null,null,{"$f":"IF(PARAMETRES!$B$3=\"SANS\",SUMIFS(Honoraire[TotalHonoraireHT],Honoraire[ClientId],Personne[[#This Row],[PersonneId]]),SUMIFS(Honoraire[TotalHT],Honoraire[ClientId],Personne[[#This Row],[PersonneId]]))","v":0},{"$f":"Personne[[#This Row],[Facture (HT)]]+ROW()/100000","v":2.2100000000000002E-3},{"$f":"_xlfn.CONCAT(Personne[[#This Row],[Adresse]],\" \",Personne[[#This Row],[CodePostal]],\" \",Personne[[#This Row],[Ville]],\" \",Personne[[#This Row],[CodePays]])","v":"   "}]
[null,null,null,null,null,null,null,null,null,null,null,null,null,null,null,null,null,null,null,null,null,null,null,null,null,null,null,null,null,null,{"$f":"IF(PARAMETRES!$B$3=\"SANS\",SUMIFS(Honoraire[TotalHonoraireHT],Honoraire[ClientId],Personne[[#This Row],[PersonneId]]),SUMIFS(Honoraire[TotalHT],Honoraire[ClientId],Personne[[#This Row],[PersonneId]]))","v":0},{"$f":"Personne[[#This Row],[Facture (HT)]]+ROW()/100000","v":2.2200000000000002E-3},{"$f":"_xlfn.CONCAT(Personne[[#This Row],[Adresse]],\" \",Personne[[#This Row],[CodePostal]],\" \",Personne[[#This Row],[Ville]],\" \",Personne[[#This Row],[CodePays]])","v":"   "}]
[null,null,null,null,null,null,null,null,null,null,null,null,null,null,null,null,null,null,null,null,null,null,null,null,null,null,null,null,null,null,{"$f":"IF(PARAMETRES!$B$3=\"SANS\",SUMIFS(Honoraire[TotalHonoraireHT],Honoraire[ClientId],Personne[[#This Row],[PersonneId]]),SUMIFS(Honoraire[TotalHT],Honoraire[ClientId],Personne[[#This Row],[PersonneId]]))","v":0},{"$f":"Personne[[#This Row],[Facture (HT)]]+ROW()/100000","v":2.2300000000000002E-3},{"$f":"_xlfn.CONCAT(Personne[[#This Row],[Adresse]],\" \",Personne[[#This Row],[CodePostal]],\" \",Personne[[#This Row],[Ville]],\" \",Personne[[#This Row],[CodePays]])","v":"   "}]
[null,null,null,null,null,null,null,null,null,null,null,null,null,null,null,null,null,null,null,null,null,null,null,null,null,null,null,null,null,null,{"$f":"IF(PARAMETRES!$B$3=\"SANS\",SUMIFS(Honoraire[TotalHonoraireHT],Honoraire[ClientId],Personne[[#This Row],[PersonneId]]),SUMIFS(Honoraire[TotalHT],Honoraire[ClientId],Personne[[#This Row],[PersonneId]]))","v":0},{"$f":"Personne[[#This Row],[Facture (HT)]]+ROW()/100000","v":2.2399999999999998E-3},{"$f":"_xlfn.CONCAT(Personne[[#This Row],[Adresse]],\" \",Personne[[#This Row],[CodePostal]],\" \",Personne[[#This Row],[Ville]],\" \",Personne[[#This Row],[CodePays]])","v":"   "}]
[null,null,null,null,null,null,null,null,null,null,null,null,null,null,null,null,null,null,null,null,null,null,null,null,null,null,null,null,null,null,{"$f":"IF(PARAMETRES!$B$3=\"SANS\",SUMIFS(Honoraire[TotalHonoraireHT],Honoraire[ClientId],Personne[[#This Row],[PersonneId]]),SUMIFS(Honoraire[TotalHT],Honoraire[ClientId],Personne[[#This Row],[PersonneId]]))","v":0},{"$f":"Personne[[#This Row],[Facture (HT)]]+ROW()/100000","v":2.2499999999999998E-3},{"$f":"_xlfn.CONCAT(Personne[[#This Row],[Adresse]],\" \",Personne[[#This Row],[CodePostal]],\" \",Personne[[#This Row],[Ville]],\" \",Personne[[#This Row],[CodePays]])","v":"   "}]
[null,null,null,null,null,null,null,null,null,null,null,null,null,null,null,null,null,null,null,null,null,null,null,null,null,null,null,null,null,null,{"$f":"IF(PARAMETRES!$B$3=\"SANS\",SUMIFS(Honoraire[TotalHonoraireHT],Honoraire[ClientId],Personne[[#This Row],[PersonneId]]),SUMIFS(Honoraire[TotalHT],Honoraire[ClientId],Personne[[#This Row],[PersonneId]]))","v":0},{"$f":"Personne[[#This Row],[Facture (HT)]]+ROW()/100000","v":2.2599999999999999E-3},{"$f":"_xlfn.CONCAT(Personne[[#This Row],[Adresse]],\" \",Personne[[#This Row],[CodePostal]],\" \",Personne[[#This Row],[Ville]],\" \",Personne[[#This Row],[CodePays]])","v":"   "}]
[null,null,null,null,null,null,null,null,null,null,null,null,null,null,null,null,null,null,null,null,null,null,null,null,null,null,null,null,null,null,{"$f":"IF(PARAMETRES!$B$3=\"SANS\",SUMIFS(Honoraire[TotalHonoraireHT],Honoraire[ClientId],Personne[[#This Row],[PersonneId]]),SUMIFS(Honoraire[TotalHT],Honoraire[ClientId],Personne[[#This Row],[PersonneId]]))","v":0},{"$f":"Personne[[#This Row],[Facture (HT)]]+ROW()/100000","v":2.2699999999999999E-3},{"$f":"_xlfn.CONCAT(Personne[[#This Row],[Adresse]],\" \",Personne[[#This Row],[CodePostal]],\" \",Personne[[#This Row],[Ville]],\" \",Personne[[#This Row],[CodePays]])","v":"   "}]
[null,null,null,null,null,null,null,null,null,null,null,null,null,null,null,null,null,null,null,null,null,null,null,null,null,null,null,null,null,null,{"$f":"IF(PARAMETRES!$B$3=\"SANS\",SUMIFS(Honoraire[TotalHonoraireHT],Honoraire[ClientId],Personne[[#This Row],[PersonneId]]),SUMIFS(Honoraire[TotalHT],Honoraire[ClientId],Personne[[#This Row],[PersonneId]]))","v":0},{"$f":"Personne[[#This Row],[Facture (HT)]]+ROW()/100000","v":2.2799999999999999E-3},{"$f":"_xlfn.CONCAT(Personne[[#This Row],[Adresse]],\" \",Personne[[#This Row],[CodePostal]],\" \",Personne[[#This Row],[Ville]],\" \",Personne[[#This Row],[CodePays]])","v":"   "}]
[null,null,null,null,null,null,null,null,null,null,null,null,null,null,null,null,null,null,null,null,null,null,null,null,null,null,null,null,null,null,{"$f":"IF(PARAMETRES!$B$3=\"SANS\",SUMIFS(Honoraire[TotalHonoraireHT],Honoraire[ClientId],Personne[[#This Row],[PersonneId]]),SUMIFS(Honoraire[TotalHT],Honoraire[ClientId],Personne[[#This Row],[PersonneId]]))","v":0},{"$f":"Personne[[#This Row],[Facture (HT)]]+ROW()/100000","v":2.2899999999999999E-3},{"$f":"_xlfn.CONCAT(Personne[[#This Row],[Adresse]],\" \",Personne[[#This Row],[CodePostal]],\" \",Personne[[#This Row],[Ville]],\" \",Personne[[#This Row],[CodePays]])","v":"   "}]
[null,null,null,null,null,null,null,null,null,null,null,null,null,null,null,null,null,null,null,null,null,null,null,null,null,null,null,null,null,null,{"$f":"IF(PARAMETRES!$B$3=\"SANS\",SUMIFS(Honoraire[TotalHonoraireHT],Honoraire[ClientId],Personne[[#This Row],[PersonneId]]),SUMIFS(Honoraire[TotalHT],Honoraire[ClientId],Personne[[#This Row],[PersonneId]]))","v":0},{"$f":"Personne[[#This Row],[Facture (HT)]]+ROW()/100000","v":2.3E-3},{"$f":"_xlfn.CONCAT(Personne[[#This Row],[Adresse]],\" \",Personne[[#This Row],[CodePostal]],\" \",Personne[[#This Row],[Ville]],\" \",Personne[[#This Row],[CodePays]])","v":"   "}]
[null,null,null,null,null,null,null,null,null,null,null,null,null,null,null,null,null,null,null,null,null,null,null,null,null,null,null,null,null,null,{"$f":"IF(PARAMETRES!$B$3=\"SANS\",SUMIFS(Honoraire[TotalHonoraireHT],Honoraire[ClientId],Personne[[#This Row],[PersonneId]]),SUMIFS(Honoraire[TotalHT],Honoraire[ClientId],Personne[[#This Row],[PersonneId]]))","v":0},{"$f":"Personne[[#This Row],[Facture (HT)]]+ROW()/100000","v":2.31E-3},{"$f":"_xlfn.CONCAT(Personne[[#This Row],[Adresse]],\" \",Personne[[#This Row],[CodePostal]],\" \",Personne[[#This Row],[Ville]],\" \",Personne[[#This Row],[CodePays]])","v":"   "}]
[null,null,null,null,null,null,null,null,null,null,null,null,null,null,null,null,null,null,null,null,null,null,null,null,null,null,null,null,null,null,{"$f":"IF(PARAMETRES!$B$3=\"SANS\",SUMIFS(Honoraire[TotalHonoraireHT],Honoraire[ClientId],Personne[[#This Row],[PersonneId]]),SUMIFS(Honoraire[TotalHT],Honoraire[ClientId],Personne[[#This Row],[PersonneId]]))","v":0},{"$f":"Personne[[#This Row],[Facture (HT)]]+ROW()/100000","v":2.32E-3},{"$f":"_xlfn.CONCAT(Personne[[#This Row],[Adresse]],\" \",Personne[[#This Row],[CodePostal]],\" \",Personne[[#This Row],[Ville]],\" \",Personne[[#This Row],[CodePays]])","v":"   "}]
[null,null,null,null,null,null,null,null,null,null,null,null,null,null,null,null,null,null,null,null,null,null,null,null,null,null,null,null,null,null,{"$f":"IF(PARAMETRES!$B$3=\"SANS\",SUMIFS(Honoraire[TotalHonoraireHT],Honoraire[ClientId],Personne[[#This Row],[PersonneId]]),SUMIFS(Honoraire[TotalHT],Honoraire[ClientId],Personne[[#This Row],[PersonneId]]))","v":0},{"$f":"Personne[[#This Row],[Facture (HT)]]+ROW()/100000","v":2.33E-3},{"$f":"_xlfn.CONCAT(Personne[[#This Row],[Adresse]],\" \",Personne[[#This Row],[CodePostal]],\" \",Personne[[#This Row],[Ville]],\" \",Personne[[#This Row],[CodePays]])","v":"   "}]
[null,null,null,null,null,null,null,null,null,null,null,null,null,null,null,null,null,null,null,null,null,null,null,null,null,null,null,null,null,null,{"$f":"IF(PARAMETRES!$B$3=\"SANS\",SUMIFS(Honoraire[TotalHonoraireHT],Honoraire[ClientId],Personne[[#This Row],[PersonneId]]),SUMIFS(Honoraire[TotalHT],Honoraire[ClientId],Personne[[#This Row],[PersonneId]]))","v":0},{"$f":"Personne[[#This Row],[Facture (HT)]]+ROW()/100000","v":2.3400000000000001E-3},{"$f":"_xlfn.CONCAT(Personne[[#This Row],[Adresse]],\" \",Personne[[#This Row],[CodePostal]],\" \",Personne[[#This Row],[Ville]],\" \",Personne[[#This Row],[CodePays]])","v":"   "}]
[null,null,null,null,null,null,null,null,null,null,null,null,null,null,null,null,null,null,null,null,null,null,null,null,null,null,null,null,null,null,{"$f":"IF(PARAMETRES!$B$3=\"SANS\",SUMIFS(Honoraire[TotalHonoraireHT],Honoraire[ClientId],Personne[[#This Row],[PersonneId]]),SUMIFS(Honoraire[TotalHT],Honoraire[ClientId],Personne[[#This Row],[PersonneId]]))","v":0},{"$f":"Personne[[#This Row],[Facture (HT)]]+ROW()/100000","v":2.3500000000000001E-3},{"$f":"_xlfn.CONCAT(Personne[[#This Row],[Adresse]],\" \",Personne[[#This Row],[CodePostal]],\" \",Personne[[#This Row],[Ville]],\" \",Personne[[#This Row],[CodePays]])","v":"   "}]
[null,null,null,null,null,null,null,null,null,null,null,null,null,null,null,null,null,null,null,null,null,null,null,null,null,null,null,null,null,null,{"$f":"IF(PARAMETRES!$B$3=\"SANS\",SUMIFS(Honoraire[TotalHonoraireHT],Honoraire[ClientId],Personne[[#This Row],[PersonneId]]),SUMIFS(Honoraire[TotalHT],Honoraire[ClientId],Personne[[#This Row],[PersonneId]]))","v":0},{"$f":"Personne[[#This Row],[Facture (HT)]]+ROW()/100000","v":2.3600000000000001E-3},{"$f":"_xlfn.CONCAT(Personne[[#This Row],[Adresse]],\" \",Personne[[#This Row],[CodePostal]],\" \",Personne[[#This Row],[Ville]],\" \",Personne[[#This Row],[CodePays]])","v":"   "}]
[null,null,null,null,null,null,null,null,null,null,null,null,null,null,null,null,null,null,null,null,null,null,null,null,null,null,null,null,null,null,{"$f":"IF(PARAMETRES!$B$3=\"SANS\",SUMIFS(Honoraire[TotalHonoraireHT],Honoraire[ClientId],Personne[[#This Row],[PersonneId]]),SUMIFS(Honoraire[TotalHT],Honoraire[ClientId],Personne[[#This Row],[PersonneId]]))","v":0},{"$f":"Personne[[#This Row],[Facture (HT)]]+ROW()/100000","v":2.3700000000000001E-3},{"$f":"_xlfn.CONCAT(Personne[[#This Row],[Adresse]],\" \",Personne[[#This Row],[CodePostal]],\" \",Personne[[#This Row],[Ville]],\" \",Personne[[#This Row],[CodePays]])","v":"   "}]
[null,null,null,null,null,null,null,null,null,null,null,null,null,null,null,null,null,null,null,null,null,null,null,null,null,null,null,null,null,null,{"$f":"IF(PARAMETRES!$B$3=\"SANS\",SUMIFS(Honoraire[TotalHonoraireHT],Honoraire[ClientId],Personne[[#This Row],[PersonneId]]),SUMIFS(Honoraire[TotalHT],Honoraire[ClientId],Personne[[#This Row],[PersonneId]]))","v":0},{"$f":"Personne[[#This Row],[Facture (HT)]]+ROW()/100000","v":2.3800000000000002E-3},{"$f":"_xlfn.CONCAT(Personne[[#This Row],[Adresse]],\" \",Personne[[#This Row],[CodePostal]],\" \",Personne[[#This Row],[Ville]],\" \",Personne[[#This Row],[CodePays]])","v":"   "}]
[null,null,null,null,null,null,null,null,null,null,null,null,null,null,null,null,null,null,null,null,null,null,null,null,null,null,null,null,null,null,{"$f":"IF(PARAMETRES!$B$3=\"SANS\",SUMIFS(Honoraire[TotalHonoraireHT],Honoraire[ClientId],Personne[[#This Row],[PersonneId]]),SUMIFS(Honoraire[TotalHT],Honoraire[ClientId],Personne[[#This Row],[PersonneId]]))","v":0},{"$f":"Personne[[#This Row],[Facture (HT)]]+ROW()/100000","v":2.3900000000000002E-3},{"$f":"_xlfn.CONCAT(Personne[[#This Row],[Adresse]],\" \",Personne[[#This Row],[CodePostal]],\" \",Personne[[#This Row],[Ville]],\" \",Personne[[#This Row],[CodePays]])","v":"   "}]
[null,null,null,null,null,null,null,null,null,null,null,null,null,null,null,null,null,null,null,null,null,null,null,null,null,null,null,null,null,null,{"$f":"IF(PARAMETRES!$B$3=\"SANS\",SUMIFS(Honoraire[TotalHonoraireHT],Honoraire[ClientId],Personne[[#This Row],[PersonneId]]),SUMIFS(Honoraire[TotalHT],Honoraire[ClientId],Personne[[#This Row],[PersonneId]]))","v":0},{"$f":"Personne[[#This Row],[Facture (HT)]]+ROW()/100000","v":2.3999999999999998E-3},{"$f":"_xlfn.CONCAT(Personne[[#This Row],[Adresse]],\" \",Personne[[#This Row],[CodePostal]],\" \",Personne[[#This Row],[Ville]],\" \",Personne[[#This Row],[CodePays]])","v":"   "}]
[null,null,null,null,null,null,null,null,null,null,null,null,null,null,null,null,null,null,null,null,null,null,null,null,null,null,null,null,null,null,{"$f":"IF(PARAMETRES!$B$3=\"SANS\",SUMIFS(Honoraire[TotalHonoraireHT],Honoraire[ClientId],Personne[[#This Row],[PersonneId]]),SUMIFS(Honoraire[TotalHT],Honoraire[ClientId],Personne[[#This Row],[PersonneId]]))","v":0},{"$f":"Personne[[#This Row],[Facture (HT)]]+ROW()/100000","v":2.4099999999999998E-3},{"$f":"_xlfn.CONCAT(Personne[[#This Row],[Adresse]],\" \",Personne[[#This Row],[CodePostal]],\" \",Personne[[#This Row],[Ville]],\" \",Personne[[#This Row],[CodePays]])","v":"   "}]
[null,null,null,null,null,null,null,null,null,null,null,null,null,null,null,null,null,null,null,null,null,null,null,null,null,null,null,null,null,null,{"$f":"IF(PARAMETRES!$B$3=\"SANS\",SUMIFS(Honoraire[TotalHonoraireHT],Honoraire[ClientId],Personne[[#This Row],[PersonneId]]),SUMIFS(Honoraire[TotalHT],Honoraire[ClientId],Personne[[#This Row],[PersonneId]]))","v":0},{"$f":"Personne[[#This Row],[Facture (HT)]]+ROW()/100000","v":2.4199999999999998E-3},{"$f":"_xlfn.CONCAT(Personne[[#This Row],[Adresse]],\" \",Personne[[#This Row],[CodePostal]],\" \",Personne[[#This Row],[Ville]],\" \",Personne[[#This Row],[CodePays]])","v":"   "}]
[null,null,null,null,null,null,null,null,null,null,null,null,null,null,null,null,null,null,null,null,null,null,null,null,null,null,null,null,null,null,{"$f":"IF(PARAMETRES!$B$3=\"SANS\",SUMIFS(Honoraire[TotalHonoraireHT],Honoraire[ClientId],Personne[[#This Row],[PersonneId]]),SUMIFS(Honoraire[TotalHT],Honoraire[ClientId],Personne[[#This Row],[PersonneId]]))","v":0},{"$f":"Personne[[#This Row],[Facture (HT)]]+ROW()/100000","v":2.4299999999999999E-3},{"$f":"_xlfn.CONCAT(Personne[[#This Row],[Adresse]],\" \",Personne[[#This Row],[CodePostal]],\" \",Personne[[#This Row],[Ville]],\" \",Personne[[#This Row],[CodePays]])","v":"   "}]
[null,null,null,null,null,null,null,null,null,null,null,null,null,null,null,null,null,null,null,null,null,null,null,null,null,null,null,null,null,null,{"$f":"IF(PARAMETRES!$B$3=\"SANS\",SUMIFS(Honoraire[TotalHonoraireHT],Honoraire[ClientId],Personne[[#This Row],[PersonneId]]),SUMIFS(Honoraire[TotalHT],Honoraire[ClientId],Personne[[#This Row],[PersonneId]]))","v":0},{"$f":"Personne[[#This Row],[Facture (HT)]]+ROW()/100000","v":2.4399999999999999E-3},{"$f":"_xlfn.CONCAT(Personne[[#This Row],[Adresse]],\" \",Personne[[#This Row],[CodePostal]],\" \",Personne[[#This Row],[Ville]],\" \",Personne[[#This Row],[CodePays]])","v":"   "}]
[null,null,null,null,null,null,null,null,null,null,null,null,null,null,null,null,null,null,null,null,null,null,null,null,null,null,null,null,null,null,{"$f":"IF(PARAMETRES!$B$3=\"SANS\",SUMIFS(Honoraire[TotalHonoraireHT],Honoraire[ClientId],Personne[[#This Row],[PersonneId]]),SUMIFS(Honoraire[TotalHT],Honoraire[ClientId],Personne[[#This Row],[PersonneId]]))","v":0},{"$f":"Personne[[#This Row],[Facture (HT)]]+ROW()/100000","v":2.4499999999999999E-3},{"$f":"_xlfn.CONCAT(Personne[[#This Row],[Adresse]],\" \",Personne[[#This Row],[CodePostal]],\" \",Personne[[#This Row],[Ville]],\" \",Personne[[#This Row],[CodePays]])","v":"   "}]
[null,null,null,null,null,null,null,null,null,null,null,null,null,null,null,null,null,null,null,null,null,null,null,null,null,null,null,null,null,null,{"$f":"IF(PARAMETRES!$B$3=\"SANS\",SUMIFS(Honoraire[TotalHonoraireHT],Honoraire[ClientId],Personne[[#This Row],[PersonneId]]),SUMIFS(Honoraire[TotalHT],Honoraire[ClientId],Personne[[#This Row],[PersonneId]]))","v":0},{"$f":"Personne[[#This Row],[Facture (HT)]]+ROW()/100000","v":2.4599999999999999E-3},{"$f":"_xlfn.CONCAT(Personne[[#This Row],[Adresse]],\" \",Personne[[#This Row],[CodePostal]],\" \",Personne[[#This Row],[Ville]],\" \",Personne[[#This Row],[CodePays]])","v":"   "}]
[null,null,null,null,null,null,null,null,null,null,null,null,null,null,null,null,null,null,null,null,null,null,null,null,null,null,null,null,null,null,{"$f":"IF(PARAMETRES!$B$3=\"SANS\",SUMIFS(Honoraire[TotalHonoraireHT],Honoraire[ClientId],Personne[[#This Row],[PersonneId]]),SUMIFS(Honoraire[TotalHT],Honoraire[ClientId],Personne[[#This Row],[PersonneId]]))","v":0},{"$f":"Personne[[#This Row],[Facture (HT)]]+ROW()/100000","v":2.47E-3},{"$f":"_xlfn.CONCAT(Personne[[#This Row],[Adresse]],\" \",Personne[[#This Row],[CodePostal]],\" \",Personne[[#This Row],[Ville]],\" \",Personne[[#This Row],[CodePays]])","v":"   "}]
[null,null,null,null,null,null,null,null,null,null,null,null,null,null,null,null,null,null,null,null,null,null,null,null,null,null,null,null,null,null,{"$f":"IF(PARAMETRES!$B$3=\"SANS\",SUMIFS(Honoraire[TotalHonoraireHT],Honoraire[ClientId],Personne[[#This Row],[PersonneId]]),SUMIFS(Honoraire[TotalHT],Honoraire[ClientId],Personne[[#This Row],[PersonneId]]))","v":0},{"$f":"Personne[[#This Row],[Facture (HT)]]+ROW()/100000","v":2.48E-3},{"$f":"_xlfn.CONCAT(Personne[[#This Row],[Adresse]],\" \",Personne[[#This Row],[CodePostal]],\" \",Personne[[#This Row],[Ville]],\" \",Personne[[#This Row],[CodePays]])","v":"   "}]
[null,null,null,null,null,null,null,null,null,null,null,null,null,null,null,null,null,null,null,null,null,null,null,null,null,null,null,null,null,null,{"$f":"IF(PARAMETRES!$B$3=\"SANS\",SUMIFS(Honoraire[TotalHonoraireHT],Honoraire[ClientId],Personne[[#This Row],[PersonneId]]),SUMIFS(Honoraire[TotalHT],Honoraire[ClientId],Personne[[#This Row],[PersonneId]]))","v":0},{"$f":"Personne[[#This Row],[Facture (HT)]]+ROW()/100000","v":2.49E-3},{"$f":"_xlfn.CONCAT(Personne[[#This Row],[Adresse]],\" \",Personne[[#This Row],[CodePostal]],\" \",Personne[[#This Row],[Ville]],\" \",Personne[[#This Row],[CodePays]])","v":"   "}]
[null,null,null,null,null,null,null,null,null,null,null,null,null,null,null,null,null,null,null,null,null,null,null,null,null,null,null,null,null,null,{"$f":"IF(PARAMETRES!$B$3=\"SANS\",SUMIFS(Honoraire[TotalHonoraireHT],Honoraire[ClientId],Personne[[#This Row],[PersonneId]]),SUMIFS(Honoraire[TotalHT],Honoraire[ClientId],Personne[[#This Row],[PersonneId]]))","v":0},{"$f":"Personne[[#This Row],[Facture (HT)]]+ROW()/100000","v":2.5000000000000001E-3},{"$f":"_xlfn.CONCAT(Personne[[#This Row],[Adresse]],\" \",Personne[[#This Row],[CodePostal]],\" \",Personne[[#This Row],[Ville]],\" \",Personne[[#This Row],[CodePays]])","v":"   "}]
[null,null,null,null,null,null,null,null,null,null,null,null,null,null,null,null,null,null,null,null,null,null,null,null,null,null,null,null,null,null,{"$f":"IF(PARAMETRES!$B$3=\"SANS\",SUMIFS(Honoraire[TotalHonoraireHT],Honoraire[ClientId],Personne[[#This Row],[PersonneId]]),SUMIFS(Honoraire[TotalHT],Honoraire[ClientId],Personne[[#This Row],[PersonneId]]))","v":0},{"$f":"Personne[[#This Row],[Facture (HT)]]+ROW()/100000","v":2.5100000000000001E-3},{"$f":"_xlfn.CONCAT(Personne[[#This Row],[Adresse]],\" \",Personne[[#This Row],[CodePostal]],\" \",Personne[[#This Row],[Ville]],\" \",Personne[[#This Row],[CodePays]])","v":"   "}]
[null,null,null,null,null,null,null,null,null,null,null,null,null,null,null,null,null,null,null,null,null,null,null,null,null,null,null,null,null,null,{"$f":"IF(PARAMETRES!$B$3=\"SANS\",SUMIFS(Honoraire[TotalHonoraireHT],Honoraire[ClientId],Personne[[#This Row],[PersonneId]]),SUMIFS(Honoraire[TotalHT],Honoraire[ClientId],Personne[[#This Row],[PersonneId]]))","v":0},{"$f":"Personne[[#This Row],[Facture (HT)]]+ROW()/100000","v":2.5200000000000001E-3},{"$f":"_xlfn.CONCAT(Personne[[#This Row],[Adresse]],\" \",Personne[[#This Row],[CodePostal]],\" \",Personne[[#This Row],[Ville]],\" \",Personne[[#This Row],[CodePays]])","v":"   "}]
[null,null,null,null,null,null,null,null,null,null,null,null,null,null,null,null,null,null,null,null,null,null,null,null,null,null,null,null,null,null,{"$f":"IF(PARAMETRES!$B$3=\"SANS\",SUMIFS(Honoraire[TotalHonoraireHT],Honoraire[ClientId],Personne[[#This Row],[PersonneId]]),SUMIFS(Honoraire[TotalHT],Honoraire[ClientId],Personne[[#This Row],[PersonneId]]))","v":0},{"$f":"Personne[[#This Row],[Facture (HT)]]+ROW()/100000","v":2.5300000000000001E-3},{"$f":"_xlfn.CONCAT(Personne[[#This Row],[Adresse]],\" \",Personne[[#This Row],[CodePostal]],\" \",Personne[[#This Row],[Ville]],\" \",Personne[[#This Row],[CodePays]])","v":"   "}]
[null,null,null,null,null,null,null,null,null,null,null,null,null,null,null,null,null,null,null,null,null,null,null,null,null,null,null,null,null,null,{"$f":"IF(PARAMETRES!$B$3=\"SANS\",SUMIFS(Honoraire[TotalHonoraireHT],Honoraire[ClientId],Personne[[#This Row],[PersonneId]]),SUMIFS(Honoraire[TotalHT],Honoraire[ClientId],Personne[[#This Row],[PersonneId]]))","v":0},{"$f":"Personne[[#This Row],[Facture (HT)]]+ROW()/100000","v":2.5400000000000002E-3},{"$f":"_xlfn.CONCAT(Personne[[#This Row],[Adresse]],\" \",Personne[[#This Row],[CodePostal]],\" \",Personne[[#This Row],[Ville]],\" \",Personne[[#This Row],[CodePays]])","v":"   "}]
[null,null,null,null,null,null,null,null,null,null,null,null,null,null,null,null,null,null,null,null,null,null,null,null,null,null,null,null,null,null,{"$f":"IF(PARAMETRES!$B$3=\"SANS\",SUMIFS(Honoraire[TotalHonoraireHT],Honoraire[ClientId],Personne[[#This Row],[PersonneId]]),SUMIFS(Honoraire[TotalHT],Honoraire[ClientId],Personne[[#This Row],[PersonneId]]))","v":0},{"$f":"Personne[[#This Row],[Facture (HT)]]+ROW()/100000","v":2.5500000000000002E-3},{"$f":"_xlfn.CONCAT(Personne[[#This Row],[Adresse]],\" \",Personne[[#This Row],[CodePostal]],\" \",Personne[[#This Row],[Ville]],\" \",Personne[[#This Row],[CodePays]])","v":"   "}]
[null,null,null,null,null,null,null,null,null,null,null,null,null,null,null,null,null,null,null,null,null,null,null,null,null,null,null,null,null,null,{"$f":"IF(PARAMETRES!$B$3=\"SANS\",SUMIFS(Honoraire[TotalHonoraireHT],Honoraire[ClientId],Personne[[#This Row],[PersonneId]]),SUMIFS(Honoraire[TotalHT],Honoraire[ClientId],Personne[[#This Row],[PersonneId]]))","v":0},{"$f":"Personne[[#This Row],[Facture (HT)]]+ROW()/100000","v":2.5600000000000002E-3},{"$f":"_xlfn.CONCAT(Personne[[#This Row],[Adresse]],\" \",Personne[[#This Row],[CodePostal]],\" \",Personne[[#This Row],[Ville]],\" \",Personne[[#This Row],[CodePays]])","v":"   "}]
[null,null,null,null,null,null,null,null,null,null,null,null,null,null,null,null,null,null,null,null,null,null,null,null,null,null,null,null,null,null,{"$f":"IF(PARAMETRES!$B$3=\"SANS\",SUMIFS(Honoraire[TotalHonoraireHT],Honoraire[ClientId],Personne[[#This Row],[PersonneId]]),SUMIFS(Honoraire[TotalHT],Honoraire[ClientId],Personne[[#This Row],[PersonneId]]))","v":0},{"$f":"Personne[[#This Row],[Facture (HT)]]+ROW()/100000","v":2.5699999999999998E-3},{"$f":"_xlfn.CONCAT(Personne[[#This Row],[Adresse]],\" \",Personne[[#This Row],[CodePostal]],\" \",Personne[[#This Row],[Ville]],\" \",Personne[[#This Row],[CodePays]])","v":"   "}]
[null,null,null,null,null,null,null,null,null,null,null,null,null,null,null,null,null,null,null,null,null,null,null,null,null,null,null,null,null,null,{"$f":"IF(PARAMETRES!$B$3=\"SANS\",SUMIFS(Honoraire[TotalHonoraireHT],Honoraire[ClientId],Personne[[#This Row],[PersonneId]]),SUMIFS(Honoraire[TotalHT],Honoraire[ClientId],Personne[[#This Row],[PersonneId]]))","v":0},{"$f":"Personne[[#This Row],[Facture (HT)]]+ROW()/100000","v":2.5799999999999998E-3},{"$f":"_xlfn.CONCAT(Personne[[#This Row],[Adresse]],\" \",Personne[[#This Row],[CodePostal]],\" \",Personne[[#This Row],[Ville]],\" \",Personne[[#This Row],[CodePays]])","v":"   "}]
[null,null,null,null,null,null,null,null,null,null,null,null,null,null,null,null,null,null,null,null,null,null,null,null,null,null,null,null,null,null,{"$f":"IF(PARAMETRES!$B$3=\"SANS\",SUMIFS(Honoraire[TotalHonoraireHT],Honoraire[ClientId],Personne[[#This Row],[PersonneId]]),SUMIFS(Honoraire[TotalHT],Honoraire[ClientId],Personne[[#This Row],[PersonneId]]))","v":0},{"$f":"Personne[[#This Row],[Facture (HT)]]+ROW()/100000","v":2.5899999999999999E-3},{"$f":"_xlfn.CONCAT(Personne[[#This Row],[Adresse]],\" \",Personne[[#This Row],[CodePostal]],\" \",Personne[[#This Row],[Ville]],\" \",Personne[[#This Row],[CodePays]])","v":"   "}]
[null,null,null,null,null,null,null,null,null,null,null,null,null,null,null,null,null,null,null,null,null,null,null,null,null,null,null,null,null,null,{"$f":"IF(PARAMETRES!$B$3=\"SANS\",SUMIFS(Honoraire[TotalHonoraireHT],Honoraire[ClientId],Personne[[#This Row],[PersonneId]]),SUMIFS(Honoraire[TotalHT],Honoraire[ClientId],Personne[[#This Row],[PersonneId]]))","v":0},{"$f":"Personne[[#This Row],[Facture (HT)]]+ROW()/100000","v":2.5999999999999999E-3},{"$f":"_xlfn.CONCAT(Personne[[#This Row],[Adresse]],\" \",Personne[[#This Row],[CodePostal]],\" \",Personne[[#This Row],[Ville]],\" \",Personne[[#This Row],[CodePays]])","v":"   "}]
[null,null,null,null,null,null,null,null,null,null,null,null,null,null,null,null,null,null,null,null,null,null,null,null,null,null,null,null,null,null,{"$f":"IF(PARAMETRES!$B$3=\"SANS\",SUMIFS(Honoraire[TotalHonoraireHT],Honoraire[ClientId],Personne[[#This Row],[PersonneId]]),SUMIFS(Honoraire[TotalHT],Honoraire[ClientId],Personne[[#This Row],[PersonneId]]))","v":0},{"$f":"Personne[[#This Row],[Facture (HT)]]+ROW()/100000","v":2.6099999999999999E-3},{"$f":"_xlfn.CONCAT(Personne[[#This Row],[Adresse]],\" \",Personne[[#This Row],[CodePostal]],\" \",Personne[[#This Row],[Ville]],\" \",Personne[[#This Row],[CodePays]])","v":"   "}]
[null,null,null,null,null,null,null,null,null,null,null,null,null,null,null,null,null,null,null,null,null,null,null,null,null,null,null,null,null,null,{"$f":"IF(PARAMETRES!$B$3=\"SANS\",SUMIFS(Honoraire[TotalHonoraireHT],Honoraire[ClientId],Personne[[#This Row],[PersonneId]]),SUMIFS(Honoraire[TotalHT],Honoraire[ClientId],Personne[[#This Row],[PersonneId]]))","v":0},{"$f":"Personne[[#This Row],[Facture (HT)]]+ROW()/100000","v":2.6199999999999999E-3},{"$f":"_xlfn.CONCAT(Personne[[#This Row],[Adresse]],\" \",Personne[[#This Row],[CodePostal]],\" \",Personne[[#This Row],[Ville]],\" \",Personne[[#This Row],[CodePays]])","v":"   "}]
[null,null,null,null,null,null,null,null,null,null,null,null,null,null,null,null,null,null,null,null,null,null,null,null,null,null,null,null,null,null,{"$f":"IF(PARAMETRES!$B$3=\"SANS\",SUMIFS(Honoraire[TotalHonoraireHT],Honoraire[ClientId],Personne[[#This Row],[PersonneId]]),SUMIFS(Honoraire[TotalHT],Honoraire[ClientId],Personne[[#This Row],[PersonneId]]))","v":0},{"$f":"Personne[[#This Row],[Facture (HT)]]+ROW()/100000","v":2.63E-3},{"$f":"_xlfn.CONCAT(Personne[[#This Row],[Adresse]],\" \",Personne[[#This Row],[CodePostal]],\" \",Personne[[#This Row],[Ville]],\" \",Personne[[#This Row],[CodePays]])","v":"   "}]
[null,null,null,null,null,null,null,null,null,null,null,null,null,null,null,null,null,null,null,null,null,null,null,null,null,null,null,null,null,null,{"$f":"IF(PARAMETRES!$B$3=\"SANS\",SUMIFS(Honoraire[TotalHonoraireHT],Honoraire[ClientId],Personne[[#This Row],[PersonneId]]),SUMIFS(Honoraire[TotalHT],Honoraire[ClientId],Personne[[#This Row],[PersonneId]]))","v":0},{"$f":"Personne[[#This Row],[Facture (HT)]]+ROW()/100000","v":2.64E-3},{"$f":"_xlfn.CONCAT(Personne[[#This Row],[Adresse]],\" \",Personne[[#This Row],[CodePostal]],\" \",Personne[[#This Row],[Ville]],\" \",Personne[[#This Row],[CodePays]])","v":"   "}]
[null,null,null,null,null,null,null,null,null,null,null,null,null,null,null,null,null,null,null,null,null,null,null,null,null,null,null,null,null,null,{"$f":"IF(PARAMETRES!$B$3=\"SANS\",SUMIFS(Honoraire[TotalHonoraireHT],Honoraire[ClientId],Personne[[#This Row],[PersonneId]]),SUMIFS(Honoraire[TotalHT],Honoraire[ClientId],Personne[[#This Row],[PersonneId]]))","v":0},{"$f":"Personne[[#This Row],[Facture (HT)]]+ROW()/100000","v":2.65E-3},{"$f":"_xlfn.CONCAT(Personne[[#This Row],[Adresse]],\" \",Personne[[#This Row],[CodePostal]],\" \",Personne[[#This Row],[Ville]],\" \",Personne[[#This Row],[CodePays]])","v":"   "}]
[null,null,null,null,null,null,null,null,null,null,null,null,null,null,null,null,null,null,null,null,null,null,null,null,null,null,null,null,null,null,{"$f":"IF(PARAMETRES!$B$3=\"SANS\",SUMIFS(Honoraire[TotalHonoraireHT],Honoraire[ClientId],Personne[[#This Row],[PersonneId]]),SUMIFS(Honoraire[TotalHT],Honoraire[ClientId],Personne[[#This Row],[PersonneId]]))","v":0},{"$f":"Personne[[#This Row],[Facture (HT)]]+ROW()/100000","v":2.66E-3},{"$f":"_xlfn.CONCAT(Personne[[#This Row],[Adresse]],\" \",Personne[[#This Row],[CodePostal]],\" \",Personne[[#This Row],[Ville]],\" \",Personne[[#This Row],[CodePays]])","v":"   "}]
[null,null,null,null,null,null,null,null,null,null,null,null,null,null,null,null,null,null,null,null,null,null,null,null,null,null,null,null,null,null,{"$f":"IF(PARAMETRES!$B$3=\"SANS\",SUMIFS(Honoraire[TotalHonoraireHT],Honoraire[ClientId],Personne[[#This Row],[PersonneId]]),SUMIFS(Honoraire[TotalHT],Honoraire[ClientId],Personne[[#This Row],[PersonneId]]))","v":0},{"$f":"Personne[[#This Row],[Facture (HT)]]+ROW()/100000","v":2.6700000000000001E-3},{"$f":"_xlfn.CONCAT(Personne[[#This Row],[Adresse]],\" \",Personne[[#This Row],[CodePostal]],\" \",Personne[[#This Row],[Ville]],\" \",Personne[[#This Row],[CodePays]])","v":"   "}]
[null,null,null,null,null,null,null,null,null,null,null,null,null,null,null,null,null,null,null,null,null,null,null,null,null,null,null,null,null,null,{"$f":"IF(PARAMETRES!$B$3=\"SANS\",SUMIFS(Honoraire[TotalHonoraireHT],Honoraire[ClientId],Personne[[#This Row],[PersonneId]]),SUMIFS(Honoraire[TotalHT],Honoraire[ClientId],Personne[[#This Row],[PersonneId]]))","v":0},{"$f":"Personne[[#This Row],[Facture (HT)]]+ROW()/100000","v":2.6800000000000001E-3},{"$f":"_xlfn.CONCAT(Personne[[#This Row],[Adresse]],\" \",Personne[[#This Row],[CodePostal]],\" \",Personne[[#This Row],[Ville]],\" \",Personne[[#This Row],[CodePays]])","v":"   "}]
[null,null,null,null,null,null,null,null,null,null,null,null,null,null,null,null,null,null,null,null,null,null,null,null,null,null,null,null,null,null,{"$f":"IF(PARAMETRES!$B$3=\"SANS\",SUMIFS(Honoraire[TotalHonoraireHT],Honoraire[ClientId],Personne[[#This Row],[PersonneId]]),SUMIFS(Honoraire[TotalHT],Honoraire[ClientId],Personne[[#This Row],[PersonneId]]))","v":0},{"$f":"Personne[[#This Row],[Facture (HT)]]+ROW()/100000","v":2.6900000000000001E-3},{"$f":"_xlfn.CONCAT(Personne[[#This Row],[Adresse]],\" \",Personne[[#This Row],[CodePostal]],\" \",Personne[[#This Row],[Ville]],\" \",Personne[[#This Row],[CodePays]])","v":"   "}]
[null,null,null,null,null,null,null,null,null,null,null,null,null,null,null,null,null,null,null,null,null,null,null,null,null,null,null,null,null,null,{"$f":"IF(PARAMETRES!$B$3=\"SANS\",SUMIFS(Honoraire[TotalHonoraireHT],Honoraire[ClientId],Personne[[#This Row],[PersonneId]]),SUMIFS(Honoraire[TotalHT],Honoraire[ClientId],Personne[[#This Row],[PersonneId]]))","v":0},{"$f":"Personne[[#This Row],[Facture (HT)]]+ROW()/100000","v":2.7000000000000001E-3},{"$f":"_xlfn.CONCAT(Personne[[#This Row],[Adresse]],\" \",Personne[[#This Row],[CodePostal]],\" \",Personne[[#This Row],[Ville]],\" \",Personne[[#This Row],[CodePays]])","v":"   "}]
[null,null,null,null,null,null,null,null,null,null,null,null,null,null,null,null,null,null,null,null,null,null,null,null,null,null,null,null,null,null,{"$f":"IF(PARAMETRES!$B$3=\"SANS\",SUMIFS(Honoraire[TotalHonoraireHT],Honoraire[ClientId],Personne[[#This Row],[PersonneId]]),SUMIFS(Honoraire[TotalHT],Honoraire[ClientId],Personne[[#This Row],[PersonneId]]))","v":0},{"$f":"Personne[[#This Row],[Facture (HT)]]+ROW()/100000","v":2.7100000000000002E-3},{"$f":"_xlfn.CONCAT(Personne[[#This Row],[Adresse]],\" \",Personne[[#This Row],[CodePostal]],\" \",Personne[[#This Row],[Ville]],\" \",Personne[[#This Row],[CodePays]])","v":"   "}]
[null,null,null,null,null,null,null,null,null,null,null,null,null,null,null,null,null,null,null,null,null,null,null,null,null,null,null,null,null,null,{"$f":"IF(PARAMETRES!$B$3=\"SANS\",SUMIFS(Honoraire[TotalHonoraireHT],Honoraire[ClientId],Personne[[#This Row],[PersonneId]]),SUMIFS(Honoraire[TotalHT],Honoraire[ClientId],Personne[[#This Row],[PersonneId]]))","v":0},{"$f":"Personne[[#This Row],[Facture (HT)]]+ROW()/100000","v":2.7200000000000002E-3},{"$f":"_xlfn.CONCAT(Personne[[#This Row],[Adresse]],\" \",Personne[[#This Row],[CodePostal]],\" \",Personne[[#This Row],[Ville]],\" \",Personne[[#This Row],[CodePays]])","v":"   "}]
[null,null,null,null,null,null,null,null,null,null,null,null,null,null,null,null,null,null,null,null,null,null,null,null,null,null,null,null,null,null,{"$f":"IF(PARAMETRES!$B$3=\"SANS\",SUMIFS(Honoraire[TotalHonoraireHT],Honoraire[ClientId],Personne[[#This Row],[PersonneId]]),SUMIFS(Honoraire[TotalHT],Honoraire[ClientId],Personne[[#This Row],[PersonneId]]))","v":0},{"$f":"Personne[[#This Row],[Facture (HT)]]+ROW()/100000","v":2.7299999999999998E-3},{"$f":"_xlfn.CONCAT(Personne[[#This Row],[Adresse]],\" \",Personne[[#This Row],[CodePostal]],\" \",Personne[[#This Row],[Ville]],\" \",Personne[[#This Row],[CodePays]])","v":"   "}]
[null,null,null,null,null,null,null,null,null,null,null,null,null,null,null,null,null,null,null,null,null,null,null,null,null,null,null,null,null,null,{"$f":"IF(PARAMETRES!$B$3=\"SANS\",SUMIFS(Honoraire[TotalHonoraireHT],Honoraire[ClientId],Personne[[#This Row],[PersonneId]]),SUMIFS(Honoraire[TotalHT],Honoraire[ClientId],Personne[[#This Row],[PersonneId]]))","v":0},{"$f":"Personne[[#This Row],[Facture (HT)]]+ROW()/100000","v":2.7399999999999998E-3},{"$f":"_xlfn.CONCAT(Personne[[#This Row],[Adresse]],\" \",Personne[[#This Row],[CodePostal]],\" \",Personne[[#This Row],[Ville]],\" \",Personne[[#This Row],[CodePays]])","v":"   "}]
[null,null,null,null,null,null,null,null,null,null,null,null,null,null,null,null,null,null,null,null,null,null,null,null,null,null,null,null,null,null,{"$f":"IF(PARAMETRES!$B$3=\"SANS\",SUMIFS(Honoraire[TotalHonoraireHT],Honoraire[ClientId],Personne[[#This Row],[PersonneId]]),SUMIFS(Honoraire[TotalHT],Honoraire[ClientId],Personne[[#This Row],[PersonneId]]))","v":0},{"$f":"Personne[[#This Row],[Facture (HT)]]+ROW()/100000","v":2.7499999999999998E-3},{"$f":"_xlfn.CONCAT(Personne[[#This Row],[Adresse]],\" \",Personne[[#This Row],[CodePostal]],\" \",Personne[[#This Row],[Ville]],\" \",Personne[[#This Row],[CodePays]])","v":"   "}]
[null,null,null,null,null,null,null,null,null,null,null,null,null,null,null,null,null,null,null,null,null,null,null,null,null,null,null,null,null,null,{"$f":"IF(PARAMETRES!$B$3=\"SANS\",SUMIFS(Honoraire[TotalHonoraireHT],Honoraire[ClientId],Personne[[#This Row],[PersonneId]]),SUMIFS(Honoraire[TotalHT],Honoraire[ClientId],Personne[[#This Row],[PersonneId]]))","v":0},{"$f":"Personne[[#This Row],[Facture (HT)]]+ROW()/100000","v":2.7599999999999999E-3},{"$f":"_xlfn.CONCAT(Personne[[#This Row],[Adresse]],\" \",Personne[[#This Row],[CodePostal]],\" \",Personne[[#This Row],[Ville]],\" \",Personne[[#This Row],[CodePays]])","v":"   "}]
[null,null,null,null,null,null,null,null,null,null,null,null,null,null,null,null,null,null,null,null,null,null,null,null,null,null,null,null,null,null,{"$f":"IF(PARAMETRES!$B$3=\"SANS\",SUMIFS(Honoraire[TotalHonoraireHT],Honoraire[ClientId],Personne[[#This Row],[PersonneId]]),SUMIFS(Honoraire[TotalHT],Honoraire[ClientId],Personne[[#This Row],[PersonneId]]))","v":0},{"$f":"Personne[[#This Row],[Facture (HT)]]+ROW()/100000","v":2.7699999999999999E-3},{"$f":"_xlfn.CONCAT(Personne[[#This Row],[Adresse]],\" \",Personne[[#This Row],[CodePostal]],\" \",Personne[[#This Row],[Ville]],\" \",Personne[[#This Row],[CodePays]])","v":"   "}]
[null,null,null,null,null,null,null,null,null,null,null,null,null,null,null,null,null,null,null,null,null,null,null,null,null,null,null,null,null,null,{"$f":"IF(PARAMETRES!$B$3=\"SANS\",SUMIFS(Honoraire[TotalHonoraireHT],Honoraire[ClientId],Personne[[#This Row],[PersonneId]]),SUMIFS(Honoraire[TotalHT],Honoraire[ClientId],Personne[[#This Row],[PersonneId]]))","v":0},{"$f":"Personne[[#This Row],[Facture (HT)]]+ROW()/100000","v":2.7799999999999999E-3},{"$f":"_xlfn.CONCAT(Personne[[#This Row],[Adresse]],\" \",Personne[[#This Row],[CodePostal]],\" \",Personne[[#This Row],[Ville]],\" \",Personne[[#This Row],[CodePays]])","v":"   "}]
[null,null,null,null,null,null,null,null,null,null,null,null,null,null,null,null,null,null,null,null,null,null,null,null,null,null,null,null,null,null,{"$f":"IF(PARAMETRES!$B$3=\"SANS\",SUMIFS(Honoraire[TotalHonoraireHT],Honoraire[ClientId],Personne[[#This Row],[PersonneId]]),SUMIFS(Honoraire[TotalHT],Honoraire[ClientId],Personne[[#This Row],[PersonneId]]))","v":0},{"$f":"Personne[[#This Row],[Facture (HT)]]+ROW()/100000","v":2.7899999999999999E-3},{"$f":"_xlfn.CONCAT(Personne[[#This Row],[Adresse]],\" \",Personne[[#This Row],[CodePostal]],\" \",Personne[[#This Row],[Ville]],\" \",Personne[[#This Row],[CodePays]])","v":"   "}]
[null,null,null,null,null,null,null,null,null,null,null,null,null,null,null,null,null,null,null,null,null,null,null,null,null,null,null,null,null,null,{"$f":"IF(PARAMETRES!$B$3=\"SANS\",SUMIFS(Honoraire[TotalHonoraireHT],Honoraire[ClientId],Personne[[#This Row],[PersonneId]]),SUMIFS(Honoraire[TotalHT],Honoraire[ClientId],Personne[[#This Row],[PersonneId]]))","v":0},{"$f":"Personne[[#This Row],[Facture (HT)]]+ROW()/100000","v":2.8E-3},{"$f":"_xlfn.CONCAT(Personne[[#This Row],[Adresse]],\" \",Personne[[#This Row],[CodePostal]],\" \",Personne[[#This Row],[Ville]],\" \",Personne[[#This Row],[CodePays]])","v":"   "}]
[null,null,null,null,null,null,null,null,null,null,null,null,null,null,null,null,null,null,null,null,null,null,null,null,null,null,null,null,null,null,{"$f":"IF(PARAMETRES!$B$3=\"SANS\",SUMIFS(Honoraire[TotalHonoraireHT],Honoraire[ClientId],Personne[[#This Row],[PersonneId]]),SUMIFS(Honoraire[TotalHT],Honoraire[ClientId],Personne[[#This Row],[PersonneId]]))","v":0},{"$f":"Personne[[#This Row],[Facture (HT)]]+ROW()/100000","v":2.81E-3},{"$f":"_xlfn.CONCAT(Personne[[#This Row],[Adresse]],\" \",Personne[[#This Row],[CodePostal]],\" \",Personne[[#This Row],[Ville]],\" \",Personne[[#This Row],[CodePays]])","v":"   "}]
[null,null,null,null,null,null,null,null,null,null,null,null,null,null,null,null,null,null,null,null,null,null,null,null,null,null,null,null,null,null,{"$f":"IF(PARAMETRES!$B$3=\"SANS\",SUMIFS(Honoraire[TotalHonoraireHT],Honoraire[ClientId],Personne[[#This Row],[PersonneId]]),SUMIFS(Honoraire[TotalHT],Honoraire[ClientId],Personne[[#This Row],[PersonneId]]))","v":0},{"$f":"Personne[[#This Row],[Facture (HT)]]+ROW()/100000","v":2.82E-3},{"$f":"_xlfn.CONCAT(Personne[[#This Row],[Adresse]],\" \",Personne[[#This Row],[CodePostal]],\" \",Personne[[#This Row],[Ville]],\" \",Personne[[#This Row],[CodePays]])","v":"   "}]
[null,null,null,null,null,null,null,null,null,null,null,null,null,null,null,null,null,null,null,null,null,null,null,null,null,null,null,null,null,null,{"$f":"IF(PARAMETRES!$B$3=\"SANS\",SUMIFS(Honoraire[TotalHonoraireHT],Honoraire[ClientId],Personne[[#This Row],[PersonneId]]),SUMIFS(Honoraire[TotalHT],Honoraire[ClientId],Personne[[#This Row],[PersonneId]]))","v":0},{"$f":"Personne[[#This Row],[Facture (HT)]]+ROW()/100000","v":2.8300000000000001E-3},{"$f":"_xlfn.CONCAT(Personne[[#This Row],[Adresse]],\" \",Personne[[#This Row],[CodePostal]],\" \",Personne[[#This Row],[Ville]],\" \",Personne[[#This Row],[CodePays]])","v":"   "}]
[null,null,null,null,null,null,null,null,null,null,null,null,null,null,null,null,null,null,null,null,null,null,null,null,null,null,null,null,null,null,{"$f":"IF(PARAMETRES!$B$3=\"SANS\",SUMIFS(Honoraire[TotalHonoraireHT],Honoraire[ClientId],Personne[[#This Row],[PersonneId]]),SUMIFS(Honoraire[TotalHT],Honoraire[ClientId],Personne[[#This Row],[PersonneId]]))","v":0},{"$f":"Personne[[#This Row],[Facture (HT)]]+ROW()/100000","v":2.8400000000000001E-3},{"$f":"_xlfn.CONCAT(Personne[[#This Row],[Adresse]],\" \",Personne[[#This Row],[CodePostal]],\" \",Personne[[#This Row],[Ville]],\" \",Personne[[#This Row],[CodePays]])","v":"   "}]
[null,null,null,null,null,null,null,null,null,null,null,null,null,null,null,null,null,null,null,null,null,null,null,null,null,null,null,null,null,null,{"$f":"IF(PARAMETRES!$B$3=\"SANS\",SUMIFS(Honoraire[TotalHonoraireHT],Honoraire[ClientId],Personne[[#This Row],[PersonneId]]),SUMIFS(Honoraire[TotalHT],Honoraire[ClientId],Personne[[#This Row],[PersonneId]]))","v":0},{"$f":"Personne[[#This Row],[Facture (HT)]]+ROW()/100000","v":2.8500000000000001E-3},{"$f":"_xlfn.CONCAT(Personne[[#This Row],[Adresse]],\" \",Personne[[#This Row],[CodePostal]],\" \",Personne[[#This Row],[Ville]],\" \",Personne[[#This Row],[CodePays]])","v":"   "}]
[null,null,null,null,null,null,null,null,null,null,null,null,null,null,null,null,null,null,null,null,null,null,null,null,null,null,null,null,null,null,{"$f":"IF(PARAMETRES!$B$3=\"SANS\",SUMIFS(Honoraire[TotalHonoraireHT],Honoraire[ClientId],Personne[[#This Row],[PersonneId]]),SUMIFS(Honoraire[TotalHT],Honoraire[ClientId],Personne[[#This Row],[PersonneId]]))","v":0},{"$f":"Personne[[#This Row],[Facture (HT)]]+ROW()/100000","v":2.8600000000000001E-3},{"$f":"_xlfn.CONCAT(Personne[[#This Row],[Adresse]],\" \",Personne[[#This Row],[CodePostal]],\" \",Personne[[#This Row],[Ville]],\" \",Personne[[#This Row],[CodePays]])","v":"   "}]
[null,null,null,null,null,null,null,null,null,null,null,null,null,null,null,null,null,null,null,null,null,null,null,null,null,null,null,null,null,null,{"$f":"IF(PARAMETRES!$B$3=\"SANS\",SUMIFS(Honoraire[TotalHonoraireHT],Honoraire[ClientId],Personne[[#This Row],[PersonneId]]),SUMIFS(Honoraire[TotalHT],Honoraire[ClientId],Personne[[#This Row],[PersonneId]]))","v":0},{"$f":"Personne[[#This Row],[Facture (HT)]]+ROW()/100000","v":2.8700000000000002E-3},{"$f":"_xlfn.CONCAT(Personne[[#This Row],[Adresse]],\" \",Personne[[#This Row],[CodePostal]],\" \",Personne[[#This Row],[Ville]],\" \",Personne[[#This Row],[CodePays]])","v":"   "}]
[null,null,null,null,null,null,null,null,null,null,null,null,null,null,null,null,null,null,null,null,null,null,null,null,null,null,null,null,null,null,{"$f":"IF(PARAMETRES!$B$3=\"SANS\",SUMIFS(Honoraire[TotalHonoraireHT],Honoraire[ClientId],Personne[[#This Row],[PersonneId]]),SUMIFS(Honoraire[TotalHT],Honoraire[ClientId],Personne[[#This Row],[PersonneId]]))","v":0},{"$f":"Personne[[#This Row],[Facture (HT)]]+ROW()/100000","v":2.8800000000000002E-3},{"$f":"_xlfn.CONCAT(Personne[[#This Row],[Adresse]],\" \",Personne[[#This Row],[CodePostal]],\" \",Personne[[#This Row],[Ville]],\" \",Personne[[#This Row],[CodePays]])","v":"   "}]
[null,null,null,null,null,null,null,null,null,null,null,null,null,null,null,null,null,null,null,null,null,null,null,null,null,null,null,null,null,null,{"$f":"IF(PARAMETRES!$B$3=\"SANS\",SUMIFS(Honoraire[TotalHonoraireHT],Honoraire[ClientId],Personne[[#This Row],[PersonneId]]),SUMIFS(Honoraire[TotalHT],Honoraire[ClientId],Personne[[#This Row],[PersonneId]]))","v":0},{"$f":"Personne[[#This Row],[Facture (HT)]]+ROW()/100000","v":2.8900000000000002E-3},{"$f":"_xlfn.CONCAT(Personne[[#This Row],[Adresse]],\" \",Personne[[#This Row],[CodePostal]],\" \",Personne[[#This Row],[Ville]],\" \",Personne[[#This Row],[CodePays]])","v":"   "}]
[null,null,null,null,null,null,null,null,null,null,null,null,null,null,null,null,null,null,null,null,null,null,null,null,null,null,null,null,null,null,{"$f":"IF(PARAMETRES!$B$3=\"SANS\",SUMIFS(Honoraire[TotalHonoraireHT],Honoraire[ClientId],Personne[[#This Row],[PersonneId]]),SUMIFS(Honoraire[TotalHT],Honoraire[ClientId],Personne[[#This Row],[PersonneId]]))","v":0},{"$f":"Personne[[#This Row],[Facture (HT)]]+ROW()/100000","v":2.8999999999999998E-3},{"$f":"_xlfn.CONCAT(Personne[[#This Row],[Adresse]],\" \",Personne[[#This Row],[CodePostal]],\" \",Personne[[#This Row],[Ville]],\" \",Personne[[#This Row],[CodePays]])","v":"   "}]
[null,null,null,null,null,null,null,null,null,null,null,null,null,null,null,null,null,null,null,null,null,null,null,null,null,null,null,null,null,null,{"$f":"IF(PARAMETRES!$B$3=\"SANS\",SUMIFS(Honoraire[TotalHonoraireHT],Honoraire[ClientId],Personne[[#This Row],[PersonneId]]),SUMIFS(Honoraire[TotalHT],Honoraire[ClientId],Personne[[#This Row],[PersonneId]]))","v":0},{"$f":"Personne[[#This Row],[Facture (HT)]]+ROW()/100000","v":2.9099999999999998E-3},{"$f":"_xlfn.CONCAT(Personne[[#This Row],[Adresse]],\" \",Personne[[#This Row],[CodePostal]],\" \",Personne[[#This Row],[Ville]],\" \",Personne[[#This Row],[CodePays]])","v":"   "}]
[null,null,null,null,null,null,null,null,null,null,null,null,null,null,null,null,null,null,null,null,null,null,null,null,null,null,null,null,null,null,{"$f":"IF(PARAMETRES!$B$3=\"SANS\",SUMIFS(Honoraire[TotalHonoraireHT],Honoraire[ClientId],Personne[[#This Row],[PersonneId]]),SUMIFS(Honoraire[TotalHT],Honoraire[ClientId],Personne[[#This Row],[PersonneId]]))","v":0},{"$f":"Personne[[#This Row],[Facture (HT)]]+ROW()/100000","v":2.9199999999999999E-3},{"$f":"_xlfn.CONCAT(Personne[[#This Row],[Adresse]],\" \",Personne[[#This Row],[CodePostal]],\" \",Personne[[#This Row],[Ville]],\" \",Personne[[#This Row],[CodePays]])","v":"   "}]
[null,null,null,null,null,null,null,null,null,null,null,null,null,null,null,null,null,null,null,null,null,null,null,null,null,null,null,null,null,null,{"$f":"IF(PARAMETRES!$B$3=\"SANS\",SUMIFS(Honoraire[TotalHonoraireHT],Honoraire[ClientId],Personne[[#This Row],[PersonneId]]),SUMIFS(Honoraire[TotalHT],Honoraire[ClientId],Personne[[#This Row],[PersonneId]]))","v":0},{"$f":"Personne[[#This Row],[Facture (HT)]]+ROW()/100000","v":2.9299999999999999E-3},{"$f":"_xlfn.CONCAT(Personne[[#This Row],[Adresse]],\" \",Personne[[#This Row],[CodePostal]],\" \",Personne[[#This Row],[Ville]],\" \",Personne[[#This Row],[CodePays]])","v":"   "}]
[null,null,null,null,null,null,null,null,null,null,null,null,null,null,null,null,null,null,null,null,null,null,null,null,null,null,null,null,null,null,{"$f":"IF(PARAMETRES!$B$3=\"SANS\",SUMIFS(Honoraire[TotalHonoraireHT],Honoraire[ClientId],Personne[[#This Row],[PersonneId]]),SUMIFS(Honoraire[TotalHT],Honoraire[ClientId],Personne[[#This Row],[PersonneId]]))","v":0},{"$f":"Personne[[#This Row],[Facture (HT)]]+ROW()/100000","v":2.9399999999999999E-3},{"$f":"_xlfn.CONCAT(Personne[[#This Row],[Adresse]],\" \",Personne[[#This Row],[CodePostal]],\" \",Personne[[#This Row],[Ville]],\" \",Personne[[#This Row],[CodePays]])","v":"   "}]
[null,null,null,null,null,null,null,null,null,null,null,null,null,null,null,null,null,null,null,null,null,null,null,null,null,null,null,null,null,null,{"$f":"IF(PARAMETRES!$B$3=\"SANS\",SUMIFS(Honoraire[TotalHonoraireHT],Honoraire[ClientId],Personne[[#This Row],[PersonneId]]),SUMIFS(Honoraire[TotalHT],Honoraire[ClientId],Personne[[#This Row],[PersonneId]]))","v":0},{"$f":"Personne[[#This Row],[Facture (HT)]]+ROW()/100000","v":2.9499999999999999E-3},{"$f":"_xlfn.CONCAT(Personne[[#This Row],[Adresse]],\" \",Personne[[#This Row],[CodePostal]],\" \",Personne[[#This Row],[Ville]],\" \",Personne[[#This Row],[CodePays]])","v":"   "}]
[null,null,null,null,null,null,null,null,null,null,null,null,null,null,null,null,null,null,null,null,null,null,null,null,null,null,null,null,null,null,{"$f":"IF(PARAMETRES!$B$3=\"SANS\",SUMIFS(Honoraire[TotalHonoraireHT],Honoraire[ClientId],Personne[[#This Row],[PersonneId]]),SUMIFS(Honoraire[TotalHT],Honoraire[ClientId],Personne[[#This Row],[PersonneId]]))","v":0},{"$f":"Personne[[#This Row],[Facture (HT)]]+ROW()/100000","v":2.96E-3},{"$f":"_xlfn.CONCAT(Personne[[#This Row],[Adresse]],\" \",Personne[[#This Row],[CodePostal]],\" \",Personne[[#This Row],[Ville]],\" \",Personne[[#This Row],[CodePays]])","v":"   "}]
[null,null,null,null,null,null,null,null,null,null,null,null,null,null,null,null,null,null,null,null,null,null,null,null,null,null,null,null,null,null,{"$f":"IF(PARAMETRES!$B$3=\"SANS\",SUMIFS(Honoraire[TotalHonoraireHT],Honoraire[ClientId],Personne[[#This Row],[PersonneId]]),SUMIFS(Honoraire[TotalHT],Honoraire[ClientId],Personne[[#This Row],[PersonneId]]))","v":0},{"$f":"Personne[[#This Row],[Facture (HT)]]+ROW()/100000","v":2.97E-3},{"$f":"_xlfn.CONCAT(Personne[[#This Row],[Adresse]],\" \",Personne[[#This Row],[CodePostal]],\" \",Personne[[#This Row],[Ville]],\" \",Personne[[#This Row],[CodePays]])","v":"   "}]
[null,null,null,null,null,null,null,null,null,null,null,null,null,null,null,null,null,null,null,null,null,null,null,null,null,null,null,null,null,null,{"$f":"IF(PARAMETRES!$B$3=\"SANS\",SUMIFS(Honoraire[TotalHonoraireHT],Honoraire[ClientId],Personne[[#This Row],[PersonneId]]),SUMIFS(Honoraire[TotalHT],Honoraire[ClientId],Personne[[#This Row],[PersonneId]]))","v":0},{"$f":"Personne[[#This Row],[Facture (HT)]]+ROW()/100000","v":2.98E-3},{"$f":"_xlfn.CONCAT(Personne[[#This Row],[Adresse]],\" \",Personne[[#This Row],[CodePostal]],\" \",Personne[[#This Row],[Ville]],\" \",Personne[[#This Row],[CodePays]])","v":"   "}]
[null,null,null,null,null,null,null,null,null,null,null,null,null,null,null,null,null,null,null,null,null,null,null,null,null,null,null,null,null,null,{"$f":"IF(PARAMETRES!$B$3=\"SANS\",SUMIFS(Honoraire[TotalHonoraireHT],Honoraire[ClientId],Personne[[#This Row],[PersonneId]]),SUMIFS(Honoraire[TotalHT],Honoraire[ClientId],Personne[[#This Row],[PersonneId]]))","v":0},{"$f":"Personne[[#This Row],[Facture (HT)]]+ROW()/100000","v":2.99E-3},{"$f":"_xlfn.CONCAT(Personne[[#This Row],[Adresse]],\" \",Personne[[#This Row],[CodePostal]],\" \",Personne[[#This Row],[Ville]],\" \",Personne[[#This Row],[CodePays]])","v":"   "}]
[null,null,null,null,null,null,null,null,null,null,null,null,null,null,null,null,null,null,null,null,null,null,null,null,null,null,null,null,null,null,{"$f":"IF(PARAMETRES!$B$3=\"SANS\",SUMIFS(Honoraire[TotalHonoraireHT],Honoraire[ClientId],Personne[[#This Row],[PersonneId]]),SUMIFS(Honoraire[TotalHT],Honoraire[ClientId],Personne[[#This Row],[PersonneId]]))","v":0},{"$f":"Personne[[#This Row],[Facture (HT)]]+ROW()/100000","v":3.0000000000000001E-3},{"$f":"_xlfn.CONCAT(Personne[[#This Row],[Adresse]],\" \",Personne[[#This Row],[CodePostal]],\" \",Personne[[#This Row],[Ville]],\" \",Personne[[#This Row],[CodePays]])","v":"   "}]
[null,null,null,null,null,null,null,null,null,null,null,null,null,null,null,null,null,null,null,null,null,null,null,null,null,null,null,null,null,null,{"$f":"IF(PARAMETRES!$B$3=\"SANS\",SUMIFS(Honoraire[TotalHonoraireHT],Honoraire[ClientId],Personne[[#This Row],[PersonneId]]),SUMIFS(Honoraire[TotalHT],Honoraire[ClientId],Personne[[#This Row],[PersonneId]]))","v":0},{"$f":"Personne[[#This Row],[Facture (HT)]]+ROW()/100000","v":3.0100000000000001E-3},{"$f":"_xlfn.CONCAT(Personne[[#This Row],[Adresse]],\" \",Personne[[#This Row],[CodePostal]],\" \",Personne[[#This Row],[Ville]],\" \",Personne[[#This Row],[CodePays]])","v":"   "}]
[null,null,null,null,null,null,null,null,null,null,null,null,null,null,null,null,null,null,null,null,null,null,null,null,null,null,null,null,null,null,{"$f":"IF(PARAMETRES!$B$3=\"SANS\",SUMIFS(Honoraire[TotalHonoraireHT],Honoraire[ClientId],Personne[[#This Row],[PersonneId]]),SUMIFS(Honoraire[TotalHT],Honoraire[ClientId],Personne[[#This Row],[PersonneId]]))","v":0},{"$f":"Personne[[#This Row],[Facture (HT)]]+ROW()/100000","v":3.0200000000000001E-3},{"$f":"_xlfn.CONCAT(Personne[[#This Row],[Adresse]],\" \",Personne[[#This Row],[CodePostal]],\" \",Personne[[#This Row],[Ville]],\" \",Personne[[#This Row],[CodePays]])","v":"   "}]
[null,null,null,null,null,null,null,null,null,null,null,null,null,null,null,null,null,null,null,null,null,null,null,null,null,null,null,null,null,null,{"$f":"IF(PARAMETRES!$B$3=\"SANS\",SUMIFS(Honoraire[TotalHonoraireHT],Honoraire[ClientId],Personne[[#This Row],[PersonneId]]),SUMIFS(Honoraire[TotalHT],Honoraire[ClientId],Personne[[#This Row],[PersonneId]]))","v":0},{"$f":"Personne[[#This Row],[Facture (HT)]]+ROW()/100000","v":3.0300000000000001E-3},{"$f":"_xlfn.CONCAT(Personne[[#This Row],[Adresse]],\" \",Personne[[#This Row],[CodePostal]],\" \",Personne[[#This Row],[Ville]],\" \",Personne[[#This Row],[CodePays]])","v":"   "}]
[null,null,null,null,null,null,null,null,null,null,null,null,null,null,null,null,null,null,null,null,null,null,null,null,null,null,null,null,null,null,{"$f":"IF(PARAMETRES!$B$3=\"SANS\",SUMIFS(Honoraire[TotalHonoraireHT],Honoraire[ClientId],Personne[[#This Row],[PersonneId]]),SUMIFS(Honoraire[TotalHT],Honoraire[ClientId],Personne[[#This Row],[PersonneId]]))","v":0},{"$f":"Personne[[#This Row],[Facture (HT)]]+ROW()/100000","v":3.0400000000000002E-3},{"$f":"_xlfn.CONCAT(Personne[[#This Row],[Adresse]],\" \",Personne[[#This Row],[CodePostal]],\" \",Personne[[#This Row],[Ville]],\" \",Personne[[#This Row],[CodePays]])","v":"   "}]
[null,null,null,null,null,null,null,null,null,null,null,null,null,null,null,null,null,null,null,null,null,null,null,null,null,null,null,null,null,null,{"$f":"IF(PARAMETRES!$B$3=\"SANS\",SUMIFS(Honoraire[TotalHonoraireHT],Honoraire[ClientId],Personne[[#This Row],[PersonneId]]),SUMIFS(Honoraire[TotalHT],Honoraire[ClientId],Personne[[#This Row],[PersonneId]]))","v":0},{"$f":"Personne[[#This Row],[Facture (HT)]]+ROW()/100000","v":3.0500000000000002E-3},{"$f":"_xlfn.CONCAT(Personne[[#This Row],[Adresse]],\" \",Personne[[#This Row],[CodePostal]],\" \",Personne[[#This Row],[Ville]],\" \",Personne[[#This Row],[CodePays]])","v":"   "}]
[null,null,null,null,null,null,null,null,null,null,null,null,null,null,null,null,null,null,null,null,null,null,null,null,null,null,null,null,null,null,{"$f":"IF(PARAMETRES!$B$3=\"SANS\",SUMIFS(Honoraire[TotalHonoraireHT],Honoraire[ClientId],Personne[[#This Row],[PersonneId]]),SUMIFS(Honoraire[TotalHT],Honoraire[ClientId],Personne[[#This Row],[PersonneId]]))","v":0},{"$f":"Personne[[#This Row],[Facture (HT)]]+ROW()/100000","v":3.0599999999999998E-3},{"$f":"_xlfn.CONCAT(Personne[[#This Row],[Adresse]],\" \",Personne[[#This Row],[CodePostal]],\" \",Personne[[#This Row],[Ville]],\" \",Personne[[#This Row],[CodePays]])","v":"   "}]
[null,null,null,null,null,null,null,null,null,null,null,null,null,null,null,null,null,null,null,null,null,null,null,null,null,null,null,null,null,null,{"$f":"IF(PARAMETRES!$B$3=\"SANS\",SUMIFS(Honoraire[TotalHonoraireHT],Honoraire[ClientId],Personne[[#This Row],[PersonneId]]),SUMIFS(Honoraire[TotalHT],Honoraire[ClientId],Personne[[#This Row],[PersonneId]]))","v":0},{"$f":"Personne[[#This Row],[Facture (HT)]]+ROW()/100000","v":3.0699999999999998E-3},{"$f":"_xlfn.CONCAT(Personne[[#This Row],[Adresse]],\" \",Personne[[#This Row],[CodePostal]],\" \",Personne[[#This Row],[Ville]],\" \",Personne[[#This Row],[CodePays]])","v":"   "}]
[null,null,null,null,null,null,null,null,null,null,null,null,null,null,null,null,null,null,null,null,null,null,null,null,null,null,null,null,null,null,{"$f":"IF(PARAMETRES!$B$3=\"SANS\",SUMIFS(Honoraire[TotalHonoraireHT],Honoraire[ClientId],Personne[[#This Row],[PersonneId]]),SUMIFS(Honoraire[TotalHT],Honoraire[ClientId],Personne[[#This Row],[PersonneId]]))","v":0},{"$f":"Personne[[#This Row],[Facture (HT)]]+ROW()/100000","v":3.0799999999999998E-3},{"$f":"_xlfn.CONCAT(Personne[[#This Row],[Adresse]],\" \",Personne[[#This Row],[CodePostal]],\" \",Personne[[#This Row],[Ville]],\" \",Personne[[#This Row],[CodePays]])","v":"   "}]
[null,null,null,null,null,null,null,null,null,null,null,null,null,null,null,null,null,null,null,null,null,null,null,null,null,null,null,null,null,null,{"$f":"IF(PARAMETRES!$B$3=\"SANS\",SUMIFS(Honoraire[TotalHonoraireHT],Honoraire[ClientId],Personne[[#This Row],[PersonneId]]),SUMIFS(Honoraire[TotalHT],Honoraire[ClientId],Personne[[#This Row],[PersonneId]]))","v":0},{"$f":"Personne[[#This Row],[Facture (HT)]]+ROW()/100000","v":3.0899999999999999E-3},{"$f":"_xlfn.CONCAT(Personne[[#This Row],[Adresse]],\" \",Personne[[#This Row],[CodePostal]],\" \",Personne[[#This Row],[Ville]],\" \",Personne[[#This Row],[CodePays]])","v":"   "}]
[null,null,null,null,null,null,null,null,null,null,null,null,null,null,null,null,null,null,null,null,null,null,null,null,null,null,null,null,null,null,{"$f":"IF(PARAMETRES!$B$3=\"SANS\",SUMIFS(Honoraire[TotalHonoraireHT],Honoraire[ClientId],Personne[[#This Row],[PersonneId]]),SUMIFS(Honoraire[TotalHT],Honoraire[ClientId],Personne[[#This Row],[PersonneId]]))","v":0},{"$f":"Personne[[#This Row],[Facture (HT)]]+ROW()/100000","v":3.0999999999999999E-3},{"$f":"_xlfn.CONCAT(Personne[[#This Row],[Adresse]],\" \",Personne[[#This Row],[CodePostal]],\" \",Personne[[#This Row],[Ville]],\" \",Personne[[#This Row],[CodePays]])","v":"   "}]
[null,null,null,null,null,null,null,null,null,null,null,null,null,null,null,null,null,null,null,null,null,null,null,null,null,null,null,null,null,null,{"$f":"IF(PARAMETRES!$B$3=\"SANS\",SUMIFS(Honoraire[TotalHonoraireHT],Honoraire[ClientId],Personne[[#This Row],[PersonneId]]),SUMIFS(Honoraire[TotalHT],Honoraire[ClientId],Personne[[#This Row],[PersonneId]]))","v":0},{"$f":"Personne[[#This Row],[Facture (HT)]]+ROW()/100000","v":3.1099999999999999E-3},{"$f":"_xlfn.CONCAT(Personne[[#This Row],[Adresse]],\" \",Personne[[#This Row],[CodePostal]],\" \",Personne[[#This Row],[Ville]],\" \",Personne[[#This Row],[CodePays]])","v":"   "}]
[null,null,null,null,null,null,null,null,null,null,null,null,null,null,null,null,null,null,null,null,null,null,null,null,null,null,null,null,null,null,{"$f":"IF(PARAMETRES!$B$3=\"SANS\",SUMIFS(Honoraire[TotalHonoraireHT],Honoraire[ClientId],Personne[[#This Row],[PersonneId]]),SUMIFS(Honoraire[TotalHT],Honoraire[ClientId],Personne[[#This Row],[PersonneId]]))","v":0},{"$f":"Personne[[#This Row],[Facture (HT)]]+ROW()/100000","v":3.1199999999999999E-3},{"$f":"_xlfn.CONCAT(Personne[[#This Row],[Adresse]],\" \",Personne[[#This Row],[CodePostal]],\" \",Personne[[#This Row],[Ville]],\" \",Personne[[#This Row],[CodePays]])","v":"   "}]
[null,null,null,null,null,null,null,null,null,null,null,null,null,null,null,null,null,null,null,null,null,null,null,null,null,null,null,null,null,null,{"$f":"IF(PARAMETRES!$B$3=\"SANS\",SUMIFS(Honoraire[TotalHonoraireHT],Honoraire[ClientId],Personne[[#This Row],[PersonneId]]),SUMIFS(Honoraire[TotalHT],Honoraire[ClientId],Personne[[#This Row],[PersonneId]]))","v":0},{"$f":"Personne[[#This Row],[Facture (HT)]]+ROW()/100000","v":3.13E-3},{"$f":"_xlfn.CONCAT(Personne[[#This Row],[Adresse]],\" \",Personne[[#This Row],[CodePostal]],\" \",Personne[[#This Row],[Ville]],\" \",Personne[[#This Row],[CodePays]])","v":"   "}]
[null,null,null,null,null,null,null,null,null,null,null,null,null,null,null,null,null,null,null,null,null,null,null,null,null,null,null,null,null,null,{"$f":"IF(PARAMETRES!$B$3=\"SANS\",SUMIFS(Honoraire[TotalHonoraireHT],Honoraire[ClientId],Personne[[#This Row],[PersonneId]]),SUMIFS(Honoraire[TotalHT],Honoraire[ClientId],Personne[[#This Row],[PersonneId]]))","v":0},{"$f":"Personne[[#This Row],[Facture (HT)]]+ROW()/100000","v":3.14E-3},{"$f":"_xlfn.CONCAT(Personne[[#This Row],[Adresse]],\" \",Personne[[#This Row],[CodePostal]],\" \",Personne[[#This Row],[Ville]],\" \",Personne[[#This Row],[CodePays]])","v":"   "}]
[null,null,null,null,null,null,null,null,null,null,null,null,null,null,null,null,null,null,null,null,null,null,null,null,null,null,null,null,null,null,{"$f":"IF(PARAMETRES!$B$3=\"SANS\",SUMIFS(Honoraire[TotalHonoraireHT],Honoraire[ClientId],Personne[[#This Row],[PersonneId]]),SUMIFS(Honoraire[TotalHT],Honoraire[ClientId],Personne[[#This Row],[PersonneId]]))","v":0},{"$f":"Personne[[#This Row],[Facture (HT)]]+ROW()/100000","v":3.15E-3},{"$f":"_xlfn.CONCAT(Personne[[#This Row],[Adresse]],\" \",Personne[[#This Row],[CodePostal]],\" \",Personne[[#This Row],[Ville]],\" \",Personne[[#This Row],[CodePays]])","v":"   "}]
[null,null,null,null,null,null,null,null,null,null,null,null,null,null,null,null,null,null,null,null,null,null,null,null,null,null,null,null,null,null,{"$f":"IF(PARAMETRES!$B$3=\"SANS\",SUMIFS(Honoraire[TotalHonoraireHT],Honoraire[ClientId],Personne[[#This Row],[PersonneId]]),SUMIFS(Honoraire[TotalHT],Honoraire[ClientId],Personne[[#This Row],[PersonneId]]))","v":0},{"$f":"Personne[[#This Row],[Facture (HT)]]+ROW()/100000","v":3.16E-3},{"$f":"_xlfn.CONCAT(Personne[[#This Row],[Adresse]],\" \",Personne[[#This Row],[CodePostal]],\" \",Personne[[#This Row],[Ville]],\" \",Personne[[#This Row],[CodePays]])","v":"   "}]
[null,null,null,null,null,null,null,null,null,null,null,null,null,null,null,null,null,null,null,null,null,null,null,null,null,null,null,null,null,null,{"$f":"IF(PARAMETRES!$B$3=\"SANS\",SUMIFS(Honoraire[TotalHonoraireHT],Honoraire[ClientId],Personne[[#This Row],[PersonneId]]),SUMIFS(Honoraire[TotalHT],Honoraire[ClientId],Personne[[#This Row],[PersonneId]]))","v":0},{"$f":"Personne[[#This Row],[Facture (HT)]]+ROW()/100000","v":3.1700000000000001E-3},{"$f":"_xlfn.CONCAT(Personne[[#This Row],[Adresse]],\" \",Personne[[#This Row],[CodePostal]],\" \",Personne[[#This Row],[Ville]],\" \",Personne[[#This Row],[CodePays]])","v":"   "}]
[null,null,null,null,null,null,null,null,null,null,null,null,null,null,null,null,null,null,null,null,null,null,null,null,null,null,null,null,null,null,{"$f":"IF(PARAMETRES!$B$3=\"SANS\",SUMIFS(Honoraire[TotalHonoraireHT],Honoraire[ClientId],Personne[[#This Row],[PersonneId]]),SUMIFS(Honoraire[TotalHT],Honoraire[ClientId],Personne[[#This Row],[PersonneId]]))","v":0},{"$f":"Personne[[#This Row],[Facture (HT)]]+ROW()/100000","v":3.1800000000000001E-3},{"$f":"_xlfn.CONCAT(Personne[[#This Row],[Adresse]],\" \",Personne[[#This Row],[CodePostal]],\" \",Personne[[#This Row],[Ville]],\" \",Personne[[#This Row],[CodePays]])","v":"   "}]
[null,null,null,null,null,null,null,null,null,null,null,null,null,null,null,null,null,null,null,null,null,null,null,null,null,null,null,null,null,null,{"$f":"IF(PARAMETRES!$B$3=\"SANS\",SUMIFS(Honoraire[TotalHonoraireHT],Honoraire[ClientId],Personne[[#This Row],[PersonneId]]),SUMIFS(Honoraire[TotalHT],Honoraire[ClientId],Personne[[#This Row],[PersonneId]]))","v":0},{"$f":"Personne[[#This Row],[Facture (HT)]]+ROW()/100000","v":3.1900000000000001E-3},{"$f":"_xlfn.CONCAT(Personne[[#This Row],[Adresse]],\" \",Personne[[#This Row],[CodePostal]],\" \",Personne[[#This Row],[Ville]],\" \",Personne[[#This Row],[CodePays]])","v":"   "}]
[null,null,null,null,null,null,null,null,null,null,null,null,null,null,null,null,null,null,null,null,null,null,null,null,null,null,null,null,null,null,{"$f":"IF(PARAMETRES!$B$3=\"SANS\",SUMIFS(Honoraire[TotalHonoraireHT],Honoraire[ClientId],Personne[[#This Row],[PersonneId]]),SUMIFS(Honoraire[TotalHT],Honoraire[ClientId],Personne[[#This Row],[PersonneId]]))","v":0},{"$f":"Personne[[#This Row],[Facture (HT)]]+ROW()/100000","v":3.2000000000000002E-3},{"$f":"_xlfn.CONCAT(Personne[[#This Row],[Adresse]],\" \",Personne[[#This Row],[CodePostal]],\" \",Personne[[#This Row],[Ville]],\" \",Personne[[#This Row],[CodePays]])","v":"   "}]
[null,null,null,null,null,null,null,null,null,null,null,null,null,null,null,null,null,null,null,null,null,null,null,null,null,null,null,null,null,null,{"$f":"IF(PARAMETRES!$B$3=\"SANS\",SUMIFS(Honoraire[TotalHonoraireHT],Honoraire[ClientId],Personne[[#This Row],[PersonneId]]),SUMIFS(Honoraire[TotalHT],Honoraire[ClientId],Personne[[#This Row],[PersonneId]]))","v":0},{"$f":"Personne[[#This Row],[Facture (HT)]]+ROW()/100000","v":3.2100000000000002E-3},{"$f":"_xlfn.CONCAT(Personne[[#This Row],[Adresse]],\" \",Personne[[#This Row],[CodePostal]],\" \",Personne[[#This Row],[Ville]],\" \",Personne[[#This Row],[CodePays]])","v":"   "}]
[null,null,null,null,null,null,null,null,null,null,null,null,null,null,null,null,null,null,null,null,null,null,null,null,null,null,null,null,null,null,{"$f":"IF(PARAMETRES!$B$3=\"SANS\",SUMIFS(Honoraire[TotalHonoraireHT],Honoraire[ClientId],Personne[[#This Row],[PersonneId]]),SUMIFS(Honoraire[TotalHT],Honoraire[ClientId],Personne[[#This Row],[PersonneId]]))","v":0},{"$f":"Personne[[#This Row],[Facture (HT)]]+ROW()/100000","v":3.2200000000000002E-3},{"$f":"_xlfn.CONCAT(Personne[[#This Row],[Adresse]],\" \",Personne[[#This Row],[CodePostal]],\" \",Personne[[#This Row],[Ville]],\" \",Personne[[#This Row],[CodePays]])","v":"   "}]
[null,null,null,null,null,null,null,null,null,null,null,null,null,null,null,null,null,null,null,null,null,null,null,null,null,null,null,null,null,null,{"$f":"IF(PARAMETRES!$B$3=\"SANS\",SUMIFS(Honoraire[TotalHonoraireHT],Honoraire[ClientId],Personne[[#This Row],[PersonneId]]),SUMIFS(Honoraire[TotalHT],Honoraire[ClientId],Personne[[#This Row],[PersonneId]]))","v":0},{"$f":"Personne[[#This Row],[Facture (HT)]]+ROW()/100000","v":3.2299999999999998E-3},{"$f":"_xlfn.CONCAT(Personne[[#This Row],[Adresse]],\" \",Personne[[#This Row],[CodePostal]],\" \",Personne[[#This Row],[Ville]],\" \",Personne[[#This Row],[CodePays]])","v":"   "}]
[null,null,null,null,null,null,null,null,null,null,null,null,null,null,null,null,null,null,null,null,null,null,null,null,null,null,null,null,null,null,{"$f":"IF(PARAMETRES!$B$3=\"SANS\",SUMIFS(Honoraire[TotalHonoraireHT],Honoraire[ClientId],Personne[[#This Row],[PersonneId]]),SUMIFS(Honoraire[TotalHT],Honoraire[ClientId],Personne[[#This Row],[PersonneId]]))","v":0},{"$f":"Personne[[#This Row],[Facture (HT)]]+ROW()/100000","v":3.2399999999999998E-3},{"$f":"_xlfn.CONCAT(Personne[[#This Row],[Adresse]],\" \",Personne[[#This Row],[CodePostal]],\" \",Personne[[#This Row],[Ville]],\" \",Personne[[#This Row],[CodePays]])","v":"   "}]
[null,null,null,null,null,null,null,null,null,null,null,null,null,null,null,null,null,null,null,null,null,null,null,null,null,null,null,null,null,null,{"$f":"IF(PARAMETRES!$B$3=\"SANS\",SUMIFS(Honoraire[TotalHonoraireHT],Honoraire[ClientId],Personne[[#This Row],[PersonneId]]),SUMIFS(Honoraire[TotalHT],Honoraire[ClientId],Personne[[#This Row],[PersonneId]]))","v":0},{"$f":"Personne[[#This Row],[Facture (HT)]]+ROW()/100000","v":3.2499999999999999E-3},{"$f":"_xlfn.CONCAT(Personne[[#This Row],[Adresse]],\" \",Personne[[#This Row],[CodePostal]],\" \",Personne[[#This Row],[Ville]],\" \",Personne[[#This Row],[CodePays]])","v":"   "}]
[null,null,null,null,null,null,null,null,null,null,null,null,null,null,null,null,null,null,null,null,null,null,null,null,null,null,null,null,null,null,{"$f":"IF(PARAMETRES!$B$3=\"SANS\",SUMIFS(Honoraire[TotalHonoraireHT],Honoraire[ClientId],Personne[[#This Row],[PersonneId]]),SUMIFS(Honoraire[TotalHT],Honoraire[ClientId],Personne[[#This Row],[PersonneId]]))","v":0},{"$f":"Personne[[#This Row],[Facture (HT)]]+ROW()/100000","v":3.2599999999999999E-3},{"$f":"_xlfn.CONCAT(Personne[[#This Row],[Adresse]],\" \",Personne[[#This Row],[CodePostal]],\" \",Personne[[#This Row],[Ville]],\" \",Personne[[#This Row],[CodePays]])","v":"   "}]
[null,null,null,null,null,null,null,null,null,null,null,null,null,null,null,null,null,null,null,null,null,null,null,null,null,null,null,null,null,null,{"$f":"IF(PARAMETRES!$B$3=\"SANS\",SUMIFS(Honoraire[TotalHonoraireHT],Honoraire[ClientId],Personne[[#This Row],[PersonneId]]),SUMIFS(Honoraire[TotalHT],Honoraire[ClientId],Personne[[#This Row],[PersonneId]]))","v":0},{"$f":"Personne[[#This Row],[Facture (HT)]]+ROW()/100000","v":3.2699999999999999E-3},{"$f":"_xlfn.CONCAT(Personne[[#This Row],[Adresse]],\" \",Personne[[#This Row],[CodePostal]],\" \",Personne[[#This Row],[Ville]],\" \",Personne[[#This Row],[CodePays]])","v":"   "}]
[null,null,null,null,null,null,null,null,null,null,null,null,null,null,null,null,null,null,null,null,null,null,null,null,null,null,null,null,null,null,{"$f":"IF(PARAMETRES!$B$3=\"SANS\",SUMIFS(Honoraire[TotalHonoraireHT],Honoraire[ClientId],Personne[[#This Row],[PersonneId]]),SUMIFS(Honoraire[TotalHT],Honoraire[ClientId],Personne[[#This Row],[PersonneId]]))","v":0},{"$f":"Personne[[#This Row],[Facture (HT)]]+ROW()/100000","v":3.2799999999999999E-3},{"$f":"_xlfn.CONCAT(Personne[[#This Row],[Adresse]],\" \",Personne[[#This Row],[CodePostal]],\" \",Personne[[#This Row],[Ville]],\" \",Personne[[#This Row],[CodePays]])","v":"   "}]
[null,null,null,null,null,null,null,null,null,null,null,null,null,null,null,null,null,null,null,null,null,null,null,null,null,null,null,null,null,null,{"$f":"IF(PARAMETRES!$B$3=\"SANS\",SUMIFS(Honoraire[TotalHonoraireHT],Honoraire[ClientId],Personne[[#This Row],[PersonneId]]),SUMIFS(Honoraire[TotalHT],Honoraire[ClientId],Personne[[#This Row],[PersonneId]]))","v":0},{"$f":"Personne[[#This Row],[Facture (HT)]]+ROW()/100000","v":3.29E-3},{"$f":"_xlfn.CONCAT(Personne[[#This Row],[Adresse]],\" \",Personne[[#This Row],[CodePostal]],\" \",Personne[[#This Row],[Ville]],\" \",Personne[[#This Row],[CodePays]])","v":"   "}]
[null,null,null,null,null,null,null,null,null,null,null,null,null,null,null,null,null,null,null,null,null,null,null,null,null,null,null,null,null,null,{"$f":"IF(PARAMETRES!$B$3=\"SANS\",SUMIFS(Honoraire[TotalHonoraireHT],Honoraire[ClientId],Personne[[#This Row],[PersonneId]]),SUMIFS(Honoraire[TotalHT],Honoraire[ClientId],Personne[[#This Row],[PersonneId]]))","v":0},{"$f":"Personne[[#This Row],[Facture (HT)]]+ROW()/100000","v":3.3E-3},{"$f":"_xlfn.CONCAT(Personne[[#This Row],[Adresse]],\" \",Personne[[#This Row],[CodePostal]],\" \",Personne[[#This Row],[Ville]],\" \",Personne[[#This Row],[CodePays]])","v":"   "}]
[null,null,null,null,null,null,null,null,null,null,null,null,null,null,null,null,null,null,null,null,null,null,null,null,null,null,null,null,null,null,{"$f":"IF(PARAMETRES!$B$3=\"SANS\",SUMIFS(Honoraire[TotalHonoraireHT],Honoraire[ClientId],Personne[[#This Row],[PersonneId]]),SUMIFS(Honoraire[TotalHT],Honoraire[ClientId],Personne[[#This Row],[PersonneId]]))","v":0},{"$f":"Personne[[#This Row],[Facture (HT)]]+ROW()/100000","v":3.31E-3},{"$f":"_xlfn.CONCAT(Personne[[#This Row],[Adresse]],\" \",Personne[[#This Row],[CodePostal]],\" \",Personne[[#This Row],[Ville]],\" \",Personne[[#This Row],[CodePays]])","v":"   "}]
[null,null,null,null,null,null,null,null,null,null,null,null,null,null,null,null,null,null,null,null,null,null,null,null,null,null,null,null,null,null,{"$f":"IF(PARAMETRES!$B$3=\"SANS\",SUMIFS(Honoraire[TotalHonoraireHT],Honoraire[ClientId],Personne[[#This Row],[PersonneId]]),SUMIFS(Honoraire[TotalHT],Honoraire[ClientId],Personne[[#This Row],[PersonneId]]))","v":0},{"$f":"Personne[[#This Row],[Facture (HT)]]+ROW()/100000","v":3.32E-3},{"$f":"_xlfn.CONCAT(Personne[[#This Row],[Adresse]],\" \",Personne[[#This Row],[CodePostal]],\" \",Personne[[#This Row],[Ville]],\" \",Personne[[#This Row],[CodePays]])","v":"   "}]
[null,null,null,null,null,null,null,null,null,null,null,null,null,null,null,null,null,null,null,null,null,null,null,null,null,null,null,null,null,null,{"$f":"IF(PARAMETRES!$B$3=\"SANS\",SUMIFS(Honoraire[TotalHonoraireHT],Honoraire[ClientId],Personne[[#This Row],[PersonneId]]),SUMIFS(Honoraire[TotalHT],Honoraire[ClientId],Personne[[#This Row],[PersonneId]]))","v":0},{"$f":"Personne[[#This Row],[Facture (HT)]]+ROW()/100000","v":3.3300000000000001E-3},{"$f":"_xlfn.CONCAT(Personne[[#This Row],[Adresse]],\" \",Personne[[#This Row],[CodePostal]],\" \",Personne[[#This Row],[Ville]],\" \",Personne[[#This Row],[CodePays]])","v":"   "}]
[null,null,null,null,null,null,null,null,null,null,null,null,null,null,null,null,null,null,null,null,null,null,null,null,null,null,null,null,null,null,{"$f":"IF(PARAMETRES!$B$3=\"SANS\",SUMIFS(Honoraire[TotalHonoraireHT],Honoraire[ClientId],Personne[[#This Row],[PersonneId]]),SUMIFS(Honoraire[TotalHT],Honoraire[ClientId],Personne[[#This Row],[PersonneId]]))","v":0},{"$f":"Personne[[#This Row],[Facture (HT)]]+ROW()/100000","v":3.3400000000000001E-3},{"$f":"_xlfn.CONCAT(Personne[[#This Row],[Adresse]],\" \",Personne[[#This Row],[CodePostal]],\" \",Personne[[#This Row],[Ville]],\" \",Personne[[#This Row],[CodePays]])","v":"   "}]
[null,null,null,null,null,null,null,null,null,null,null,null,null,null,null,null,null,null,null,null,null,null,null,null,null,null,null,null,null,null,{"$f":"IF(PARAMETRES!$B$3=\"SANS\",SUMIFS(Honoraire[TotalHonoraireHT],Honoraire[ClientId],Personne[[#This Row],[PersonneId]]),SUMIFS(Honoraire[TotalHT],Honoraire[ClientId],Personne[[#This Row],[PersonneId]]))","v":0},{"$f":"Personne[[#This Row],[Facture (HT)]]+ROW()/100000","v":3.3500000000000001E-3},{"$f":"_xlfn.CONCAT(Personne[[#This Row],[Adresse]],\" \",Personne[[#This Row],[CodePostal]],\" \",Personne[[#This Row],[Ville]],\" \",Personne[[#This Row],[CodePays]])","v":"   "}]
[null,null,null,null,null,null,null,null,null,null,null,null,null,null,null,null,null,null,null,null,null,null,null,null,null,null,null,null,null,null,{"$f":"IF(PARAMETRES!$B$3=\"SANS\",SUMIFS(Honoraire[TotalHonoraireHT],Honoraire[ClientId],Personne[[#This Row],[PersonneId]]),SUMIFS(Honoraire[TotalHT],Honoraire[ClientId],Personne[[#This Row],[PersonneId]]))","v":0},{"$f":"Personne[[#This Row],[Facture (HT)]]+ROW()/100000","v":3.3600000000000001E-3},{"$f":"_xlfn.CONCAT(Personne[[#This Row],[Adresse]],\" \",Personne[[#This Row],[CodePostal]],\" \",Personne[[#This Row],[Ville]],\" \",Personne[[#This Row],[CodePays]])","v":"   "}]
[null,null,null,null,null,null,null,null,null,null,null,null,null,null,null,null,null,null,null,null,null,null,null,null,null,null,null,null,null,null,{"$f":"IF(PARAMETRES!$B$3=\"SANS\",SUMIFS(Honoraire[TotalHonoraireHT],Honoraire[ClientId],Personne[[#This Row],[PersonneId]]),SUMIFS(Honoraire[TotalHT],Honoraire[ClientId],Personne[[#This Row],[PersonneId]]))","v":0},{"$f":"Personne[[#This Row],[Facture (HT)]]+ROW()/100000","v":3.3700000000000002E-3},{"$f":"_xlfn.CONCAT(Personne[[#This Row],[Adresse]],\" \",Personne[[#This Row],[CodePostal]],\" \",Personne[[#This Row],[Ville]],\" \",Personne[[#This Row],[CodePays]])","v":"   "}]
[null,null,null,null,null,null,null,null,null,null,null,null,null,null,null,null,null,null,null,null,null,null,null,null,null,null,null,null,null,null,{"$f":"IF(PARAMETRES!$B$3=\"SANS\",SUMIFS(Honoraire[TotalHonoraireHT],Honoraire[ClientId],Personne[[#This Row],[PersonneId]]),SUMIFS(Honoraire[TotalHT],Honoraire[ClientId],Personne[[#This Row],[PersonneId]]))","v":0},{"$f":"Personne[[#This Row],[Facture (HT)]]+ROW()/100000","v":3.3800000000000002E-3},{"$f":"_xlfn.CONCAT(Personne[[#This Row],[Adresse]],\" \",Personne[[#This Row],[CodePostal]],\" \",Personne[[#This Row],[Ville]],\" \",Personne[[#This Row],[CodePays]])","v":"   "}]
[null,null,null,null,null,null,null,null,null,null,null,null,null,null,null,null,null,null,null,null,null,null,null,null,null,null,null,null,null,null,{"$f":"IF(PARAMETRES!$B$3=\"SANS\",SUMIFS(Honoraire[TotalHonoraireHT],Honoraire[ClientId],Personne[[#This Row],[PersonneId]]),SUMIFS(Honoraire[TotalHT],Honoraire[ClientId],Personne[[#This Row],[PersonneId]]))","v":0},{"$f":"Personne[[#This Row],[Facture (HT)]]+ROW()/100000","v":3.3899999999999998E-3},{"$f":"_xlfn.CONCAT(Personne[[#This Row],[Adresse]],\" \",Personne[[#This Row],[CodePostal]],\" \",Personne[[#This Row],[Ville]],\" \",Personne[[#This Row],[CodePays]])","v":"   "}]
[null,null,null,null,null,null,null,null,null,null,null,null,null,null,null,null,null,null,null,null,null,null,null,null,null,null,null,null,null,null,{"$f":"IF(PARAMETRES!$B$3=\"SANS\",SUMIFS(Honoraire[TotalHonoraireHT],Honoraire[ClientId],Personne[[#This Row],[PersonneId]]),SUMIFS(Honoraire[TotalHT],Honoraire[ClientId],Personne[[#This Row],[PersonneId]]))","v":0},{"$f":"Personne[[#This Row],[Facture (HT)]]+ROW()/100000","v":3.3999999999999998E-3},{"$f":"_xlfn.CONCAT(Personne[[#This Row],[Adresse]],\" \",Personne[[#This Row],[CodePostal]],\" \",Personne[[#This Row],[Ville]],\" \",Personne[[#This Row],[CodePays]])","v":"   "}]
[null,null,null,null,null,null,null,null,null,null,null,null,null,null,null,null,null,null,null,null,null,null,null,null,null,null,null,null,null,null,{"$f":"IF(PARAMETRES!$B$3=\"SANS\",SUMIFS(Honoraire[TotalHonoraireHT],Honoraire[ClientId],Personne[[#This Row],[PersonneId]]),SUMIFS(Honoraire[TotalHT],Honoraire[ClientId],Personne[[#This Row],[PersonneId]]))","v":0},{"$f":"Personne[[#This Row],[Facture (HT)]]+ROW()/100000","v":3.4099999999999998E-3},{"$f":"_xlfn.CONCAT(Personne[[#This Row],[Adresse]],\" \",Personne[[#This Row],[CodePostal]],\" \",Personne[[#This Row],[Ville]],\" \",Personne[[#This Row],[CodePays]])","v":"   "}]
[null,null,null,null,null,null,null,null,null,null,null,null,null,null,null,null,null,null,null,null,null,null,null,null,null,null,null,null,null,null,{"$f":"IF(PARAMETRES!$B$3=\"SANS\",SUMIFS(Honoraire[TotalHonoraireHT],Honoraire[ClientId],Personne[[#This Row],[PersonneId]]),SUMIFS(Honoraire[TotalHT],Honoraire[ClientId],Personne[[#This Row],[PersonneId]]))","v":0},{"$f":"Personne[[#This Row],[Facture (HT)]]+ROW()/100000","v":3.4199999999999999E-3},{"$f":"_xlfn.CONCAT(Personne[[#This Row],[Adresse]],\" \",Personne[[#This Row],[CodePostal]],\" \",Personne[[#This Row],[Ville]],\" \",Personne[[#This Row],[CodePays]])","v":"   "}]
[null,null,null,null,null,null,null,null,null,null,null,null,null,null,null,null,null,null,null,null,null,null,null,null,null,null,null,null,null,null,{"$f":"IF(PARAMETRES!$B$3=\"SANS\",SUMIFS(Honoraire[TotalHonoraireHT],Honoraire[ClientId],Personne[[#This Row],[PersonneId]]),SUMIFS(Honoraire[TotalHT],Honoraire[ClientId],Personne[[#This Row],[PersonneId]]))","v":0},{"$f":"Personne[[#This Row],[Facture (HT)]]+ROW()/100000","v":3.4299999999999999E-3},{"$f":"_xlfn.CONCAT(Personne[[#This Row],[Adresse]],\" \",Personne[[#This Row],[CodePostal]],\" \",Personne[[#This Row],[Ville]],\" \",Personne[[#This Row],[CodePays]])","v":"   "}]
[null,null,null,null,null,null,null,null,null,null,null,null,null,null,null,null,null,null,null,null,null,null,null,null,null,null,null,null,null,null,{"$f":"IF(PARAMETRES!$B$3=\"SANS\",SUMIFS(Honoraire[TotalHonoraireHT],Honoraire[ClientId],Personne[[#This Row],[PersonneId]]),SUMIFS(Honoraire[TotalHT],Honoraire[ClientId],Personne[[#This Row],[PersonneId]]))","v":0},{"$f":"Personne[[#This Row],[Facture (HT)]]+ROW()/100000","v":3.4399999999999999E-3},{"$f":"_xlfn.CONCAT(Personne[[#This Row],[Adresse]],\" \",Personne[[#This Row],[CodePostal]],\" \",Personne[[#This Row],[Ville]],\" \",Personne[[#This Row],[CodePays]])","v":"   "}]
[null,null,null,null,null,null,null,null,null,null,null,null,null,null,null,null,null,null,null,null,null,null,null,null,null,null,null,null,null,null,{"$f":"IF(PARAMETRES!$B$3=\"SANS\",SUMIFS(Honoraire[TotalHonoraireHT],Honoraire[ClientId],Personne[[#This Row],[PersonneId]]),SUMIFS(Honoraire[TotalHT],Honoraire[ClientId],Personne[[#This Row],[PersonneId]]))","v":0},{"$f":"Personne[[#This Row],[Facture (HT)]]+ROW()/100000","v":3.4499999999999999E-3},{"$f":"_xlfn.CONCAT(Personne[[#This Row],[Adresse]],\" \",Personne[[#This Row],[CodePostal]],\" \",Personne[[#This Row],[Ville]],\" \",Personne[[#This Row],[CodePays]])","v":"   "}]
[null,null,null,null,null,null,null,null,null,null,null,null,null,null,null,null,null,null,null,null,null,null,null,null,null,null,null,null,null,null,{"$f":"IF(PARAMETRES!$B$3=\"SANS\",SUMIFS(Honoraire[TotalHonoraireHT],Honoraire[ClientId],Personne[[#This Row],[PersonneId]]),SUMIFS(Honoraire[TotalHT],Honoraire[ClientId],Personne[[#This Row],[PersonneId]]))","v":0},{"$f":"Personne[[#This Row],[Facture (HT)]]+ROW()/100000","v":3.46E-3},{"$f":"_xlfn.CONCAT(Personne[[#This Row],[Adresse]],\" \",Personne[[#This Row],[CodePostal]],\" \",Personne[[#This Row],[Ville]],\" \",Personne[[#This Row],[CodePays]])","v":"   "}]
[null,null,null,null,null,null,null,null,null,null,null,null,null,null,null,null,null,null,null,null,null,null,null,null,null,null,null,null,null,null,{"$f":"IF(PARAMETRES!$B$3=\"SANS\",SUMIFS(Honoraire[TotalHonoraireHT],Honoraire[ClientId],Personne[[#This Row],[PersonneId]]),SUMIFS(Honoraire[TotalHT],Honoraire[ClientId],Personne[[#This Row],[PersonneId]]))","v":0},{"$f":"Personne[[#This Row],[Facture (HT)]]+ROW()/100000","v":3.47E-3},{"$f":"_xlfn.CONCAT(Personne[[#This Row],[Adresse]],\" \",Personne[[#This Row],[CodePostal]],\" \",Personne[[#This Row],[Ville]],\" \",Personne[[#This Row],[CodePays]])","v":"   "}]
[null,null,null,null,null,null,null,null,null,null,null,null,null,null,null,null,null,null,null,null,null,null,null,null,null,null,null,null,null,null,{"$f":"IF(PARAMETRES!$B$3=\"SANS\",SUMIFS(Honoraire[TotalHonoraireHT],Honoraire[ClientId],Personne[[#This Row],[PersonneId]]),SUMIFS(Honoraire[TotalHT],Honoraire[ClientId],Personne[[#This Row],[PersonneId]]))","v":0},{"$f":"Personne[[#This Row],[Facture (HT)]]+ROW()/100000","v":3.48E-3},{"$f":"_xlfn.CONCAT(Personne[[#This Row],[Adresse]],\" \",Personne[[#This Row],[CodePostal]],\" \",Personne[[#This Row],[Ville]],\" \",Personne[[#This Row],[CodePays]])","v":"   "}]
[null,null,null,null,null,null,null,null,null,null,null,null,null,null,null,null,null,null,null,null,null,null,null,null,null,null,null,null,null,null,{"$f":"IF(PARAMETRES!$B$3=\"SANS\",SUMIFS(Honoraire[TotalHonoraireHT],Honoraire[ClientId],Personne[[#This Row],[PersonneId]]),SUMIFS(Honoraire[TotalHT],Honoraire[ClientId],Personne[[#This Row],[PersonneId]]))","v":0},{"$f":"Personne[[#This Row],[Facture (HT)]]+ROW()/100000","v":3.49E-3},{"$f":"_xlfn.CONCAT(Personne[[#This Row],[Adresse]],\" \",Personne[[#This Row],[CodePostal]],\" \",Personne[[#This Row],[Ville]],\" \",Personne[[#This Row],[CodePays]])","v":"   "}]
[null,null,null,null,null,null,null,null,null,null,null,null,null,null,null,null,null,null,null,null,null,null,null,null,null,null,null,null,null,null,{"$f":"IF(PARAMETRES!$B$3=\"SANS\",SUMIFS(Honoraire[TotalHonoraireHT],Honoraire[ClientId],Personne[[#This Row],[PersonneId]]),SUMIFS(Honoraire[TotalHT],Honoraire[ClientId],Personne[[#This Row],[PersonneId]]))","v":0},{"$f":"Personne[[#This Row],[Facture (HT)]]+ROW()/100000","v":3.5000000000000001E-3},{"$f":"_xlfn.CONCAT(Personne[[#This Row],[Adresse]],\" \",Personne[[#This Row],[CodePostal]],\" \",Personne[[#This Row],[Ville]],\" \",Personne[[#This Row],[CodePays]])","v":"   "}]
[null,null,null,null,null,null,null,null,null,null,null,null,null,null,null,null,null,null,null,null,null,null,null,null,null,null,null,null,null,null,{"$f":"IF(PARAMETRES!$B$3=\"SANS\",SUMIFS(Honoraire[TotalHonoraireHT],Honoraire[ClientId],Personne[[#This Row],[PersonneId]]),SUMIFS(Honoraire[TotalHT],Honoraire[ClientId],Personne[[#This Row],[PersonneId]]))","v":0},{"$f":"Personne[[#This Row],[Facture (HT)]]+ROW()/100000","v":3.5100000000000001E-3},{"$f":"_xlfn.CONCAT(Personne[[#This Row],[Adresse]],\" \",Personne[[#This Row],[CodePostal]],\" \",Personne[[#This Row],[Ville]],\" \",Personne[[#This Row],[CodePays]])","v":"   "}]
[null,null,null,null,null,null,null,null,null,null,null,null,null,null,null,null,null,null,null,null,null,null,null,null,null,null,null,null,null,null,{"$f":"IF(PARAMETRES!$B$3=\"SANS\",SUMIFS(Honoraire[TotalHonoraireHT],Honoraire[ClientId],Personne[[#This Row],[PersonneId]]),SUMIFS(Honoraire[TotalHT],Honoraire[ClientId],Personne[[#This Row],[PersonneId]]))","v":0},{"$f":"Personne[[#This Row],[Facture (HT)]]+ROW()/100000","v":3.5200000000000001E-3},{"$f":"_xlfn.CONCAT(Personne[[#This Row],[Adresse]],\" \",Personne[[#This Row],[CodePostal]],\" \",Personne[[#This Row],[Ville]],\" \",Personne[[#This Row],[CodePays]])","v":"   "}]
[null,null,null,null,null,null,null,null,null,null,null,null,null,null,null,null,null,null,null,null,null,null,null,null,null,null,null,null,null,null,{"$f":"IF(PARAMETRES!$B$3=\"SANS\",SUMIFS(Honoraire[TotalHonoraireHT],Honoraire[ClientId],Personne[[#This Row],[PersonneId]]),SUMIFS(Honoraire[TotalHT],Honoraire[ClientId],Personne[[#This Row],[PersonneId]]))","v":0},{"$f":"Personne[[#This Row],[Facture (HT)]]+ROW()/100000","v":3.5300000000000002E-3},{"$f":"_xlfn.CONCAT(Personne[[#This Row],[Adresse]],\" \",Personne[[#This Row],[CodePostal]],\" \",Personne[[#This Row],[Ville]],\" \",Personne[[#This Row],[CodePays]])","v":"   "}]
[null,null,null,null,null,null,null,null,null,null,null,null,null,null,null,null,null,null,null,null,null,null,null,null,null,null,null,null,null,null,{"$f":"IF(PARAMETRES!$B$3=\"SANS\",SUMIFS(Honoraire[TotalHonoraireHT],Honoraire[ClientId],Personne[[#This Row],[PersonneId]]),SUMIFS(Honoraire[TotalHT],Honoraire[ClientId],Personne[[#This Row],[PersonneId]]))","v":0},{"$f":"Personne[[#This Row],[Facture (HT)]]+ROW()/100000","v":3.5400000000000002E-3},{"$f":"_xlfn.CONCAT(Personne[[#This Row],[Adresse]],\" \",Personne[[#This Row],[CodePostal]],\" \",Personne[[#This Row],[Ville]],\" \",Personne[[#This Row],[CodePays]])","v":"   "}]
[null,null,null,null,null,null,null,null,null,null,null,null,null,null,null,null,null,null,null,null,null,null,null,null,null,null,null,null,null,null,{"$f":"IF(PARAMETRES!$B$3=\"SANS\",SUMIFS(Honoraire[TotalHonoraireHT],Honoraire[ClientId],Personne[[#This Row],[PersonneId]]),SUMIFS(Honoraire[TotalHT],Honoraire[ClientId],Personne[[#This Row],[PersonneId]]))","v":0},{"$f":"Personne[[#This Row],[Facture (HT)]]+ROW()/100000","v":3.5500000000000002E-3},{"$f":"_xlfn.CONCAT(Personne[[#This Row],[Adresse]],\" \",Personne[[#This Row],[CodePostal]],\" \",Personne[[#This Row],[Ville]],\" \",Personne[[#This Row],[CodePays]])","v":"   "}]
[null,null,null,null,null,null,null,null,null,null,null,null,null,null,null,null,null,null,null,null,null,null,null,null,null,null,null,null,null,null,{"$f":"IF(PARAMETRES!$B$3=\"SANS\",SUMIFS(Honoraire[TotalHonoraireHT],Honoraire[ClientId],Personne[[#This Row],[PersonneId]]),SUMIFS(Honoraire[TotalHT],Honoraire[ClientId],Personne[[#This Row],[PersonneId]]))","v":0},{"$f":"Personne[[#This Row],[Facture (HT)]]+ROW()/100000","v":3.5599999999999998E-3},{"$f":"_xlfn.CONCAT(Personne[[#This Row],[Adresse]],\" \",Personne[[#This Row],[CodePostal]],\" \",Personne[[#This Row],[Ville]],\" \",Personne[[#This Row],[CodePays]])","v":"   "}]
[null,null,null,null,null,null,null,null,null,null,null,null,null,null,null,null,null,null,null,null,null,null,null,null,null,null,null,null,null,null,{"$f":"IF(PARAMETRES!$B$3=\"SANS\",SUMIFS(Honoraire[TotalHonoraireHT],Honoraire[ClientId],Personne[[#This Row],[PersonneId]]),SUMIFS(Honoraire[TotalHT],Honoraire[ClientId],Personne[[#This Row],[PersonneId]]))","v":0},{"$f":"Personne[[#This Row],[Facture (HT)]]+ROW()/100000","v":3.5699999999999998E-3},{"$f":"_xlfn.CONCAT(Personne[[#This Row],[Adresse]],\" \",Personne[[#This Row],[CodePostal]],\" \",Personne[[#This Row],[Ville]],\" \",Personne[[#This Row],[CodePays]])","v":"   "}]
[null,null,null,null,null,null,null,null,null,null,null,null,null,null,null,null,null,null,null,null,null,null,null,null,null,null,null,null,null,null,{"$f":"IF(PARAMETRES!$B$3=\"SANS\",SUMIFS(Honoraire[TotalHonoraireHT],Honoraire[ClientId],Personne[[#This Row],[PersonneId]]),SUMIFS(Honoraire[TotalHT],Honoraire[ClientId],Personne[[#This Row],[PersonneId]]))","v":0},{"$f":"Personne[[#This Row],[Facture (HT)]]+ROW()/100000","v":3.5799999999999998E-3},{"$f":"_xlfn.CONCAT(Personne[[#This Row],[Adresse]],\" \",Personne[[#This Row],[CodePostal]],\" \",Personne[[#This Row],[Ville]],\" \",Personne[[#This Row],[CodePays]])","v":"   "}]
[null,null,null,null,null,null,null,null,null,null,null,null,null,null,null,null,null,null,null,null,null,null,null,null,null,null,null,null,null,null,{"$f":"IF(PARAMETRES!$B$3=\"SANS\",SUMIFS(Honoraire[TotalHonoraireHT],Honoraire[ClientId],Personne[[#This Row],[PersonneId]]),SUMIFS(Honoraire[TotalHT],Honoraire[ClientId],Personne[[#This Row],[PersonneId]]))","v":0},{"$f":"Personne[[#This Row],[Facture (HT)]]+ROW()/100000","v":3.5899999999999999E-3},{"$f":"_xlfn.CONCAT(Personne[[#This Row],[Adresse]],\" \",Personne[[#This Row],[CodePostal]],\" \",Personne[[#This Row],[Ville]],\" \",Personne[[#This Row],[CodePays]])","v":"   "}]
[null,null,null,null,null,null,null,null,null,null,null,null,null,null,null,null,null,null,null,null,null,null,null,null,null,null,null,null,null,null,{"$f":"IF(PARAMETRES!$B$3=\"SANS\",SUMIFS(Honoraire[TotalHonoraireHT],Honoraire[ClientId],Personne[[#This Row],[PersonneId]]),SUMIFS(Honoraire[TotalHT],Honoraire[ClientId],Personne[[#This Row],[PersonneId]]))","v":0},{"$f":"Personne[[#This Row],[Facture (HT)]]+ROW()/100000","v":3.5999999999999999E-3},{"$f":"_xlfn.CONCAT(Personne[[#This Row],[Adresse]],\" \",Personne[[#This Row],[CodePostal]],\" \",Personne[[#This Row],[Ville]],\" \",Personne[[#This Row],[CodePays]])","v":"   "}]
[null,null,null,null,null,null,null,null,null,null,null,null,null,null,null,null,null,null,null,null,null,null,null,null,null,null,null,null,null,null,{"$f":"IF(PARAMETRES!$B$3=\"SANS\",SUMIFS(Honoraire[TotalHonoraireHT],Honoraire[ClientId],Personne[[#This Row],[PersonneId]]),SUMIFS(Honoraire[TotalHT],Honoraire[ClientId],Personne[[#This Row],[PersonneId]]))","v":0},{"$f":"Personne[[#This Row],[Facture (HT)]]+ROW()/100000","v":3.6099999999999999E-3},{"$f":"_xlfn.CONCAT(Personne[[#This Row],[Adresse]],\" \",Personne[[#This Row],[CodePostal]],\" \",Personne[[#This Row],[Ville]],\" \",Personne[[#This Row],[CodePays]])","v":"   "}]
[null,null,null,null,null,null,null,null,null,null,null,null,null,null,null,null,null,null,null,null,null,null,null,null,null,null,null,null,null,null,{"$f":"IF(PARAMETRES!$B$3=\"SANS\",SUMIFS(Honoraire[TotalHonoraireHT],Honoraire[ClientId],Personne[[#This Row],[PersonneId]]),SUMIFS(Honoraire[TotalHT],Honoraire[ClientId],Personne[[#This Row],[PersonneId]]))","v":0},{"$f":"Personne[[#This Row],[Facture (HT)]]+ROW()/100000","v":3.62E-3},{"$f":"_xlfn.CONCAT(Personne[[#This Row],[Adresse]],\" \",Personne[[#This Row],[CodePostal]],\" \",Personne[[#This Row],[Ville]],\" \",Personne[[#This Row],[CodePays]])","v":"   "}]
[null,null,null,null,null,null,null,null,null,null,null,null,null,null,null,null,null,null,null,null,null,null,null,null,null,null,null,null,null,null,{"$f":"IF(PARAMETRES!$B$3=\"SANS\",SUMIFS(Honoraire[TotalHonoraireHT],Honoraire[ClientId],Personne[[#This Row],[PersonneId]]),SUMIFS(Honoraire[TotalHT],Honoraire[ClientId],Personne[[#This Row],[PersonneId]]))","v":0},{"$f":"Personne[[#This Row],[Facture (HT)]]+ROW()/100000","v":3.63E-3},{"$f":"_xlfn.CONCAT(Personne[[#This Row],[Adresse]],\" \",Personne[[#This Row],[CodePostal]],\" \",Personne[[#This Row],[Ville]],\" \",Personne[[#This Row],[CodePays]])","v":"   "}]
[null,null,null,null,null,null,null,null,null,null,null,null,null,null,null,null,null,null,null,null,null,null,null,null,null,null,null,null,null,null,{"$f":"IF(PARAMETRES!$B$3=\"SANS\",SUMIFS(Honoraire[TotalHonoraireHT],Honoraire[ClientId],Personne[[#This Row],[PersonneId]]),SUMIFS(Honoraire[TotalHT],Honoraire[ClientId],Personne[[#This Row],[PersonneId]]))","v":0},{"$f":"Personne[[#This Row],[Facture (HT)]]+ROW()/100000","v":3.64E-3},{"$f":"_xlfn.CONCAT(Personne[[#This Row],[Adresse]],\" \",Personne[[#This Row],[CodePostal]],\" \",Personne[[#This Row],[Ville]],\" \",Personne[[#This Row],[CodePays]])","v":"   "}]
[null,null,null,null,null,null,null,null,null,null,null,null,null,null,null,null,null,null,null,null,null,null,null,null,null,null,null,null,null,null,{"$f":"IF(PARAMETRES!$B$3=\"SANS\",SUMIFS(Honoraire[TotalHonoraireHT],Honoraire[ClientId],Personne[[#This Row],[PersonneId]]),SUMIFS(Honoraire[TotalHT],Honoraire[ClientId],Personne[[#This Row],[PersonneId]]))","v":0},{"$f":"Personne[[#This Row],[Facture (HT)]]+ROW()/100000","v":3.65E-3},{"$f":"_xlfn.CONCAT(Personne[[#This Row],[Adresse]],\" \",Personne[[#This Row],[CodePostal]],\" \",Personne[[#This Row],[Ville]],\" \",Personne[[#This Row],[CodePays]])","v":"   "}]
[null,null,null,null,null,null,null,null,null,null,null,null,null,null,null,null,null,null,null,null,null,null,null,null,null,null,null,null,null,null,{"$f":"IF(PARAMETRES!$B$3=\"SANS\",SUMIFS(Honoraire[TotalHonoraireHT],Honoraire[ClientId],Personne[[#This Row],[PersonneId]]),SUMIFS(Honoraire[TotalHT],Honoraire[ClientId],Personne[[#This Row],[PersonneId]]))","v":0},{"$f":"Personne[[#This Row],[Facture (HT)]]+ROW()/100000","v":3.6600000000000001E-3},{"$f":"_xlfn.CONCAT(Personne[[#This Row],[Adresse]],\" \",Personne[[#This Row],[CodePostal]],\" \",Personne[[#This Row],[Ville]],\" \",Personne[[#This Row],[CodePays]])","v":"   "}]
[null,null,null,null,null,null,null,null,null,null,null,null,null,null,null,null,null,null,null,null,null,null,null,null,null,null,null,null,null,null,{"$f":"IF(PARAMETRES!$B$3=\"SANS\",SUMIFS(Honoraire[TotalHonoraireHT],Honoraire[ClientId],Personne[[#This Row],[PersonneId]]),SUMIFS(Honoraire[TotalHT],Honoraire[ClientId],Personne[[#This Row],[PersonneId]]))","v":0},{"$f":"Personne[[#This Row],[Facture (HT)]]+ROW()/100000","v":3.6700000000000001E-3},{"$f":"_xlfn.CONCAT(Personne[[#This Row],[Adresse]],\" \",Personne[[#This Row],[CodePostal]],\" \",Personne[[#This Row],[Ville]],\" \",Personne[[#This Row],[CodePays]])","v":"   "}]
[null,null,null,null,null,null,null,null,null,null,null,null,null,null,null,null,null,null,null,null,null,null,null,null,null,null,null,null,null,null,{"$f":"IF(PARAMETRES!$B$3=\"SANS\",SUMIFS(Honoraire[TotalHonoraireHT],Honoraire[ClientId],Personne[[#This Row],[PersonneId]]),SUMIFS(Honoraire[TotalHT],Honoraire[ClientId],Personne[[#This Row],[PersonneId]]))","v":0},{"$f":"Personne[[#This Row],[Facture (HT)]]+ROW()/100000","v":3.6800000000000001E-3},{"$f":"_xlfn.CONCAT(Personne[[#This Row],[Adresse]],\" \",Personne[[#This Row],[CodePostal]],\" \",Personne[[#This Row],[Ville]],\" \",Personne[[#This Row],[CodePays]])","v":"   "}]
[null,null,null,null,null,null,null,null,null,null,null,null,null,null,null,null,null,null,null,null,null,null,null,null,null,null,null,null,null,null,{"$f":"IF(PARAMETRES!$B$3=\"SANS\",SUMIFS(Honoraire[TotalHonoraireHT],Honoraire[ClientId],Personne[[#This Row],[PersonneId]]),SUMIFS(Honoraire[TotalHT],Honoraire[ClientId],Personne[[#This Row],[PersonneId]]))","v":0},{"$f":"Personne[[#This Row],[Facture (HT)]]+ROW()/100000","v":3.6900000000000001E-3},{"$f":"_xlfn.CONCAT(Personne[[#This Row],[Adresse]],\" \",Personne[[#This Row],[CodePostal]],\" \",Personne[[#This Row],[Ville]],\" \",Personne[[#This Row],[CodePays]])","v":"   "}]
[null,null,null,null,null,null,null,null,null,null,null,null,null,null,null,null,null,null,null,null,null,null,null,null,null,null,null,null,null,null,{"$f":"IF(PARAMETRES!$B$3=\"SANS\",SUMIFS(Honoraire[TotalHonoraireHT],Honoraire[ClientId],Personne[[#This Row],[PersonneId]]),SUMIFS(Honoraire[TotalHT],Honoraire[ClientId],Personne[[#This Row],[PersonneId]]))","v":0},{"$f":"Personne[[#This Row],[Facture (HT)]]+ROW()/100000","v":3.7000000000000002E-3},{"$f":"_xlfn.CONCAT(Personne[[#This Row],[Adresse]],\" \",Personne[[#This Row],[CodePostal]],\" \",Personne[[#This Row],[Ville]],\" \",Personne[[#This Row],[CodePays]])","v":"   "}]
[null,null,null,null,null,null,null,null,null,null,null,null,null,null,null,null,null,null,null,null,null,null,null,null,null,null,null,null,null,null,{"$f":"IF(PARAMETRES!$B$3=\"SANS\",SUMIFS(Honoraire[TotalHonoraireHT],Honoraire[ClientId],Personne[[#This Row],[PersonneId]]),SUMIFS(Honoraire[TotalHT],Honoraire[ClientId],Personne[[#This Row],[PersonneId]]))","v":0},{"$f":"Personne[[#This Row],[Facture (HT)]]+ROW()/100000","v":3.7100000000000002E-3},{"$f":"_xlfn.CONCAT(Personne[[#This Row],[Adresse]],\" \",Personne[[#This Row],[CodePostal]],\" \",Personne[[#This Row],[Ville]],\" \",Personne[[#This Row],[CodePays]])","v":"   "}]
[null,null,null,null,null,null,null,null,null,null,null,null,null,null,null,null,null,null,null,null,null,null,null,null,null,null,null,null,null,null,{"$f":"IF(PARAMETRES!$B$3=\"SANS\",SUMIFS(Honoraire[TotalHonoraireHT],Honoraire[ClientId],Personne[[#This Row],[PersonneId]]),SUMIFS(Honoraire[TotalHT],Honoraire[ClientId],Personne[[#This Row],[PersonneId]]))","v":0},{"$f":"Personne[[#This Row],[Facture (HT)]]+ROW()/100000","v":3.7200000000000002E-3},{"$f":"_xlfn.CONCAT(Personne[[#This Row],[Adresse]],\" \",Personne[[#This Row],[CodePostal]],\" \",Personne[[#This Row],[Ville]],\" \",Personne[[#This Row],[CodePays]])","v":"   "}]
[null,null,null,null,null,null,null,null,null,null,null,null,null,null,null,null,null,null,null,null,null,null,null,null,null,null,null,null,null,null,{"$f":"IF(PARAMETRES!$B$3=\"SANS\",SUMIFS(Honoraire[TotalHonoraireHT],Honoraire[ClientId],Personne[[#This Row],[PersonneId]]),SUMIFS(Honoraire[TotalHT],Honoraire[ClientId],Personne[[#This Row],[PersonneId]]))","v":0},{"$f":"Personne[[#This Row],[Facture (HT)]]+ROW()/100000","v":3.7299999999999998E-3},{"$f":"_xlfn.CONCAT(Personne[[#This Row],[Adresse]],\" \",Personne[[#This Row],[CodePostal]],\" \",Personne[[#This Row],[Ville]],\" \",Personne[[#This Row],[CodePays]])","v":"   "}]
[null,null,null,null,null,null,null,null,null,null,null,null,null,null,null,null,null,null,null,null,null,null,null,null,null,null,null,null,null,null,{"$f":"IF(PARAMETRES!$B$3=\"SANS\",SUMIFS(Honoraire[TotalHonoraireHT],Honoraire[ClientId],Personne[[#This Row],[PersonneId]]),SUMIFS(Honoraire[TotalHT],Honoraire[ClientId],Personne[[#This Row],[PersonneId]]))","v":0},{"$f":"Personne[[#This Row],[Facture (HT)]]+ROW()/100000","v":3.7399999999999998E-3},{"$f":"_xlfn.CONCAT(Personne[[#This Row],[Adresse]],\" \",Personne[[#This Row],[CodePostal]],\" \",Personne[[#This Row],[Ville]],\" \",Personne[[#This Row],[CodePays]])","v":"   "}]
[null,null,null,null,null,null,null,null,null,null,null,null,null,null,null,null,null,null,null,null,null,null,null,null,null,null,null,null,null,null,{"$f":"IF(PARAMETRES!$B$3=\"SANS\",SUMIFS(Honoraire[TotalHonoraireHT],Honoraire[ClientId],Personne[[#This Row],[PersonneId]]),SUMIFS(Honoraire[TotalHT],Honoraire[ClientId],Personne[[#This Row],[PersonneId]]))","v":0},{"$f":"Personne[[#This Row],[Facture (HT)]]+ROW()/100000","v":3.7499999999999999E-3},{"$f":"_xlfn.CONCAT(Personne[[#This Row],[Adresse]],\" \",Personne[[#This Row],[CodePostal]],\" \",Personne[[#This Row],[Ville]],\" \",Personne[[#This Row],[CodePays]])","v":"   "}]
[null,null,null,null,null,null,null,null,null,null,null,null,null,null,null,null,null,null,null,null,null,null,null,null,null,null,null,null,null,null,{"$f":"IF(PARAMETRES!$B$3=\"SANS\",SUMIFS(Honoraire[TotalHonoraireHT],Honoraire[ClientId],Personne[[#This Row],[PersonneId]]),SUMIFS(Honoraire[TotalHT],Honoraire[ClientId],Personne[[#This Row],[PersonneId]]))","v":0},{"$f":"Personne[[#This Row],[Facture (HT)]]+ROW()/100000","v":3.7599999999999999E-3},{"$f":"_xlfn.CONCAT(Personne[[#This Row],[Adresse]],\" \",Personne[[#This Row],[CodePostal]],\" \",Personne[[#This Row],[Ville]],\" \",Personne[[#This Row],[CodePays]])","v":"   "}]
[null,null,null,null,null,null,null,null,null,null,null,null,null,null,null,null,null,null,null,null,null,null,null,null,null,null,null,null,null,null,{"$f":"IF(PARAMETRES!$B$3=\"SANS\",SUMIFS(Honoraire[TotalHonoraireHT],Honoraire[ClientId],Personne[[#This Row],[PersonneId]]),SUMIFS(Honoraire[TotalHT],Honoraire[ClientId],Personne[[#This Row],[PersonneId]]))","v":0},{"$f":"Personne[[#This Row],[Facture (HT)]]+ROW()/100000","v":3.7699999999999999E-3},{"$f":"_xlfn.CONCAT(Personne[[#This Row],[Adresse]],\" \",Personne[[#This Row],[CodePostal]],\" \",Personne[[#This Row],[Ville]],\" \",Personne[[#This Row],[CodePays]])","v":"   "}]
[null,null,null,null,null,null,null,null,null,null,null,null,null,null,null,null,null,null,null,null,null,null,null,null,null,null,null,null,null,null,{"$f":"IF(PARAMETRES!$B$3=\"SANS\",SUMIFS(Honoraire[TotalHonoraireHT],Honoraire[ClientId],Personne[[#This Row],[PersonneId]]),SUMIFS(Honoraire[TotalHT],Honoraire[ClientId],Personne[[#This Row],[PersonneId]]))","v":0},{"$f":"Personne[[#This Row],[Facture (HT)]]+ROW()/100000","v":3.7799999999999999E-3},{"$f":"_xlfn.CONCAT(Personne[[#This Row],[Adresse]],\" \",Personne[[#This Row],[CodePostal]],\" \",Personne[[#This Row],[Ville]],\" \",Personne[[#This Row],[CodePays]])","v":"   "}]
[null,null,null,null,null,null,null,null,null,null,null,null,null,null,null,null,null,null,null,null,null,null,null,null,null,null,null,null,null,null,{"$f":"IF(PARAMETRES!$B$3=\"SANS\",SUMIFS(Honoraire[TotalHonoraireHT],Honoraire[ClientId],Personne[[#This Row],[PersonneId]]),SUMIFS(Honoraire[TotalHT],Honoraire[ClientId],Personne[[#This Row],[PersonneId]]))","v":0},{"$f":"Personne[[#This Row],[Facture (HT)]]+ROW()/100000","v":3.79E-3},{"$f":"_xlfn.CONCAT(Personne[[#This Row],[Adresse]],\" \",Personne[[#This Row],[CodePostal]],\" \",Personne[[#This Row],[Ville]],\" \",Personne[[#This Row],[CodePays]])","v":"   "}]
[null,null,null,null,null,null,null,null,null,null,null,null,null,null,null,null,null,null,null,null,null,null,null,null,null,null,null,null,null,null,{"$f":"IF(PARAMETRES!$B$3=\"SANS\",SUMIFS(Honoraire[TotalHonoraireHT],Honoraire[ClientId],Personne[[#This Row],[PersonneId]]),SUMIFS(Honoraire[TotalHT],Honoraire[ClientId],Personne[[#This Row],[PersonneId]]))","v":0},{"$f":"Personne[[#This Row],[Facture (HT)]]+ROW()/100000","v":3.8E-3},{"$f":"_xlfn.CONCAT(Personne[[#This Row],[Adresse]],\" \",Personne[[#This Row],[CodePostal]],\" \",Personne[[#This Row],[Ville]],\" \",Personne[[#This Row],[CodePays]])","v":"   "}]
[null,null,null,null,null,null,null,null,null,null,null,null,null,null,null,null,null,null,null,null,null,null,null,null,null,null,null,null,null,null,{"$f":"IF(PARAMETRES!$B$3=\"SANS\",SUMIFS(Honoraire[TotalHonoraireHT],Honoraire[ClientId],Personne[[#This Row],[PersonneId]]),SUMIFS(Honoraire[TotalHT],Honoraire[ClientId],Personne[[#This Row],[PersonneId]]))","v":0},{"$f":"Personne[[#This Row],[Facture (HT)]]+ROW()/100000","v":3.81E-3},{"$f":"_xlfn.CONCAT(Personne[[#This Row],[Adresse]],\" \",Personne[[#This Row],[CodePostal]],\" \",Personne[[#This Row],[Ville]],\" \",Personne[[#This Row],[CodePays]])","v":"   "}]
[null,null,null,null,null,null,null,null,null,null,null,null,null,null,null,null,null,null,null,null,null,null,null,null,null,null,null,null,null,null,{"$f":"IF(PARAMETRES!$B$3=\"SANS\",SUMIFS(Honoraire[TotalHonoraireHT],Honoraire[ClientId],Personne[[#This Row],[PersonneId]]),SUMIFS(Honoraire[TotalHT],Honoraire[ClientId],Personne[[#This Row],[PersonneId]]))","v":0},{"$f":"Personne[[#This Row],[Facture (HT)]]+ROW()/100000","v":3.82E-3},{"$f":"_xlfn.CONCAT(Personne[[#This Row],[Adresse]],\" \",Personne[[#This Row],[CodePostal]],\" \",Personne[[#This Row],[Ville]],\" \",Personne[[#This Row],[CodePays]])","v":"   "}]
[null,null,null,null,null,null,null,null,null,null,null,null,null,null,null,null,null,null,null,null,null,null,null,null,null,null,null,null,null,null,{"$f":"IF(PARAMETRES!$B$3=\"SANS\",SUMIFS(Honoraire[TotalHonoraireHT],Honoraire[ClientId],Personne[[#This Row],[PersonneId]]),SUMIFS(Honoraire[TotalHT],Honoraire[ClientId],Personne[[#This Row],[PersonneId]]))","v":0},{"$f":"Personne[[#This Row],[Facture (HT)]]+ROW()/100000","v":3.8300000000000001E-3},{"$f":"_xlfn.CONCAT(Personne[[#This Row],[Adresse]],\" \",Personne[[#This Row],[CodePostal]],\" \",Personne[[#This Row],[Ville]],\" \",Personne[[#This Row],[CodePays]])","v":"   "}]
[null,null,null,null,null,null,null,null,null,null,null,null,null,null,null,null,null,null,null,null,null,null,null,null,null,null,null,null,null,null,{"$f":"IF(PARAMETRES!$B$3=\"SANS\",SUMIFS(Honoraire[TotalHonoraireHT],Honoraire[ClientId],Personne[[#This Row],[PersonneId]]),SUMIFS(Honoraire[TotalHT],Honoraire[ClientId],Personne[[#This Row],[PersonneId]]))","v":0},{"$f":"Personne[[#This Row],[Facture (HT)]]+ROW()/100000","v":3.8400000000000001E-3},{"$f":"_xlfn.CONCAT(Personne[[#This Row],[Adresse]],\" \",Personne[[#This Row],[CodePostal]],\" \",Personne[[#This Row],[Ville]],\" \",Personne[[#This Row],[CodePays]])","v":"   "}]
[null,null,null,null,null,null,null,null,null,null,null,null,null,null,null,null,null,null,null,null,null,null,null,null,null,null,null,null,null,null,{"$f":"IF(PARAMETRES!$B$3=\"SANS\",SUMIFS(Honoraire[TotalHonoraireHT],Honoraire[ClientId],Personne[[#This Row],[PersonneId]]),SUMIFS(Honoraire[TotalHT],Honoraire[ClientId],Personne[[#This Row],[PersonneId]]))","v":0},{"$f":"Personne[[#This Row],[Facture (HT)]]+ROW()/100000","v":3.8500000000000001E-3},{"$f":"_xlfn.CONCAT(Personne[[#This Row],[Adresse]],\" \",Personne[[#This Row],[CodePostal]],\" \",Personne[[#This Row],[Ville]],\" \",Personne[[#This Row],[CodePays]])","v":"   "}]
[null,null,null,null,null,null,null,null,null,null,null,null,null,null,null,null,null,null,null,null,null,null,null,null,null,null,null,null,null,null,{"$f":"IF(PARAMETRES!$B$3=\"SANS\",SUMIFS(Honoraire[TotalHonoraireHT],Honoraire[ClientId],Personne[[#This Row],[PersonneId]]),SUMIFS(Honoraire[TotalHT],Honoraire[ClientId],Personne[[#This Row],[PersonneId]]))","v":0},{"$f":"Personne[[#This Row],[Facture (HT)]]+ROW()/100000","v":3.8600000000000001E-3},{"$f":"_xlfn.CONCAT(Personne[[#This Row],[Adresse]],\" \",Personne[[#This Row],[CodePostal]],\" \",Personne[[#This Row],[Ville]],\" \",Personne[[#This Row],[CodePays]])","v":"   "}]
[null,null,null,null,null,null,null,null,null,null,null,null,null,null,null,null,null,null,null,null,null,null,null,null,null,null,null,null,null,null,{"$f":"IF(PARAMETRES!$B$3=\"SANS\",SUMIFS(Honoraire[TotalHonoraireHT],Honoraire[ClientId],Personne[[#This Row],[PersonneId]]),SUMIFS(Honoraire[TotalHT],Honoraire[ClientId],Personne[[#This Row],[PersonneId]]))","v":0},{"$f":"Personne[[#This Row],[Facture (HT)]]+ROW()/100000","v":3.8700000000000002E-3},{"$f":"_xlfn.CONCAT(Personne[[#This Row],[Adresse]],\" \",Personne[[#This Row],[CodePostal]],\" \",Personne[[#This Row],[Ville]],\" \",Personne[[#This Row],[CodePays]])","v":"   "}]
[null,null,null,null,null,null,null,null,null,null,null,null,null,null,null,null,null,null,null,null,null,null,null,null,null,null,null,null,null,null,{"$f":"IF(PARAMETRES!$B$3=\"SANS\",SUMIFS(Honoraire[TotalHonoraireHT],Honoraire[ClientId],Personne[[#This Row],[PersonneId]]),SUMIFS(Honoraire[TotalHT],Honoraire[ClientId],Personne[[#This Row],[PersonneId]]))","v":0},{"$f":"Personne[[#This Row],[Facture (HT)]]+ROW()/100000","v":3.8800000000000002E-3},{"$f":"_xlfn.CONCAT(Personne[[#This Row],[Adresse]],\" \",Personne[[#This Row],[CodePostal]],\" \",Personne[[#This Row],[Ville]],\" \",Personne[[#This Row],[CodePays]])","v":"   "}]
[null,null,null,null,null,null,null,null,null,null,null,null,null,null,null,null,null,null,null,null,null,null,null,null,null,null,null,null,null,null,{"$f":"IF(PARAMETRES!$B$3=\"SANS\",SUMIFS(Honoraire[TotalHonoraireHT],Honoraire[ClientId],Personne[[#This Row],[PersonneId]]),SUMIFS(Honoraire[TotalHT],Honoraire[ClientId],Personne[[#This Row],[PersonneId]]))","v":0},{"$f":"Personne[[#This Row],[Facture (HT)]]+ROW()/100000","v":3.8899999999999998E-3},{"$f":"_xlfn.CONCAT(Personne[[#This Row],[Adresse]],\" \",Personne[[#This Row],[CodePostal]],\" \",Personne[[#This Row],[Ville]],\" \",Personne[[#This Row],[CodePays]])","v":"   "}]
[null,null,null,null,null,null,null,null,null,null,null,null,null,null,null,null,null,null,null,null,null,null,null,null,null,null,null,null,null,null,{"$f":"IF(PARAMETRES!$B$3=\"SANS\",SUMIFS(Honoraire[TotalHonoraireHT],Honoraire[ClientId],Personne[[#This Row],[PersonneId]]),SUMIFS(Honoraire[TotalHT],Honoraire[ClientId],Personne[[#This Row],[PersonneId]]))","v":0},{"$f":"Personne[[#This Row],[Facture (HT)]]+ROW()/100000","v":3.8999999999999998E-3},{"$f":"_xlfn.CONCAT(Personne[[#This Row],[Adresse]],\" \",Personne[[#This Row],[CodePostal]],\" \",Personne[[#This Row],[Ville]],\" \",Personne[[#This Row],[CodePays]])","v":"   "}]
[null,null,null,null,null,null,null,null,null,null,null,null,null,null,null,null,null,null,null,null,null,null,null,null,null,null,null,null,null,null,{"$f":"IF(PARAMETRES!$B$3=\"SANS\",SUMIFS(Honoraire[TotalHonoraireHT],Honoraire[ClientId],Personne[[#This Row],[PersonneId]]),SUMIFS(Honoraire[TotalHT],Honoraire[ClientId],Personne[[#This Row],[PersonneId]]))","v":0},{"$f":"Personne[[#This Row],[Facture (HT)]]+ROW()/100000","v":3.9100000000000003E-3},{"$f":"_xlfn.CONCAT(Personne[[#This Row],[Adresse]],\" \",Personne[[#This Row],[CodePostal]],\" \",Personne[[#This Row],[Ville]],\" \",Personne[[#This Row],[CodePays]])","v":"   "}]
[null,null,null,null,null,null,null,null,null,null,null,null,null,null,null,null,null,null,null,null,null,null,null,null,null,null,null,null,null,null,{"$f":"IF(PARAMETRES!$B$3=\"SANS\",SUMIFS(Honoraire[TotalHonoraireHT],Honoraire[ClientId],Personne[[#This Row],[PersonneId]]),SUMIFS(Honoraire[TotalHT],Honoraire[ClientId],Personne[[#This Row],[PersonneId]]))","v":0},{"$f":"Personne[[#This Row],[Facture (HT)]]+ROW()/100000","v":3.9199999999999999E-3},{"$f":"_xlfn.CONCAT(Personne[[#This Row],[Adresse]],\" \",Personne[[#This Row],[CodePostal]],\" \",Personne[[#This Row],[Ville]],\" \",Personne[[#This Row],[CodePays]])","v":"   "}]
[null,null,null,null,null,null,null,null,null,null,null,null,null,null,null,null,null,null,null,null,null,null,null,null,null,null,null,null,null,null,{"$f":"IF(PARAMETRES!$B$3=\"SANS\",SUMIFS(Honoraire[TotalHonoraireHT],Honoraire[ClientId],Personne[[#This Row],[PersonneId]]),SUMIFS(Honoraire[TotalHT],Honoraire[ClientId],Personne[[#This Row],[PersonneId]]))","v":0},{"$f":"Personne[[#This Row],[Facture (HT)]]+ROW()/100000","v":3.9300000000000003E-3},{"$f":"_xlfn.CONCAT(Personne[[#This Row],[Adresse]],\" \",Personne[[#This Row],[CodePostal]],\" \",Personne[[#This Row],[Ville]],\" \",Personne[[#This Row],[CodePays]])","v":"   "}]
[null,null,null,null,null,null,null,null,null,null,null,null,null,null,null,null,null,null,null,null,null,null,null,null,null,null,null,null,null,null,{"$f":"IF(PARAMETRES!$B$3=\"SANS\",SUMIFS(Honoraire[TotalHonoraireHT],Honoraire[ClientId],Personne[[#This Row],[PersonneId]]),SUMIFS(Honoraire[TotalHT],Honoraire[ClientId],Personne[[#This Row],[PersonneId]]))","v":0},{"$f":"Personne[[#This Row],[Facture (HT)]]+ROW()/100000","v":3.9399999999999999E-3},{"$f":"_xlfn.CONCAT(Personne[[#This Row],[Adresse]],\" \",Personne[[#This Row],[CodePostal]],\" \",Personne[[#This Row],[Ville]],\" \",Personne[[#This Row],[CodePays]])","v":"   "}]
[null,null,null,null,null,null,null,null,null,null,null,null,null,null,null,null,null,null,null,null,null,null,null,null,null,null,null,null,null,null,{"$f":"IF(PARAMETRES!$B$3=\"SANS\",SUMIFS(Honoraire[TotalHonoraireHT],Honoraire[ClientId],Personne[[#This Row],[PersonneId]]),SUMIFS(Honoraire[TotalHT],Honoraire[ClientId],Personne[[#This Row],[PersonneId]]))","v":0},{"$f":"Personne[[#This Row],[Facture (HT)]]+ROW()/100000","v":3.9500000000000004E-3},{"$f":"_xlfn.CONCAT(Personne[[#This Row],[Adresse]],\" \",Personne[[#This Row],[CodePostal]],\" \",Personne[[#This Row],[Ville]],\" \",Personne[[#This Row],[CodePays]])","v":"   "}]
[null,null,null,null,null,null,null,null,null,null,null,null,null,null,null,null,null,null,null,null,null,null,null,null,null,null,null,null,null,null,{"$f":"IF(PARAMETRES!$B$3=\"SANS\",SUMIFS(Honoraire[TotalHonoraireHT],Honoraire[ClientId],Personne[[#This Row],[PersonneId]]),SUMIFS(Honoraire[TotalHT],Honoraire[ClientId],Personne[[#This Row],[PersonneId]]))","v":0},{"$f":"Personne[[#This Row],[Facture (HT)]]+ROW()/100000","v":3.96E-3},{"$f":"_xlfn.CONCAT(Personne[[#This Row],[Adresse]],\" \",Personne[[#This Row],[CodePostal]],\" \",Personne[[#This Row],[Ville]],\" \",Personne[[#This Row],[CodePays]])","v":"   "}]
[null,null,null,null,null,null,null,null,null,null,null,null,null,null,null,null,null,null,null,null,null,null,null,null,null,null,null,null,null,null,{"$f":"IF(PARAMETRES!$B$3=\"SANS\",SUMIFS(Honoraire[TotalHonoraireHT],Honoraire[ClientId],Personne[[#This Row],[PersonneId]]),SUMIFS(Honoraire[TotalHT],Honoraire[ClientId],Personne[[#This Row],[PersonneId]]))","v":0},{"$f":"Personne[[#This Row],[Facture (HT)]]+ROW()/100000","v":3.9699999999999996E-3},{"$f":"_xlfn.CONCAT(Personne[[#This Row],[Adresse]],\" \",Personne[[#This Row],[CodePostal]],\" \",Personne[[#This Row],[Ville]],\" \",Personne[[#This Row],[CodePays]])","v":"   "}]
[null,null,null,null,null,null,null,null,null,null,null,null,null,null,null,null,null,null,null,null,null,null,null,null,null,null,null,null,null,null,{"$f":"IF(PARAMETRES!$B$3=\"SANS\",SUMIFS(Honoraire[TotalHonoraireHT],Honoraire[ClientId],Personne[[#This Row],[PersonneId]]),SUMIFS(Honoraire[TotalHT],Honoraire[ClientId],Personne[[#This Row],[PersonneId]]))","v":0},{"$f":"Personne[[#This Row],[Facture (HT)]]+ROW()/100000","v":3.98E-3},{"$f":"_xlfn.CONCAT(Personne[[#This Row],[Adresse]],\" \",Personne[[#This Row],[CodePostal]],\" \",Personne[[#This Row],[Ville]],\" \",Personne[[#This Row],[CodePays]])","v":"   "}]
[null,null,null,null,null,null,null,null,null,null,null,null,null,null,null,null,null,null,null,null,null,null,null,null,null,null,null,null,null,null,{"$f":"IF(PARAMETRES!$B$3=\"SANS\",SUMIFS(Honoraire[TotalHonoraireHT],Honoraire[ClientId],Personne[[#This Row],[PersonneId]]),SUMIFS(Honoraire[TotalHT],Honoraire[ClientId],Personne[[#This Row],[PersonneId]]))","v":0},{"$f":"Personne[[#This Row],[Facture (HT)]]+ROW()/100000","v":3.9899999999999996E-3},{"$f":"_xlfn.CONCAT(Personne[[#This Row],[Adresse]],\" \",Personne[[#This Row],[CodePostal]],\" \",Personne[[#This Row],[Ville]],\" \",Personne[[#This Row],[CodePays]])","v":"   "}]
[null,null,null,null,null,null,null,null,null,null,null,null,null,null,null,null,null,null,null,null,null,null,null,null,null,null,null,null,null,null,{"$f":"IF(PARAMETRES!$B$3=\"SANS\",SUMIFS(Honoraire[TotalHonoraireHT],Honoraire[ClientId],Personne[[#This Row],[PersonneId]]),SUMIFS(Honoraire[TotalHT],Honoraire[ClientId],Personne[[#This Row],[PersonneId]]))","v":0},{"$f":"Personne[[#This Row],[Facture (HT)]]+ROW()/100000","v":4.0000000000000001E-3},{"$f":"_xlfn.CONCAT(Personne[[#This Row],[Adresse]],\" \",Personne[[#This Row],[CodePostal]],\" \",Personne[[#This Row],[Ville]],\" \",Personne[[#This Row],[CodePays]])","v":"   "}]
[null,null,null,null,null,null,null,null,null,null,null,null,null,null,null,null,null,null,null,null,null,null,null,null,null,null,null,null,null,null,{"$f":"IF(PARAMETRES!$B$3=\"SANS\",SUMIFS(Honoraire[TotalHonoraireHT],Honoraire[ClientId],Personne[[#This Row],[PersonneId]]),SUMIFS(Honoraire[TotalHT],Honoraire[ClientId],Personne[[#This Row],[PersonneId]]))","v":0},{"$f":"Personne[[#This Row],[Facture (HT)]]+ROW()/100000","v":4.0099999999999997E-3},{"$f":"_xlfn.CONCAT(Personne[[#This Row],[Adresse]],\" \",Personne[[#This Row],[CodePostal]],\" \",Personne[[#This Row],[Ville]],\" \",Personne[[#This Row],[CodePays]])","v":"   "}]
[null,null,null,null,null,null,null,null,null,null,null,null,null,null,null,null,null,null,null,null,null,null,null,null,null,null,null,null,null,null,{"$f":"IF(PARAMETRES!$B$3=\"SANS\",SUMIFS(Honoraire[TotalHonoraireHT],Honoraire[ClientId],Personne[[#This Row],[PersonneId]]),SUMIFS(Honoraire[TotalHT],Honoraire[ClientId],Personne[[#This Row],[PersonneId]]))","v":0},{"$f":"Personne[[#This Row],[Facture (HT)]]+ROW()/100000","v":4.0200000000000001E-3},{"$f":"_xlfn.CONCAT(Personne[[#This Row],[Adresse]],\" \",Personne[[#This Row],[CodePostal]],\" \",Personne[[#This Row],[Ville]],\" \",Personne[[#This Row],[CodePays]])","v":"   "}]
[null,null,null,null,null,null,null,null,null,null,null,null,null,null,null,null,null,null,null,null,null,null,null,null,null,null,null,null,null,null,{"$f":"IF(PARAMETRES!$B$3=\"SANS\",SUMIFS(Honoraire[TotalHonoraireHT],Honoraire[ClientId],Personne[[#This Row],[PersonneId]]),SUMIFS(Honoraire[TotalHT],Honoraire[ClientId],Personne[[#This Row],[PersonneId]]))","v":0},{"$f":"Personne[[#This Row],[Facture (HT)]]+ROW()/100000","v":4.0299999999999997E-3},{"$f":"_xlfn.CONCAT(Personne[[#This Row],[Adresse]],\" \",Personne[[#This Row],[CodePostal]],\" \",Personne[[#This Row],[Ville]],\" \",Personne[[#This Row],[CodePays]])","v":"   "}]
[null,null,null,null,null,null,null,null,null,null,null,null,null,null,null,null,null,null,null,null,null,null,null,null,null,null,null,null,null,null,{"$f":"IF(PARAMETRES!$B$3=\"SANS\",SUMIFS(Honoraire[TotalHonoraireHT],Honoraire[ClientId],Personne[[#This Row],[PersonneId]]),SUMIFS(Honoraire[TotalHT],Honoraire[ClientId],Personne[[#This Row],[PersonneId]]))","v":0},{"$f":"Personne[[#This Row],[Facture (HT)]]+ROW()/100000","v":4.0400000000000002E-3},{"$f":"_xlfn.CONCAT(Personne[[#This Row],[Adresse]],\" \",Personne[[#This Row],[CodePostal]],\" \",Personne[[#This Row],[Ville]],\" \",Personne[[#This Row],[CodePays]])","v":"   "}]
[null,null,null,null,null,null,null,null,null,null,null,null,null,null,null,null,null,null,null,null,null,null,null,null,null,null,null,null,null,null,{"$f":"IF(PARAMETRES!$B$3=\"SANS\",SUMIFS(Honoraire[TotalHonoraireHT],Honoraire[ClientId],Personne[[#This Row],[PersonneId]]),SUMIFS(Honoraire[TotalHT],Honoraire[ClientId],Personne[[#This Row],[PersonneId]]))","v":0},{"$f":"Personne[[#This Row],[Facture (HT)]]+ROW()/100000","v":4.0499999999999998E-3},{"$f":"_xlfn.CONCAT(Personne[[#This Row],[Adresse]],\" \",Personne[[#This Row],[CodePostal]],\" \",Personne[[#This Row],[Ville]],\" \",Personne[[#This Row],[CodePays]])","v":"   "}]
[null,null,null,null,null,null,null,null,null,null,null,null,null,null,null,null,null,null,null,null,null,null,null,null,null,null,null,null,null,null,{"$f":"IF(PARAMETRES!$B$3=\"SANS\",SUMIFS(Honoraire[TotalHonoraireHT],Honoraire[ClientId],Personne[[#This Row],[PersonneId]]),SUMIFS(Honoraire[TotalHT],Honoraire[ClientId],Personne[[#This Row],[PersonneId]]))","v":0},{"$f":"Personne[[#This Row],[Facture (HT)]]+ROW()/100000","v":4.0600000000000002E-3},{"$f":"_xlfn.CONCAT(Personne[[#This Row],[Adresse]],\" \",Personne[[#This Row],[CodePostal]],\" \",Personne[[#This Row],[Ville]],\" \",Personne[[#This Row],[CodePays]])","v":"   "}]
[null,null,null,null,null,null,null,null,null,null,null,null,null,null,null,null,null,null,null,null,null,null,null,null,null,null,null,null,null,null,{"$f":"IF(PARAMETRES!$B$3=\"SANS\",SUMIFS(Honoraire[TotalHonoraireHT],Honoraire[ClientId],Personne[[#This Row],[PersonneId]]),SUMIFS(Honoraire[TotalHT],Honoraire[ClientId],Personne[[#This Row],[PersonneId]]))","v":0},{"$f":"Personne[[#This Row],[Facture (HT)]]+ROW()/100000","v":4.0699999999999998E-3},{"$f":"_xlfn.CONCAT(Personne[[#This Row],[Adresse]],\" \",Personne[[#This Row],[CodePostal]],\" \",Personne[[#This Row],[Ville]],\" \",Personne[[#This Row],[CodePays]])","v":"   "}]
[null,null,null,null,null,null,null,null,null,null,null,null,null,null,null,null,null,null,null,null,null,null,null,null,null,null,null,null,null,null,{"$f":"IF(PARAMETRES!$B$3=\"SANS\",SUMIFS(Honoraire[TotalHonoraireHT],Honoraire[ClientId],Personne[[#This Row],[PersonneId]]),SUMIFS(Honoraire[TotalHT],Honoraire[ClientId],Personne[[#This Row],[PersonneId]]))","v":0},{"$f":"Personne[[#This Row],[Facture (HT)]]+ROW()/100000","v":4.0800000000000003E-3},{"$f":"_xlfn.CONCAT(Personne[[#This Row],[Adresse]],\" \",Personne[[#This Row],[CodePostal]],\" \",Personne[[#This Row],[Ville]],\" \",Personne[[#This Row],[CodePays]])","v":"   "}]
[null,null,null,null,null,null,null,null,null,null,null,null,null,null,null,null,null,null,null,null,null,null,null,null,null,null,null,null,null,null,{"$f":"IF(PARAMETRES!$B$3=\"SANS\",SUMIFS(Honoraire[TotalHonoraireHT],Honoraire[ClientId],Personne[[#This Row],[PersonneId]]),SUMIFS(Honoraire[TotalHT],Honoraire[ClientId],Personne[[#This Row],[PersonneId]]))","v":0},{"$f":"Personne[[#This Row],[Facture (HT)]]+ROW()/100000","v":4.0899999999999999E-3},{"$f":"_xlfn.CONCAT(Personne[[#This Row],[Adresse]],\" \",Personne[[#This Row],[CodePostal]],\" \",Personne[[#This Row],[Ville]],\" \",Personne[[#This Row],[CodePays]])","v":"   "}]
[null,null,null,null,null,null,null,null,null,null,null,null,null,null,null,null,null,null,null,null,null,null,null,null,null,null,null,null,null,null,{"$f":"IF(PARAMETRES!$B$3=\"SANS\",SUMIFS(Honoraire[TotalHonoraireHT],Honoraire[ClientId],Personne[[#This Row],[PersonneId]]),SUMIFS(Honoraire[TotalHT],Honoraire[ClientId],Personne[[#This Row],[PersonneId]]))","v":0},{"$f":"Personne[[#This Row],[Facture (HT)]]+ROW()/100000","v":4.1000000000000003E-3},{"$f":"_xlfn.CONCAT(Personne[[#This Row],[Adresse]],\" \",Personne[[#This Row],[CodePostal]],\" \",Personne[[#This Row],[Ville]],\" \",Personne[[#This Row],[CodePays]])","v":"   "}]
[null,null,null,null,null,null,null,null,null,null,null,null,null,null,null,null,null,null,null,null,null,null,null,null,null,null,null,null,null,null,{"$f":"IF(PARAMETRES!$B$3=\"SANS\",SUMIFS(Honoraire[TotalHonoraireHT],Honoraire[ClientId],Personne[[#This Row],[PersonneId]]),SUMIFS(Honoraire[TotalHT],Honoraire[ClientId],Personne[[#This Row],[PersonneId]]))","v":0},{"$f":"Personne[[#This Row],[Facture (HT)]]+ROW()/100000","v":4.1099999999999999E-3},{"$f":"_xlfn.CONCAT(Personne[[#This Row],[Adresse]],\" \",Personne[[#This Row],[CodePostal]],\" \",Personne[[#This Row],[Ville]],\" \",Personne[[#This Row],[CodePays]])","v":"   "}]
[null,null,null,null,null,null,null,null,null,null,null,null,null,null,null,null,null,null,null,null,null,null,null,null,null,null,null,null,null,null,{"$f":"IF(PARAMETRES!$B$3=\"SANS\",SUMIFS(Honoraire[TotalHonoraireHT],Honoraire[ClientId],Personne[[#This Row],[PersonneId]]),SUMIFS(Honoraire[TotalHT],Honoraire[ClientId],Personne[[#This Row],[PersonneId]]))","v":0},{"$f":"Personne[[#This Row],[Facture (HT)]]+ROW()/100000","v":4.1200000000000004E-3},{"$f":"_xlfn.CONCAT(Personne[[#This Row],[Adresse]],\" \",Personne[[#This Row],[CodePostal]],\" \",Personne[[#This Row],[Ville]],\" \",Personne[[#This Row],[CodePays]])","v":"   "}]
[null,null,null,null,null,null,null,null,null,null,null,null,null,null,null,null,null,null,null,null,null,null,null,null,null,null,null,null,null,null,{"$f":"IF(PARAMETRES!$B$3=\"SANS\",SUMIFS(Honoraire[TotalHonoraireHT],Honoraire[ClientId],Personne[[#This Row],[PersonneId]]),SUMIFS(Honoraire[TotalHT],Honoraire[ClientId],Personne[[#This Row],[PersonneId]]))","v":0},{"$f":"Personne[[#This Row],[Facture (HT)]]+ROW()/100000","v":4.13E-3},{"$f":"_xlfn.CONCAT(Personne[[#This Row],[Adresse]],\" \",Personne[[#This Row],[CodePostal]],\" \",Personne[[#This Row],[Ville]],\" \",Personne[[#This Row],[CodePays]])","v":"   "}]
[null,null,null,null,null,null,null,null,null,null,null,null,null,null,null,null,null,null,null,null,null,null,null,null,null,null,null,null,null,null,{"$f":"IF(PARAMETRES!$B$3=\"SANS\",SUMIFS(Honoraire[TotalHonoraireHT],Honoraire[ClientId],Personne[[#This Row],[PersonneId]]),SUMIFS(Honoraire[TotalHT],Honoraire[ClientId],Personne[[#This Row],[PersonneId]]))","v":0},{"$f":"Personne[[#This Row],[Facture (HT)]]+ROW()/100000","v":4.1399999999999996E-3},{"$f":"_xlfn.CONCAT(Personne[[#This Row],[Adresse]],\" \",Personne[[#This Row],[CodePostal]],\" \",Personne[[#This Row],[Ville]],\" \",Personne[[#This Row],[CodePays]])","v":"   "}]
[null,null,null,null,null,null,null,null,null,null,null,null,null,null,null,null,null,null,null,null,null,null,null,null,null,null,null,null,null,null,{"$f":"IF(PARAMETRES!$B$3=\"SANS\",SUMIFS(Honoraire[TotalHonoraireHT],Honoraire[ClientId],Personne[[#This Row],[PersonneId]]),SUMIFS(Honoraire[TotalHT],Honoraire[ClientId],Personne[[#This Row],[PersonneId]]))","v":0},{"$f":"Personne[[#This Row],[Facture (HT)]]+ROW()/100000","v":4.15E-3},{"$f":"_xlfn.CONCAT(Personne[[#This Row],[Adresse]],\" \",Personne[[#This Row],[CodePostal]],\" \",Personne[[#This Row],[Ville]],\" \",Personne[[#This Row],[CodePays]])","v":"   "}]
[null,null,null,null,null,null,null,null,null,null,null,null,null,null,null,null,null,null,null,null,null,null,null,null,null,null,null,null,null,null,{"$f":"IF(PARAMETRES!$B$3=\"SANS\",SUMIFS(Honoraire[TotalHonoraireHT],Honoraire[ClientId],Personne[[#This Row],[PersonneId]]),SUMIFS(Honoraire[TotalHT],Honoraire[ClientId],Personne[[#This Row],[PersonneId]]))","v":0},{"$f":"Personne[[#This Row],[Facture (HT)]]+ROW()/100000","v":4.1599999999999996E-3},{"$f":"_xlfn.CONCAT(Personne[[#This Row],[Adresse]],\" \",Personne[[#This Row],[CodePostal]],\" \",Personne[[#This Row],[Ville]],\" \",Personne[[#This Row],[CodePays]])","v":"   "}]
[null,null,null,null,null,null,null,null,null,null,null,null,null,null,null,null,null,null,null,null,null,null,null,null,null,null,null,null,null,null,{"$f":"IF(PARAMETRES!$B$3=\"SANS\",SUMIFS(Honoraire[TotalHonoraireHT],Honoraire[ClientId],Personne[[#This Row],[PersonneId]]),SUMIFS(Honoraire[TotalHT],Honoraire[ClientId],Personne[[#This Row],[PersonneId]]))","v":0},{"$f":"Personne[[#This Row],[Facture (HT)]]+ROW()/100000","v":4.1700000000000001E-3},{"$f":"_xlfn.CONCAT(Personne[[#This Row],[Adresse]],\" \",Personne[[#This Row],[CodePostal]],\" \",Personne[[#This Row],[Ville]],\" \",Personne[[#This Row],[CodePays]])","v":"   "}]
[null,null,null,null,null,null,null,null,null,null,null,null,null,null,null,null,null,null,null,null,null,null,null,null,null,null,null,null,null,null,{"$f":"IF(PARAMETRES!$B$3=\"SANS\",SUMIFS(Honoraire[TotalHonoraireHT],Honoraire[ClientId],Personne[[#This Row],[PersonneId]]),SUMIFS(Honoraire[TotalHT],Honoraire[ClientId],Personne[[#This Row],[PersonneId]]))","v":0},{"$f":"Personne[[#This Row],[Facture (HT)]]+ROW()/100000","v":4.1799999999999997E-3},{"$f":"_xlfn.CONCAT(Personne[[#This Row],[Adresse]],\" \",Personne[[#This Row],[CodePostal]],\" \",Personne[[#This Row],[Ville]],\" \",Personne[[#This Row],[CodePays]])","v":"   "}]
[null,null,null,null,null,null,null,null,null,null,null,null,null,null,null,null,null,null,null,null,null,null,null,null,null,null,null,null,null,null,{"$f":"IF(PARAMETRES!$B$3=\"SANS\",SUMIFS(Honoraire[TotalHonoraireHT],Honoraire[ClientId],Personne[[#This Row],[PersonneId]]),SUMIFS(Honoraire[TotalHT],Honoraire[ClientId],Personne[[#This Row],[PersonneId]]))","v":0},{"$f":"Personne[[#This Row],[Facture (HT)]]+ROW()/100000","v":4.1900000000000001E-3},{"$f":"_xlfn.CONCAT(Personne[[#This Row],[Adresse]],\" \",Personne[[#This Row],[CodePostal]],\" \",Personne[[#This Row],[Ville]],\" \",Personne[[#This Row],[CodePays]])","v":"   "}]
[null,null,null,null,null,null,null,null,null,null,null,null,null,null,null,null,null,null,null,null,null,null,null,null,null,null,null,null,null,null,{"$f":"IF(PARAMETRES!$B$3=\"SANS\",SUMIFS(Honoraire[TotalHonoraireHT],Honoraire[ClientId],Personne[[#This Row],[PersonneId]]),SUMIFS(Honoraire[TotalHT],Honoraire[ClientId],Personne[[#This Row],[PersonneId]]))","v":0},{"$f":"Personne[[#This Row],[Facture (HT)]]+ROW()/100000","v":4.1999999999999997E-3},{"$f":"_xlfn.CONCAT(Personne[[#This Row],[Adresse]],\" \",Personne[[#This Row],[CodePostal]],\" \",Personne[[#This Row],[Ville]],\" \",Personne[[#This Row],[CodePays]])","v":"   "}]
[null,null,null,null,null,null,null,null,null,null,null,null,null,null,null,null,null,null,null,null,null,null,null,null,null,null,null,null,null,null,{"$f":"IF(PARAMETRES!$B$3=\"SANS\",SUMIFS(Honoraire[TotalHonoraireHT],Honoraire[ClientId],Personne[[#This Row],[PersonneId]]),SUMIFS(Honoraire[TotalHT],Honoraire[ClientId],Personne[[#This Row],[PersonneId]]))","v":0},{"$f":"Personne[[#This Row],[Facture (HT)]]+ROW()/100000","v":4.2100000000000002E-3},{"$f":"_xlfn.CONCAT(Personne[[#This Row],[Adresse]],\" \",Personne[[#This Row],[CodePostal]],\" \",Personne[[#This Row],[Ville]],\" \",Personne[[#This Row],[CodePays]])","v":"   "}]
[null,null,null,null,null,null,null,null,null,null,null,null,null,null,null,null,null,null,null,null,null,null,null,null,null,null,null,null,null,null,{"$f":"IF(PARAMETRES!$B$3=\"SANS\",SUMIFS(Honoraire[TotalHonoraireHT],Honoraire[ClientId],Personne[[#This Row],[PersonneId]]),SUMIFS(Honoraire[TotalHT],Honoraire[ClientId],Personne[[#This Row],[PersonneId]]))","v":0},{"$f":"Personne[[#This Row],[Facture (HT)]]+ROW()/100000","v":4.2199999999999998E-3},{"$f":"_xlfn.CONCAT(Personne[[#This Row],[Adresse]],\" \",Personne[[#This Row],[CodePostal]],\" \",Personne[[#This Row],[Ville]],\" \",Personne[[#This Row],[CodePays]])","v":"   "}]
[null,null,null,null,null,null,null,null,null,null,null,null,null,null,null,null,null,null,null,null,null,null,null,null,null,null,null,null,null,null,{"$f":"IF(PARAMETRES!$B$3=\"SANS\",SUMIFS(Honoraire[TotalHonoraireHT],Honoraire[ClientId],Personne[[#This Row],[PersonneId]]),SUMIFS(Honoraire[TotalHT],Honoraire[ClientId],Personne[[#This Row],[PersonneId]]))","v":0},{"$f":"Personne[[#This Row],[Facture (HT)]]+ROW()/100000","v":4.2300000000000003E-3},{"$f":"_xlfn.CONCAT(Personne[[#This Row],[Adresse]],\" \",Personne[[#This Row],[CodePostal]],\" \",Personne[[#This Row],[Ville]],\" \",Personne[[#This Row],[CodePays]])","v":"   "}]
[null,null,null,null,null,null,null,null,null,null,null,null,null,null,null,null,null,null,null,null,null,null,null,null,null,null,null,null,null,null,{"$f":"IF(PARAMETRES!$B$3=\"SANS\",SUMIFS(Honoraire[TotalHonoraireHT],Honoraire[ClientId],Personne[[#This Row],[PersonneId]]),SUMIFS(Honoraire[TotalHT],Honoraire[ClientId],Personne[[#This Row],[PersonneId]]))","v":0},{"$f":"Personne[[#This Row],[Facture (HT)]]+ROW()/100000","v":4.2399999999999998E-3},{"$f":"_xlfn.CONCAT(Personne[[#This Row],[Adresse]],\" \",Personne[[#This Row],[CodePostal]],\" \",Personne[[#This Row],[Ville]],\" \",Personne[[#This Row],[CodePays]])","v":"   "}]
[null,null,null,null,null,null,null,null,null,null,null,null,null,null,null,null,null,null,null,null,null,null,null,null,null,null,null,null,null,null,{"$f":"IF(PARAMETRES!$B$3=\"SANS\",SUMIFS(Honoraire[TotalHonoraireHT],Honoraire[ClientId],Personne[[#This Row],[PersonneId]]),SUMIFS(Honoraire[TotalHT],Honoraire[ClientId],Personne[[#This Row],[PersonneId]]))","v":0},{"$f":"Personne[[#This Row],[Facture (HT)]]+ROW()/100000","v":4.2500000000000003E-3},{"$f":"_xlfn.CONCAT(Personne[[#This Row],[Adresse]],\" \",Personne[[#This Row],[CodePostal]],\" \",Personne[[#This Row],[Ville]],\" \",Personne[[#This Row],[CodePays]])","v":"   "}]
[null,null,null,null,null,null,null,null,null,null,null,null,null,null,null,null,null,null,null,null,null,null,null,null,null,null,null,null,null,null,{"$f":"IF(PARAMETRES!$B$3=\"SANS\",SUMIFS(Honoraire[TotalHonoraireHT],Honoraire[ClientId],Personne[[#This Row],[PersonneId]]),SUMIFS(Honoraire[TotalHT],Honoraire[ClientId],Personne[[#This Row],[PersonneId]]))","v":0},{"$f":"Personne[[#This Row],[Facture (HT)]]+ROW()/100000","v":4.2599999999999999E-3},{"$f":"_xlfn.CONCAT(Personne[[#This Row],[Adresse]],\" \",Personne[[#This Row],[CodePostal]],\" \",Personne[[#This Row],[Ville]],\" \",Personne[[#This Row],[CodePays]])","v":"   "}]
[null,null,null,null,null,null,null,null,null,null,null,null,null,null,null,null,null,null,null,null,null,null,null,null,null,null,null,null,null,null,{"$f":"IF(PARAMETRES!$B$3=\"SANS\",SUMIFS(Honoraire[TotalHonoraireHT],Honoraire[ClientId],Personne[[#This Row],[PersonneId]]),SUMIFS(Honoraire[TotalHT],Honoraire[ClientId],Personne[[#This Row],[PersonneId]]))","v":0},{"$f":"Personne[[#This Row],[Facture (HT)]]+ROW()/100000","v":4.2700000000000004E-3},{"$f":"_xlfn.CONCAT(Personne[[#This Row],[Adresse]],\" \",Personne[[#This Row],[CodePostal]],\" \",Personne[[#This Row],[Ville]],\" \",Personne[[#This Row],[CodePays]])","v":"   "}]
[null,null,null,null,null,null,null,null,null,null,null,null,null,null,null,null,null,null,null,null,null,null,null,null,null,null,null,null,null,null,{"$f":"IF(PARAMETRES!$B$3=\"SANS\",SUMIFS(Honoraire[TotalHonoraireHT],Honoraire[ClientId],Personne[[#This Row],[PersonneId]]),SUMIFS(Honoraire[TotalHT],Honoraire[ClientId],Personne[[#This Row],[PersonneId]]))","v":0},{"$f":"Personne[[#This Row],[Facture (HT)]]+ROW()/100000","v":4.28E-3},{"$f":"_xlfn.CONCAT(Personne[[#This Row],[Adresse]],\" \",Personne[[#This Row],[CodePostal]],\" \",Personne[[#This Row],[Ville]],\" \",Personne[[#This Row],[CodePays]])","v":"   "}]
[null,null,null,null,null,null,null,null,null,null,null,null,null,null,null,null,null,null,null,null,null,null,null,null,null,null,null,null,null,null,{"$f":"IF(PARAMETRES!$B$3=\"SANS\",SUMIFS(Honoraire[TotalHonoraireHT],Honoraire[ClientId],Personne[[#This Row],[PersonneId]]),SUMIFS(Honoraire[TotalHT],Honoraire[ClientId],Personne[[#This Row],[PersonneId]]))","v":0},{"$f":"Personne[[#This Row],[Facture (HT)]]+ROW()/100000","v":4.2900000000000004E-3},{"$f":"_xlfn.CONCAT(Personne[[#This Row],[Adresse]],\" \",Personne[[#This Row],[CodePostal]],\" \",Personne[[#This Row],[Ville]],\" \",Personne[[#This Row],[CodePays]])","v":"   "}]
[null,null,null,null,null,null,null,null,null,null,null,null,null,null,null,null,null,null,null,null,null,null,null,null,null,null,null,null,null,null,{"$f":"IF(PARAMETRES!$B$3=\"SANS\",SUMIFS(Honoraire[TotalHonoraireHT],Honoraire[ClientId],Personne[[#This Row],[PersonneId]]),SUMIFS(Honoraire[TotalHT],Honoraire[ClientId],Personne[[#This Row],[PersonneId]]))","v":0},{"$f":"Personne[[#This Row],[Facture (HT)]]+ROW()/100000","v":4.3E-3},{"$f":"_xlfn.CONCAT(Personne[[#This Row],[Adresse]],\" \",Personne[[#This Row],[CodePostal]],\" \",Personne[[#This Row],[Ville]],\" \",Personne[[#This Row],[CodePays]])","v":"   "}]
[null,null,null,null,null,null,null,null,null,null,null,null,null,null,null,null,null,null,null,null,null,null,null,null,null,null,null,null,null,null,{"$f":"IF(PARAMETRES!$B$3=\"SANS\",SUMIFS(Honoraire[TotalHonoraireHT],Honoraire[ClientId],Personne[[#This Row],[PersonneId]]),SUMIFS(Honoraire[TotalHT],Honoraire[ClientId],Personne[[#This Row],[PersonneId]]))","v":0},{"$f":"Personne[[#This Row],[Facture (HT)]]+ROW()/100000","v":4.3099999999999996E-3},{"$f":"_xlfn.CONCAT(Personne[[#This Row],[Adresse]],\" \",Personne[[#This Row],[CodePostal]],\" \",Personne[[#This Row],[Ville]],\" \",Personne[[#This Row],[CodePays]])","v":"   "}]
[null,null,null,null,null,null,null,null,null,null,null,null,null,null,null,null,null,null,null,null,null,null,null,null,null,null,null,null,null,null,{"$f":"IF(PARAMETRES!$B$3=\"SANS\",SUMIFS(Honoraire[TotalHonoraireHT],Honoraire[ClientId],Personne[[#This Row],[PersonneId]]),SUMIFS(Honoraire[TotalHT],Honoraire[ClientId],Personne[[#This Row],[PersonneId]]))","v":0},{"$f":"Personne[[#This Row],[Facture (HT)]]+ROW()/100000","v":4.3200000000000001E-3},{"$f":"_xlfn.CONCAT(Personne[[#This Row],[Adresse]],\" \",Personne[[#This Row],[CodePostal]],\" \",Personne[[#This Row],[Ville]],\" \",Personne[[#This Row],[CodePays]])","v":"   "}]
[null,null,null,null,null,null,null,null,null,null,null,null,null,null,null,null,null,null,null,null,null,null,null,null,null,null,null,null,null,null,{"$f":"IF(PARAMETRES!$B$3=\"SANS\",SUMIFS(Honoraire[TotalHonoraireHT],Honoraire[ClientId],Personne[[#This Row],[PersonneId]]),SUMIFS(Honoraire[TotalHT],Honoraire[ClientId],Personne[[#This Row],[PersonneId]]))","v":0},{"$f":"Personne[[#This Row],[Facture (HT)]]+ROW()/100000","v":4.3299999999999996E-3},{"$f":"_xlfn.CONCAT(Personne[[#This Row],[Adresse]],\" \",Personne[[#This Row],[CodePostal]],\" \",Personne[[#This Row],[Ville]],\" \",Personne[[#This Row],[CodePays]])","v":"   "}]
[null,null,null,null,null,null,null,null,null,null,null,null,null,null,null,null,null,null,null,null,null,null,null,null,null,null,null,null,null,null,{"$f":"IF(PARAMETRES!$B$3=\"SANS\",SUMIFS(Honoraire[TotalHonoraireHT],Honoraire[ClientId],Personne[[#This Row],[PersonneId]]),SUMIFS(Honoraire[TotalHT],Honoraire[ClientId],Personne[[#This Row],[PersonneId]]))","v":0},{"$f":"Personne[[#This Row],[Facture (HT)]]+ROW()/100000","v":4.3400000000000001E-3},{"$f":"_xlfn.CONCAT(Personne[[#This Row],[Adresse]],\" \",Personne[[#This Row],[CodePostal]],\" \",Personne[[#This Row],[Ville]],\" \",Personne[[#This Row],[CodePays]])","v":"   "}]
[null,null,null,null,null,null,null,null,null,null,null,null,null,null,null,null,null,null,null,null,null,null,null,null,null,null,null,null,null,null,{"$f":"IF(PARAMETRES!$B$3=\"SANS\",SUMIFS(Honoraire[TotalHonoraireHT],Honoraire[ClientId],Personne[[#This Row],[PersonneId]]),SUMIFS(Honoraire[TotalHT],Honoraire[ClientId],Personne[[#This Row],[PersonneId]]))","v":0},{"$f":"Personne[[#This Row],[Facture (HT)]]+ROW()/100000","v":4.3499999999999997E-3},{"$f":"_xlfn.CONCAT(Personne[[#This Row],[Adresse]],\" \",Personne[[#This Row],[CodePostal]],\" \",Personne[[#This Row],[Ville]],\" \",Personne[[#This Row],[CodePays]])","v":"   "}]
[null,null,null,null,null,null,null,null,null,null,null,null,null,null,null,null,null,null,null,null,null,null,null,null,null,null,null,null,null,null,{"$f":"IF(PARAMETRES!$B$3=\"SANS\",SUMIFS(Honoraire[TotalHonoraireHT],Honoraire[ClientId],Personne[[#This Row],[PersonneId]]),SUMIFS(Honoraire[TotalHT],Honoraire[ClientId],Personne[[#This Row],[PersonneId]]))","v":0},{"$f":"Personne[[#This Row],[Facture (HT)]]+ROW()/100000","v":4.3600000000000002E-3},{"$f":"_xlfn.CONCAT(Personne[[#This Row],[Adresse]],\" \",Personne[[#This Row],[CodePostal]],\" \",Personne[[#This Row],[Ville]],\" \",Personne[[#This Row],[CodePays]])","v":"   "}]
[null,null,null,null,null,null,null,null,null,null,null,null,null,null,null,null,null,null,null,null,null,null,null,null,null,null,null,null,null,null,{"$f":"IF(PARAMETRES!$B$3=\"SANS\",SUMIFS(Honoraire[TotalHonoraireHT],Honoraire[ClientId],Personne[[#This Row],[PersonneId]]),SUMIFS(Honoraire[TotalHT],Honoraire[ClientId],Personne[[#This Row],[PersonneId]]))","v":0},{"$f":"Personne[[#This Row],[Facture (HT)]]+ROW()/100000","v":4.3699999999999998E-3},{"$f":"_xlfn.CONCAT(Personne[[#This Row],[Adresse]],\" \",Personne[[#This Row],[CodePostal]],\" \",Personne[[#This Row],[Ville]],\" \",Personne[[#This Row],[CodePays]])","v":"   "}]
[null,null,null,null,null,null,null,null,null,null,null,null,null,null,null,null,null,null,null,null,null,null,null,null,null,null,null,null,null,null,{"$f":"IF(PARAMETRES!$B$3=\"SANS\",SUMIFS(Honoraire[TotalHonoraireHT],Honoraire[ClientId],Personne[[#This Row],[PersonneId]]),SUMIFS(Honoraire[TotalHT],Honoraire[ClientId],Personne[[#This Row],[PersonneId]]))","v":0},{"$f":"Personne[[#This Row],[Facture (HT)]]+ROW()/100000","v":4.3800000000000002E-3},{"$f":"_xlfn.CONCAT(Personne[[#This Row],[Adresse]],\" \",Personne[[#This Row],[CodePostal]],\" \",Personne[[#This Row],[Ville]],\" \",Personne[[#This Row],[CodePays]])","v":"   "}]
[null,null,null,null,null,null,null,null,null,null,null,null,null,null,null,null,null,null,null,null,null,null,null,null,null,null,null,null,null,null,{"$f":"IF(PARAMETRES!$B$3=\"SANS\",SUMIFS(Honoraire[TotalHonoraireHT],Honoraire[ClientId],Personne[[#This Row],[PersonneId]]),SUMIFS(Honoraire[TotalHT],Honoraire[ClientId],Personne[[#This Row],[PersonneId]]))","v":0},{"$f":"Personne[[#This Row],[Facture (HT)]]+ROW()/100000","v":4.3899999999999998E-3},{"$f":"_xlfn.CONCAT(Personne[[#This Row],[Adresse]],\" \",Personne[[#This Row],[CodePostal]],\" \",Personne[[#This Row],[Ville]],\" \",Personne[[#This Row],[CodePays]])","v":"   "}]
[null,null,null,null,null,null,null,null,null,null,null,null,null,null,null,null,null,null,null,null,null,null,null,null,null,null,null,null,null,null,{"$f":"IF(PARAMETRES!$B$3=\"SANS\",SUMIFS(Honoraire[TotalHonoraireHT],Honoraire[ClientId],Personne[[#This Row],[PersonneId]]),SUMIFS(Honoraire[TotalHT],Honoraire[ClientId],Personne[[#This Row],[PersonneId]]))","v":0},{"$f":"Personne[[#This Row],[Facture (HT)]]+ROW()/100000","v":4.4000000000000003E-3},{"$f":"_xlfn.CONCAT(Personne[[#This Row],[Adresse]],\" \",Personne[[#This Row],[CodePostal]],\" \",Personne[[#This Row],[Ville]],\" \",Personne[[#This Row],[CodePays]])","v":"   "}]
[null,null,null,null,null,null,null,null,null,null,null,null,null,null,null,null,null,null,null,null,null,null,null,null,null,null,null,null,null,null,{"$f":"IF(PARAMETRES!$B$3=\"SANS\",SUMIFS(Honoraire[TotalHonoraireHT],Honoraire[ClientId],Personne[[#This Row],[PersonneId]]),SUMIFS(Honoraire[TotalHT],Honoraire[ClientId],Personne[[#This Row],[PersonneId]]))","v":0},{"$f":"Personne[[#This Row],[Facture (HT)]]+ROW()/100000","v":4.4099999999999999E-3},{"$f":"_xlfn.CONCAT(Personne[[#This Row],[Adresse]],\" \",Personne[[#This Row],[CodePostal]],\" \",Personne[[#This Row],[Ville]],\" \",Personne[[#This Row],[CodePays]])","v":"   "}]
[null,null,null,null,null,null,null,null,null,null,null,null,null,null,null,null,null,null,null,null,null,null,null,null,null,null,null,null,null,null,{"$f":"IF(PARAMETRES!$B$3=\"SANS\",SUMIFS(Honoraire[TotalHonoraireHT],Honoraire[ClientId],Personne[[#This Row],[PersonneId]]),SUMIFS(Honoraire[TotalHT],Honoraire[ClientId],Personne[[#This Row],[PersonneId]]))","v":0},{"$f":"Personne[[#This Row],[Facture (HT)]]+ROW()/100000","v":4.4200000000000003E-3},{"$f":"_xlfn.CONCAT(Personne[[#This Row],[Adresse]],\" \",Personne[[#This Row],[CodePostal]],\" \",Personne[[#This Row],[Ville]],\" \",Personne[[#This Row],[CodePays]])","v":"   "}]
[null,null,null,null,null,null,null,null,null,null,null,null,null,null,null,null,null,null,null,null,null,null,null,null,null,null,null,null,null,null,{"$f":"IF(PARAMETRES!$B$3=\"SANS\",SUMIFS(Honoraire[TotalHonoraireHT],Honoraire[ClientId],Personne[[#This Row],[PersonneId]]),SUMIFS(Honoraire[TotalHT],Honoraire[ClientId],Personne[[#This Row],[PersonneId]]))","v":0},{"$f":"Personne[[#This Row],[Facture (HT)]]+ROW()/100000","v":4.4299999999999999E-3},{"$f":"_xlfn.CONCAT(Personne[[#This Row],[Adresse]],\" \",Personne[[#This Row],[CodePostal]],\" \",Personne[[#This Row],[Ville]],\" \",Personne[[#This Row],[CodePays]])","v":"   "}]
[null,null,null,null,null,null,null,null,null,null,null,null,null,null,null,null,null,null,null,null,null,null,null,null,null,null,null,null,null,null,{"$f":"IF(PARAMETRES!$B$3=\"SANS\",SUMIFS(Honoraire[TotalHonoraireHT],Honoraire[ClientId],Personne[[#This Row],[PersonneId]]),SUMIFS(Honoraire[TotalHT],Honoraire[ClientId],Personne[[#This Row],[PersonneId]]))","v":0},{"$f":"Personne[[#This Row],[Facture (HT)]]+ROW()/100000","v":4.4400000000000004E-3},{"$f":"_xlfn.CONCAT(Personne[[#This Row],[Adresse]],\" \",Personne[[#This Row],[CodePostal]],\" \",Personne[[#This Row],[Ville]],\" \",Personne[[#This Row],[CodePays]])","v":"   "}]
[null,null,null,null,null,null,null,null,null,null,null,null,null,null,null,null,null,null,null,null,null,null,null,null,null,null,null,null,null,null,{"$f":"IF(PARAMETRES!$B$3=\"SANS\",SUMIFS(Honoraire[TotalHonoraireHT],Honoraire[ClientId],Personne[[#This Row],[PersonneId]]),SUMIFS(Honoraire[TotalHT],Honoraire[ClientId],Personne[[#This Row],[PersonneId]]))","v":0},{"$f":"Personne[[#This Row],[Facture (HT)]]+ROW()/100000","v":4.45E-3},{"$f":"_xlfn.CONCAT(Personne[[#This Row],[Adresse]],\" \",Personne[[#This Row],[CodePostal]],\" \",Personne[[#This Row],[Ville]],\" \",Personne[[#This Row],[CodePays]])","v":"   "}]
[null,null,null,null,null,null,null,null,null,null,null,null,null,null,null,null,null,null,null,null,null,null,null,null,null,null,null,null,null,null,{"$f":"IF(PARAMETRES!$B$3=\"SANS\",SUMIFS(Honoraire[TotalHonoraireHT],Honoraire[ClientId],Personne[[#This Row],[PersonneId]]),SUMIFS(Honoraire[TotalHT],Honoraire[ClientId],Personne[[#This Row],[PersonneId]]))","v":0},{"$f":"Personne[[#This Row],[Facture (HT)]]+ROW()/100000","v":4.4600000000000004E-3},{"$f":"_xlfn.CONCAT(Personne[[#This Row],[Adresse]],\" \",Personne[[#This Row],[CodePostal]],\" \",Personne[[#This Row],[Ville]],\" \",Personne[[#This Row],[CodePays]])","v":"   "}]
[null,null,null,null,null,null,null,null,null,null,null,null,null,null,null,null,null,null,null,null,null,null,null,null,null,null,null,null,null,null,{"$f":"IF(PARAMETRES!$B$3=\"SANS\",SUMIFS(Honoraire[TotalHonoraireHT],Honoraire[ClientId],Personne[[#This Row],[PersonneId]]),SUMIFS(Honoraire[TotalHT],Honoraire[ClientId],Personne[[#This Row],[PersonneId]]))","v":0},{"$f":"Personne[[#This Row],[Facture (HT)]]+ROW()/100000","v":4.47E-3},{"$f":"_xlfn.CONCAT(Personne[[#This Row],[Adresse]],\" \",Personne[[#This Row],[CodePostal]],\" \",Personne[[#This Row],[Ville]],\" \",Personne[[#This Row],[CodePays]])","v":"   "}]
[null,null,null,null,null,null,null,null,null,null,null,null,null,null,null,null,null,null,null,null,null,null,null,null,null,null,null,null,null,null,{"$f":"IF(PARAMETRES!$B$3=\"SANS\",SUMIFS(Honoraire[TotalHonoraireHT],Honoraire[ClientId],Personne[[#This Row],[PersonneId]]),SUMIFS(Honoraire[TotalHT],Honoraire[ClientId],Personne[[#This Row],[PersonneId]]))","v":0},{"$f":"Personne[[#This Row],[Facture (HT)]]+ROW()/100000","v":4.4799999999999996E-3},{"$f":"_xlfn.CONCAT(Personne[[#This Row],[Adresse]],\" \",Personne[[#This Row],[CodePostal]],\" \",Personne[[#This Row],[Ville]],\" \",Personne[[#This Row],[CodePays]])","v":"   "}]
[null,null,null,null,null,null,null,null,null,null,null,null,null,null,null,null,null,null,null,null,null,null,null,null,null,null,null,null,null,null,{"$f":"IF(PARAMETRES!$B$3=\"SANS\",SUMIFS(Honoraire[TotalHonoraireHT],Honoraire[ClientId],Personne[[#This Row],[PersonneId]]),SUMIFS(Honoraire[TotalHT],Honoraire[ClientId],Personne[[#This Row],[PersonneId]]))","v":0},{"$f":"Personne[[#This Row],[Facture (HT)]]+ROW()/100000","v":4.4900000000000001E-3},{"$f":"_xlfn.CONCAT(Personne[[#This Row],[Adresse]],\" \",Personne[[#This Row],[CodePostal]],\" \",Personne[[#This Row],[Ville]],\" \",Personne[[#This Row],[CodePays]])","v":"   "}]
[null,null,null,null,null,null,null,null,null,null,null,null,null,null,null,null,null,null,null,null,null,null,null,null,null,null,null,null,null,null,{"$f":"IF(PARAMETRES!$B$3=\"SANS\",SUMIFS(Honoraire[TotalHonoraireHT],Honoraire[ClientId],Personne[[#This Row],[PersonneId]]),SUMIFS(Honoraire[TotalHT],Honoraire[ClientId],Personne[[#This Row],[PersonneId]]))","v":0},{"$f":"Personne[[#This Row],[Facture (HT)]]+ROW()/100000","v":4.4999999999999997E-3},{"$f":"_xlfn.CONCAT(Personne[[#This Row],[Adresse]],\" \",Personne[[#This Row],[CodePostal]],\" \",Personne[[#This Row],[Ville]],\" \",Personne[[#This Row],[CodePays]])","v":"   "}]
[null,null,null,null,null,null,null,null,null,null,null,null,null,null,null,null,null,null,null,null,null,null,null,null,null,null,null,null,null,null,{"$f":"IF(PARAMETRES!$B$3=\"SANS\",SUMIFS(Honoraire[TotalHonoraireHT],Honoraire[ClientId],Personne[[#This Row],[PersonneId]]),SUMIFS(Honoraire[TotalHT],Honoraire[ClientId],Personne[[#This Row],[PersonneId]]))","v":0},{"$f":"Personne[[#This Row],[Facture (HT)]]+ROW()/100000","v":4.5100000000000001E-3},{"$f":"_xlfn.CONCAT(Personne[[#This Row],[Adresse]],\" \",Personne[[#This Row],[CodePostal]],\" \",Personne[[#This Row],[Ville]],\" \",Personne[[#This Row],[CodePays]])","v":"   "}]
[null,null,null,null,null,null,null,null,null,null,null,null,null,null,null,null,null,null,null,null,null,null,null,null,null,null,null,null,null,null,{"$f":"IF(PARAMETRES!$B$3=\"SANS\",SUMIFS(Honoraire[TotalHonoraireHT],Honoraire[ClientId],Personne[[#This Row],[PersonneId]]),SUMIFS(Honoraire[TotalHT],Honoraire[ClientId],Personne[[#This Row],[PersonneId]]))","v":0},{"$f":"Personne[[#This Row],[Facture (HT)]]+ROW()/100000","v":4.5199999999999997E-3},{"$f":"_xlfn.CONCAT(Personne[[#This Row],[Adresse]],\" \",Personne[[#This Row],[CodePostal]],\" \",Personne[[#This Row],[Ville]],\" \",Personne[[#This Row],[CodePays]])","v":"   "}]
[null,null,null,null,null,null,null,null,null,null,null,null,null,null,null,null,null,null,null,null,null,null,null,null,null,null,null,null,null,null,{"$f":"IF(PARAMETRES!$B$3=\"SANS\",SUMIFS(Honoraire[TotalHonoraireHT],Honoraire[ClientId],Personne[[#This Row],[PersonneId]]),SUMIFS(Honoraire[TotalHT],Honoraire[ClientId],Personne[[#This Row],[PersonneId]]))","v":0},{"$f":"Personne[[#This Row],[Facture (HT)]]+ROW()/100000","v":4.5300000000000002E-3},{"$f":"_xlfn.CONCAT(Personne[[#This Row],[Adresse]],\" \",Personne[[#This Row],[CodePostal]],\" \",Personne[[#This Row],[Ville]],\" \",Personne[[#This Row],[CodePays]])","v":"   "}]
[null,null,null,null,null,null,null,null,null,null,null,null,null,null,null,null,null,null,null,null,null,null,null,null,null,null,null,null,null,null,{"$f":"IF(PARAMETRES!$B$3=\"SANS\",SUMIFS(Honoraire[TotalHonoraireHT],Honoraire[ClientId],Personne[[#This Row],[PersonneId]]),SUMIFS(Honoraire[TotalHT],Honoraire[ClientId],Personne[[#This Row],[PersonneId]]))","v":0},{"$f":"Personne[[#This Row],[Facture (HT)]]+ROW()/100000","v":4.5399999999999998E-3},{"$f":"_xlfn.CONCAT(Personne[[#This Row],[Adresse]],\" \",Personne[[#This Row],[CodePostal]],\" \",Personne[[#This Row],[Ville]],\" \",Personne[[#This Row],[CodePays]])","v":"   "}]
[null,null,null,null,null,null,null,null,null,null,null,null,null,null,null,null,null,null,null,null,null,null,null,null,null,null,null,null,null,null,{"$f":"IF(PARAMETRES!$B$3=\"SANS\",SUMIFS(Honoraire[TotalHonoraireHT],Honoraire[ClientId],Personne[[#This Row],[PersonneId]]),SUMIFS(Honoraire[TotalHT],Honoraire[ClientId],Personne[[#This Row],[PersonneId]]))","v":0},{"$f":"Personne[[#This Row],[Facture (HT)]]+ROW()/100000","v":4.5500000000000002E-3},{"$f":"_xlfn.CONCAT(Personne[[#This Row],[Adresse]],\" \",Personne[[#This Row],[CodePostal]],\" \",Personne[[#This Row],[Ville]],\" \",Personne[[#This Row],[CodePays]])","v":"   "}]
[null,null,null,null,null,null,null,null,null,null,null,null,null,null,null,null,null,null,null,null,null,null,null,null,null,null,null,null,null,null,{"$f":"IF(PARAMETRES!$B$3=\"SANS\",SUMIFS(Honoraire[TotalHonoraireHT],Honoraire[ClientId],Personne[[#This Row],[PersonneId]]),SUMIFS(Honoraire[TotalHT],Honoraire[ClientId],Personne[[#This Row],[PersonneId]]))","v":0},{"$f":"Personne[[#This Row],[Facture (HT)]]+ROW()/100000","v":4.5599999999999998E-3},{"$f":"_xlfn.CONCAT(Personne[[#This Row],[Adresse]],\" \",Personne[[#This Row],[CodePostal]],\" \",Personne[[#This Row],[Ville]],\" \",Personne[[#This Row],[CodePays]])","v":"   "}]
[null,null,null,null,null,null,null,null,null,null,null,null,null,null,null,null,null,null,null,null,null,null,null,null,null,null,null,null,null,null,{"$f":"IF(PARAMETRES!$B$3=\"SANS\",SUMIFS(Honoraire[TotalHonoraireHT],Honoraire[ClientId],Personne[[#This Row],[PersonneId]]),SUMIFS(Honoraire[TotalHT],Honoraire[ClientId],Personne[[#This Row],[PersonneId]]))","v":0},{"$f":"Personne[[#This Row],[Facture (HT)]]+ROW()/100000","v":4.5700000000000003E-3},{"$f":"_xlfn.CONCAT(Personne[[#This Row],[Adresse]],\" \",Personne[[#This Row],[CodePostal]],\" \",Personne[[#This Row],[Ville]],\" \",Personne[[#This Row],[CodePays]])","v":"   "}]
[null,null,null,null,null,null,null,null,null,null,null,null,null,null,null,null,null,null,null,null,null,null,null,null,null,null,null,null,null,null,{"$f":"IF(PARAMETRES!$B$3=\"SANS\",SUMIFS(Honoraire[TotalHonoraireHT],Honoraire[ClientId],Personne[[#This Row],[PersonneId]]),SUMIFS(Honoraire[TotalHT],Honoraire[ClientId],Personne[[#This Row],[PersonneId]]))","v":0},{"$f":"Personne[[#This Row],[Facture (HT)]]+ROW()/100000","v":4.5799999999999999E-3},{"$f":"_xlfn.CONCAT(Personne[[#This Row],[Adresse]],\" \",Personne[[#This Row],[CodePostal]],\" \",Personne[[#This Row],[Ville]],\" \",Personne[[#This Row],[CodePays]])","v":"   "}]
[null,null,null,null,null,null,null,null,null,null,null,null,null,null,null,null,null,null,null,null,null,null,null,null,null,null,null,null,null,null,{"$f":"IF(PARAMETRES!$B$3=\"SANS\",SUMIFS(Honoraire[TotalHonoraireHT],Honoraire[ClientId],Personne[[#This Row],[PersonneId]]),SUMIFS(Honoraire[TotalHT],Honoraire[ClientId],Personne[[#This Row],[PersonneId]]))","v":0},{"$f":"Personne[[#This Row],[Facture (HT)]]+ROW()/100000","v":4.5900000000000003E-3},{"$f":"_xlfn.CONCAT(Personne[[#This Row],[Adresse]],\" \",Personne[[#This Row],[CodePostal]],\" \",Personne[[#This Row],[Ville]],\" \",Personne[[#This Row],[CodePays]])","v":"   "}]
[null,null,null,null,null,null,null,null,null,null,null,null,null,null,null,null,null,null,null,null,null,null,null,null,null,null,null,null,null,null,{"$f":"IF(PARAMETRES!$B$3=\"SANS\",SUMIFS(Honoraire[TotalHonoraireHT],Honoraire[ClientId],Personne[[#This Row],[PersonneId]]),SUMIFS(Honoraire[TotalHT],Honoraire[ClientId],Personne[[#This Row],[PersonneId]]))","v":0},{"$f":"Personne[[#This Row],[Facture (HT)]]+ROW()/100000","v":4.5999999999999999E-3},{"$f":"_xlfn.CONCAT(Personne[[#This Row],[Adresse]],\" \",Personne[[#This Row],[CodePostal]],\" \",Personne[[#This Row],[Ville]],\" \",Personne[[#This Row],[CodePays]])","v":"   "}]
[null,null,null,null,null,null,null,null,null,null,null,null,null,null,null,null,null,null,null,null,null,null,null,null,null,null,null,null,null,null,{"$f":"IF(PARAMETRES!$B$3=\"SANS\",SUMIFS(Honoraire[TotalHonoraireHT],Honoraire[ClientId],Personne[[#This Row],[PersonneId]]),SUMIFS(Honoraire[TotalHT],Honoraire[ClientId],Personne[[#This Row],[PersonneId]]))","v":0},{"$f":"Personne[[#This Row],[Facture (HT)]]+ROW()/100000","v":4.6100000000000004E-3},{"$f":"_xlfn.CONCAT(Personne[[#This Row],[Adresse]],\" \",Personne[[#This Row],[CodePostal]],\" \",Personne[[#This Row],[Ville]],\" \",Personne[[#This Row],[CodePays]])","v":"   "}]
[null,null,null,null,null,null,null,null,null,null,null,null,null,null,null,null,null,null,null,null,null,null,null,null,null,null,null,null,null,null,{"$f":"IF(PARAMETRES!$B$3=\"SANS\",SUMIFS(Honoraire[TotalHonoraireHT],Honoraire[ClientId],Personne[[#This Row],[PersonneId]]),SUMIFS(Honoraire[TotalHT],Honoraire[ClientId],Personne[[#This Row],[PersonneId]]))","v":0},{"$f":"Personne[[#This Row],[Facture (HT)]]+ROW()/100000","v":4.62E-3},{"$f":"_xlfn.CONCAT(Personne[[#This Row],[Adresse]],\" \",Personne[[#This Row],[CodePostal]],\" \",Personne[[#This Row],[Ville]],\" \",Personne[[#This Row],[CodePays]])","v":"   "}]
[null,null,null,null,null,null,null,null,null,null,null,null,null,null,null,null,null,null,null,null,null,null,null,null,null,null,null,null,null,null,{"$f":"IF(PARAMETRES!$B$3=\"SANS\",SUMIFS(Honoraire[TotalHonoraireHT],Honoraire[ClientId],Personne[[#This Row],[PersonneId]]),SUMIFS(Honoraire[TotalHT],Honoraire[ClientId],Personne[[#This Row],[PersonneId]]))","v":0},{"$f":"Personne[[#This Row],[Facture (HT)]]+ROW()/100000","v":4.6299999999999996E-3},{"$f":"_xlfn.CONCAT(Personne[[#This Row],[Adresse]],\" \",Personne[[#This Row],[CodePostal]],\" \",Personne[[#This Row],[Ville]],\" \",Personne[[#This Row],[CodePays]])","v":"   "}]
[null,null,null,null,null,null,null,null,null,null,null,null,null,null,null,null,null,null,null,null,null,null,null,null,null,null,null,null,null,null,{"$f":"IF(PARAMETRES!$B$3=\"SANS\",SUMIFS(Honoraire[TotalHonoraireHT],Honoraire[ClientId],Personne[[#This Row],[PersonneId]]),SUMIFS(Honoraire[TotalHT],Honoraire[ClientId],Personne[[#This Row],[PersonneId]]))","v":0},{"$f":"Personne[[#This Row],[Facture (HT)]]+ROW()/100000","v":4.64E-3},{"$f":"_xlfn.CONCAT(Personne[[#This Row],[Adresse]],\" \",Personne[[#This Row],[CodePostal]],\" \",Personne[[#This Row],[Ville]],\" \",Personne[[#This Row],[CodePays]])","v":"   "}]
[null,null,null,null,null,null,null,null,null,null,null,null,null,null,null,null,null,null,null,null,null,null,null,null,null,null,null,null,null,null,{"$f":"IF(PARAMETRES!$B$3=\"SANS\",SUMIFS(Honoraire[TotalHonoraireHT],Honoraire[ClientId],Personne[[#This Row],[PersonneId]]),SUMIFS(Honoraire[TotalHT],Honoraire[ClientId],Personne[[#This Row],[PersonneId]]))","v":0},{"$f":"Personne[[#This Row],[Facture (HT)]]+ROW()/100000","v":4.6499999999999996E-3},{"$f":"_xlfn.CONCAT(Personne[[#This Row],[Adresse]],\" \",Personne[[#This Row],[CodePostal]],\" \",Personne[[#This Row],[Ville]],\" \",Personne[[#This Row],[CodePays]])","v":"   "}]
[null,null,null,null,null,null,null,null,null,null,null,null,null,null,null,null,null,null,null,null,null,null,null,null,null,null,null,null,null,null,{"$f":"IF(PARAMETRES!$B$3=\"SANS\",SUMIFS(Honoraire[TotalHonoraireHT],Honoraire[ClientId],Personne[[#This Row],[PersonneId]]),SUMIFS(Honoraire[TotalHT],Honoraire[ClientId],Personne[[#This Row],[PersonneId]]))","v":0},{"$f":"Personne[[#This Row],[Facture (HT)]]+ROW()/100000","v":4.6600000000000001E-3},{"$f":"_xlfn.CONCAT(Personne[[#This Row],[Adresse]],\" \",Personne[[#This Row],[CodePostal]],\" \",Personne[[#This Row],[Ville]],\" \",Personne[[#This Row],[CodePays]])","v":"   "}]
[null,null,null,null,null,null,null,null,null,null,null,null,null,null,null,null,null,null,null,null,null,null,null,null,null,null,null,null,null,null,{"$f":"IF(PARAMETRES!$B$3=\"SANS\",SUMIFS(Honoraire[TotalHonoraireHT],Honoraire[ClientId],Personne[[#This Row],[PersonneId]]),SUMIFS(Honoraire[TotalHT],Honoraire[ClientId],Personne[[#This Row],[PersonneId]]))","v":0},{"$f":"Personne[[#This Row],[Facture (HT)]]+ROW()/100000","v":4.6699999999999997E-3},{"$f":"_xlfn.CONCAT(Personne[[#This Row],[Adresse]],\" \",Personne[[#This Row],[CodePostal]],\" \",Personne[[#This Row],[Ville]],\" \",Personne[[#This Row],[CodePays]])","v":"   "}]
[null,null,null,null,null,null,null,null,null,null,null,null,null,null,null,null,null,null,null,null,null,null,null,null,null,null,null,null,null,null,{"$f":"IF(PARAMETRES!$B$3=\"SANS\",SUMIFS(Honoraire[TotalHonoraireHT],Honoraire[ClientId],Personne[[#This Row],[PersonneId]]),SUMIFS(Honoraire[TotalHT],Honoraire[ClientId],Personne[[#This Row],[PersonneId]]))","v":0},{"$f":"Personne[[#This Row],[Facture (HT)]]+ROW()/100000","v":4.6800000000000001E-3},{"$f":"_xlfn.CONCAT(Personne[[#This Row],[Adresse]],\" \",Personne[[#This Row],[CodePostal]],\" \",Personne[[#This Row],[Ville]],\" \",Personne[[#This Row],[CodePays]])","v":"   "}]
[null,null,null,null,null,null,null,null,null,null,null,null,null,null,null,null,null,null,null,null,null,null,null,null,null,null,null,null,null,null,{"$f":"IF(PARAMETRES!$B$3=\"SANS\",SUMIFS(Honoraire[TotalHonoraireHT],Honoraire[ClientId],Personne[[#This Row],[PersonneId]]),SUMIFS(Honoraire[TotalHT],Honoraire[ClientId],Personne[[#This Row],[PersonneId]]))","v":0},{"$f":"Personne[[#This Row],[Facture (HT)]]+ROW()/100000","v":4.6899999999999997E-3},{"$f":"_xlfn.CONCAT(Personne[[#This Row],[Adresse]],\" \",Personne[[#This Row],[CodePostal]],\" \",Personne[[#This Row],[Ville]],\" \",Personne[[#This Row],[CodePays]])","v":"   "}]
[null,null,null,null,null,null,null,null,null,null,null,null,null,null,null,null,null,null,null,null,null,null,null,null,null,null,null,null,null,null,{"$f":"IF(PARAMETRES!$B$3=\"SANS\",SUMIFS(Honoraire[TotalHonoraireHT],Honoraire[ClientId],Personne[[#This Row],[PersonneId]]),SUMIFS(Honoraire[TotalHT],Honoraire[ClientId],Personne[[#This Row],[PersonneId]]))","v":0},{"$f":"Personne[[#This Row],[Facture (HT)]]+ROW()/100000","v":4.7000000000000002E-3},{"$f":"_xlfn.CONCAT(Personne[[#This Row],[Adresse]],\" \",Personne[[#This Row],[CodePostal]],\" \",Personne[[#This Row],[Ville]],\" \",Personne[[#This Row],[CodePays]])","v":"   "}]
[null,null,null,null,null,null,null,null,null,null,null,null,null,null,null,null,null,null,null,null,null,null,null,null,null,null,null,null,null,null,{"$f":"IF(PARAMETRES!$B$3=\"SANS\",SUMIFS(Honoraire[TotalHonoraireHT],Honoraire[ClientId],Personne[[#This Row],[PersonneId]]),SUMIFS(Honoraire[TotalHT],Honoraire[ClientId],Personne[[#This Row],[PersonneId]]))","v":0},{"$f":"Personne[[#This Row],[Facture (HT)]]+ROW()/100000","v":4.7099999999999998E-3},{"$f":"_xlfn.CONCAT(Personne[[#This Row],[Adresse]],\" \",Personne[[#This Row],[CodePostal]],\" \",Personne[[#This Row],[Ville]],\" \",Personne[[#This Row],[CodePays]])","v":"   "}]
[null,null,null,null,null,null,null,null,null,null,null,null,null,null,null,null,null,null,null,null,null,null,null,null,null,null,null,null,null,null,{"$f":"IF(PARAMETRES!$B$3=\"SANS\",SUMIFS(Honoraire[TotalHonoraireHT],Honoraire[ClientId],Personne[[#This Row],[PersonneId]]),SUMIFS(Honoraire[TotalHT],Honoraire[ClientId],Personne[[#This Row],[PersonneId]]))","v":0},{"$f":"Personne[[#This Row],[Facture (HT)]]+ROW()/100000","v":4.7200000000000002E-3},{"$f":"_xlfn.CONCAT(Personne[[#This Row],[Adresse]],\" \",Personne[[#This Row],[CodePostal]],\" \",Personne[[#This Row],[Ville]],\" \",Personne[[#This Row],[CodePays]])","v":"   "}]
[null,null,null,null,null,null,null,null,null,null,null,null,null,null,null,null,null,null,null,null,null,null,null,null,null,null,null,null,null,null,{"$f":"IF(PARAMETRES!$B$3=\"SANS\",SUMIFS(Honoraire[TotalHonoraireHT],Honoraire[ClientId],Personne[[#This Row],[PersonneId]]),SUMIFS(Honoraire[TotalHT],Honoraire[ClientId],Personne[[#This Row],[PersonneId]]))","v":0},{"$f":"Personne[[#This Row],[Facture (HT)]]+ROW()/100000","v":4.7299999999999998E-3},{"$f":"_xlfn.CONCAT(Personne[[#This Row],[Adresse]],\" \",Personne[[#This Row],[CodePostal]],\" \",Personne[[#This Row],[Ville]],\" \",Personne[[#This Row],[CodePays]])","v":"   "}]
[null,null,null,null,null,null,null,null,null,null,null,null,null,null,null,null,null,null,null,null,null,null,null,null,null,null,null,null,null,null,{"$f":"IF(PARAMETRES!$B$3=\"SANS\",SUMIFS(Honoraire[TotalHonoraireHT],Honoraire[ClientId],Personne[[#This Row],[PersonneId]]),SUMIFS(Honoraire[TotalHT],Honoraire[ClientId],Personne[[#This Row],[PersonneId]]))","v":0},{"$f":"Personne[[#This Row],[Facture (HT)]]+ROW()/100000","v":4.7400000000000003E-3},{"$f":"_xlfn.CONCAT(Personne[[#This Row],[Adresse]],\" \",Personne[[#This Row],[CodePostal]],\" \",Personne[[#This Row],[Ville]],\" \",Personne[[#This Row],[CodePays]])","v":"   "}]
[null,null,null,null,null,null,null,null,null,null,null,null,null,null,null,null,null,null,null,null,null,null,null,null,null,null,null,null,null,null,{"$f":"IF(PARAMETRES!$B$3=\"SANS\",SUMIFS(Honoraire[TotalHonoraireHT],Honoraire[ClientId],Personne[[#This Row],[PersonneId]]),SUMIFS(Honoraire[TotalHT],Honoraire[ClientId],Personne[[#This Row],[PersonneId]]))","v":0},{"$f":"Personne[[#This Row],[Facture (HT)]]+ROW()/100000","v":4.7499999999999999E-3},{"$f":"_xlfn.CONCAT(Personne[[#This Row],[Adresse]],\" \",Personne[[#This Row],[CodePostal]],\" \",Personne[[#This Row],[Ville]],\" \",Personne[[#This Row],[CodePays]])","v":"   "}]
[null,null,null,null,null,null,null,null,null,null,null,null,null,null,null,null,null,null,null,null,null,null,null,null,null,null,null,null,null,null,{"$f":"IF(PARAMETRES!$B$3=\"SANS\",SUMIFS(Honoraire[TotalHonoraireHT],Honoraire[ClientId],Personne[[#This Row],[PersonneId]]),SUMIFS(Honoraire[TotalHT],Honoraire[ClientId],Personne[[#This Row],[PersonneId]]))","v":0},{"$f":"Personne[[#This Row],[Facture (HT)]]+ROW()/100000","v":4.7600000000000003E-3},{"$f":"_xlfn.CONCAT(Personne[[#This Row],[Adresse]],\" \",Personne[[#This Row],[CodePostal]],\" \",Personne[[#This Row],[Ville]],\" \",Personne[[#This Row],[CodePays]])","v":"   "}]
[null,null,null,null,null,null,null,null,null,null,null,null,null,null,null,null,null,null,null,null,null,null,null,null,null,null,null,null,null,null,{"$f":"IF(PARAMETRES!$B$3=\"SANS\",SUMIFS(Honoraire[TotalHonoraireHT],Honoraire[ClientId],Personne[[#This Row],[PersonneId]]),SUMIFS(Honoraire[TotalHT],Honoraire[ClientId],Personne[[#This Row],[PersonneId]]))","v":0},{"$f":"Personne[[#This Row],[Facture (HT)]]+ROW()/100000","v":4.7699999999999999E-3},{"$f":"_xlfn.CONCAT(Personne[[#This Row],[Adresse]],\" \",Personne[[#This Row],[CodePostal]],\" \",Personne[[#This Row],[Ville]],\" \",Personne[[#This Row],[CodePays]])","v":"   "}]
[null,null,null,null,null,null,null,null,null,null,null,null,null,null,null,null,null,null,null,null,null,null,null,null,null,null,null,null,null,null,{"$f":"IF(PARAMETRES!$B$3=\"SANS\",SUMIFS(Honoraire[TotalHonoraireHT],Honoraire[ClientId],Personne[[#This Row],[PersonneId]]),SUMIFS(Honoraire[TotalHT],Honoraire[ClientId],Personne[[#This Row],[PersonneId]]))","v":0},{"$f":"Personne[[#This Row],[Facture (HT)]]+ROW()/100000","v":4.7800000000000004E-3},{"$f":"_xlfn.CONCAT(Personne[[#This Row],[Adresse]],\" \",Personne[[#This Row],[CodePostal]],\" \",Personne[[#This Row],[Ville]],\" \",Personne[[#This Row],[CodePays]])","v":"   "}]
[null,null,null,null,null,null,null,null,null,null,null,null,null,null,null,null,null,null,null,null,null,null,null,null,null,null,null,null,null,null,{"$f":"IF(PARAMETRES!$B$3=\"SANS\",SUMIFS(Honoraire[TotalHonoraireHT],Honoraire[ClientId],Personne[[#This Row],[PersonneId]]),SUMIFS(Honoraire[TotalHT],Honoraire[ClientId],Personne[[#This Row],[PersonneId]]))","v":0},{"$f":"Personne[[#This Row],[Facture (HT)]]+ROW()/100000","v":4.79E-3},{"$f":"_xlfn.CONCAT(Personne[[#This Row],[Adresse]],\" \",Personne[[#This Row],[CodePostal]],\" \",Personne[[#This Row],[Ville]],\" \",Personne[[#This Row],[CodePays]])","v":"   "}]
[null,null,null,null,null,null,null,null,null,null,null,null,null,null,null,null,null,null,null,null,null,null,null,null,null,null,null,null,null,null,{"$f":"IF(PARAMETRES!$B$3=\"SANS\",SUMIFS(Honoraire[TotalHonoraireHT],Honoraire[ClientId],Personne[[#This Row],[PersonneId]]),SUMIFS(Honoraire[TotalHT],Honoraire[ClientId],Personne[[#This Row],[PersonneId]]))","v":0},{"$f":"Personne[[#This Row],[Facture (HT)]]+ROW()/100000","v":4.7999999999999996E-3},{"$f":"_xlfn.CONCAT(Personne[[#This Row],[Adresse]],\" \",Personne[[#This Row],[CodePostal]],\" \",Personne[[#This Row],[Ville]],\" \",Personne[[#This Row],[CodePays]])","v":"   "}]
[null,null,null,null,null,null,null,null,null,null,null,null,null,null,null,null,null,null,null,null,null,null,null,null,null,null,null,null,null,null,{"$f":"IF(PARAMETRES!$B$3=\"SANS\",SUMIFS(Honoraire[TotalHonoraireHT],Honoraire[ClientId],Personne[[#This Row],[PersonneId]]),SUMIFS(Honoraire[TotalHT],Honoraire[ClientId],Personne[[#This Row],[PersonneId]]))","v":0},{"$f":"Personne[[#This Row],[Facture (HT)]]+ROW()/100000","v":4.81E-3},{"$f":"_xlfn.CONCAT(Personne[[#This Row],[Adresse]],\" \",Personne[[#This Row],[CodePostal]],\" \",Personne[[#This Row],[Ville]],\" \",Personne[[#This Row],[CodePays]])","v":"   "}]
[null,null,null,null,null,null,null,null,null,null,null,null,null,null,null,null,null,null,null,null,null,null,null,null,null,null,null,null,null,null,{"$f":"IF(PARAMETRES!$B$3=\"SANS\",SUMIFS(Honoraire[TotalHonoraireHT],Honoraire[ClientId],Personne[[#This Row],[PersonneId]]),SUMIFS(Honoraire[TotalHT],Honoraire[ClientId],Personne[[#This Row],[PersonneId]]))","v":0},{"$f":"Personne[[#This Row],[Facture (HT)]]+ROW()/100000","v":4.8199999999999996E-3},{"$f":"_xlfn.CONCAT(Personne[[#This Row],[Adresse]],\" \",Personne[[#This Row],[CodePostal]],\" \",Personne[[#This Row],[Ville]],\" \",Personne[[#This Row],[CodePays]])","v":"   "}]
[null,null,null,null,null,null,null,null,null,null,null,null,null,null,null,null,null,null,null,null,null,null,null,null,null,null,null,null,null,null,{"$f":"IF(PARAMETRES!$B$3=\"SANS\",SUMIFS(Honoraire[TotalHonoraireHT],Honoraire[ClientId],Personne[[#This Row],[PersonneId]]),SUMIFS(Honoraire[TotalHT],Honoraire[ClientId],Personne[[#This Row],[PersonneId]]))","v":0},{"$f":"Personne[[#This Row],[Facture (HT)]]+ROW()/100000","v":4.8300000000000001E-3},{"$f":"_xlfn.CONCAT(Personne[[#This Row],[Adresse]],\" \",Personne[[#This Row],[CodePostal]],\" \",Personne[[#This Row],[Ville]],\" \",Personne[[#This Row],[CodePays]])","v":"   "}]
[null,null,null,null,null,null,null,null,null,null,null,null,null,null,null,null,null,null,null,null,null,null,null,null,null,null,null,null,null,null,{"$f":"IF(PARAMETRES!$B$3=\"SANS\",SUMIFS(Honoraire[TotalHonoraireHT],Honoraire[ClientId],Personne[[#This Row],[PersonneId]]),SUMIFS(Honoraire[TotalHT],Honoraire[ClientId],Personne[[#This Row],[PersonneId]]))","v":0},{"$f":"Personne[[#This Row],[Facture (HT)]]+ROW()/100000","v":4.8399999999999997E-3},{"$f":"_xlfn.CONCAT(Personne[[#This Row],[Adresse]],\" \",Personne[[#This Row],[CodePostal]],\" \",Personne[[#This Row],[Ville]],\" \",Personne[[#This Row],[CodePays]])","v":"   "}]
[null,null,null,null,null,null,null,null,null,null,null,null,null,null,null,null,null,null,null,null,null,null,null,null,null,null,null,null,null,null,{"$f":"IF(PARAMETRES!$B$3=\"SANS\",SUMIFS(Honoraire[TotalHonoraireHT],Honoraire[ClientId],Personne[[#This Row],[PersonneId]]),SUMIFS(Honoraire[TotalHT],Honoraire[ClientId],Personne[[#This Row],[PersonneId]]))","v":0},{"$f":"Personne[[#This Row],[Facture (HT)]]+ROW()/100000","v":4.8500000000000001E-3},{"$f":"_xlfn.CONCAT(Personne[[#This Row],[Adresse]],\" \",Personne[[#This Row],[CodePostal]],\" \",Personne[[#This Row],[Ville]],\" \",Personne[[#This Row],[CodePays]])","v":"   "}]
[null,null,null,null,null,null,null,null,null,null,null,null,null,null,null,null,null,null,null,null,null,null,null,null,null,null,null,null,null,null,{"$f":"IF(PARAMETRES!$B$3=\"SANS\",SUMIFS(Honoraire[TotalHonoraireHT],Honoraire[ClientId],Personne[[#This Row],[PersonneId]]),SUMIFS(Honoraire[TotalHT],Honoraire[ClientId],Personne[[#This Row],[PersonneId]]))","v":0},{"$f":"Personne[[#This Row],[Facture (HT)]]+ROW()/100000","v":4.8599999999999997E-3},{"$f":"_xlfn.CONCAT(Personne[[#This Row],[Adresse]],\" \",Personne[[#This Row],[CodePostal]],\" \",Personne[[#This Row],[Ville]],\" \",Personne[[#This Row],[CodePays]])","v":"   "}]
[null,null,null,null,null,null,null,null,null,null,null,null,null,null,null,null,null,null,null,null,null,null,null,null,null,null,null,null,null,null,{"$f":"IF(PARAMETRES!$B$3=\"SANS\",SUMIFS(Honoraire[TotalHonoraireHT],Honoraire[ClientId],Personne[[#This Row],[PersonneId]]),SUMIFS(Honoraire[TotalHT],Honoraire[ClientId],Personne[[#This Row],[PersonneId]]))","v":0},{"$f":"Personne[[#This Row],[Facture (HT)]]+ROW()/100000","v":4.8700000000000002E-3},{"$f":"_xlfn.CONCAT(Personne[[#This Row],[Adresse]],\" \",Personne[[#This Row],[CodePostal]],\" \",Personne[[#This Row],[Ville]],\" \",Personne[[#This Row],[CodePays]])","v":"   "}]
[null,null,null,null,null,null,null,null,null,null,null,null,null,null,null,null,null,null,null,null,null,null,null,null,null,null,null,null,null,null,{"$f":"IF(PARAMETRES!$B$3=\"SANS\",SUMIFS(Honoraire[TotalHonoraireHT],Honoraire[ClientId],Personne[[#This Row],[PersonneId]]),SUMIFS(Honoraire[TotalHT],Honoraire[ClientId],Personne[[#This Row],[PersonneId]]))","v":0},{"$f":"Personne[[#This Row],[Facture (HT)]]+ROW()/100000","v":4.8799999999999998E-3},{"$f":"_xlfn.CONCAT(Personne[[#This Row],[Adresse]],\" \",Personne[[#This Row],[CodePostal]],\" \",Personne[[#This Row],[Ville]],\" \",Personne[[#This Row],[CodePays]])","v":"   "}]
[null,null,null,null,null,null,null,null,null,null,null,null,null,null,null,null,null,null,null,null,null,null,null,null,null,null,null,null,null,null,{"$f":"IF(PARAMETRES!$B$3=\"SANS\",SUMIFS(Honoraire[TotalHonoraireHT],Honoraire[ClientId],Personne[[#This Row],[PersonneId]]),SUMIFS(Honoraire[TotalHT],Honoraire[ClientId],Personne[[#This Row],[PersonneId]]))","v":0},{"$f":"Personne[[#This Row],[Facture (HT)]]+ROW()/100000","v":4.8900000000000002E-3},{"$f":"_xlfn.CONCAT(Personne[[#This Row],[Adresse]],\" \",Personne[[#This Row],[CodePostal]],\" \",Personne[[#This Row],[Ville]],\" \",Personne[[#This Row],[CodePays]])","v":"   "}]
[null,null,null,null,null,null,null,null,null,null,null,null,null,null,null,null,null,null,null,null,null,null,null,null,null,null,null,null,null,null,{"$f":"IF(PARAMETRES!$B$3=\"SANS\",SUMIFS(Honoraire[TotalHonoraireHT],Honoraire[ClientId],Personne[[#This Row],[PersonneId]]),SUMIFS(Honoraire[TotalHT],Honoraire[ClientId],Personne[[#This Row],[PersonneId]]))","v":0},{"$f":"Personne[[#This Row],[Facture (HT)]]+ROW()/100000","v":4.8999999999999998E-3},{"$f":"_xlfn.CONCAT(Personne[[#This Row],[Adresse]],\" \",Personne[[#This Row],[CodePostal]],\" \",Personne[[#This Row],[Ville]],\" \",Personne[[#This Row],[CodePays]])","v":"   "}]
[null,null,null,null,null,null,null,null,null,null,null,null,null,null,null,null,null,null,null,null,null,null,null,null,null,null,null,null,null,null,{"$f":"IF(PARAMETRES!$B$3=\"SANS\",SUMIFS(Honoraire[TotalHonoraireHT],Honoraire[ClientId],Personne[[#This Row],[PersonneId]]),SUMIFS(Honoraire[TotalHT],Honoraire[ClientId],Personne[[#This Row],[PersonneId]]))","v":0},{"$f":"Personne[[#This Row],[Facture (HT)]]+ROW()/100000","v":4.9100000000000003E-3},{"$f":"_xlfn.CONCAT(Personne[[#This Row],[Adresse]],\" \",Personne[[#This Row],[CodePostal]],\" \",Personne[[#This Row],[Ville]],\" \",Personne[[#This Row],[CodePays]])","v":"   "}]
[null,null,null,null,null,null,null,null,null,null,null,null,null,null,null,null,null,null,null,null,null,null,null,null,null,null,null,null,null,null,{"$f":"IF(PARAMETRES!$B$3=\"SANS\",SUMIFS(Honoraire[TotalHonoraireHT],Honoraire[ClientId],Personne[[#This Row],[PersonneId]]),SUMIFS(Honoraire[TotalHT],Honoraire[ClientId],Personne[[#This Row],[PersonneId]]))","v":0},{"$f":"Personne[[#This Row],[Facture (HT)]]+ROW()/100000","v":4.9199999999999999E-3},{"$f":"_xlfn.CONCAT(Personne[[#This Row],[Adresse]],\" \",Personne[[#This Row],[CodePostal]],\" \",Personne[[#This Row],[Ville]],\" \",Personne[[#This Row],[CodePays]])","v":"   "}]
[null,null,null,null,null,null,null,null,null,null,null,null,null,null,null,null,null,null,null,null,null,null,null,null,null,null,null,null,null,null,{"$f":"IF(PARAMETRES!$B$3=\"SANS\",SUMIFS(Honoraire[TotalHonoraireHT],Honoraire[ClientId],Personne[[#This Row],[PersonneId]]),SUMIFS(Honoraire[TotalHT],Honoraire[ClientId],Personne[[#This Row],[PersonneId]]))","v":0},{"$f":"Personne[[#This Row],[Facture (HT)]]+ROW()/100000","v":4.9300000000000004E-3},{"$f":"_xlfn.CONCAT(Personne[[#This Row],[Adresse]],\" \",Personne[[#This Row],[CodePostal]],\" \",Personne[[#This Row],[Ville]],\" \",Personne[[#This Row],[CodePays]])","v":"   "}]
[null,null,null,null,null,null,null,null,null,null,null,null,null,null,null,null,null,null,null,null,null,null,null,null,null,null,null,null,null,null,{"$f":"IF(PARAMETRES!$B$3=\"SANS\",SUMIFS(Honoraire[TotalHonoraireHT],Honoraire[ClientId],Personne[[#This Row],[PersonneId]]),SUMIFS(Honoraire[TotalHT],Honoraire[ClientId],Personne[[#This Row],[PersonneId]]))","v":0},{"$f":"Personne[[#This Row],[Facture (HT)]]+ROW()/100000","v":4.9399999999999999E-3},{"$f":"_xlfn.CONCAT(Personne[[#This Row],[Adresse]],\" \",Personne[[#This Row],[CodePostal]],\" \",Personne[[#This Row],[Ville]],\" \",Personne[[#This Row],[CodePays]])","v":"   "}]
[null,null,null,null,null,null,null,null,null,null,null,null,null,null,null,null,null,null,null,null,null,null,null,null,null,null,null,null,null,null,{"$f":"IF(PARAMETRES!$B$3=\"SANS\",SUMIFS(Honoraire[TotalHonoraireHT],Honoraire[ClientId],Personne[[#This Row],[PersonneId]]),SUMIFS(Honoraire[TotalHT],Honoraire[ClientId],Personne[[#This Row],[PersonneId]]))","v":0},{"$f":"Personne[[#This Row],[Facture (HT)]]+ROW()/100000","v":4.9500000000000004E-3},{"$f":"_xlfn.CONCAT(Personne[[#This Row],[Adresse]],\" \",Personne[[#This Row],[CodePostal]],\" \",Personne[[#This Row],[Ville]],\" \",Personne[[#This Row],[CodePays]])","v":"   "}]
[null,null,null,null,null,null,null,null,null,null,null,null,null,null,null,null,null,null,null,null,null,null,null,null,null,null,null,null,null,null,{"$f":"IF(PARAMETRES!$B$3=\"SANS\",SUMIFS(Honoraire[TotalHonoraireHT],Honoraire[ClientId],Personne[[#This Row],[PersonneId]]),SUMIFS(Honoraire[TotalHT],Honoraire[ClientId],Personne[[#This Row],[PersonneId]]))","v":0},{"$f":"Personne[[#This Row],[Facture (HT)]]+ROW()/100000","v":4.96E-3},{"$f":"_xlfn.CONCAT(Personne[[#This Row],[Adresse]],\" \",Personne[[#This Row],[CodePostal]],\" \",Personne[[#This Row],[Ville]],\" \",Personne[[#This Row],[CodePays]])","v":"   "}]
[null,null,null,null,null,null,null,null,null,null,null,null,null,null,null,null,null,null,null,null,null,null,null,null,null,null,null,null,null,null,{"$f":"IF(PARAMETRES!$B$3=\"SANS\",SUMIFS(Honoraire[TotalHonoraireHT],Honoraire[ClientId],Personne[[#This Row],[PersonneId]]),SUMIFS(Honoraire[TotalHT],Honoraire[ClientId],Personne[[#This Row],[PersonneId]]))","v":0},{"$f":"Personne[[#This Row],[Facture (HT)]]+ROW()/100000","v":4.9699999999999996E-3},{"$f":"_xlfn.CONCAT(Personne[[#This Row],[Adresse]],\" \",Personne[[#This Row],[CodePostal]],\" \",Personne[[#This Row],[Ville]],\" \",Personne[[#This Row],[CodePays]])","v":"   "}]
[null,null,null,null,null,null,null,null,null,null,null,null,null,null,null,null,null,null,null,null,null,null,null,null,null,null,null,null,null,null,{"$f":"IF(PARAMETRES!$B$3=\"SANS\",SUMIFS(Honoraire[TotalHonoraireHT],Honoraire[ClientId],Personne[[#This Row],[PersonneId]]),SUMIFS(Honoraire[TotalHT],Honoraire[ClientId],Personne[[#This Row],[PersonneId]]))","v":0},{"$f":"Personne[[#This Row],[Facture (HT)]]+ROW()/100000","v":4.9800000000000001E-3},{"$f":"_xlfn.CONCAT(Personne[[#This Row],[Adresse]],\" \",Personne[[#This Row],[CodePostal]],\" \",Personne[[#This Row],[Ville]],\" \",Personne[[#This Row],[CodePays]])","v":"   "}]
[null,null,null,null,null,null,null,null,null,null,null,null,null,null,null,null,null,null,null,null,null,null,null,null,null,null,null,null,null,null,{"$f":"IF(PARAMETRES!$B$3=\"SANS\",SUMIFS(Honoraire[TotalHonoraireHT],Honoraire[ClientId],Personne[[#This Row],[PersonneId]]),SUMIFS(Honoraire[TotalHT],Honoraire[ClientId],Personne[[#This Row],[PersonneId]]))","v":0},{"$f":"Personne[[#This Row],[Facture (HT)]]+ROW()/100000","v":4.9899999999999996E-3},{"$f":"_xlfn.CONCAT(Personne[[#This Row],[Adresse]],\" \",Personne[[#This Row],[CodePostal]],\" \",Personne[[#This Row],[Ville]],\" \",Personne[[#This Row],[CodePays]])","v":"   "}]
[null,null,null,null,null,null,null,null,null,null,null,null,null,null,null,null,null,null,null,null,null,null,null,null,null,null,null,null,null,null,{"$f":"IF(PARAMETRES!$B$3=\"SANS\",SUMIFS(Honoraire[TotalHonoraireHT],Honoraire[ClientId],Personne[[#This Row],[PersonneId]]),SUMIFS(Honoraire[TotalHT],Honoraire[ClientId],Personne[[#This Row],[PersonneId]]))","v":0},{"$f":"Personne[[#This Row],[Facture (HT)]]+ROW()/100000","v":5.0000000000000001E-3},{"$f":"_xlfn.CONCAT(Personne[[#This Row],[Adresse]],\" \",Personne[[#This Row],[CodePostal]],\" \",Personne[[#This Row],[Ville]],\" \",Personne[[#This Row],[CodePays]])","v":"   "}]
[null,null,null,null,null,null,null,null,null,null,null,null,null,null,null,null,null,null,null,null,null,null,null,null,null,null,null,null,null,null,{"$f":"IF(PARAMETRES!$B$3=\"SANS\",SUMIFS(Honoraire[TotalHonoraireHT],Honoraire[ClientId],Personne[[#This Row],[PersonneId]]),SUMIFS(Honoraire[TotalHT],Honoraire[ClientId],Personne[[#This Row],[PersonneId]]))","v":0},{"$f":"Personne[[#This Row],[Facture (HT)]]+ROW()/100000","v":5.0099999999999997E-3},{"$f":"_xlfn.CONCAT(Personne[[#This Row],[Adresse]],\" \",Personne[[#This Row],[CodePostal]],\" \",Personne[[#This Row],[Ville]],\" \",Personne[[#This Row],[CodePays]])","v":"   "}]
[null,null,null,null,null,null,null,null,null,null,null,null,null,null,null,null,null,null,null,null,null,null,null,null,null,null,null,null,null,null,{"$f":"IF(PARAMETRES!$B$3=\"SANS\",SUMIFS(Honoraire[TotalHonoraireHT],Honoraire[ClientId],Personne[[#This Row],[PersonneId]]),SUMIFS(Honoraire[TotalHT],Honoraire[ClientId],Personne[[#This Row],[PersonneId]]))","v":0},{"$f":"Personne[[#This Row],[Facture (HT)]]+ROW()/100000","v":5.0200000000000002E-3},{"$f":"_xlfn.CONCAT(Personne[[#This Row],[Adresse]],\" \",Personne[[#This Row],[CodePostal]],\" \",Personne[[#This Row],[Ville]],\" \",Personne[[#This Row],[CodePays]])","v":"   "}]
[null,null,null,null,null,null,null,null,null,null,null,null,null,null,null,null,null,null,null,null,null,null,null,null,null,null,null,null,null,null,{"$f":"IF(PARAMETRES!$B$3=\"SANS\",SUMIFS(Honoraire[TotalHonoraireHT],Honoraire[ClientId],Personne[[#This Row],[PersonneId]]),SUMIFS(Honoraire[TotalHT],Honoraire[ClientId],Personne[[#This Row],[PersonneId]]))","v":0},{"$f":"Personne[[#This Row],[Facture (HT)]]+ROW()/100000","v":5.0299999999999997E-3},{"$f":"_xlfn.CONCAT(Personne[[#This Row],[Adresse]],\" \",Personne[[#This Row],[CodePostal]],\" \",Personne[[#This Row],[Ville]],\" \",Personne[[#This Row],[CodePays]])","v":"   "}]
[null,null,null,null,null,null,null,null,null,null,null,null,null,null,null,null,null,null,null,null,null,null,null,null,null,null,null,null,null,null,{"$f":"IF(PARAMETRES!$B$3=\"SANS\",SUMIFS(Honoraire[TotalHonoraireHT],Honoraire[ClientId],Personne[[#This Row],[PersonneId]]),SUMIFS(Honoraire[TotalHT],Honoraire[ClientId],Personne[[#This Row],[PersonneId]]))","v":0},{"$f":"Personne[[#This Row],[Facture (HT)]]+ROW()/100000","v":5.0400000000000002E-3},{"$f":"_xlfn.CONCAT(Personne[[#This Row],[Adresse]],\" \",Personne[[#This Row],[CodePostal]],\" \",Personne[[#This Row],[Ville]],\" \",Personne[[#This Row],[CodePays]])","v":"   "}]
[null,null,null,null,null,null,null,null,null,null,null,null,null,null,null,null,null,null,null,null,null,null,null,null,null,null,null,null,null,null,{"$f":"IF(PARAMETRES!$B$3=\"SANS\",SUMIFS(Honoraire[TotalHonoraireHT],Honoraire[ClientId],Personne[[#This Row],[PersonneId]]),SUMIFS(Honoraire[TotalHT],Honoraire[ClientId],Personne[[#This Row],[PersonneId]]))","v":0},{"$f":"Personne[[#This Row],[Facture (HT)]]+ROW()/100000","v":5.0499999999999998E-3},{"$f":"_xlfn.CONCAT(Personne[[#This Row],[Adresse]],\" \",Personne[[#This Row],[CodePostal]],\" \",Personne[[#This Row],[Ville]],\" \",Personne[[#This Row],[CodePays]])","v":"   "}]
[null,null,null,null,null,null,null,null,null,null,null,null,null,null,null,null,null,null,null,null,null,null,null,null,null,null,null,null,null,null,{"$f":"IF(PARAMETRES!$B$3=\"SANS\",SUMIFS(Honoraire[TotalHonoraireHT],Honoraire[ClientId],Personne[[#This Row],[PersonneId]]),SUMIFS(Honoraire[TotalHT],Honoraire[ClientId],Personne[[#This Row],[PersonneId]]))","v":0},{"$f":"Personne[[#This Row],[Facture (HT)]]+ROW()/100000","v":5.0600000000000003E-3},{"$f":"_xlfn.CONCAT(Personne[[#This Row],[Adresse]],\" \",Personne[[#This Row],[CodePostal]],\" \",Personne[[#This Row],[Ville]],\" \",Personne[[#This Row],[CodePays]])","v":"   "}]
[null,null,null,null,null,null,null,null,null,null,null,null,null,null,null,null,null,null,null,null,null,null,null,null,null,null,null,null,null,null,{"$f":"IF(PARAMETRES!$B$3=\"SANS\",SUMIFS(Honoraire[TotalHonoraireHT],Honoraire[ClientId],Personne[[#This Row],[PersonneId]]),SUMIFS(Honoraire[TotalHT],Honoraire[ClientId],Personne[[#This Row],[PersonneId]]))","v":0},{"$f":"Personne[[#This Row],[Facture (HT)]]+ROW()/100000","v":5.0699999999999999E-3},{"$f":"_xlfn.CONCAT(Personne[[#This Row],[Adresse]],\" \",Personne[[#This Row],[CodePostal]],\" \",Personne[[#This Row],[Ville]],\" \",Personne[[#This Row],[CodePays]])","v":"   "}]
[null,null,null,null,null,null,null,null,null,null,null,null,null,null,null,null,null,null,null,null,null,null,null,null,null,null,null,null,null,null,{"$f":"IF(PARAMETRES!$B$3=\"SANS\",SUMIFS(Honoraire[TotalHonoraireHT],Honoraire[ClientId],Personne[[#This Row],[PersonneId]]),SUMIFS(Honoraire[TotalHT],Honoraire[ClientId],Personne[[#This Row],[PersonneId]]))","v":0},{"$f":"Personne[[#This Row],[Facture (HT)]]+ROW()/100000","v":5.0800000000000003E-3},{"$f":"_xlfn.CONCAT(Personne[[#This Row],[Adresse]],\" \",Personne[[#This Row],[CodePostal]],\" \",Personne[[#This Row],[Ville]],\" \",Personne[[#This Row],[CodePays]])","v":"   "}]
[null,null,null,null,null,null,null,null,null,null,null,null,null,null,null,null,null,null,null,null,null,null,null,null,null,null,null,null,null,null,{"$f":"IF(PARAMETRES!$B$3=\"SANS\",SUMIFS(Honoraire[TotalHonoraireHT],Honoraire[ClientId],Personne[[#This Row],[PersonneId]]),SUMIFS(Honoraire[TotalHT],Honoraire[ClientId],Personne[[#This Row],[PersonneId]]))","v":0},{"$f":"Personne[[#This Row],[Facture (HT)]]+ROW()/100000","v":5.0899999999999999E-3},{"$f":"_xlfn.CONCAT(Personne[[#This Row],[Adresse]],\" \",Personne[[#This Row],[CodePostal]],\" \",Personne[[#This Row],[Ville]],\" \",Personne[[#This Row],[CodePays]])","v":"   "}]
[null,null,null,null,null,null,null,null,null,null,null,null,null,null,null,null,null,null,null,null,null,null,null,null,null,null,null,null,null,null,{"$f":"IF(PARAMETRES!$B$3=\"SANS\",SUMIFS(Honoraire[TotalHonoraireHT],Honoraire[ClientId],Personne[[#This Row],[PersonneId]]),SUMIFS(Honoraire[TotalHT],Honoraire[ClientId],Personne[[#This Row],[PersonneId]]))","v":0},{"$f":"Personne[[#This Row],[Facture (HT)]]+ROW()/100000","v":5.1000000000000004E-3},{"$f":"_xlfn.CONCAT(Personne[[#This Row],[Adresse]],\" \",Personne[[#This Row],[CodePostal]],\" \",Personne[[#This Row],[Ville]],\" \",Personne[[#This Row],[CodePays]])","v":"   "}]
[null,null,null,null,null,null,null,null,null,null,null,null,null,null,null,null,null,null,null,null,null,null,null,null,null,null,null,null,null,null,{"$f":"IF(PARAMETRES!$B$3=\"SANS\",SUMIFS(Honoraire[TotalHonoraireHT],Honoraire[ClientId],Personne[[#This Row],[PersonneId]]),SUMIFS(Honoraire[TotalHT],Honoraire[ClientId],Personne[[#This Row],[PersonneId]]))","v":0},{"$f":"Personne[[#This Row],[Facture (HT)]]+ROW()/100000","v":5.11E-3},{"$f":"_xlfn.CONCAT(Personne[[#This Row],[Adresse]],\" \",Personne[[#This Row],[CodePostal]],\" \",Personne[[#This Row],[Ville]],\" \",Personne[[#This Row],[CodePays]])","v":"   "}]
[null,null,null,null,null,null,null,null,null,null,null,null,null,null,null,null,null,null,null,null,null,null,null,null,null,null,null,null,null,null,{"$f":"IF(PARAMETRES!$B$3=\"SANS\",SUMIFS(Honoraire[TotalHonoraireHT],Honoraire[ClientId],Personne[[#This Row],[PersonneId]]),SUMIFS(Honoraire[TotalHT],Honoraire[ClientId],Personne[[#This Row],[PersonneId]]))","v":0},{"$f":"Personne[[#This Row],[Facture (HT)]]+ROW()/100000","v":5.1200000000000004E-3},{"$f":"_xlfn.CONCAT(Personne[[#This Row],[Adresse]],\" \",Personne[[#This Row],[CodePostal]],\" \",Personne[[#This Row],[Ville]],\" \",Personne[[#This Row],[CodePays]])","v":"   "}]
[null,null,null,null,null,null,null,null,null,null,null,null,null,null,null,null,null,null,null,null,null,null,null,null,null,null,null,null,null,null,{"$f":"IF(PARAMETRES!$B$3=\"SANS\",SUMIFS(Honoraire[TotalHonoraireHT],Honoraire[ClientId],Personne[[#This Row],[PersonneId]]),SUMIFS(Honoraire[TotalHT],Honoraire[ClientId],Personne[[#This Row],[PersonneId]]))","v":0},{"$f":"Personne[[#This Row],[Facture (HT)]]+ROW()/100000","v":5.13E-3},{"$f":"_xlfn.CONCAT(Personne[[#This Row],[Adresse]],\" \",Personne[[#This Row],[CodePostal]],\" \",Personne[[#This Row],[Ville]],\" \",Personne[[#This Row],[CodePays]])","v":"   "}]
[null,null,null,null,null,null,null,null,null,null,null,null,null,null,null,null,null,null,null,null,null,null,null,null,null,null,null,null,null,null,{"$f":"IF(PARAMETRES!$B$3=\"SANS\",SUMIFS(Honoraire[TotalHonoraireHT],Honoraire[ClientId],Personne[[#This Row],[PersonneId]]),SUMIFS(Honoraire[TotalHT],Honoraire[ClientId],Personne[[#This Row],[PersonneId]]))","v":0},{"$f":"Personne[[#This Row],[Facture (HT)]]+ROW()/100000","v":5.1399999999999996E-3},{"$f":"_xlfn.CONCAT(Personne[[#This Row],[Adresse]],\" \",Personne[[#This Row],[CodePostal]],\" \",Personne[[#This Row],[Ville]],\" \",Personne[[#This Row],[CodePays]])","v":"   "}]
[null,null,null,null,null,null,null,null,null,null,null,null,null,null,null,null,null,null,null,null,null,null,null,null,null,null,null,null,null,null,{"$f":"IF(PARAMETRES!$B$3=\"SANS\",SUMIFS(Honoraire[TotalHonoraireHT],Honoraire[ClientId],Personne[[#This Row],[PersonneId]]),SUMIFS(Honoraire[TotalHT],Honoraire[ClientId],Personne[[#This Row],[PersonneId]]))","v":0},{"$f":"Personne[[#This Row],[Facture (HT)]]+ROW()/100000","v":5.1500000000000001E-3},{"$f":"_xlfn.CONCAT(Personne[[#This Row],[Adresse]],\" \",Personne[[#This Row],[CodePostal]],\" \",Personne[[#This Row],[Ville]],\" \",Personne[[#This Row],[CodePays]])","v":"   "}]
[null,null,null,null,null,null,null,null,null,null,null,null,null,null,null,null,null,null,null,null,null,null,null,null,null,null,null,null,null,null,{"$f":"IF(PARAMETRES!$B$3=\"SANS\",SUMIFS(Honoraire[TotalHonoraireHT],Honoraire[ClientId],Personne[[#This Row],[PersonneId]]),SUMIFS(Honoraire[TotalHT],Honoraire[ClientId],Personne[[#This Row],[PersonneId]]))","v":0},{"$f":"Personne[[#This Row],[Facture (HT)]]+ROW()/100000","v":5.1599999999999997E-3},{"$f":"_xlfn.CONCAT(Personne[[#This Row],[Adresse]],\" \",Personne[[#This Row],[CodePostal]],\" \",Personne[[#This Row],[Ville]],\" \",Personne[[#This Row],[CodePays]])","v":"   "}]
[null,null,null,null,null,null,null,null,null,null,null,null,null,null,null,null,null,null,null,null,null,null,null,null,null,null,null,null,null,null,{"$f":"IF(PARAMETRES!$B$3=\"SANS\",SUMIFS(Honoraire[TotalHonoraireHT],Honoraire[ClientId],Personne[[#This Row],[PersonneId]]),SUMIFS(Honoraire[TotalHT],Honoraire[ClientId],Personne[[#This Row],[PersonneId]]))","v":0},{"$f":"Personne[[#This Row],[Facture (HT)]]+ROW()/100000","v":5.1700000000000001E-3},{"$f":"_xlfn.CONCAT(Personne[[#This Row],[Adresse]],\" \",Personne[[#This Row],[CodePostal]],\" \",Personne[[#This Row],[Ville]],\" \",Personne[[#This Row],[CodePays]])","v":"   "}]
[null,null,null,null,null,null,null,null,null,null,null,null,null,null,null,null,null,null,null,null,null,null,null,null,null,null,null,null,null,null,{"$f":"IF(PARAMETRES!$B$3=\"SANS\",SUMIFS(Honoraire[TotalHonoraireHT],Honoraire[ClientId],Personne[[#This Row],[PersonneId]]),SUMIFS(Honoraire[TotalHT],Honoraire[ClientId],Personne[[#This Row],[PersonneId]]))","v":0},{"$f":"Personne[[#This Row],[Facture (HT)]]+ROW()/100000","v":5.1799999999999997E-3},{"$f":"_xlfn.CONCAT(Personne[[#This Row],[Adresse]],\" \",Personne[[#This Row],[CodePostal]],\" \",Personne[[#This Row],[Ville]],\" \",Personne[[#This Row],[CodePays]])","v":"   "}]
[null,null,null,null,null,null,null,null,null,null,null,null,null,null,null,null,null,null,null,null,null,null,null,null,null,null,null,null,null,null,{"$f":"IF(PARAMETRES!$B$3=\"SANS\",SUMIFS(Honoraire[TotalHonoraireHT],Honoraire[ClientId],Personne[[#This Row],[PersonneId]]),SUMIFS(Honoraire[TotalHT],Honoraire[ClientId],Personne[[#This Row],[PersonneId]]))","v":0},{"$f":"Personne[[#This Row],[Facture (HT)]]+ROW()/100000","v":5.1900000000000002E-3},{"$f":"_xlfn.CONCAT(Personne[[#This Row],[Adresse]],\" \",Personne[[#This Row],[CodePostal]],\" \",Personne[[#This Row],[Ville]],\" \",Personne[[#This Row],[CodePays]])","v":"   "}]
[null,null,null,null,null,null,null,null,null,null,null,null,null,null,null,null,null,null,null,null,null,null,null,null,null,null,null,null,null,null,{"$f":"IF(PARAMETRES!$B$3=\"SANS\",SUMIFS(Honoraire[TotalHonoraireHT],Honoraire[ClientId],Personne[[#This Row],[PersonneId]]),SUMIFS(Honoraire[TotalHT],Honoraire[ClientId],Personne[[#This Row],[PersonneId]]))","v":0},{"$f":"Personne[[#This Row],[Facture (HT)]]+ROW()/100000","v":5.1999999999999998E-3},{"$f":"_xlfn.CONCAT(Personne[[#This Row],[Adresse]],\" \",Personne[[#This Row],[CodePostal]],\" \",Personne[[#This Row],[Ville]],\" \",Personne[[#This Row],[CodePays]])","v":"   "}]
[null,null,null,null,null,null,null,null,null,null,null,null,null,null,null,null,null,null,null,null,null,null,null,null,null,null,null,null,null,null,{"$f":"IF(PARAMETRES!$B$3=\"SANS\",SUMIFS(Honoraire[TotalHonoraireHT],Honoraire[ClientId],Personne[[#This Row],[PersonneId]]),SUMIFS(Honoraire[TotalHT],Honoraire[ClientId],Personne[[#This Row],[PersonneId]]))","v":0},{"$f":"Personne[[#This Row],[Facture (HT)]]+ROW()/100000","v":5.2100000000000002E-3},{"$f":"_xlfn.CONCAT(Personne[[#This Row],[Adresse]],\" \",Personne[[#This Row],[CodePostal]],\" \",Personne[[#This Row],[Ville]],\" \",Personne[[#This Row],[CodePays]])","v":"   "}]
[null,null,null,null,null,null,null,null,null,null,null,null,null,null,null,null,null,null,null,null,null,null,null,null,null,null,null,null,null,null,{"$f":"IF(PARAMETRES!$B$3=\"SANS\",SUMIFS(Honoraire[TotalHonoraireHT],Honoraire[ClientId],Personne[[#This Row],[PersonneId]]),SUMIFS(Honoraire[TotalHT],Honoraire[ClientId],Personne[[#This Row],[PersonneId]]))","v":0},{"$f":"Personne[[#This Row],[Facture (HT)]]+ROW()/100000","v":5.2199999999999998E-3},{"$f":"_xlfn.CONCAT(Personne[[#This Row],[Adresse]],\" \",Personne[[#This Row],[CodePostal]],\" \",Personne[[#This Row],[Ville]],\" \",Personne[[#This Row],[CodePays]])","v":"   "}]
[null,null,null,null,null,null,null,null,null,null,null,null,null,null,null,null,null,null,null,null,null,null,null,null,null,null,null,null,null,null,{"$f":"IF(PARAMETRES!$B$3=\"SANS\",SUMIFS(Honoraire[TotalHonoraireHT],Honoraire[ClientId],Personne[[#This Row],[PersonneId]]),SUMIFS(Honoraire[TotalHT],Honoraire[ClientId],Personne[[#This Row],[PersonneId]]))","v":0},{"$f":"Personne[[#This Row],[Facture (HT)]]+ROW()/100000","v":5.2300000000000003E-3},{"$f":"_xlfn.CONCAT(Personne[[#This Row],[Adresse]],\" \",Personne[[#This Row],[CodePostal]],\" \",Personne[[#This Row],[Ville]],\" \",Personne[[#This Row],[CodePays]])","v":"   "}]
[null,null,null,null,null,null,null,null,null,null,null,null,null,null,null,null,null,null,null,null,null,null,null,null,null,null,null,null,null,null,{"$f":"IF(PARAMETRES!$B$3=\"SANS\",SUMIFS(Honoraire[TotalHonoraireHT],Honoraire[ClientId],Personne[[#This Row],[PersonneId]]),SUMIFS(Honoraire[TotalHT],Honoraire[ClientId],Personne[[#This Row],[PersonneId]]))","v":0},{"$f":"Personne[[#This Row],[Facture (HT)]]+ROW()/100000","v":5.2399999999999999E-3},{"$f":"_xlfn.CONCAT(Personne[[#This Row],[Adresse]],\" \",Personne[[#This Row],[CodePostal]],\" \",Personne[[#This Row],[Ville]],\" \",Personne[[#This Row],[CodePays]])","v":"   "}]
[null,null,null,null,null,null,null,null,null,null,null,null,null,null,null,null,null,null,null,null,null,null,null,null,null,null,null,null,null,null,{"$f":"IF(PARAMETRES!$B$3=\"SANS\",SUMIFS(Honoraire[TotalHonoraireHT],Honoraire[ClientId],Personne[[#This Row],[PersonneId]]),SUMIFS(Honoraire[TotalHT],Honoraire[ClientId],Personne[[#This Row],[PersonneId]]))","v":0},{"$f":"Personne[[#This Row],[Facture (HT)]]+ROW()/100000","v":5.2500000000000003E-3},{"$f":"_xlfn.CONCAT(Personne[[#This Row],[Adresse]],\" \",Personne[[#This Row],[CodePostal]],\" \",Personne[[#This Row],[Ville]],\" \",Personne[[#This Row],[CodePays]])","v":"   "}]
[null,null,null,null,null,null,null,null,null,null,null,null,null,null,null,null,null,null,null,null,null,null,null,null,null,null,null,null,null,null,{"$f":"IF(PARAMETRES!$B$3=\"SANS\",SUMIFS(Honoraire[TotalHonoraireHT],Honoraire[ClientId],Personne[[#This Row],[PersonneId]]),SUMIFS(Honoraire[TotalHT],Honoraire[ClientId],Personne[[#This Row],[PersonneId]]))","v":0},{"$f":"Personne[[#This Row],[Facture (HT)]]+ROW()/100000","v":5.2599999999999999E-3},{"$f":"_xlfn.CONCAT(Personne[[#This Row],[Adresse]],\" \",Personne[[#This Row],[CodePostal]],\" \",Personne[[#This Row],[Ville]],\" \",Personne[[#This Row],[CodePays]])","v":"   "}]
[null,null,null,null,null,null,null,null,null,null,null,null,null,null,null,null,null,null,null,null,null,null,null,null,null,null,null,null,null,null,{"$f":"IF(PARAMETRES!$B$3=\"SANS\",SUMIFS(Honoraire[TotalHonoraireHT],Honoraire[ClientId],Personne[[#This Row],[PersonneId]]),SUMIFS(Honoraire[TotalHT],Honoraire[ClientId],Personne[[#This Row],[PersonneId]]))","v":0},{"$f":"Personne[[#This Row],[Facture (HT)]]+ROW()/100000","v":5.2700000000000004E-3},{"$f":"_xlfn.CONCAT(Personne[[#This Row],[Adresse]],\" \",Personne[[#This Row],[CodePostal]],\" \",Personne[[#This Row],[Ville]],\" \",Personne[[#This Row],[CodePays]])","v":"   "}]
[null,null,null,null,null,null,null,null,null,null,null,null,null,null,null,null,null,null,null,null,null,null,null,null,null,null,null,null,null,null,{"$f":"IF(PARAMETRES!$B$3=\"SANS\",SUMIFS(Honoraire[TotalHonoraireHT],Honoraire[ClientId],Personne[[#This Row],[PersonneId]]),SUMIFS(Honoraire[TotalHT],Honoraire[ClientId],Personne[[#This Row],[PersonneId]]))","v":0},{"$f":"Personne[[#This Row],[Facture (HT)]]+ROW()/100000","v":5.28E-3},{"$f":"_xlfn.CONCAT(Personne[[#This Row],[Adresse]],\" \",Personne[[#This Row],[CodePostal]],\" \",Personne[[#This Row],[Ville]],\" \",Personne[[#This Row],[CodePays]])","v":"   "}]
[null,null,null,null,null,null,null,null,null,null,null,null,null,null,null,null,null,null,null,null,null,null,null,null,null,null,null,null,null,null,{"$f":"IF(PARAMETRES!$B$3=\"SANS\",SUMIFS(Honoraire[TotalHonoraireHT],Honoraire[ClientId],Personne[[#This Row],[PersonneId]]),SUMIFS(Honoraire[TotalHT],Honoraire[ClientId],Personne[[#This Row],[PersonneId]]))","v":0},{"$f":"Personne[[#This Row],[Facture (HT)]]+ROW()/100000","v":5.2900000000000004E-3},{"$f":"_xlfn.CONCAT(Personne[[#This Row],[Adresse]],\" \",Personne[[#This Row],[CodePostal]],\" \",Personne[[#This Row],[Ville]],\" \",Personne[[#This Row],[CodePays]])","v":"   "}]
[null,null,null,null,null,null,null,null,null,null,null,null,null,null,null,null,null,null,null,null,null,null,null,null,null,null,null,null,null,null,{"$f":"IF(PARAMETRES!$B$3=\"SANS\",SUMIFS(Honoraire[TotalHonoraireHT],Honoraire[ClientId],Personne[[#This Row],[PersonneId]]),SUMIFS(Honoraire[TotalHT],Honoraire[ClientId],Personne[[#This Row],[PersonneId]]))","v":0},{"$f":"Personne[[#This Row],[Facture (HT)]]+ROW()/100000","v":5.3E-3},{"$f":"_xlfn.CONCAT(Personne[[#This Row],[Adresse]],\" \",Personne[[#This Row],[CodePostal]],\" \",Personne[[#This Row],[Ville]],\" \",Personne[[#This Row],[CodePays]])","v":"   "}]
[null,null,null,null,null,null,null,null,null,null,null,null,null,null,null,null,null,null,null,null,null,null,null,null,null,null,null,null,null,null,{"$f":"IF(PARAMETRES!$B$3=\"SANS\",SUMIFS(Honoraire[TotalHonoraireHT],Honoraire[ClientId],Personne[[#This Row],[PersonneId]]),SUMIFS(Honoraire[TotalHT],Honoraire[ClientId],Personne[[#This Row],[PersonneId]]))","v":0},{"$f":"Personne[[#This Row],[Facture (HT)]]+ROW()/100000","v":5.3099999999999996E-3},{"$f":"_xlfn.CONCAT(Personne[[#This Row],[Adresse]],\" \",Personne[[#This Row],[CodePostal]],\" \",Personne[[#This Row],[Ville]],\" \",Personne[[#This Row],[CodePays]])","v":"   "}]
[null,null,null,null,null,null,null,null,null,null,null,null,null,null,null,null,null,null,null,null,null,null,null,null,null,null,null,null,null,null,{"$f":"IF(PARAMETRES!$B$3=\"SANS\",SUMIFS(Honoraire[TotalHonoraireHT],Honoraire[ClientId],Personne[[#This Row],[PersonneId]]),SUMIFS(Honoraire[TotalHT],Honoraire[ClientId],Personne[[#This Row],[PersonneId]]))","v":0},{"$f":"Personne[[#This Row],[Facture (HT)]]+ROW()/100000","v":5.3200000000000001E-3},{"$f":"_xlfn.CONCAT(Personne[[#This Row],[Adresse]],\" \",Personne[[#This Row],[CodePostal]],\" \",Personne[[#This Row],[Ville]],\" \",Personne[[#This Row],[CodePays]])","v":"   "}]
[null,null,null,null,null,null,null,null,null,null,null,null,null,null,null,null,null,null,null,null,null,null,null,null,null,null,null,null,null,null,{"$f":"IF(PARAMETRES!$B$3=\"SANS\",SUMIFS(Honoraire[TotalHonoraireHT],Honoraire[ClientId],Personne[[#This Row],[PersonneId]]),SUMIFS(Honoraire[TotalHT],Honoraire[ClientId],Personne[[#This Row],[PersonneId]]))","v":0},{"$f":"Personne[[#This Row],[Facture (HT)]]+ROW()/100000","v":5.3299999999999997E-3},{"$f":"_xlfn.CONCAT(Personne[[#This Row],[Adresse]],\" \",Personne[[#This Row],[CodePostal]],\" \",Personne[[#This Row],[Ville]],\" \",Personne[[#This Row],[CodePays]])","v":"   "}]
[null,null,null,null,null,null,null,null,null,null,null,null,null,null,null,null,null,null,null,null,null,null,null,null,null,null,null,null,null,null,{"$f":"IF(PARAMETRES!$B$3=\"SANS\",SUMIFS(Honoraire[TotalHonoraireHT],Honoraire[ClientId],Personne[[#This Row],[PersonneId]]),SUMIFS(Honoraire[TotalHT],Honoraire[ClientId],Personne[[#This Row],[PersonneId]]))","v":0},{"$f":"Personne[[#This Row],[Facture (HT)]]+ROW()/100000","v":5.3400000000000001E-3},{"$f":"_xlfn.CONCAT(Personne[[#This Row],[Adresse]],\" \",Personne[[#This Row],[CodePostal]],\" \",Personne[[#This Row],[Ville]],\" \",Personne[[#This Row],[CodePays]])","v":"   "}]
[null,null,null,null,null,null,null,null,null,null,null,null,null,null,null,null,null,null,null,null,null,null,null,null,null,null,null,null,null,null,{"$f":"IF(PARAMETRES!$B$3=\"SANS\",SUMIFS(Honoraire[TotalHonoraireHT],Honoraire[ClientId],Personne[[#This Row],[PersonneId]]),SUMIFS(Honoraire[TotalHT],Honoraire[ClientId],Personne[[#This Row],[PersonneId]]))","v":0},{"$f":"Personne[[#This Row],[Facture (HT)]]+ROW()/100000","v":5.3499999999999997E-3},{"$f":"_xlfn.CONCAT(Personne[[#This Row],[Adresse]],\" \",Personne[[#This Row],[CodePostal]],\" \",Personne[[#This Row],[Ville]],\" \",Personne[[#This Row],[CodePays]])","v":"   "}]
[null,null,null,null,null,null,null,null,null,null,null,null,null,null,null,null,null,null,null,null,null,null,null,null,null,null,null,null,null,null,{"$f":"IF(PARAMETRES!$B$3=\"SANS\",SUMIFS(Honoraire[TotalHonoraireHT],Honoraire[ClientId],Personne[[#This Row],[PersonneId]]),SUMIFS(Honoraire[TotalHT],Honoraire[ClientId],Personne[[#This Row],[PersonneId]]))","v":0},{"$f":"Personne[[#This Row],[Facture (HT)]]+ROW()/100000","v":5.3600000000000002E-3},{"$f":"_xlfn.CONCAT(Personne[[#This Row],[Adresse]],\" \",Personne[[#This Row],[CodePostal]],\" \",Personne[[#This Row],[Ville]],\" \",Personne[[#This Row],[CodePays]])","v":"   "}]
[null,null,null,null,null,null,null,null,null,null,null,null,null,null,null,null,null,null,null,null,null,null,null,null,null,null,null,null,null,null,{"$f":"IF(PARAMETRES!$B$3=\"SANS\",SUMIFS(Honoraire[TotalHonoraireHT],Honoraire[ClientId],Personne[[#This Row],[PersonneId]]),SUMIFS(Honoraire[TotalHT],Honoraire[ClientId],Personne[[#This Row],[PersonneId]]))","v":0},{"$f":"Personne[[#This Row],[Facture (HT)]]+ROW()/100000","v":5.3699999999999998E-3},{"$f":"_xlfn.CONCAT(Personne[[#This Row],[Adresse]],\" \",Personne[[#This Row],[CodePostal]],\" \",Personne[[#This Row],[Ville]],\" \",Personne[[#This Row],[CodePays]])","v":"   "}]
[null,null,null,null,null,null,null,null,null,null,null,null,null,null,null,null,null,null,null,null,null,null,null,null,null,null,null,null,null,null,{"$f":"IF(PARAMETRES!$B$3=\"SANS\",SUMIFS(Honoraire[TotalHonoraireHT],Honoraire[ClientId],Personne[[#This Row],[PersonneId]]),SUMIFS(Honoraire[TotalHT],Honoraire[ClientId],Personne[[#This Row],[PersonneId]]))","v":0},{"$f":"Personne[[#This Row],[Facture (HT)]]+ROW()/100000","v":5.3800000000000002E-3},{"$f":"_xlfn.CONCAT(Personne[[#This Row],[Adresse]],\" \",Personne[[#This Row],[CodePostal]],\" \",Personne[[#This Row],[Ville]],\" \",Personne[[#This Row],[CodePays]])","v":"   "}]
[null,null,null,null,null,null,null,null,null,null,null,null,null,null,null,null,null,null,null,null,null,null,null,null,null,null,null,null,null,null,{"$f":"IF(PARAMETRES!$B$3=\"SANS\",SUMIFS(Honoraire[TotalHonoraireHT],Honoraire[ClientId],Personne[[#This Row],[PersonneId]]),SUMIFS(Honoraire[TotalHT],Honoraire[ClientId],Personne[[#This Row],[PersonneId]]))","v":0},{"$f":"Personne[[#This Row],[Facture (HT)]]+ROW()/100000","v":5.3899999999999998E-3},{"$f":"_xlfn.CONCAT(Personne[[#This Row],[Adresse]],\" \",Personne[[#This Row],[CodePostal]],\" \",Personne[[#This Row],[Ville]],\" \",Personne[[#This Row],[CodePays]])","v":"   "}]
[null,null,null,null,null,null,null,null,null,null,null,null,null,null,null,null,null,null,null,null,null,null,null,null,null,null,null,null,null,null,{"$f":"IF(PARAMETRES!$B$3=\"SANS\",SUMIFS(Honoraire[TotalHonoraireHT],Honoraire[ClientId],Personne[[#This Row],[PersonneId]]),SUMIFS(Honoraire[TotalHT],Honoraire[ClientId],Personne[[#This Row],[PersonneId]]))","v":0},{"$f":"Personne[[#This Row],[Facture (HT)]]+ROW()/100000","v":5.4000000000000003E-3},{"$f":"_xlfn.CONCAT(Personne[[#This Row],[Adresse]],\" \",Personne[[#This Row],[CodePostal]],\" \",Personne[[#This Row],[Ville]],\" \",Personne[[#This Row],[CodePays]])","v":"   "}]
[null,null,null,null,null,null,null,null,null,null,null,null,null,null,null,null,null,null,null,null,null,null,null,null,null,null,null,null,null,null,{"$f":"IF(PARAMETRES!$B$3=\"SANS\",SUMIFS(Honoraire[TotalHonoraireHT],Honoraire[ClientId],Personne[[#This Row],[PersonneId]]),SUMIFS(Honoraire[TotalHT],Honoraire[ClientId],Personne[[#This Row],[PersonneId]]))","v":0},{"$f":"Personne[[#This Row],[Facture (HT)]]+ROW()/100000","v":5.4099999999999999E-3},{"$f":"_xlfn.CONCAT(Personne[[#This Row],[Adresse]],\" \",Personne[[#This Row],[CodePostal]],\" \",Personne[[#This Row],[Ville]],\" \",Personne[[#This Row],[CodePays]])","v":"   "}]
[null,null,null,null,null,null,null,null,null,null,null,null,null,null,null,null,null,null,null,null,null,null,null,null,null,null,null,null,null,null,{"$f":"IF(PARAMETRES!$B$3=\"SANS\",SUMIFS(Honoraire[TotalHonoraireHT],Honoraire[ClientId],Personne[[#This Row],[PersonneId]]),SUMIFS(Honoraire[TotalHT],Honoraire[ClientId],Personne[[#This Row],[PersonneId]]))","v":0},{"$f":"Personne[[#This Row],[Facture (HT)]]+ROW()/100000","v":5.4200000000000003E-3},{"$f":"_xlfn.CONCAT(Personne[[#This Row],[Adresse]],\" \",Personne[[#This Row],[CodePostal]],\" \",Personne[[#This Row],[Ville]],\" \",Personne[[#This Row],[CodePays]])","v":"   "}]
[null,null,null,null,null,null,null,null,null,null,null,null,null,null,null,null,null,null,null,null,null,null,null,null,null,null,null,null,null,null,{"$f":"IF(PARAMETRES!$B$3=\"SANS\",SUMIFS(Honoraire[TotalHonoraireHT],Honoraire[ClientId],Personne[[#This Row],[PersonneId]]),SUMIFS(Honoraire[TotalHT],Honoraire[ClientId],Personne[[#This Row],[PersonneId]]))","v":0},{"$f":"Personne[[#This Row],[Facture (HT)]]+ROW()/100000","v":5.4299999999999999E-3},{"$f":"_xlfn.CONCAT(Personne[[#This Row],[Adresse]],\" \",Personne[[#This Row],[CodePostal]],\" \",Personne[[#This Row],[Ville]],\" \",Personne[[#This Row],[CodePays]])","v":"   "}]
[null,null,null,null,null,null,null,null,null,null,null,null,null,null,null,null,null,null,null,null,null,null,null,null,null,null,null,null,null,null,{"$f":"IF(PARAMETRES!$B$3=\"SANS\",SUMIFS(Honoraire[TotalHonoraireHT],Honoraire[ClientId],Personne[[#This Row],[PersonneId]]),SUMIFS(Honoraire[TotalHT],Honoraire[ClientId],Personne[[#This Row],[PersonneId]]))","v":0},{"$f":"Personne[[#This Row],[Facture (HT)]]+ROW()/100000","v":5.4400000000000004E-3},{"$f":"_xlfn.CONCAT(Personne[[#This Row],[Adresse]],\" \",Personne[[#This Row],[CodePostal]],\" \",Personne[[#This Row],[Ville]],\" \",Personne[[#This Row],[CodePays]])","v":"   "}]
[null,null,null,null,null,null,null,null,null,null,null,null,null,null,null,null,null,null,null,null,null,null,null,null,null,null,null,null,null,null,{"$f":"IF(PARAMETRES!$B$3=\"SANS\",SUMIFS(Honoraire[TotalHonoraireHT],Honoraire[ClientId],Personne[[#This Row],[PersonneId]]),SUMIFS(Honoraire[TotalHT],Honoraire[ClientId],Personne[[#This Row],[PersonneId]]))","v":0},{"$f":"Personne[[#This Row],[Facture (HT)]]+ROW()/100000","v":5.45E-3},{"$f":"_xlfn.CONCAT(Personne[[#This Row],[Adresse]],\" \",Personne[[#This Row],[CodePostal]],\" \",Personne[[#This Row],[Ville]],\" \",Personne[[#This Row],[CodePays]])","v":"   "}]
[null,null,null,null,null,null,null,null,null,null,null,null,null,null,null,null,null,null,null,null,null,null,null,null,null,null,null,null,null,null,{"$f":"IF(PARAMETRES!$B$3=\"SANS\",SUMIFS(Honoraire[TotalHonoraireHT],Honoraire[ClientId],Personne[[#This Row],[PersonneId]]),SUMIFS(Honoraire[TotalHT],Honoraire[ClientId],Personne[[#This Row],[PersonneId]]))","v":0},{"$f":"Personne[[#This Row],[Facture (HT)]]+ROW()/100000","v":5.4599999999999996E-3},{"$f":"_xlfn.CONCAT(Personne[[#This Row],[Adresse]],\" \",Personne[[#This Row],[CodePostal]],\" \",Personne[[#This Row],[Ville]],\" \",Personne[[#This Row],[CodePays]])","v":"   "}]
[null,null,null,null,null,null,null,null,null,null,null,null,null,null,null,null,null,null,null,null,null,null,null,null,null,null,null,null,null,null,{"$f":"IF(PARAMETRES!$B$3=\"SANS\",SUMIFS(Honoraire[TotalHonoraireHT],Honoraire[ClientId],Personne[[#This Row],[PersonneId]]),SUMIFS(Honoraire[TotalHT],Honoraire[ClientId],Personne[[#This Row],[PersonneId]]))","v":0},{"$f":"Personne[[#This Row],[Facture (HT)]]+ROW()/100000","v":5.47E-3},{"$f":"_xlfn.CONCAT(Personne[[#This Row],[Adresse]],\" \",Personne[[#This Row],[CodePostal]],\" \",Personne[[#This Row],[Ville]],\" \",Personne[[#This Row],[CodePays]])","v":"   "}]
[null,null,null,null,null,null,null,null,null,null,null,null,null,null,null,null,null,null,null,null,null,null,null,null,null,null,null,null,null,null,{"$f":"IF(PARAMETRES!$B$3=\"SANS\",SUMIFS(Honoraire[TotalHonoraireHT],Honoraire[ClientId],Personne[[#This Row],[PersonneId]]),SUMIFS(Honoraire[TotalHT],Honoraire[ClientId],Personne[[#This Row],[PersonneId]]))","v":0},{"$f":"Personne[[#This Row],[Facture (HT)]]+ROW()/100000","v":5.4799999999999996E-3},{"$f":"_xlfn.CONCAT(Personne[[#This Row],[Adresse]],\" \",Personne[[#This Row],[CodePostal]],\" \",Personne[[#This Row],[Ville]],\" \",Personne[[#This Row],[CodePays]])","v":"   "}]
[null,null,null,null,null,null,null,null,null,null,null,null,null,null,null,null,null,null,null,null,null,null,null,null,null,null,null,null,null,null,{"$f":"IF(PARAMETRES!$B$3=\"SANS\",SUMIFS(Honoraire[TotalHonoraireHT],Honoraire[ClientId],Personne[[#This Row],[PersonneId]]),SUMIFS(Honoraire[TotalHT],Honoraire[ClientId],Personne[[#This Row],[PersonneId]]))","v":0},{"$f":"Personne[[#This Row],[Facture (HT)]]+ROW()/100000","v":5.4900000000000001E-3},{"$f":"_xlfn.CONCAT(Personne[[#This Row],[Adresse]],\" \",Personne[[#This Row],[CodePostal]],\" \",Personne[[#This Row],[Ville]],\" \",Personne[[#This Row],[CodePays]])","v":"   "}]
[null,null,null,null,null,null,null,null,null,null,null,null,null,null,null,null,null,null,null,null,null,null,null,null,null,null,null,null,null,null,{"$f":"IF(PARAMETRES!$B$3=\"SANS\",SUMIFS(Honoraire[TotalHonoraireHT],Honoraire[ClientId],Personne[[#This Row],[PersonneId]]),SUMIFS(Honoraire[TotalHT],Honoraire[ClientId],Personne[[#This Row],[PersonneId]]))","v":0},{"$f":"Personne[[#This Row],[Facture (HT)]]+ROW()/100000","v":5.4999999999999997E-3},{"$f":"_xlfn.CONCAT(Personne[[#This Row],[Adresse]],\" \",Personne[[#This Row],[CodePostal]],\" \",Personne[[#This Row],[Ville]],\" \",Personne[[#This Row],[CodePays]])","v":"   "}]
[null,null,null,null,null,null,null,null,null,null,null,null,null,null,null,null,null,null,null,null,null,null,null,null,null,null,null,null,null,null,{"$f":"IF(PARAMETRES!$B$3=\"SANS\",SUMIFS(Honoraire[TotalHonoraireHT],Honoraire[ClientId],Personne[[#This Row],[PersonneId]]),SUMIFS(Honoraire[TotalHT],Honoraire[ClientId],Personne[[#This Row],[PersonneId]]))","v":0},{"$f":"Personne[[#This Row],[Facture (HT)]]+ROW()/100000","v":5.5100000000000001E-3},{"$f":"_xlfn.CONCAT(Personne[[#This Row],[Adresse]],\" \",Personne[[#This Row],[CodePostal]],\" \",Personne[[#This Row],[Ville]],\" \",Personne[[#This Row],[CodePays]])","v":"   "}]
[null,null,null,null,null,null,null,null,null,null,null,null,null,null,null,null,null,null,null,null,null,null,null,null,null,null,null,null,null,null,{"$f":"IF(PARAMETRES!$B$3=\"SANS\",SUMIFS(Honoraire[TotalHonoraireHT],Honoraire[ClientId],Personne[[#This Row],[PersonneId]]),SUMIFS(Honoraire[TotalHT],Honoraire[ClientId],Personne[[#This Row],[PersonneId]]))","v":0},{"$f":"Personne[[#This Row],[Facture (HT)]]+ROW()/100000","v":5.5199999999999997E-3},{"$f":"_xlfn.CONCAT(Personne[[#This Row],[Adresse]],\" \",Personne[[#This Row],[CodePostal]],\" \",Personne[[#This Row],[Ville]],\" \",Personne[[#This Row],[CodePays]])","v":"   "}]
[null,null,null,null,null,null,null,null,null,null,null,null,null,null,null,null,null,null,null,null,null,null,null,null,null,null,null,null,null,null,{"$f":"IF(PARAMETRES!$B$3=\"SANS\",SUMIFS(Honoraire[TotalHonoraireHT],Honoraire[ClientId],Personne[[#This Row],[PersonneId]]),SUMIFS(Honoraire[TotalHT],Honoraire[ClientId],Personne[[#This Row],[PersonneId]]))","v":0},{"$f":"Personne[[#This Row],[Facture (HT)]]+ROW()/100000","v":5.5300000000000002E-3},{"$f":"_xlfn.CONCAT(Personne[[#This Row],[Adresse]],\" \",Personne[[#This Row],[CodePostal]],\" \",Personne[[#This Row],[Ville]],\" \",Personne[[#This Row],[CodePays]])","v":"   "}]
[null,null,null,null,null,null,null,null,null,null,null,null,null,null,null,null,null,null,null,null,null,null,null,null,null,null,null,null,null,null,{"$f":"IF(PARAMETRES!$B$3=\"SANS\",SUMIFS(Honoraire[TotalHonoraireHT],Honoraire[ClientId],Personne[[#This Row],[PersonneId]]),SUMIFS(Honoraire[TotalHT],Honoraire[ClientId],Personne[[#This Row],[PersonneId]]))","v":0},{"$f":"Personne[[#This Row],[Facture (HT)]]+ROW()/100000","v":5.5399999999999998E-3},{"$f":"_xlfn.CONCAT(Personne[[#This Row],[Adresse]],\" \",Personne[[#This Row],[CodePostal]],\" \",Personne[[#This Row],[Ville]],\" \",Personne[[#This Row],[CodePays]])","v":"   "}]
[null,null,null,null,null,null,null,null,null,null,null,null,null,null,null,null,null,null,null,null,null,null,null,null,null,null,null,null,null,null,{"$f":"IF(PARAMETRES!$B$3=\"SANS\",SUMIFS(Honoraire[TotalHonoraireHT],Honoraire[ClientId],Personne[[#This Row],[PersonneId]]),SUMIFS(Honoraire[TotalHT],Honoraire[ClientId],Personne[[#This Row],[PersonneId]]))","v":0},{"$f":"Personne[[#This Row],[Facture (HT)]]+ROW()/100000","v":5.5500000000000002E-3},{"$f":"_xlfn.CONCAT(Personne[[#This Row],[Adresse]],\" \",Personne[[#This Row],[CodePostal]],\" \",Personne[[#This Row],[Ville]],\" \",Personne[[#This Row],[CodePays]])","v":"   "}]
[null,null,null,null,null,null,null,null,null,null,null,null,null,null,null,null,null,null,null,null,null,null,null,null,null,null,null,null,null,null,{"$f":"IF(PARAMETRES!$B$3=\"SANS\",SUMIFS(Honoraire[TotalHonoraireHT],Honoraire[ClientId],Personne[[#This Row],[PersonneId]]),SUMIFS(Honoraire[TotalHT],Honoraire[ClientId],Personne[[#This Row],[PersonneId]]))","v":0},{"$f":"Personne[[#This Row],[Facture (HT)]]+ROW()/100000","v":5.5599999999999998E-3},{"$f":"_xlfn.CONCAT(Personne[[#This Row],[Adresse]],\" \",Personne[[#This Row],[CodePostal]],\" \",Personne[[#This Row],[Ville]],\" \",Personne[[#This Row],[CodePays]])","v":"   "}]
[null,null,null,null,null,null,null,null,null,null,null,null,null,null,null,null,null,null,null,null,null,null,null,null,null,null,null,null,null,null,{"$f":"IF(PARAMETRES!$B$3=\"SANS\",SUMIFS(Honoraire[TotalHonoraireHT],Honoraire[ClientId],Personne[[#This Row],[PersonneId]]),SUMIFS(Honoraire[TotalHT],Honoraire[ClientId],Personne[[#This Row],[PersonneId]]))","v":0},{"$f":"Personne[[#This Row],[Facture (HT)]]+ROW()/100000","v":5.5700000000000003E-3},{"$f":"_xlfn.CONCAT(Personne[[#This Row],[Adresse]],\" \",Personne[[#This Row],[CodePostal]],\" \",Personne[[#This Row],[Ville]],\" \",Personne[[#This Row],[CodePays]])","v":"   "}]
[null,null,null,null,null,null,null,null,null,null,null,null,null,null,null,null,null,null,null,null,null,null,null,null,null,null,null,null,null,null,{"$f":"IF(PARAMETRES!$B$3=\"SANS\",SUMIFS(Honoraire[TotalHonoraireHT],Honoraire[ClientId],Personne[[#This Row],[PersonneId]]),SUMIFS(Honoraire[TotalHT],Honoraire[ClientId],Personne[[#This Row],[PersonneId]]))","v":0},{"$f":"Personne[[#This Row],[Facture (HT)]]+ROW()/100000","v":5.5799999999999999E-3},{"$f":"_xlfn.CONCAT(Personne[[#This Row],[Adresse]],\" \",Personne[[#This Row],[CodePostal]],\" \",Personne[[#This Row],[Ville]],\" \",Personne[[#This Row],[CodePays]])","v":"   "}]
[null,null,null,null,null,null,null,null,null,null,null,null,null,null,null,null,null,null,null,null,null,null,null,null,null,null,null,null,null,null,{"$f":"IF(PARAMETRES!$B$3=\"SANS\",SUMIFS(Honoraire[TotalHonoraireHT],Honoraire[ClientId],Personne[[#This Row],[PersonneId]]),SUMIFS(Honoraire[TotalHT],Honoraire[ClientId],Personne[[#This Row],[PersonneId]]))","v":0},{"$f":"Personne[[#This Row],[Facture (HT)]]+ROW()/100000","v":5.5900000000000004E-3},{"$f":"_xlfn.CONCAT(Personne[[#This Row],[Adresse]],\" \",Personne[[#This Row],[CodePostal]],\" \",Personne[[#This Row],[Ville]],\" \",Personne[[#This Row],[CodePays]])","v":"   "}]
[null,null,null,null,null,null,null,null,null,null,null,null,null,null,null,null,null,null,null,null,null,null,null,null,null,null,null,null,null,null,{"$f":"IF(PARAMETRES!$B$3=\"SANS\",SUMIFS(Honoraire[TotalHonoraireHT],Honoraire[ClientId],Personne[[#This Row],[PersonneId]]),SUMIFS(Honoraire[TotalHT],Honoraire[ClientId],Personne[[#This Row],[PersonneId]]))","v":0},{"$f":"Personne[[#This Row],[Facture (HT)]]+ROW()/100000","v":5.5999999999999999E-3},{"$f":"_xlfn.CONCAT(Personne[[#This Row],[Adresse]],\" \",Personne[[#This Row],[CodePostal]],\" \",Personne[[#This Row],[Ville]],\" \",Personne[[#This Row],[CodePays]])","v":"   "}]
[null,null,null,null,null,null,null,null,null,null,null,null,null,null,null,null,null,null,null,null,null,null,null,null,null,null,null,null,null,null,{"$f":"IF(PARAMETRES!$B$3=\"SANS\",SUMIFS(Honoraire[TotalHonoraireHT],Honoraire[ClientId],Personne[[#This Row],[PersonneId]]),SUMIFS(Honoraire[TotalHT],Honoraire[ClientId],Personne[[#This Row],[PersonneId]]))","v":0},{"$f":"Personne[[#This Row],[Facture (HT)]]+ROW()/100000","v":5.6100000000000004E-3},{"$f":"_xlfn.CONCAT(Personne[[#This Row],[Adresse]],\" \",Personne[[#This Row],[CodePostal]],\" \",Personne[[#This Row],[Ville]],\" \",Personne[[#This Row],[CodePays]])","v":"   "}]
[null,null,null,null,null,null,null,null,null,null,null,null,null,null,null,null,null,null,null,null,null,null,null,null,null,null,null,null,null,null,{"$f":"IF(PARAMETRES!$B$3=\"SANS\",SUMIFS(Honoraire[TotalHonoraireHT],Honoraire[ClientId],Personne[[#This Row],[PersonneId]]),SUMIFS(Honoraire[TotalHT],Honoraire[ClientId],Personne[[#This Row],[PersonneId]]))","v":0},{"$f":"Personne[[#This Row],[Facture (HT)]]+ROW()/100000","v":5.62E-3},{"$f":"_xlfn.CONCAT(Personne[[#This Row],[Adresse]],\" \",Personne[[#This Row],[CodePostal]],\" \",Personne[[#This Row],[Ville]],\" \",Personne[[#This Row],[CodePays]])","v":"   "}]
[null,null,null,null,null,null,null,null,null,null,null,null,null,null,null,null,null,null,null,null,null,null,null,null,null,null,null,null,null,null,{"$f":"IF(PARAMETRES!$B$3=\"SANS\",SUMIFS(Honoraire[TotalHonoraireHT],Honoraire[ClientId],Personne[[#This Row],[PersonneId]]),SUMIFS(Honoraire[TotalHT],Honoraire[ClientId],Personne[[#This Row],[PersonneId]]))","v":0},{"$f":"Personne[[#This Row],[Facture (HT)]]+ROW()/100000","v":5.6299999999999996E-3},{"$f":"_xlfn.CONCAT(Personne[[#This Row],[Adresse]],\" \",Personne[[#This Row],[CodePostal]],\" \",Personne[[#This Row],[Ville]],\" \",Personne[[#This Row],[CodePays]])","v":"   "}]
[null,null,null,null,null,null,null,null,null,null,null,null,null,null,null,null,null,null,null,null,null,null,null,null,null,null,null,null,null,null,{"$f":"IF(PARAMETRES!$B$3=\"SANS\",SUMIFS(Honoraire[TotalHonoraireHT],Honoraire[ClientId],Personne[[#This Row],[PersonneId]]),SUMIFS(Honoraire[TotalHT],Honoraire[ClientId],Personne[[#This Row],[PersonneId]]))","v":0},{"$f":"Personne[[#This Row],[Facture (HT)]]+ROW()/100000","v":5.64E-3},{"$f":"_xlfn.CONCAT(Personne[[#This Row],[Adresse]],\" \",Personne[[#This Row],[CodePostal]],\" \",Personne[[#This Row],[Ville]],\" \",Personne[[#This Row],[CodePays]])","v":"   "}]
[null,null,null,null,null,null,null,null,null,null,null,null,null,null,null,null,null,null,null,null,null,null,null,null,null,null,null,null,null,null,{"$f":"IF(PARAMETRES!$B$3=\"SANS\",SUMIFS(Honoraire[TotalHonoraireHT],Honoraire[ClientId],Personne[[#This Row],[PersonneId]]),SUMIFS(Honoraire[TotalHT],Honoraire[ClientId],Personne[[#This Row],[PersonneId]]))","v":0},{"$f":"Personne[[#This Row],[Facture (HT)]]+ROW()/100000","v":5.6499999999999996E-3},{"$f":"_xlfn.CONCAT(Personne[[#This Row],[Adresse]],\" \",Personne[[#This Row],[CodePostal]],\" \",Personne[[#This Row],[Ville]],\" \",Personne[[#This Row],[CodePays]])","v":"   "}]
[null,null,null,null,null,null,null,null,null,null,null,null,null,null,null,null,null,null,null,null,null,null,null,null,null,null,null,null,null,null,{"$f":"IF(PARAMETRES!$B$3=\"SANS\",SUMIFS(Honoraire[TotalHonoraireHT],Honoraire[ClientId],Personne[[#This Row],[PersonneId]]),SUMIFS(Honoraire[TotalHT],Honoraire[ClientId],Personne[[#This Row],[PersonneId]]))","v":0},{"$f":"Personne[[#This Row],[Facture (HT)]]+ROW()/100000","v":5.6600000000000001E-3},{"$f":"_xlfn.CONCAT(Personne[[#This Row],[Adresse]],\" \",Personne[[#This Row],[CodePostal]],\" \",Personne[[#This Row],[Ville]],\" \",Personne[[#This Row],[CodePays]])","v":"   "}]
[null,null,null,null,null,null,null,null,null,null,null,null,null,null,null,null,null,null,null,null,null,null,null,null,null,null,null,null,null,null,{"$f":"IF(PARAMETRES!$B$3=\"SANS\",SUMIFS(Honoraire[TotalHonoraireHT],Honoraire[ClientId],Personne[[#This Row],[PersonneId]]),SUMIFS(Honoraire[TotalHT],Honoraire[ClientId],Personne[[#This Row],[PersonneId]]))","v":0},{"$f":"Personne[[#This Row],[Facture (HT)]]+ROW()/100000","v":5.6699999999999997E-3},{"$f":"_xlfn.CONCAT(Personne[[#This Row],[Adresse]],\" \",Personne[[#This Row],[CodePostal]],\" \",Personne[[#This Row],[Ville]],\" \",Personne[[#This Row],[CodePays]])","v":"   "}]
[null,null,null,null,null,null,null,null,null,null,null,null,null,null,null,null,null,null,null,null,null,null,null,null,null,null,null,null,null,null,{"$f":"IF(PARAMETRES!$B$3=\"SANS\",SUMIFS(Honoraire[TotalHonoraireHT],Honoraire[ClientId],Personne[[#This Row],[PersonneId]]),SUMIFS(Honoraire[TotalHT],Honoraire[ClientId],Personne[[#This Row],[PersonneId]]))","v":0},{"$f":"Personne[[#This Row],[Facture (HT)]]+ROW()/100000","v":5.6800000000000002E-3},{"$f":"_xlfn.CONCAT(Personne[[#This Row],[Adresse]],\" \",Personne[[#This Row],[CodePostal]],\" \",Personne[[#This Row],[Ville]],\" \",Personne[[#This Row],[CodePays]])","v":"   "}]
[null,null,null,null,null,null,null,null,null,null,null,null,null,null,null,null,null,null,null,null,null,null,null,null,null,null,null,null,null,null,{"$f":"IF(PARAMETRES!$B$3=\"SANS\",SUMIFS(Honoraire[TotalHonoraireHT],Honoraire[ClientId],Personne[[#This Row],[PersonneId]]),SUMIFS(Honoraire[TotalHT],Honoraire[ClientId],Personne[[#This Row],[PersonneId]]))","v":0},{"$f":"Personne[[#This Row],[Facture (HT)]]+ROW()/100000","v":5.6899999999999997E-3},{"$f":"_xlfn.CONCAT(Personne[[#This Row],[Adresse]],\" \",Personne[[#This Row],[CodePostal]],\" \",Personne[[#This Row],[Ville]],\" \",Personne[[#This Row],[CodePays]])","v":"   "}]
[null,null,null,null,null,null,null,null,null,null,null,null,null,null,null,null,null,null,null,null,null,null,null,null,null,null,null,null,null,null,{"$f":"IF(PARAMETRES!$B$3=\"SANS\",SUMIFS(Honoraire[TotalHonoraireHT],Honoraire[ClientId],Personne[[#This Row],[PersonneId]]),SUMIFS(Honoraire[TotalHT],Honoraire[ClientId],Personne[[#This Row],[PersonneId]]))","v":0},{"$f":"Personne[[#This Row],[Facture (HT)]]+ROW()/100000","v":5.7000000000000002E-3},{"$f":"_xlfn.CONCAT(Personne[[#This Row],[Adresse]],\" \",Personne[[#This Row],[CodePostal]],\" \",Personne[[#This Row],[Ville]],\" \",Personne[[#This Row],[CodePays]])","v":"   "}]
[null,null,null,null,null,null,null,null,null,null,null,null,null,null,null,null,null,null,null,null,null,null,null,null,null,null,null,null,null,null,{"$f":"IF(PARAMETRES!$B$3=\"SANS\",SUMIFS(Honoraire[TotalHonoraireHT],Honoraire[ClientId],Personne[[#This Row],[PersonneId]]),SUMIFS(Honoraire[TotalHT],Honoraire[ClientId],Personne[[#This Row],[PersonneId]]))","v":0},{"$f":"Personne[[#This Row],[Facture (HT)]]+ROW()/100000","v":5.7099999999999998E-3},{"$f":"_xlfn.CONCAT(Personne[[#This Row],[Adresse]],\" \",Personne[[#This Row],[CodePostal]],\" \",Personne[[#This Row],[Ville]],\" \",Personne[[#This Row],[CodePays]])","v":"   "}]
[null,null,null,null,null,null,null,null,null,null,null,null,null,null,null,null,null,null,null,null,null,null,null,null,null,null,null,null,null,null,{"$f":"IF(PARAMETRES!$B$3=\"SANS\",SUMIFS(Honoraire[TotalHonoraireHT],Honoraire[ClientId],Personne[[#This Row],[PersonneId]]),SUMIFS(Honoraire[TotalHT],Honoraire[ClientId],Personne[[#This Row],[PersonneId]]))","v":0},{"$f":"Personne[[#This Row],[Facture (HT)]]+ROW()/100000","v":5.7200000000000003E-3},{"$f":"_xlfn.CONCAT(Personne[[#This Row],[Adresse]],\" \",Personne[[#This Row],[CodePostal]],\" \",Personne[[#This Row],[Ville]],\" \",Personne[[#This Row],[CodePays]])","v":"   "}]
[null,null,null,null,null,null,null,null,null,null,null,null,null,null,null,null,null,null,null,null,null,null,null,null,null,null,null,null,null,null,{"$f":"IF(PARAMETRES!$B$3=\"SANS\",SUMIFS(Honoraire[TotalHonoraireHT],Honoraire[ClientId],Personne[[#This Row],[PersonneId]]),SUMIFS(Honoraire[TotalHT],Honoraire[ClientId],Personne[[#This Row],[PersonneId]]))","v":0},{"$f":"Personne[[#This Row],[Facture (HT)]]+ROW()/100000","v":5.7299999999999999E-3},{"$f":"_xlfn.CONCAT(Personne[[#This Row],[Adresse]],\" \",Personne[[#This Row],[CodePostal]],\" \",Personne[[#This Row],[Ville]],\" \",Personne[[#This Row],[CodePays]])","v":"   "}]
[null,null,null,null,null,null,null,null,null,null,null,null,null,null,null,null,null,null,null,null,null,null,null,null,null,null,null,null,null,null,{"$f":"IF(PARAMETRES!$B$3=\"SANS\",SUMIFS(Honoraire[TotalHonoraireHT],Honoraire[ClientId],Personne[[#This Row],[PersonneId]]),SUMIFS(Honoraire[TotalHT],Honoraire[ClientId],Personne[[#This Row],[PersonneId]]))","v":0},{"$f":"Personne[[#This Row],[Facture (HT)]]+ROW()/100000","v":5.7400000000000003E-3},{"$f":"_xlfn.CONCAT(Personne[[#This Row],[Adresse]],\" \",Personne[[#This Row],[CodePostal]],\" \",Personne[[#This Row],[Ville]],\" \",Personne[[#This Row],[CodePays]])","v":"   "}]
[null,null,null,null,null,null,null,null,null,null,null,null,null,null,null,null,null,null,null,null,null,null,null,null,null,null,null,null,null,null,{"$f":"IF(PARAMETRES!$B$3=\"SANS\",SUMIFS(Honoraire[TotalHonoraireHT],Honoraire[ClientId],Personne[[#This Row],[PersonneId]]),SUMIFS(Honoraire[TotalHT],Honoraire[ClientId],Personne[[#This Row],[PersonneId]]))","v":0},{"$f":"Personne[[#This Row],[Facture (HT)]]+ROW()/100000","v":5.7499999999999999E-3},{"$f":"_xlfn.CONCAT(Personne[[#This Row],[Adresse]],\" \",Personne[[#This Row],[CodePostal]],\" \",Personne[[#This Row],[Ville]],\" \",Personne[[#This Row],[CodePays]])","v":"   "}]
[null,null,null,null,null,null,null,null,null,null,null,null,null,null,null,null,null,null,null,null,null,null,null,null,null,null,null,null,null,null,{"$f":"IF(PARAMETRES!$B$3=\"SANS\",SUMIFS(Honoraire[TotalHonoraireHT],Honoraire[ClientId],Personne[[#This Row],[PersonneId]]),SUMIFS(Honoraire[TotalHT],Honoraire[ClientId],Personne[[#This Row],[PersonneId]]))","v":0},{"$f":"Personne[[#This Row],[Facture (HT)]]+ROW()/100000","v":5.7600000000000004E-3},{"$f":"_xlfn.CONCAT(Personne[[#This Row],[Adresse]],\" \",Personne[[#This Row],[CodePostal]],\" \",Personne[[#This Row],[Ville]],\" \",Personne[[#This Row],[CodePays]])","v":"   "}]
[null,null,null,null,null,null,null,null,null,null,null,null,null,null,null,null,null,null,null,null,null,null,null,null,null,null,null,null,null,null,{"$f":"IF(PARAMETRES!$B$3=\"SANS\",SUMIFS(Honoraire[TotalHonoraireHT],Honoraire[ClientId],Personne[[#This Row],[PersonneId]]),SUMIFS(Honoraire[TotalHT],Honoraire[ClientId],Personne[[#This Row],[PersonneId]]))","v":0},{"$f":"Personne[[#This Row],[Facture (HT)]]+ROW()/100000","v":5.77E-3},{"$f":"_xlfn.CONCAT(Personne[[#This Row],[Adresse]],\" \",Personne[[#This Row],[CodePostal]],\" \",Personne[[#This Row],[Ville]],\" \",Personne[[#This Row],[CodePays]])","v":"   "}]
[null,null,null,null,null,null,null,null,null,null,null,null,null,null,null,null,null,null,null,null,null,null,null,null,null,null,null,null,null,null,{"$f":"IF(PARAMETRES!$B$3=\"SANS\",SUMIFS(Honoraire[TotalHonoraireHT],Honoraire[ClientId],Personne[[#This Row],[PersonneId]]),SUMIFS(Honoraire[TotalHT],Honoraire[ClientId],Personne[[#This Row],[PersonneId]]))","v":0},{"$f":"Personne[[#This Row],[Facture (HT)]]+ROW()/100000","v":5.7800000000000004E-3},{"$f":"_xlfn.CONCAT(Personne[[#This Row],[Adresse]],\" \",Personne[[#This Row],[CodePostal]],\" \",Personne[[#This Row],[Ville]],\" \",Personne[[#This Row],[CodePays]])","v":"   "}]
[null,null,null,null,null,null,null,null,null,null,null,null,null,null,null,null,null,null,null,null,null,null,null,null,null,null,null,null,null,null,{"$f":"IF(PARAMETRES!$B$3=\"SANS\",SUMIFS(Honoraire[TotalHonoraireHT],Honoraire[ClientId],Personne[[#This Row],[PersonneId]]),SUMIFS(Honoraire[TotalHT],Honoraire[ClientId],Personne[[#This Row],[PersonneId]]))","v":0},{"$f":"Personne[[#This Row],[Facture (HT)]]+ROW()/100000","v":5.79E-3},{"$f":"_xlfn.CONCAT(Personne[[#This Row],[Adresse]],\" \",Personne[[#This Row],[CodePostal]],\" \",Personne[[#This Row],[Ville]],\" \",Personne[[#This Row],[CodePays]])","v":"   "}]
[null,null,null,null,null,null,null,null,null,null,null,null,null,null,null,null,null,null,null,null,null,null,null,null,null,null,null,null,null,null,{"$f":"IF(PARAMETRES!$B$3=\"SANS\",SUMIFS(Honoraire[TotalHonoraireHT],Honoraire[ClientId],Personne[[#This Row],[PersonneId]]),SUMIFS(Honoraire[TotalHT],Honoraire[ClientId],Personne[[#This Row],[PersonneId]]))","v":0},{"$f":"Personne[[#This Row],[Facture (HT)]]+ROW()/100000","v":5.7999999999999996E-3},{"$f":"_xlfn.CONCAT(Personne[[#This Row],[Adresse]],\" \",Personne[[#This Row],[CodePostal]],\" \",Personne[[#This Row],[Ville]],\" \",Personne[[#This Row],[CodePays]])","v":"   "}]
[null,null,null,null,null,null,null,null,null,null,null,null,null,null,null,null,null,null,null,null,null,null,null,null,null,null,null,null,null,null,{"$f":"IF(PARAMETRES!$B$3=\"SANS\",SUMIFS(Honoraire[TotalHonoraireHT],Honoraire[ClientId],Personne[[#This Row],[PersonneId]]),SUMIFS(Honoraire[TotalHT],Honoraire[ClientId],Personne[[#This Row],[PersonneId]]))","v":0},{"$f":"Personne[[#This Row],[Facture (HT)]]+ROW()/100000","v":5.8100000000000001E-3},{"$f":"_xlfn.CONCAT(Personne[[#This Row],[Adresse]],\" \",Personne[[#This Row],[CodePostal]],\" \",Personne[[#This Row],[Ville]],\" \",Personne[[#This Row],[CodePays]])","v":"   "}]
[null,null,null,null,null,null,null,null,null,null,null,null,null,null,null,null,null,null,null,null,null,null,null,null,null,null,null,null,null,null,{"$f":"IF(PARAMETRES!$B$3=\"SANS\",SUMIFS(Honoraire[TotalHonoraireHT],Honoraire[ClientId],Personne[[#This Row],[PersonneId]]),SUMIFS(Honoraire[TotalHT],Honoraire[ClientId],Personne[[#This Row],[PersonneId]]))","v":0},{"$f":"Personne[[#This Row],[Facture (HT)]]+ROW()/100000","v":5.8199999999999997E-3},{"$f":"_xlfn.CONCAT(Personne[[#This Row],[Adresse]],\" \",Personne[[#This Row],[CodePostal]],\" \",Personne[[#This Row],[Ville]],\" \",Personne[[#This Row],[CodePays]])","v":"   "}]
[null,null,null,null,null,null,null,null,null,null,null,null,null,null,null,null,null,null,null,null,null,null,null,null,null,null,null,null,null,null,{"$f":"IF(PARAMETRES!$B$3=\"SANS\",SUMIFS(Honoraire[TotalHonoraireHT],Honoraire[ClientId],Personne[[#This Row],[PersonneId]]),SUMIFS(Honoraire[TotalHT],Honoraire[ClientId],Personne[[#This Row],[PersonneId]]))","v":0},{"$f":"Personne[[#This Row],[Facture (HT)]]+ROW()/100000","v":5.8300000000000001E-3},{"$f":"_xlfn.CONCAT(Personne[[#This Row],[Adresse]],\" \",Personne[[#This Row],[CodePostal]],\" \",Personne[[#This Row],[Ville]],\" \",Personne[[#This Row],[CodePays]])","v":"   "}]
[null,null,null,null,null,null,null,null,null,null,null,null,null,null,null,null,null,null,null,null,null,null,null,null,null,null,null,null,null,null,{"$f":"IF(PARAMETRES!$B$3=\"SANS\",SUMIFS(Honoraire[TotalHonoraireHT],Honoraire[ClientId],Personne[[#This Row],[PersonneId]]),SUMIFS(Honoraire[TotalHT],Honoraire[ClientId],Personne[[#This Row],[PersonneId]]))","v":0},{"$f":"Personne[[#This Row],[Facture (HT)]]+ROW()/100000","v":5.8399999999999997E-3},{"$f":"_xlfn.CONCAT(Personne[[#This Row],[Adresse]],\" \",Personne[[#This Row],[CodePostal]],\" \",Personne[[#This Row],[Ville]],\" \",Personne[[#This Row],[CodePays]])","v":"   "}]
[null,null,null,null,null,null,null,null,null,null,null,null,null,null,null,null,null,null,null,null,null,null,null,null,null,null,null,null,null,null,{"$f":"IF(PARAMETRES!$B$3=\"SANS\",SUMIFS(Honoraire[TotalHonoraireHT],Honoraire[ClientId],Personne[[#This Row],[PersonneId]]),SUMIFS(Honoraire[TotalHT],Honoraire[ClientId],Personne[[#This Row],[PersonneId]]))","v":0},{"$f":"Personne[[#This Row],[Facture (HT)]]+ROW()/100000","v":5.8500000000000002E-3},{"$f":"_xlfn.CONCAT(Personne[[#This Row],[Adresse]],\" \",Personne[[#This Row],[CodePostal]],\" \",Personne[[#This Row],[Ville]],\" \",Personne[[#This Row],[CodePays]])","v":"   "}]
[null,null,null,null,null,null,null,null,null,null,null,null,null,null,null,null,null,null,null,null,null,null,null,null,null,null,null,null,null,null,{"$f":"IF(PARAMETRES!$B$3=\"SANS\",SUMIFS(Honoraire[TotalHonoraireHT],Honoraire[ClientId],Personne[[#This Row],[PersonneId]]),SUMIFS(Honoraire[TotalHT],Honoraire[ClientId],Personne[[#This Row],[PersonneId]]))","v":0},{"$f":"Personne[[#This Row],[Facture (HT)]]+ROW()/100000","v":5.8599999999999998E-3},{"$f":"_xlfn.CONCAT(Personne[[#This Row],[Adresse]],\" \",Personne[[#This Row],[CodePostal]],\" \",Personne[[#This Row],[Ville]],\" \",Personne[[#This Row],[CodePays]])","v":"   "}]
[null,null,null,null,null,null,null,null,null,null,null,null,null,null,null,null,null,null,null,null,null,null,null,null,null,null,null,null,null,null,{"$f":"IF(PARAMETRES!$B$3=\"SANS\",SUMIFS(Honoraire[TotalHonoraireHT],Honoraire[ClientId],Personne[[#This Row],[PersonneId]]),SUMIFS(Honoraire[TotalHT],Honoraire[ClientId],Personne[[#This Row],[PersonneId]]))","v":0},{"$f":"Personne[[#This Row],[Facture (HT)]]+ROW()/100000","v":5.8700000000000002E-3},{"$f":"_xlfn.CONCAT(Personne[[#This Row],[Adresse]],\" \",Personne[[#This Row],[CodePostal]],\" \",Personne[[#This Row],[Ville]],\" \",Personne[[#This Row],[CodePays]])","v":"   "}]
[null,null,null,null,null,null,null,null,null,null,null,null,null,null,null,null,null,null,null,null,null,null,null,null,null,null,null,null,null,null,{"$f":"IF(PARAMETRES!$B$3=\"SANS\",SUMIFS(Honoraire[TotalHonoraireHT],Honoraire[ClientId],Personne[[#This Row],[PersonneId]]),SUMIFS(Honoraire[TotalHT],Honoraire[ClientId],Personne[[#This Row],[PersonneId]]))","v":0},{"$f":"Personne[[#This Row],[Facture (HT)]]+ROW()/100000","v":5.8799999999999998E-3},{"$f":"_xlfn.CONCAT(Personne[[#This Row],[Adresse]],\" \",Personne[[#This Row],[CodePostal]],\" \",Personne[[#This Row],[Ville]],\" \",Personne[[#This Row],[CodePays]])","v":"   "}]
[null,null,null,null,null,null,null,null,null,null,null,null,null,null,null,null,null,null,null,null,null,null,null,null,null,null,null,null,null,null,{"$f":"IF(PARAMETRES!$B$3=\"SANS\",SUMIFS(Honoraire[TotalHonoraireHT],Honoraire[ClientId],Personne[[#This Row],[PersonneId]]),SUMIFS(Honoraire[TotalHT],Honoraire[ClientId],Personne[[#This Row],[PersonneId]]))","v":0},{"$f":"Personne[[#This Row],[Facture (HT)]]+ROW()/100000","v":5.8900000000000003E-3},{"$f":"_xlfn.CONCAT(Personne[[#This Row],[Adresse]],\" \",Personne[[#This Row],[CodePostal]],\" \",Personne[[#This Row],[Ville]],\" \",Personne[[#This Row],[CodePays]])","v":"   "}]
[null,null,null,null,null,null,null,null,null,null,null,null,null,null,null,null,null,null,null,null,null,null,null,null,null,null,null,null,null,null,{"$f":"IF(PARAMETRES!$B$3=\"SANS\",SUMIFS(Honoraire[TotalHonoraireHT],Honoraire[ClientId],Personne[[#This Row],[PersonneId]]),SUMIFS(Honoraire[TotalHT],Honoraire[ClientId],Personne[[#This Row],[PersonneId]]))","v":0},{"$f":"Personne[[#This Row],[Facture (HT)]]+ROW()/100000","v":5.8999999999999999E-3},{"$f":"_xlfn.CONCAT(Personne[[#This Row],[Adresse]],\" \",Personne[[#This Row],[CodePostal]],\" \",Personne[[#This Row],[Ville]],\" \",Personne[[#This Row],[CodePays]])","v":"   "}]
[null,null,null,null,null,null,null,null,null,null,null,null,null,null,null,null,null,null,null,null,null,null,null,null,null,null,null,null,null,null,{"$f":"IF(PARAMETRES!$B$3=\"SANS\",SUMIFS(Honoraire[TotalHonoraireHT],Honoraire[ClientId],Personne[[#This Row],[PersonneId]]),SUMIFS(Honoraire[TotalHT],Honoraire[ClientId],Personne[[#This Row],[PersonneId]]))","v":0},{"$f":"Personne[[#This Row],[Facture (HT)]]+ROW()/100000","v":5.9100000000000003E-3},{"$f":"_xlfn.CONCAT(Personne[[#This Row],[Adresse]],\" \",Personne[[#This Row],[CodePostal]],\" \",Personne[[#This Row],[Ville]],\" \",Personne[[#This Row],[CodePays]])","v":"   "}]
[null,null,null,null,null,null,null,null,null,null,null,null,null,null,null,null,null,null,null,null,null,null,null,null,null,null,null,null,null,null,{"$f":"IF(PARAMETRES!$B$3=\"SANS\",SUMIFS(Honoraire[TotalHonoraireHT],Honoraire[ClientId],Personne[[#This Row],[PersonneId]]),SUMIFS(Honoraire[TotalHT],Honoraire[ClientId],Personne[[#This Row],[PersonneId]]))","v":0},{"$f":"Personne[[#This Row],[Facture (HT)]]+ROW()/100000","v":5.9199999999999999E-3},{"$f":"_xlfn.CONCAT(Personne[[#This Row],[Adresse]],\" \",Personne[[#This Row],[CodePostal]],\" \",Personne[[#This Row],[Ville]],\" \",Personne[[#This Row],[CodePays]])","v":"   "}]
[null,null,null,null,null,null,null,null,null,null,null,null,null,null,null,null,null,null,null,null,null,null,null,null,null,null,null,null,null,null,{"$f":"IF(PARAMETRES!$B$3=\"SANS\",SUMIFS(Honoraire[TotalHonoraireHT],Honoraire[ClientId],Personne[[#This Row],[PersonneId]]),SUMIFS(Honoraire[TotalHT],Honoraire[ClientId],Personne[[#This Row],[PersonneId]]))","v":0},{"$f":"Personne[[#This Row],[Facture (HT)]]+ROW()/100000","v":5.9300000000000004E-3},{"$f":"_xlfn.CONCAT(Personne[[#This Row],[Adresse]],\" \",Personne[[#This Row],[CodePostal]],\" \",Personne[[#This Row],[Ville]],\" \",Personne[[#This Row],[CodePays]])","v":"   "}]
[null,null,null,null,null,null,null,null,null,null,null,null,null,null,null,null,null,null,null,null,null,null,null,null,null,null,null,null,null,null,{"$f":"IF(PARAMETRES!$B$3=\"SANS\",SUMIFS(Honoraire[TotalHonoraireHT],Honoraire[ClientId],Personne[[#This Row],[PersonneId]]),SUMIFS(Honoraire[TotalHT],Honoraire[ClientId],Personne[[#This Row],[PersonneId]]))","v":0},{"$f":"Personne[[#This Row],[Facture (HT)]]+ROW()/100000","v":5.94E-3},{"$f":"_xlfn.CONCAT(Personne[[#This Row],[Adresse]],\" \",Personne[[#This Row],[CodePostal]],\" \",Personne[[#This Row],[Ville]],\" \",Personne[[#This Row],[CodePays]])","v":"   "}]
[null,null,null,null,null,null,null,null,null,null,null,null,null,null,null,null,null,null,null,null,null,null,null,null,null,null,null,null,null,null,{"$f":"IF(PARAMETRES!$B$3=\"SANS\",SUMIFS(Honoraire[TotalHonoraireHT],Honoraire[ClientId],Personne[[#This Row],[PersonneId]]),SUMIFS(Honoraire[TotalHT],Honoraire[ClientId],Personne[[#This Row],[PersonneId]]))","v":0},{"$f":"Personne[[#This Row],[Facture (HT)]]+ROW()/100000","v":5.9500000000000004E-3},{"$f":"_xlfn.CONCAT(Personne[[#This Row],[Adresse]],\" \",Personne[[#This Row],[CodePostal]],\" \",Personne[[#This Row],[Ville]],\" \",Personne[[#This Row],[CodePays]])","v":"   "}]
[null,null,null,null,null,null,null,null,null,null,null,null,null,null,null,null,null,null,null,null,null,null,null,null,null,null,null,null,null,null,{"$f":"IF(PARAMETRES!$B$3=\"SANS\",SUMIFS(Honoraire[TotalHonoraireHT],Honoraire[ClientId],Personne[[#This Row],[PersonneId]]),SUMIFS(Honoraire[TotalHT],Honoraire[ClientId],Personne[[#This Row],[PersonneId]]))","v":0},{"$f":"Personne[[#This Row],[Facture (HT)]]+ROW()/100000","v":5.96E-3},{"$f":"_xlfn.CONCAT(Personne[[#This Row],[Adresse]],\" \",Personne[[#This Row],[CodePostal]],\" \",Personne[[#This Row],[Ville]],\" \",Personne[[#This Row],[CodePays]])","v":"   "}]
[null,null,null,null,null,null,null,null,null,null,null,null,null,null,null,null,null,null,null,null,null,null,null,null,null,null,null,null,null,null,{"$f":"IF(PARAMETRES!$B$3=\"SANS\",SUMIFS(Honoraire[TotalHonoraireHT],Honoraire[ClientId],Personne[[#This Row],[PersonneId]]),SUMIFS(Honoraire[TotalHT],Honoraire[ClientId],Personne[[#This Row],[PersonneId]]))","v":0},{"$f":"Personne[[#This Row],[Facture (HT)]]+ROW()/100000","v":5.9699999999999996E-3},{"$f":"_xlfn.CONCAT(Personne[[#This Row],[Adresse]],\" \",Personne[[#This Row],[CodePostal]],\" \",Personne[[#This Row],[Ville]],\" \",Personne[[#This Row],[CodePays]])","v":"   "}]
[null,null,null,null,null,null,null,null,null,null,null,null,null,null,null,null,null,null,null,null,null,null,null,null,null,null,null,null,null,null,{"$f":"IF(PARAMETRES!$B$3=\"SANS\",SUMIFS(Honoraire[TotalHonoraireHT],Honoraire[ClientId],Personne[[#This Row],[PersonneId]]),SUMIFS(Honoraire[TotalHT],Honoraire[ClientId],Personne[[#This Row],[PersonneId]]))","v":0},{"$f":"Personne[[#This Row],[Facture (HT)]]+ROW()/100000","v":5.9800000000000001E-3},{"$f":"_xlfn.CONCAT(Personne[[#This Row],[Adresse]],\" \",Personne[[#This Row],[CodePostal]],\" \",Personne[[#This Row],[Ville]],\" \",Personne[[#This Row],[CodePays]])","v":"   "}]
[null,null,null,null,null,null,null,null,null,null,null,null,null,null,null,null,null,null,null,null,null,null,null,null,null,null,null,null,null,null,{"$f":"IF(PARAMETRES!$B$3=\"SANS\",SUMIFS(Honoraire[TotalHonoraireHT],Honoraire[ClientId],Personne[[#This Row],[PersonneId]]),SUMIFS(Honoraire[TotalHT],Honoraire[ClientId],Personne[[#This Row],[PersonneId]]))","v":0},{"$f":"Personne[[#This Row],[Facture (HT)]]+ROW()/100000","v":5.9899999999999997E-3},{"$f":"_xlfn.CONCAT(Personne[[#This Row],[Adresse]],\" \",Personne[[#This Row],[CodePostal]],\" \",Personne[[#This Row],[Ville]],\" \",Personne[[#This Row],[CodePays]])","v":"   "}]
[null,null,null,null,null,null,null,null,null,null,null,null,null,null,null,null,null,null,null,null,null,null,null,null,null,null,null,null,null,null,{"$f":"IF(PARAMETRES!$B$3=\"SANS\",SUMIFS(Honoraire[TotalHonoraireHT],Honoraire[ClientId],Personne[[#This Row],[PersonneId]]),SUMIFS(Honoraire[TotalHT],Honoraire[ClientId],Personne[[#This Row],[PersonneId]]))","v":0},{"$f":"Personne[[#This Row],[Facture (HT)]]+ROW()/100000","v":6.0000000000000001E-3},{"$f":"_xlfn.CONCAT(Personne[[#This Row],[Adresse]],\" \",Personne[[#This Row],[CodePostal]],\" \",Personne[[#This Row],[Ville]],\" \",Personne[[#This Row],[CodePays]])","v":"   "}]
[null,null,null,null,null,null,null,null,null,null,null,null,null,null,null,null,null,null,null,null,null,null,null,null,null,null,null,null,null,null,{"$f":"IF(PARAMETRES!$B$3=\"SANS\",SUMIFS(Honoraire[TotalHonoraireHT],Honoraire[ClientId],Personne[[#This Row],[PersonneId]]),SUMIFS(Honoraire[TotalHT],Honoraire[ClientId],Personne[[#This Row],[PersonneId]]))","v":0},{"$f":"Personne[[#This Row],[Facture (HT)]]+ROW()/100000","v":6.0099999999999997E-3},{"$f":"_xlfn.CONCAT(Personne[[#This Row],[Adresse]],\" \",Personne[[#This Row],[CodePostal]],\" \",Personne[[#This Row],[Ville]],\" \",Personne[[#This Row],[CodePays]])","v":"   "}]
[null,null,null,null,null,null,null,null,null,null,null,null,null,null,null,null,null,null,null,null,null,null,null,null,null,null,null,null,null,null,{"$f":"IF(PARAMETRES!$B$3=\"SANS\",SUMIFS(Honoraire[TotalHonoraireHT],Honoraire[ClientId],Personne[[#This Row],[PersonneId]]),SUMIFS(Honoraire[TotalHT],Honoraire[ClientId],Personne[[#This Row],[PersonneId]]))","v":0},{"$f":"Personne[[#This Row],[Facture (HT)]]+ROW()/100000","v":6.0200000000000002E-3},{"$f":"_xlfn.CONCAT(Personne[[#This Row],[Adresse]],\" \",Personne[[#This Row],[CodePostal]],\" \",Personne[[#This Row],[Ville]],\" \",Personne[[#This Row],[CodePays]])","v":"   "}]
[null,null,null,null,null,null,null,null,null,null,null,null,null,null,null,null,null,null,null,null,null,null,null,null,null,null,null,null,null,null,{"$f":"IF(PARAMETRES!$B$3=\"SANS\",SUMIFS(Honoraire[TotalHonoraireHT],Honoraire[ClientId],Personne[[#This Row],[PersonneId]]),SUMIFS(Honoraire[TotalHT],Honoraire[ClientId],Personne[[#This Row],[PersonneId]]))","v":0},{"$f":"Personne[[#This Row],[Facture (HT)]]+ROW()/100000","v":6.0299999999999998E-3},{"$f":"_xlfn.CONCAT(Personne[[#This Row],[Adresse]],\" \",Personne[[#This Row],[CodePostal]],\" \",Personne[[#This Row],[Ville]],\" \",Personne[[#This Row],[CodePays]])","v":"   "}]
[null,null,null,null,null,null,null,null,null,null,null,null,null,null,null,null,null,null,null,null,null,null,null,null,null,null,null,null,null,null,{"$f":"IF(PARAMETRES!$B$3=\"SANS\",SUMIFS(Honoraire[TotalHonoraireHT],Honoraire[ClientId],Personne[[#This Row],[PersonneId]]),SUMIFS(Honoraire[TotalHT],Honoraire[ClientId],Personne[[#This Row],[PersonneId]]))","v":0},{"$f":"Personne[[#This Row],[Facture (HT)]]+ROW()/100000","v":6.0400000000000002E-3},{"$f":"_xlfn.CONCAT(Personne[[#This Row],[Adresse]],\" \",Personne[[#This Row],[CodePostal]],\" \",Personne[[#This Row],[Ville]],\" \",Personne[[#This Row],[CodePays]])","v":"   "}]
[null,null,null,null,null,null,null,null,null,null,null,null,null,null,null,null,null,null,null,null,null,null,null,null,null,null,null,null,null,null,{"$f":"IF(PARAMETRES!$B$3=\"SANS\",SUMIFS(Honoraire[TotalHonoraireHT],Honoraire[ClientId],Personne[[#This Row],[PersonneId]]),SUMIFS(Honoraire[TotalHT],Honoraire[ClientId],Personne[[#This Row],[PersonneId]]))","v":0},{"$f":"Personne[[#This Row],[Facture (HT)]]+ROW()/100000","v":6.0499999999999998E-3},{"$f":"_xlfn.CONCAT(Personne[[#This Row],[Adresse]],\" \",Personne[[#This Row],[CodePostal]],\" \",Personne[[#This Row],[Ville]],\" \",Personne[[#This Row],[CodePays]])","v":"   "}]
[null,null,null,null,null,null,null,null,null,null,null,null,null,null,null,null,null,null,null,null,null,null,null,null,null,null,null,null,null,null,{"$f":"IF(PARAMETRES!$B$3=\"SANS\",SUMIFS(Honoraire[TotalHonoraireHT],Honoraire[ClientId],Personne[[#This Row],[PersonneId]]),SUMIFS(Honoraire[TotalHT],Honoraire[ClientId],Personne[[#This Row],[PersonneId]]))","v":0},{"$f":"Personne[[#This Row],[Facture (HT)]]+ROW()/100000","v":6.0600000000000003E-3},{"$f":"_xlfn.CONCAT(Personne[[#This Row],[Adresse]],\" \",Personne[[#This Row],[CodePostal]],\" \",Personne[[#This Row],[Ville]],\" \",Personne[[#This Row],[CodePays]])","v":"   "}]
[null,null,null,null,null,null,null,null,null,null,null,null,null,null,null,null,null,null,null,null,null,null,null,null,null,null,null,null,null,null,{"$f":"IF(PARAMETRES!$B$3=\"SANS\",SUMIFS(Honoraire[TotalHonoraireHT],Honoraire[ClientId],Personne[[#This Row],[PersonneId]]),SUMIFS(Honoraire[TotalHT],Honoraire[ClientId],Personne[[#This Row],[PersonneId]]))","v":0},{"$f":"Personne[[#This Row],[Facture (HT)]]+ROW()/100000","v":6.0699999999999999E-3},{"$f":"_xlfn.CONCAT(Personne[[#This Row],[Adresse]],\" \",Personne[[#This Row],[CodePostal]],\" \",Personne[[#This Row],[Ville]],\" \",Personne[[#This Row],[CodePays]])","v":"   "}]
[null,null,null,null,null,null,null,null,null,null,null,null,null,null,null,null,null,null,null,null,null,null,null,null,null,null,null,null,null,null,{"$f":"IF(PARAMETRES!$B$3=\"SANS\",SUMIFS(Honoraire[TotalHonoraireHT],Honoraire[ClientId],Personne[[#This Row],[PersonneId]]),SUMIFS(Honoraire[TotalHT],Honoraire[ClientId],Personne[[#This Row],[PersonneId]]))","v":0},{"$f":"Personne[[#This Row],[Facture (HT)]]+ROW()/100000","v":6.0800000000000003E-3},{"$f":"_xlfn.CONCAT(Personne[[#This Row],[Adresse]],\" \",Personne[[#This Row],[CodePostal]],\" \",Personne[[#This Row],[Ville]],\" \",Personne[[#This Row],[CodePays]])","v":"   "}]
[null,null,null,null,null,null,null,null,null,null,null,null,null,null,null,null,null,null,null,null,null,null,null,null,null,null,null,null,null,null,{"$f":"IF(PARAMETRES!$B$3=\"SANS\",SUMIFS(Honoraire[TotalHonoraireHT],Honoraire[ClientId],Personne[[#This Row],[PersonneId]]),SUMIFS(Honoraire[TotalHT],Honoraire[ClientId],Personne[[#This Row],[PersonneId]]))","v":0},{"$f":"Personne[[#This Row],[Facture (HT)]]+ROW()/100000","v":6.0899999999999999E-3},{"$f":"_xlfn.CONCAT(Personne[[#This Row],[Adresse]],\" \",Personne[[#This Row],[CodePostal]],\" \",Personne[[#This Row],[Ville]],\" \",Personne[[#This Row],[CodePays]])","v":"   "}]
[null,null,null,null,null,null,null,null,null,null,null,null,null,null,null,null,null,null,null,null,null,null,null,null,null,null,null,null,null,null,{"$f":"IF(PARAMETRES!$B$3=\"SANS\",SUMIFS(Honoraire[TotalHonoraireHT],Honoraire[ClientId],Personne[[#This Row],[PersonneId]]),SUMIFS(Honoraire[TotalHT],Honoraire[ClientId],Personne[[#This Row],[PersonneId]]))","v":0},{"$f":"Personne[[#This Row],[Facture (HT)]]+ROW()/100000","v":6.1000000000000004E-3},{"$f":"_xlfn.CONCAT(Personne[[#This Row],[Adresse]],\" \",Personne[[#This Row],[CodePostal]],\" \",Personne[[#This Row],[Ville]],\" \",Personne[[#This Row],[CodePays]])","v":"   "}]
[null,null,null,null,null,null,null,null,null,null,null,null,null,null,null,null,null,null,null,null,null,null,null,null,null,null,null,null,null,null,{"$f":"IF(PARAMETRES!$B$3=\"SANS\",SUMIFS(Honoraire[TotalHonoraireHT],Honoraire[ClientId],Personne[[#This Row],[PersonneId]]),SUMIFS(Honoraire[TotalHT],Honoraire[ClientId],Personne[[#This Row],[PersonneId]]))","v":0},{"$f":"Personne[[#This Row],[Facture (HT)]]+ROW()/100000","v":6.11E-3},{"$f":"_xlfn.CONCAT(Personne[[#This Row],[Adresse]],\" \",Personne[[#This Row],[CodePostal]],\" \",Personne[[#This Row],[Ville]],\" \",Personne[[#This Row],[CodePays]])","v":"   "}]
[null,null,null,null,null,null,null,null,null,null,null,null,null,null,null,null,null,null,null,null,null,null,null,null,null,null,null,null,null,null,{"$f":"IF(PARAMETRES!$B$3=\"SANS\",SUMIFS(Honoraire[TotalHonoraireHT],Honoraire[ClientId],Personne[[#This Row],[PersonneId]]),SUMIFS(Honoraire[TotalHT],Honoraire[ClientId],Personne[[#This Row],[PersonneId]]))","v":0},{"$f":"Personne[[#This Row],[Facture (HT)]]+ROW()/100000","v":6.1199999999999996E-3},{"$f":"_xlfn.CONCAT(Personne[[#This Row],[Adresse]],\" \",Personne[[#This Row],[CodePostal]],\" \",Personne[[#This Row],[Ville]],\" \",Personne[[#This Row],[CodePays]])","v":"   "}]
[null,null,null,null,null,null,null,null,null,null,null,null,null,null,null,null,null,null,null,null,null,null,null,null,null,null,null,null,null,null,{"$f":"IF(PARAMETRES!$B$3=\"SANS\",SUMIFS(Honoraire[TotalHonoraireHT],Honoraire[ClientId],Personne[[#This Row],[PersonneId]]),SUMIFS(Honoraire[TotalHT],Honoraire[ClientId],Personne[[#This Row],[PersonneId]]))","v":0},{"$f":"Personne[[#This Row],[Facture (HT)]]+ROW()/100000","v":6.13E-3},{"$f":"_xlfn.CONCAT(Personne[[#This Row],[Adresse]],\" \",Personne[[#This Row],[CodePostal]],\" \",Personne[[#This Row],[Ville]],\" \",Personne[[#This Row],[CodePays]])","v":"   "}]
[null,null,null,null,null,null,null,null,null,null,null,null,null,null,null,null,null,null,null,null,null,null,null,null,null,null,null,null,null,null,{"$f":"IF(PARAMETRES!$B$3=\"SANS\",SUMIFS(Honoraire[TotalHonoraireHT],Honoraire[ClientId],Personne[[#This Row],[PersonneId]]),SUMIFS(Honoraire[TotalHT],Honoraire[ClientId],Personne[[#This Row],[PersonneId]]))","v":0},{"$f":"Personne[[#This Row],[Facture (HT)]]+ROW()/100000","v":6.1399999999999996E-3},{"$f":"_xlfn.CONCAT(Personne[[#This Row],[Adresse]],\" \",Personne[[#This Row],[CodePostal]],\" \",Personne[[#This Row],[Ville]],\" \",Personne[[#This Row],[CodePays]])","v":"   "}]
[null,null,null,null,null,null,null,null,null,null,null,null,null,null,null,null,null,null,null,null,null,null,null,null,null,null,null,null,null,null,{"$f":"IF(PARAMETRES!$B$3=\"SANS\",SUMIFS(Honoraire[TotalHonoraireHT],Honoraire[ClientId],Personne[[#This Row],[PersonneId]]),SUMIFS(Honoraire[TotalHT],Honoraire[ClientId],Personne[[#This Row],[PersonneId]]))","v":0},{"$f":"Personne[[#This Row],[Facture (HT)]]+ROW()/100000","v":6.1500000000000001E-3},{"$f":"_xlfn.CONCAT(Personne[[#This Row],[Adresse]],\" \",Personne[[#This Row],[CodePostal]],\" \",Personne[[#This Row],[Ville]],\" \",Personne[[#This Row],[CodePays]])","v":"   "}]
[null,null,null,null,null,null,null,null,null,null,null,null,null,null,null,null,null,null,null,null,null,null,null,null,null,null,null,null,null,null,{"$f":"IF(PARAMETRES!$B$3=\"SANS\",SUMIFS(Honoraire[TotalHonoraireHT],Honoraire[ClientId],Personne[[#This Row],[PersonneId]]),SUMIFS(Honoraire[TotalHT],Honoraire[ClientId],Personne[[#This Row],[PersonneId]]))","v":0},{"$f":"Personne[[#This Row],[Facture (HT)]]+ROW()/100000","v":6.1599999999999997E-3},{"$f":"_xlfn.CONCAT(Personne[[#This Row],[Adresse]],\" \",Personne[[#This Row],[CodePostal]],\" \",Personne[[#This Row],[Ville]],\" \",Personne[[#This Row],[CodePays]])","v":"   "}]
[null,null,null,null,null,null,null,null,null,null,null,null,null,null,null,null,null,null,null,null,null,null,null,null,null,null,null,null,null,null,{"$f":"IF(PARAMETRES!$B$3=\"SANS\",SUMIFS(Honoraire[TotalHonoraireHT],Honoraire[ClientId],Personne[[#This Row],[PersonneId]]),SUMIFS(Honoraire[TotalHT],Honoraire[ClientId],Personne[[#This Row],[PersonneId]]))","v":0},{"$f":"Personne[[#This Row],[Facture (HT)]]+ROW()/100000","v":6.1700000000000001E-3},{"$f":"_xlfn.CONCAT(Personne[[#This Row],[Adresse]],\" \",Personne[[#This Row],[CodePostal]],\" \",Personne[[#This Row],[Ville]],\" \",Personne[[#This Row],[CodePays]])","v":"   "}]
[null,null,null,null,null,null,null,null,null,null,null,null,null,null,null,null,null,null,null,null,null,null,null,null,null,null,null,null,null,null,{"$f":"IF(PARAMETRES!$B$3=\"SANS\",SUMIFS(Honoraire[TotalHonoraireHT],Honoraire[ClientId],Personne[[#This Row],[PersonneId]]),SUMIFS(Honoraire[TotalHT],Honoraire[ClientId],Personne[[#This Row],[PersonneId]]))","v":0},{"$f":"Personne[[#This Row],[Facture (HT)]]+ROW()/100000","v":6.1799999999999997E-3},{"$f":"_xlfn.CONCAT(Personne[[#This Row],[Adresse]],\" \",Personne[[#This Row],[CodePostal]],\" \",Personne[[#This Row],[Ville]],\" \",Personne[[#This Row],[CodePays]])","v":"   "}]
[null,null,null,null,null,null,null,null,null,null,null,null,null,null,null,null,null,null,null,null,null,null,null,null,null,null,null,null,null,null,{"$f":"IF(PARAMETRES!$B$3=\"SANS\",SUMIFS(Honoraire[TotalHonoraireHT],Honoraire[ClientId],Personne[[#This Row],[PersonneId]]),SUMIFS(Honoraire[TotalHT],Honoraire[ClientId],Personne[[#This Row],[PersonneId]]))","v":0},{"$f":"Personne[[#This Row],[Facture (HT)]]+ROW()/100000","v":6.1900000000000002E-3},{"$f":"_xlfn.CONCAT(Personne[[#This Row],[Adresse]],\" \",Personne[[#This Row],[CodePostal]],\" \",Personne[[#This Row],[Ville]],\" \",Personne[[#This Row],[CodePays]])","v":"   "}]
[null,null,null,null,null,null,null,null,null,null,null,null,null,null,null,null,null,null,null,null,null,null,null,null,null,null,null,null,null,null,{"$f":"IF(PARAMETRES!$B$3=\"SANS\",SUMIFS(Honoraire[TotalHonoraireHT],Honoraire[ClientId],Personne[[#This Row],[PersonneId]]),SUMIFS(Honoraire[TotalHT],Honoraire[ClientId],Personne[[#This Row],[PersonneId]]))","v":0},{"$f":"Personne[[#This Row],[Facture (HT)]]+ROW()/100000","v":6.1999999999999998E-3},{"$f":"_xlfn.CONCAT(Personne[[#This Row],[Adresse]],\" \",Personne[[#This Row],[CodePostal]],\" \",Personne[[#This Row],[Ville]],\" \",Personne[[#This Row],[CodePays]])","v":"   "}]
[null,null,null,null,null,null,null,null,null,null,null,null,null,null,null,null,null,null,null,null,null,null,null,null,null,null,null,null,null,null,{"$f":"IF(PARAMETRES!$B$3=\"SANS\",SUMIFS(Honoraire[TotalHonoraireHT],Honoraire[ClientId],Personne[[#This Row],[PersonneId]]),SUMIFS(Honoraire[TotalHT],Honoraire[ClientId],Personne[[#This Row],[PersonneId]]))","v":0},{"$f":"Personne[[#This Row],[Facture (HT)]]+ROW()/100000","v":6.2100000000000002E-3},{"$f":"_xlfn.CONCAT(Personne[[#This Row],[Adresse]],\" \",Personne[[#This Row],[CodePostal]],\" \",Personne[[#This Row],[Ville]],\" \",Personne[[#This Row],[CodePays]])","v":"   "}]
[null,null,null,null,null,null,null,null,null,null,null,null,null,null,null,null,null,null,null,null,null,null,null,null,null,null,null,null,null,null,{"$f":"IF(PARAMETRES!$B$3=\"SANS\",SUMIFS(Honoraire[TotalHonoraireHT],Honoraire[ClientId],Personne[[#This Row],[PersonneId]]),SUMIFS(Honoraire[TotalHT],Honoraire[ClientId],Personne[[#This Row],[PersonneId]]))","v":0},{"$f":"Personne[[#This Row],[Facture (HT)]]+ROW()/100000","v":6.2199999999999998E-3},{"$f":"_xlfn.CONCAT(Personne[[#This Row],[Adresse]],\" \",Personne[[#This Row],[CodePostal]],\" \",Personne[[#This Row],[Ville]],\" \",Personne[[#This Row],[CodePays]])","v":"   "}]
[null,null,null,null,null,null,null,null,null,null,null,null,null,null,null,null,null,null,null,null,null,null,null,null,null,null,null,null,null,null,{"$f":"IF(PARAMETRES!$B$3=\"SANS\",SUMIFS(Honoraire[TotalHonoraireHT],Honoraire[ClientId],Personne[[#This Row],[PersonneId]]),SUMIFS(Honoraire[TotalHT],Honoraire[ClientId],Personne[[#This Row],[PersonneId]]))","v":0},{"$f":"Personne[[#This Row],[Facture (HT)]]+ROW()/100000","v":6.2300000000000003E-3},{"$f":"_xlfn.CONCAT(Personne[[#This Row],[Adresse]],\" \",Personne[[#This Row],[CodePostal]],\" \",Personne[[#This Row],[Ville]],\" \",Personne[[#This Row],[CodePays]])","v":"   "}]
[null,null,null,null,null,null,null,null,null,null,null,null,null,null,null,null,null,null,null,null,null,null,null,null,null,null,null,null,null,null,{"$f":"IF(PARAMETRES!$B$3=\"SANS\",SUMIFS(Honoraire[TotalHonoraireHT],Honoraire[ClientId],Personne[[#This Row],[PersonneId]]),SUMIFS(Honoraire[TotalHT],Honoraire[ClientId],Personne[[#This Row],[PersonneId]]))","v":0},{"$f":"Personne[[#This Row],[Facture (HT)]]+ROW()/100000","v":6.2399999999999999E-3},{"$f":"_xlfn.CONCAT(Personne[[#This Row],[Adresse]],\" \",Personne[[#This Row],[CodePostal]],\" \",Personne[[#This Row],[Ville]],\" \",Personne[[#This Row],[CodePays]])","v":"   "}]
[null,null,null,null,null,null,null,null,null,null,null,null,null,null,null,null,null,null,null,null,null,null,null,null,null,null,null,null,null,null,{"$f":"IF(PARAMETRES!$B$3=\"SANS\",SUMIFS(Honoraire[TotalHonoraireHT],Honoraire[ClientId],Personne[[#This Row],[PersonneId]]),SUMIFS(Honoraire[TotalHT],Honoraire[ClientId],Personne[[#This Row],[PersonneId]]))","v":0},{"$f":"Personne[[#This Row],[Facture (HT)]]+ROW()/100000","v":6.2500000000000003E-3},{"$f":"_xlfn.CONCAT(Personne[[#This Row],[Adresse]],\" \",Personne[[#This Row],[CodePostal]],\" \",Personne[[#This Row],[Ville]],\" \",Personne[[#This Row],[CodePays]])","v":"   "}]
[null,null,null,null,null,null,null,null,null,null,null,null,null,null,null,null,null,null,null,null,null,null,null,null,null,null,null,null,null,null,{"$f":"IF(PARAMETRES!$B$3=\"SANS\",SUMIFS(Honoraire[TotalHonoraireHT],Honoraire[ClientId],Personne[[#This Row],[PersonneId]]),SUMIFS(Honoraire[TotalHT],Honoraire[ClientId],Personne[[#This Row],[PersonneId]]))","v":0},{"$f":"Personne[[#This Row],[Facture (HT)]]+ROW()/100000","v":6.2599999999999999E-3},{"$f":"_xlfn.CONCAT(Personne[[#This Row],[Adresse]],\" \",Personne[[#This Row],[CodePostal]],\" \",Personne[[#This Row],[Ville]],\" \",Personne[[#This Row],[CodePays]])","v":"   "}]
[null,null,null,null,null,null,null,null,null,null,null,null,null,null,null,null,null,null,null,null,null,null,null,null,null,null,null,null,null,null,{"$f":"IF(PARAMETRES!$B$3=\"SANS\",SUMIFS(Honoraire[TotalHonoraireHT],Honoraire[ClientId],Personne[[#This Row],[PersonneId]]),SUMIFS(Honoraire[TotalHT],Honoraire[ClientId],Personne[[#This Row],[PersonneId]]))","v":0},{"$f":"Personne[[#This Row],[Facture (HT)]]+ROW()/100000","v":6.2700000000000004E-3},{"$f":"_xlfn.CONCAT(Personne[[#This Row],[Adresse]],\" \",Personne[[#This Row],[CodePostal]],\" \",Personne[[#This Row],[Ville]],\" \",Personne[[#This Row],[CodePays]])","v":"   "}]
[null,null,null,null,null,null,null,null,null,null,null,null,null,null,null,null,null,null,null,null,null,null,null,null,null,null,null,null,null,null,{"$f":"IF(PARAMETRES!$B$3=\"SANS\",SUMIFS(Honoraire[TotalHonoraireHT],Honoraire[ClientId],Personne[[#This Row],[PersonneId]]),SUMIFS(Honoraire[TotalHT],Honoraire[ClientId],Personne[[#This Row],[PersonneId]]))","v":0},{"$f":"Personne[[#This Row],[Facture (HT)]]+ROW()/100000","v":6.28E-3},{"$f":"_xlfn.CONCAT(Personne[[#This Row],[Adresse]],\" \",Personne[[#This Row],[CodePostal]],\" \",Personne[[#This Row],[Ville]],\" \",Personne[[#This Row],[CodePays]])","v":"   "}]
[null,null,null,null,null,null,null,null,null,null,null,null,null,null,null,null,null,null,null,null,null,null,null,null,null,null,null,null,null,null,{"$f":"IF(PARAMETRES!$B$3=\"SANS\",SUMIFS(Honoraire[TotalHonoraireHT],Honoraire[ClientId],Personne[[#This Row],[PersonneId]]),SUMIFS(Honoraire[TotalHT],Honoraire[ClientId],Personne[[#This Row],[PersonneId]]))","v":0},{"$f":"Personne[[#This Row],[Facture (HT)]]+ROW()/100000","v":6.2899999999999996E-3},{"$f":"_xlfn.CONCAT(Personne[[#This Row],[Adresse]],\" \",Personne[[#This Row],[CodePostal]],\" \",Personne[[#This Row],[Ville]],\" \",Personne[[#This Row],[CodePays]])","v":"   "}]
[null,null,null,null,null,null,null,null,null,null,null,null,null,null,null,null,null,null,null,null,null,null,null,null,null,null,null,null,null,null,{"$f":"IF(PARAMETRES!$B$3=\"SANS\",SUMIFS(Honoraire[TotalHonoraireHT],Honoraire[ClientId],Personne[[#This Row],[PersonneId]]),SUMIFS(Honoraire[TotalHT],Honoraire[ClientId],Personne[[#This Row],[PersonneId]]))","v":0},{"$f":"Personne[[#This Row],[Facture (HT)]]+ROW()/100000","v":6.3E-3},{"$f":"_xlfn.CONCAT(Personne[[#This Row],[Adresse]],\" \",Personne[[#This Row],[CodePostal]],\" \",Personne[[#This Row],[Ville]],\" \",Personne[[#This Row],[CodePays]])","v":"   "}]
[null,null,null,null,null,null,null,null,null,null,null,null,null,null,null,null,null,null,null,null,null,null,null,null,null,null,null,null,null,null,{"$f":"IF(PARAMETRES!$B$3=\"SANS\",SUMIFS(Honoraire[TotalHonoraireHT],Honoraire[ClientId],Personne[[#This Row],[PersonneId]]),SUMIFS(Honoraire[TotalHT],Honoraire[ClientId],Personne[[#This Row],[PersonneId]]))","v":0},{"$f":"Personne[[#This Row],[Facture (HT)]]+ROW()/100000","v":6.3099999999999996E-3},{"$f":"_xlfn.CONCAT(Personne[[#This Row],[Adresse]],\" \",Personne[[#This Row],[CodePostal]],\" \",Personne[[#This Row],[Ville]],\" \",Personne[[#This Row],[CodePays]])","v":"   "}]
[null,null,null,null,null,null,null,null,null,null,null,null,null,null,null,null,null,null,null,null,null,null,null,null,null,null,null,null,null,null,{"$f":"IF(PARAMETRES!$B$3=\"SANS\",SUMIFS(Honoraire[TotalHonoraireHT],Honoraire[ClientId],Personne[[#This Row],[PersonneId]]),SUMIFS(Honoraire[TotalHT],Honoraire[ClientId],Personne[[#This Row],[PersonneId]]))","v":0},{"$f":"Personne[[#This Row],[Facture (HT)]]+ROW()/100000","v":6.3200000000000001E-3},{"$f":"_xlfn.CONCAT(Personne[[#This Row],[Adresse]],\" \",Personne[[#This Row],[CodePostal]],\" \",Personne[[#This Row],[Ville]],\" \",Personne[[#This Row],[CodePays]])","v":"   "}]
[null,null,null,null,null,null,null,null,null,null,null,null,null,null,null,null,null,null,null,null,null,null,null,null,null,null,null,null,null,null,{"$f":"IF(PARAMETRES!$B$3=\"SANS\",SUMIFS(Honoraire[TotalHonoraireHT],Honoraire[ClientId],Personne[[#This Row],[PersonneId]]),SUMIFS(Honoraire[TotalHT],Honoraire[ClientId],Personne[[#This Row],[PersonneId]]))","v":0},{"$f":"Personne[[#This Row],[Facture (HT)]]+ROW()/100000","v":6.3299999999999997E-3},{"$f":"_xlfn.CONCAT(Personne[[#This Row],[Adresse]],\" \",Personne[[#This Row],[CodePostal]],\" \",Personne[[#This Row],[Ville]],\" \",Personne[[#This Row],[CodePays]])","v":"   "}]
[null,null,null,null,null,null,null,null,null,null,null,null,null,null,null,null,null,null,null,null,null,null,null,null,null,null,null,null,null,null,{"$f":"IF(PARAMETRES!$B$3=\"SANS\",SUMIFS(Honoraire[TotalHonoraireHT],Honoraire[ClientId],Personne[[#This Row],[PersonneId]]),SUMIFS(Honoraire[TotalHT],Honoraire[ClientId],Personne[[#This Row],[PersonneId]]))","v":0},{"$f":"Personne[[#This Row],[Facture (HT)]]+ROW()/100000","v":6.3400000000000001E-3},{"$f":"_xlfn.CONCAT(Personne[[#This Row],[Adresse]],\" \",Personne[[#This Row],[CodePostal]],\" \",Personne[[#This Row],[Ville]],\" \",Personne[[#This Row],[CodePays]])","v":"   "}]
[null,null,null,null,null,null,null,null,null,null,null,null,null,null,null,null,null,null,null,null,null,null,null,null,null,null,null,null,null,null,{"$f":"IF(PARAMETRES!$B$3=\"SANS\",SUMIFS(Honoraire[TotalHonoraireHT],Honoraire[ClientId],Personne[[#This Row],[PersonneId]]),SUMIFS(Honoraire[TotalHT],Honoraire[ClientId],Personne[[#This Row],[PersonneId]]))","v":0},{"$f":"Personne[[#This Row],[Facture (HT)]]+ROW()/100000","v":6.3499999999999997E-3},{"$f":"_xlfn.CONCAT(Personne[[#This Row],[Adresse]],\" \",Personne[[#This Row],[CodePostal]],\" \",Personne[[#This Row],[Ville]],\" \",Personne[[#This Row],[CodePays]])","v":"   "}]
[null,null,null,null,null,null,null,null,null,null,null,null,null,null,null,null,null,null,null,null,null,null,null,null,null,null,null,null,null,null,{"$f":"IF(PARAMETRES!$B$3=\"SANS\",SUMIFS(Honoraire[TotalHonoraireHT],Honoraire[ClientId],Personne[[#This Row],[PersonneId]]),SUMIFS(Honoraire[TotalHT],Honoraire[ClientId],Personne[[#This Row],[PersonneId]]))","v":0},{"$f":"Personne[[#This Row],[Facture (HT)]]+ROW()/100000","v":6.3600000000000002E-3},{"$f":"_xlfn.CONCAT(Personne[[#This Row],[Adresse]],\" \",Personne[[#This Row],[CodePostal]],\" \",Personne[[#This Row],[Ville]],\" \",Personne[[#This Row],[CodePays]])","v":"   "}]
[null,null,null,null,null,null,null,null,null,null,null,null,null,null,null,null,null,null,null,null,null,null,null,null,null,null,null,null,null,null,{"$f":"IF(PARAMETRES!$B$3=\"SANS\",SUMIFS(Honoraire[TotalHonoraireHT],Honoraire[ClientId],Personne[[#This Row],[PersonneId]]),SUMIFS(Honoraire[TotalHT],Honoraire[ClientId],Personne[[#This Row],[PersonneId]]))","v":0},{"$f":"Personne[[#This Row],[Facture (HT)]]+ROW()/100000","v":6.3699999999999998E-3},{"$f":"_xlfn.CONCAT(Personne[[#This Row],[Adresse]],\" \",Personne[[#This Row],[CodePostal]],\" \",Personne[[#This Row],[Ville]],\" \",Personne[[#This Row],[CodePays]])","v":"   "}]
[null,null,null,null,null,null,null,null,null,null,null,null,null,null,null,null,null,null,null,null,null,null,null,null,null,null,null,null,null,null,{"$f":"IF(PARAMETRES!$B$3=\"SANS\",SUMIFS(Honoraire[TotalHonoraireHT],Honoraire[ClientId],Personne[[#This Row],[PersonneId]]),SUMIFS(Honoraire[TotalHT],Honoraire[ClientId],Personne[[#This Row],[PersonneId]]))","v":0},{"$f":"Personne[[#This Row],[Facture (HT)]]+ROW()/100000","v":6.3800000000000003E-3},{"$f":"_xlfn.CONCAT(Personne[[#This Row],[Adresse]],\" \",Personne[[#This Row],[CodePostal]],\" \",Personne[[#This Row],[Ville]],\" \",Personne[[#This Row],[CodePays]])","v":"   "}]
[null,null,null,null,null,null,null,null,null,null,null,null,null,null,null,null,null,null,null,null,null,null,null,null,null,null,null,null,null,null,{"$f":"IF(PARAMETRES!$B$3=\"SANS\",SUMIFS(Honoraire[TotalHonoraireHT],Honoraire[ClientId],Personne[[#This Row],[PersonneId]]),SUMIFS(Honoraire[TotalHT],Honoraire[ClientId],Personne[[#This Row],[PersonneId]]))","v":0},{"$f":"Personne[[#This Row],[Facture (HT)]]+ROW()/100000","v":6.3899999999999998E-3},{"$f":"_xlfn.CONCAT(Personne[[#This Row],[Adresse]],\" \",Personne[[#This Row],[CodePostal]],\" \",Personne[[#This Row],[Ville]],\" \",Personne[[#This Row],[CodePays]])","v":"   "}]
[null,null,null,null,null,null,null,null,null,null,null,null,null,null,null,null,null,null,null,null,null,null,null,null,null,null,null,null,null,null,{"$f":"IF(PARAMETRES!$B$3=\"SANS\",SUMIFS(Honoraire[TotalHonoraireHT],Honoraire[ClientId],Personne[[#This Row],[PersonneId]]),SUMIFS(Honoraire[TotalHT],Honoraire[ClientId],Personne[[#This Row],[PersonneId]]))","v":0},{"$f":"Personne[[#This Row],[Facture (HT)]]+ROW()/100000","v":6.4000000000000003E-3},{"$f":"_xlfn.CONCAT(Personne[[#This Row],[Adresse]],\" \",Personne[[#This Row],[CodePostal]],\" \",Personne[[#This Row],[Ville]],\" \",Personne[[#This Row],[CodePays]])","v":"   "}]
[null,null,null,null,null,null,null,null,null,null,null,null,null,null,null,null,null,null,null,null,null,null,null,null,null,null,null,null,null,null,{"$f":"IF(PARAMETRES!$B$3=\"SANS\",SUMIFS(Honoraire[TotalHonoraireHT],Honoraire[ClientId],Personne[[#This Row],[PersonneId]]),SUMIFS(Honoraire[TotalHT],Honoraire[ClientId],Personne[[#This Row],[PersonneId]]))","v":0},{"$f":"Personne[[#This Row],[Facture (HT)]]+ROW()/100000","v":6.4099999999999999E-3},{"$f":"_xlfn.CONCAT(Personne[[#This Row],[Adresse]],\" \",Personne[[#This Row],[CodePostal]],\" \",Personne[[#This Row],[Ville]],\" \",Personne[[#This Row],[CodePays]])","v":"   "}]
[null,null,null,null,null,null,null,null,null,null,null,null,null,null,null,null,null,null,null,null,null,null,null,null,null,null,null,null,null,null,{"$f":"IF(PARAMETRES!$B$3=\"SANS\",SUMIFS(Honoraire[TotalHonoraireHT],Honoraire[ClientId],Personne[[#This Row],[PersonneId]]),SUMIFS(Honoraire[TotalHT],Honoraire[ClientId],Personne[[#This Row],[PersonneId]]))","v":0},{"$f":"Personne[[#This Row],[Facture (HT)]]+ROW()/100000","v":6.4200000000000004E-3},{"$f":"_xlfn.CONCAT(Personne[[#This Row],[Adresse]],\" \",Personne[[#This Row],[CodePostal]],\" \",Personne[[#This Row],[Ville]],\" \",Personne[[#This Row],[CodePays]])","v":"   "}]
[null,null,null,null,null,null,null,null,null,null,null,null,null,null,null,null,null,null,null,null,null,null,null,null,null,null,null,null,null,null,{"$f":"IF(PARAMETRES!$B$3=\"SANS\",SUMIFS(Honoraire[TotalHonoraireHT],Honoraire[ClientId],Personne[[#This Row],[PersonneId]]),SUMIFS(Honoraire[TotalHT],Honoraire[ClientId],Personne[[#This Row],[PersonneId]]))","v":0},{"$f":"Personne[[#This Row],[Facture (HT)]]+ROW()/100000","v":6.43E-3},{"$f":"_xlfn.CONCAT(Personne[[#This Row],[Adresse]],\" \",Personne[[#This Row],[CodePostal]],\" \",Personne[[#This Row],[Ville]],\" \",Personne[[#This Row],[CodePays]])","v":"   "}]
[null,null,null,null,null,null,null,null,null,null,null,null,null,null,null,null,null,null,null,null,null,null,null,null,null,null,null,null,null,null,{"$f":"IF(PARAMETRES!$B$3=\"SANS\",SUMIFS(Honoraire[TotalHonoraireHT],Honoraire[ClientId],Personne[[#This Row],[PersonneId]]),SUMIFS(Honoraire[TotalHT],Honoraire[ClientId],Personne[[#This Row],[PersonneId]]))","v":0},{"$f":"Personne[[#This Row],[Facture (HT)]]+ROW()/100000","v":6.4400000000000004E-3},{"$f":"_xlfn.CONCAT(Personne[[#This Row],[Adresse]],\" \",Personne[[#This Row],[CodePostal]],\" \",Personne[[#This Row],[Ville]],\" \",Personne[[#This Row],[CodePays]])","v":"   "}]
[null,null,null,null,null,null,null,null,null,null,null,null,null,null,null,null,null,null,null,null,null,null,null,null,null,null,null,null,null,null,{"$f":"IF(PARAMETRES!$B$3=\"SANS\",SUMIFS(Honoraire[TotalHonoraireHT],Honoraire[ClientId],Personne[[#This Row],[PersonneId]]),SUMIFS(Honoraire[TotalHT],Honoraire[ClientId],Personne[[#This Row],[PersonneId]]))","v":0},{"$f":"Personne[[#This Row],[Facture (HT)]]+ROW()/100000","v":6.45E-3},{"$f":"_xlfn.CONCAT(Personne[[#This Row],[Adresse]],\" \",Personne[[#This Row],[CodePostal]],\" \",Personne[[#This Row],[Ville]],\" \",Personne[[#This Row],[CodePays]])","v":"   "}]
[null,null,null,null,null,null,null,null,null,null,null,null,null,null,null,null,null,null,null,null,null,null,null,null,null,null,null,null,null,null,{"$f":"IF(PARAMETRES!$B$3=\"SANS\",SUMIFS(Honoraire[TotalHonoraireHT],Honoraire[ClientId],Personne[[#This Row],[PersonneId]]),SUMIFS(Honoraire[TotalHT],Honoraire[ClientId],Personne[[#This Row],[PersonneId]]))","v":0},{"$f":"Personne[[#This Row],[Facture (HT)]]+ROW()/100000","v":6.4599999999999996E-3},{"$f":"_xlfn.CONCAT(Personne[[#This Row],[Adresse]],\" \",Personne[[#This Row],[CodePostal]],\" \",Personne[[#This Row],[Ville]],\" \",Personne[[#This Row],[CodePays]])","v":"   "}]
[null,null,null,null,null,null,null,null,null,null,null,null,null,null,null,null,null,null,null,null,null,null,null,null,null,null,null,null,null,null,{"$f":"IF(PARAMETRES!$B$3=\"SANS\",SUMIFS(Honoraire[TotalHonoraireHT],Honoraire[ClientId],Personne[[#This Row],[PersonneId]]),SUMIFS(Honoraire[TotalHT],Honoraire[ClientId],Personne[[#This Row],[PersonneId]]))","v":0},{"$f":"Personne[[#This Row],[Facture (HT)]]+ROW()/100000","v":6.4700000000000001E-3},{"$f":"_xlfn.CONCAT(Personne[[#This Row],[Adresse]],\" \",Personne[[#This Row],[CodePostal]],\" \",Personne[[#This Row],[Ville]],\" \",Personne[[#This Row],[CodePays]])","v":"   "}]
[null,null,null,null,null,null,null,null,null,null,null,null,null,null,null,null,null,null,null,null,null,null,null,null,null,null,null,null,null,null,{"$f":"IF(PARAMETRES!$B$3=\"SANS\",SUMIFS(Honoraire[TotalHonoraireHT],Honoraire[ClientId],Personne[[#This Row],[PersonneId]]),SUMIFS(Honoraire[TotalHT],Honoraire[ClientId],Personne[[#This Row],[PersonneId]]))","v":0},{"$f":"Personne[[#This Row],[Facture (HT)]]+ROW()/100000","v":6.4799999999999996E-3},{"$f":"_xlfn.CONCAT(Personne[[#This Row],[Adresse]],\" \",Personne[[#This Row],[CodePostal]],\" \",Personne[[#This Row],[Ville]],\" \",Personne[[#This Row],[CodePays]])","v":"   "}]
[null,null,null,null,null,null,null,null,null,null,null,null,null,null,null,null,null,null,null,null,null,null,null,null,null,null,null,null,null,null,{"$f":"IF(PARAMETRES!$B$3=\"SANS\",SUMIFS(Honoraire[TotalHonoraireHT],Honoraire[ClientId],Personne[[#This Row],[PersonneId]]),SUMIFS(Honoraire[TotalHT],Honoraire[ClientId],Personne[[#This Row],[PersonneId]]))","v":0},{"$f":"Personne[[#This Row],[Facture (HT)]]+ROW()/100000","v":6.4900000000000001E-3},{"$f":"_xlfn.CONCAT(Personne[[#This Row],[Adresse]],\" \",Personne[[#This Row],[CodePostal]],\" \",Personne[[#This Row],[Ville]],\" \",Personne[[#This Row],[CodePays]])","v":"   "}]
[null,null,null,null,null,null,null,null,null,null,null,null,null,null,null,null,null,null,null,null,null,null,null,null,null,null,null,null,null,null,{"$f":"IF(PARAMETRES!$B$3=\"SANS\",SUMIFS(Honoraire[TotalHonoraireHT],Honoraire[ClientId],Personne[[#This Row],[PersonneId]]),SUMIFS(Honoraire[TotalHT],Honoraire[ClientId],Personne[[#This Row],[PersonneId]]))","v":0},{"$f":"Personne[[#This Row],[Facture (HT)]]+ROW()/100000","v":6.4999999999999997E-3},{"$f":"_xlfn.CONCAT(Personne[[#This Row],[Adresse]],\" \",Personne[[#This Row],[CodePostal]],\" \",Personne[[#This Row],[Ville]],\" \",Personne[[#This Row],[CodePays]])","v":"   "}]
[null,null,null,null,null,null,null,null,null,null,null,null,null,null,null,null,null,null,null,null,null,null,null,null,null,null,null,null,null,null,{"$f":"IF(PARAMETRES!$B$3=\"SANS\",SUMIFS(Honoraire[TotalHonoraireHT],Honoraire[ClientId],Personne[[#This Row],[PersonneId]]),SUMIFS(Honoraire[TotalHT],Honoraire[ClientId],Personne[[#This Row],[PersonneId]]))","v":0},{"$f":"Personne[[#This Row],[Facture (HT)]]+ROW()/100000","v":6.5100000000000002E-3},{"$f":"_xlfn.CONCAT(Personne[[#This Row],[Adresse]],\" \",Personne[[#This Row],[CodePostal]],\" \",Personne[[#This Row],[Ville]],\" \",Personne[[#This Row],[CodePays]])","v":"   "}]
[null,null,null,null,null,null,null,null,null,null,null,null,null,null,null,null,null,null,null,null,null,null,null,null,null,null,null,null,null,null,{"$f":"IF(PARAMETRES!$B$3=\"SANS\",SUMIFS(Honoraire[TotalHonoraireHT],Honoraire[ClientId],Personne[[#This Row],[PersonneId]]),SUMIFS(Honoraire[TotalHT],Honoraire[ClientId],Personne[[#This Row],[PersonneId]]))","v":0},{"$f":"Personne[[#This Row],[Facture (HT)]]+ROW()/100000","v":6.5199999999999998E-3},{"$f":"_xlfn.CONCAT(Personne[[#This Row],[Adresse]],\" \",Personne[[#This Row],[CodePostal]],\" \",Personne[[#This Row],[Ville]],\" \",Personne[[#This Row],[CodePays]])","v":"   "}]
[null,null,null,null,null,null,null,null,null,null,null,null,null,null,null,null,null,null,null,null,null,null,null,null,null,null,null,null,null,null,{"$f":"IF(PARAMETRES!$B$3=\"SANS\",SUMIFS(Honoraire[TotalHonoraireHT],Honoraire[ClientId],Personne[[#This Row],[PersonneId]]),SUMIFS(Honoraire[TotalHT],Honoraire[ClientId],Personne[[#This Row],[PersonneId]]))","v":0},{"$f":"Personne[[#This Row],[Facture (HT)]]+ROW()/100000","v":6.5300000000000002E-3},{"$f":"_xlfn.CONCAT(Personne[[#This Row],[Adresse]],\" \",Personne[[#This Row],[CodePostal]],\" \",Personne[[#This Row],[Ville]],\" \",Personne[[#This Row],[CodePays]])","v":"   "}]
[null,null,null,null,null,null,null,null,null,null,null,null,null,null,null,null,null,null,null,null,null,null,null,null,null,null,null,null,null,null,{"$f":"IF(PARAMETRES!$B$3=\"SANS\",SUMIFS(Honoraire[TotalHonoraireHT],Honoraire[ClientId],Personne[[#This Row],[PersonneId]]),SUMIFS(Honoraire[TotalHT],Honoraire[ClientId],Personne[[#This Row],[PersonneId]]))","v":0},{"$f":"Personne[[#This Row],[Facture (HT)]]+ROW()/100000","v":6.5399999999999998E-3},{"$f":"_xlfn.CONCAT(Personne[[#This Row],[Adresse]],\" \",Personne[[#This Row],[CodePostal]],\" \",Personne[[#This Row],[Ville]],\" \",Personne[[#This Row],[CodePays]])","v":"   "}]
[null,null,null,null,null,null,null,null,null,null,null,null,null,null,null,null,null,null,null,null,null,null,null,null,null,null,null,null,null,null,{"$f":"IF(PARAMETRES!$B$3=\"SANS\",SUMIFS(Honoraire[TotalHonoraireHT],Honoraire[ClientId],Personne[[#This Row],[PersonneId]]),SUMIFS(Honoraire[TotalHT],Honoraire[ClientId],Personne[[#This Row],[PersonneId]]))","v":0},{"$f":"Personne[[#This Row],[Facture (HT)]]+ROW()/100000","v":6.5500000000000003E-3},{"$f":"_xlfn.CONCAT(Personne[[#This Row],[Adresse]],\" \",Personne[[#This Row],[CodePostal]],\" \",Personne[[#This Row],[Ville]],\" \",Personne[[#This Row],[CodePays]])","v":"   "}]
[null,null,null,null,null,null,null,null,null,null,null,null,null,null,null,null,null,null,null,null,null,null,null,null,null,null,null,null,null,null,{"$f":"IF(PARAMETRES!$B$3=\"SANS\",SUMIFS(Honoraire[TotalHonoraireHT],Honoraire[ClientId],Personne[[#This Row],[PersonneId]]),SUMIFS(Honoraire[TotalHT],Honoraire[ClientId],Personne[[#This Row],[PersonneId]]))","v":0},{"$f":"Personne[[#This Row],[Facture (HT)]]+ROW()/100000","v":6.5599999999999999E-3},{"$f":"_xlfn.CONCAT(Personne[[#This Row],[Adresse]],\" \",Personne[[#This Row],[CodePostal]],\" \",Personne[[#This Row],[Ville]],\" \",Personne[[#This Row],[CodePays]])","v":"   "}]
[null,null,null,null,null,null,null,null,null,null,null,null,null,null,null,null,null,null,null,null,null,null,null,null,null,null,null,null,null,null,{"$f":"IF(PARAMETRES!$B$3=\"SANS\",SUMIFS(Honoraire[TotalHonoraireHT],Honoraire[ClientId],Personne[[#This Row],[PersonneId]]),SUMIFS(Honoraire[TotalHT],Honoraire[ClientId],Personne[[#This Row],[PersonneId]]))","v":0},{"$f":"Personne[[#This Row],[Facture (HT)]]+ROW()/100000","v":6.5700000000000003E-3},{"$f":"_xlfn.CONCAT(Personne[[#This Row],[Adresse]],\" \",Personne[[#This Row],[CodePostal]],\" \",Personne[[#This Row],[Ville]],\" \",Personne[[#This Row],[CodePays]])","v":"   "}]
[null,null,null,null,null,null,null,null,null,null,null,null,null,null,null,null,null,null,null,null,null,null,null,null,null,null,null,null,null,null,{"$f":"IF(PARAMETRES!$B$3=\"SANS\",SUMIFS(Honoraire[TotalHonoraireHT],Honoraire[ClientId],Personne[[#This Row],[PersonneId]]),SUMIFS(Honoraire[TotalHT],Honoraire[ClientId],Personne[[#This Row],[PersonneId]]))","v":0},{"$f":"Personne[[#This Row],[Facture (HT)]]+ROW()/100000","v":6.5799999999999999E-3},{"$f":"_xlfn.CONCAT(Personne[[#This Row],[Adresse]],\" \",Personne[[#This Row],[CodePostal]],\" \",Personne[[#This Row],[Ville]],\" \",Personne[[#This Row],[CodePays]])","v":"   "}]
[null,null,null,null,null,null,null,null,null,null,null,null,null,null,null,null,null,null,null,null,null,null,null,null,null,null,null,null,null,null,{"$f":"IF(PARAMETRES!$B$3=\"SANS\",SUMIFS(Honoraire[TotalHonoraireHT],Honoraire[ClientId],Personne[[#This Row],[PersonneId]]),SUMIFS(Honoraire[TotalHT],Honoraire[ClientId],Personne[[#This Row],[PersonneId]]))","v":0},{"$f":"Personne[[#This Row],[Facture (HT)]]+ROW()/100000","v":6.5900000000000004E-3},{"$f":"_xlfn.CONCAT(Personne[[#This Row],[Adresse]],\" \",Personne[[#This Row],[CodePostal]],\" \",Personne[[#This Row],[Ville]],\" \",Personne[[#This Row],[CodePays]])","v":"   "}]
[null,null,null,null,null,null,null,null,null,null,null,null,null,null,null,null,null,null,null,null,null,null,null,null,null,null,null,null,null,null,{"$f":"IF(PARAMETRES!$B$3=\"SANS\",SUMIFS(Honoraire[TotalHonoraireHT],Honoraire[ClientId],Personne[[#This Row],[PersonneId]]),SUMIFS(Honoraire[TotalHT],Honoraire[ClientId],Personne[[#This Row],[PersonneId]]))","v":0},{"$f":"Personne[[#This Row],[Facture (HT)]]+ROW()/100000","v":6.6E-3},{"$f":"_xlfn.CONCAT(Personne[[#This Row],[Adresse]],\" \",Personne[[#This Row],[CodePostal]],\" \",Personne[[#This Row],[Ville]],\" \",Personne[[#This Row],[CodePays]])","v":"   "}]
[null,null,null,null,null,null,null,null,null,null,null,null,null,null,null,null,null,null,null,null,null,null,null,null,null,null,null,null,null,null,{"$f":"IF(PARAMETRES!$B$3=\"SANS\",SUMIFS(Honoraire[TotalHonoraireHT],Honoraire[ClientId],Personne[[#This Row],[PersonneId]]),SUMIFS(Honoraire[TotalHT],Honoraire[ClientId],Personne[[#This Row],[PersonneId]]))","v":0},{"$f":"Personne[[#This Row],[Facture (HT)]]+ROW()/100000","v":6.6100000000000004E-3},{"$f":"_xlfn.CONCAT(Personne[[#This Row],[Adresse]],\" \",Personne[[#This Row],[CodePostal]],\" \",Personne[[#This Row],[Ville]],\" \",Personne[[#This Row],[CodePays]])","v":"   "}]
[null,null,null,null,null,null,null,null,null,null,null,null,null,null,null,null,null,null,null,null,null,null,null,null,null,null,null,null,null,null,{"$f":"IF(PARAMETRES!$B$3=\"SANS\",SUMIFS(Honoraire[TotalHonoraireHT],Honoraire[ClientId],Personne[[#This Row],[PersonneId]]),SUMIFS(Honoraire[TotalHT],Honoraire[ClientId],Personne[[#This Row],[PersonneId]]))","v":0},{"$f":"Personne[[#This Row],[Facture (HT)]]+ROW()/100000","v":6.62E-3},{"$f":"_xlfn.CONCAT(Personne[[#This Row],[Adresse]],\" \",Personne[[#This Row],[CodePostal]],\" \",Personne[[#This Row],[Ville]],\" \",Personne[[#This Row],[CodePays]])","v":"   "}]
[null,null,null,null,null,null,null,null,null,null,null,null,null,null,null,null,null,null,null,null,null,null,null,null,null,null,null,null,null,null,{"$f":"IF(PARAMETRES!$B$3=\"SANS\",SUMIFS(Honoraire[TotalHonoraireHT],Honoraire[ClientId],Personne[[#This Row],[PersonneId]]),SUMIFS(Honoraire[TotalHT],Honoraire[ClientId],Personne[[#This Row],[PersonneId]]))","v":0},{"$f":"Personne[[#This Row],[Facture (HT)]]+ROW()/100000","v":6.6299999999999996E-3},{"$f":"_xlfn.CONCAT(Personne[[#This Row],[Adresse]],\" \",Personne[[#This Row],[CodePostal]],\" \",Personne[[#This Row],[Ville]],\" \",Personne[[#This Row],[CodePays]])","v":"   "}]
[null,null,null,null,null,null,null,null,null,null,null,null,null,null,null,null,null,null,null,null,null,null,null,null,null,null,null,null,null,null,{"$f":"IF(PARAMETRES!$B$3=\"SANS\",SUMIFS(Honoraire[TotalHonoraireHT],Honoraire[ClientId],Personne[[#This Row],[PersonneId]]),SUMIFS(Honoraire[TotalHT],Honoraire[ClientId],Personne[[#This Row],[PersonneId]]))","v":0},{"$f":"Personne[[#This Row],[Facture (HT)]]+ROW()/100000","v":6.6400000000000001E-3},{"$f":"_xlfn.CONCAT(Personne[[#This Row],[Adresse]],\" \",Personne[[#This Row],[CodePostal]],\" \",Personne[[#This Row],[Ville]],\" \",Personne[[#This Row],[CodePays]])","v":"   "}]
[null,null,null,null,null,null,null,null,null,null,null,null,null,null,null,null,null,null,null,null,null,null,null,null,null,null,null,null,null,null,{"$f":"IF(PARAMETRES!$B$3=\"SANS\",SUMIFS(Honoraire[TotalHonoraireHT],Honoraire[ClientId],Personne[[#This Row],[PersonneId]]),SUMIFS(Honoraire[TotalHT],Honoraire[ClientId],Personne[[#This Row],[PersonneId]]))","v":0},{"$f":"Personne[[#This Row],[Facture (HT)]]+ROW()/100000","v":6.6499999999999997E-3},{"$f":"_xlfn.CONCAT(Personne[[#This Row],[Adresse]],\" \",Personne[[#This Row],[CodePostal]],\" \",Personne[[#This Row],[Ville]],\" \",Personne[[#This Row],[CodePays]])","v":"   "}]
[null,null,null,null,null,null,null,null,null,null,null,null,null,null,null,null,null,null,null,null,null,null,null,null,null,null,null,null,null,null,{"$f":"IF(PARAMETRES!$B$3=\"SANS\",SUMIFS(Honoraire[TotalHonoraireHT],Honoraire[ClientId],Personne[[#This Row],[PersonneId]]),SUMIFS(Honoraire[TotalHT],Honoraire[ClientId],Personne[[#This Row],[PersonneId]]))","v":0},{"$f":"Personne[[#This Row],[Facture (HT)]]+ROW()/100000","v":6.6600000000000001E-3},{"$f":"_xlfn.CONCAT(Personne[[#This Row],[Adresse]],\" \",Personne[[#This Row],[CodePostal]],\" \",Personne[[#This Row],[Ville]],\" \",Personne[[#This Row],[CodePays]])","v":"   "}]
[null,null,null,null,null,null,null,null,null,null,null,null,null,null,null,null,null,null,null,null,null,null,null,null,null,null,null,null,null,null,{"$f":"IF(PARAMETRES!$B$3=\"SANS\",SUMIFS(Honoraire[TotalHonoraireHT],Honoraire[ClientId],Personne[[#This Row],[PersonneId]]),SUMIFS(Honoraire[TotalHT],Honoraire[ClientId],Personne[[#This Row],[PersonneId]]))","v":0},{"$f":"Personne[[#This Row],[Facture (HT)]]+ROW()/100000","v":6.6699999999999997E-3},{"$f":"_xlfn.CONCAT(Personne[[#This Row],[Adresse]],\" \",Personne[[#This Row],[CodePostal]],\" \",Personne[[#This Row],[Ville]],\" \",Personne[[#This Row],[CodePays]])","v":"   "}]
[null,null,null,null,null,null,null,null,null,null,null,null,null,null,null,null,null,null,null,null,null,null,null,null,null,null,null,null,null,null,{"$f":"IF(PARAMETRES!$B$3=\"SANS\",SUMIFS(Honoraire[TotalHonoraireHT],Honoraire[ClientId],Personne[[#This Row],[PersonneId]]),SUMIFS(Honoraire[TotalHT],Honoraire[ClientId],Personne[[#This Row],[PersonneId]]))","v":0},{"$f":"Personne[[#This Row],[Facture (HT)]]+ROW()/100000","v":6.6800000000000002E-3},{"$f":"_xlfn.CONCAT(Personne[[#This Row],[Adresse]],\" \",Personne[[#This Row],[CodePostal]],\" \",Personne[[#This Row],[Ville]],\" \",Personne[[#This Row],[CodePays]])","v":"   "}]
[null,null,null,null,null,null,null,null,null,null,null,null,null,null,null,null,null,null,null,null,null,null,null,null,null,null,null,null,null,null,{"$f":"IF(PARAMETRES!$B$3=\"SANS\",SUMIFS(Honoraire[TotalHonoraireHT],Honoraire[ClientId],Personne[[#This Row],[PersonneId]]),SUMIFS(Honoraire[TotalHT],Honoraire[ClientId],Personne[[#This Row],[PersonneId]]))","v":0},{"$f":"Personne[[#This Row],[Facture (HT)]]+ROW()/100000","v":6.6899999999999998E-3},{"$f":"_xlfn.CONCAT(Personne[[#This Row],[Adresse]],\" \",Personne[[#This Row],[CodePostal]],\" \",Personne[[#This Row],[Ville]],\" \",Personne[[#This Row],[CodePays]])","v":"   "}]
[null,null,null,null,null,null,null,null,null,null,null,null,null,null,null,null,null,null,null,null,null,null,null,null,null,null,null,null,null,null,{"$f":"IF(PARAMETRES!$B$3=\"SANS\",SUMIFS(Honoraire[TotalHonoraireHT],Honoraire[ClientId],Personne[[#This Row],[PersonneId]]),SUMIFS(Honoraire[TotalHT],Honoraire[ClientId],Personne[[#This Row],[PersonneId]]))","v":0},{"$f":"Personne[[#This Row],[Facture (HT)]]+ROW()/100000","v":6.7000000000000002E-3},{"$f":"_xlfn.CONCAT(Personne[[#This Row],[Adresse]],\" \",Personne[[#This Row],[CodePostal]],\" \",Personne[[#This Row],[Ville]],\" \",Personne[[#This Row],[CodePays]])","v":"   "}]
[null,null,null,null,null,null,null,null,null,null,null,null,null,null,null,null,null,null,null,null,null,null,null,null,null,null,null,null,null,null,{"$f":"IF(PARAMETRES!$B$3=\"SANS\",SUMIFS(Honoraire[TotalHonoraireHT],Honoraire[ClientId],Personne[[#This Row],[PersonneId]]),SUMIFS(Honoraire[TotalHT],Honoraire[ClientId],Personne[[#This Row],[PersonneId]]))","v":0},{"$f":"Personne[[#This Row],[Facture (HT)]]+ROW()/100000","v":6.7099999999999998E-3},{"$f":"_xlfn.CONCAT(Personne[[#This Row],[Adresse]],\" \",Personne[[#This Row],[CodePostal]],\" \",Personne[[#This Row],[Ville]],\" \",Personne[[#This Row],[CodePays]])","v":"   "}]
[null,null,null,null,null,null,null,null,null,null,null,null,null,null,null,null,null,null,null,null,null,null,null,null,null,null,null,null,null,null,{"$f":"IF(PARAMETRES!$B$3=\"SANS\",SUMIFS(Honoraire[TotalHonoraireHT],Honoraire[ClientId],Personne[[#This Row],[PersonneId]]),SUMIFS(Honoraire[TotalHT],Honoraire[ClientId],Personne[[#This Row],[PersonneId]]))","v":0},{"$f":"Personne[[#This Row],[Facture (HT)]]+ROW()/100000","v":6.7200000000000003E-3},{"$f":"_xlfn.CONCAT(Personne[[#This Row],[Adresse]],\" \",Personne[[#This Row],[CodePostal]],\" \",Personne[[#This Row],[Ville]],\" \",Personne[[#This Row],[CodePays]])","v":"   "}]
[null,null,null,null,null,null,null,null,null,null,null,null,null,null,null,null,null,null,null,null,null,null,null,null,null,null,null,null,null,null,{"$f":"IF(PARAMETRES!$B$3=\"SANS\",SUMIFS(Honoraire[TotalHonoraireHT],Honoraire[ClientId],Personne[[#This Row],[PersonneId]]),SUMIFS(Honoraire[TotalHT],Honoraire[ClientId],Personne[[#This Row],[PersonneId]]))","v":0},{"$f":"Personne[[#This Row],[Facture (HT)]]+ROW()/100000","v":6.7299999999999999E-3},{"$f":"_xlfn.CONCAT(Personne[[#This Row],[Adresse]],\" \",Personne[[#This Row],[CodePostal]],\" \",Personne[[#This Row],[Ville]],\" \",Personne[[#This Row],[CodePays]])","v":"   "}]
[null,null,null,null,null,null,null,null,null,null,null,null,null,null,null,null,null,null,null,null,null,null,null,null,null,null,null,null,null,null,{"$f":"IF(PARAMETRES!$B$3=\"SANS\",SUMIFS(Honoraire[TotalHonoraireHT],Honoraire[ClientId],Personne[[#This Row],[PersonneId]]),SUMIFS(Honoraire[TotalHT],Honoraire[ClientId],Personne[[#This Row],[PersonneId]]))","v":0},{"$f":"Personne[[#This Row],[Facture (HT)]]+ROW()/100000","v":6.7400000000000003E-3},{"$f":"_xlfn.CONCAT(Personne[[#This Row],[Adresse]],\" \",Personne[[#This Row],[CodePostal]],\" \",Personne[[#This Row],[Ville]],\" \",Personne[[#This Row],[CodePays]])","v":"   "}]
[null,null,null,null,null,null,null,null,null,null,null,null,null,null,null,null,null,null,null,null,null,null,null,null,null,null,null,null,null,null,{"$f":"IF(PARAMETRES!$B$3=\"SANS\",SUMIFS(Honoraire[TotalHonoraireHT],Honoraire[ClientId],Personne[[#This Row],[PersonneId]]),SUMIFS(Honoraire[TotalHT],Honoraire[ClientId],Personne[[#This Row],[PersonneId]]))","v":0},{"$f":"Personne[[#This Row],[Facture (HT)]]+ROW()/100000","v":6.7499999999999999E-3},{"$f":"_xlfn.CONCAT(Personne[[#This Row],[Adresse]],\" \",Personne[[#This Row],[CodePostal]],\" \",Personne[[#This Row],[Ville]],\" \",Personne[[#This Row],[CodePays]])","v":"   "}]
[null,null,null,null,null,null,null,null,null,null,null,null,null,null,null,null,null,null,null,null,null,null,null,null,null,null,null,null,null,null,{"$f":"IF(PARAMETRES!$B$3=\"SANS\",SUMIFS(Honoraire[TotalHonoraireHT],Honoraire[ClientId],Personne[[#This Row],[PersonneId]]),SUMIFS(Honoraire[TotalHT],Honoraire[ClientId],Personne[[#This Row],[PersonneId]]))","v":0},{"$f":"Personne[[#This Row],[Facture (HT)]]+ROW()/100000","v":6.7600000000000004E-3},{"$f":"_xlfn.CONCAT(Personne[[#This Row],[Adresse]],\" \",Personne[[#This Row],[CodePostal]],\" \",Personne[[#This Row],[Ville]],\" \",Personne[[#This Row],[CodePays]])","v":"   "}]
[null,null,null,null,null,null,null,null,null,null,null,null,null,null,null,null,null,null,null,null,null,null,null,null,null,null,null,null,null,null,{"$f":"IF(PARAMETRES!$B$3=\"SANS\",SUMIFS(Honoraire[TotalHonoraireHT],Honoraire[ClientId],Personne[[#This Row],[PersonneId]]),SUMIFS(Honoraire[TotalHT],Honoraire[ClientId],Personne[[#This Row],[PersonneId]]))","v":0},{"$f":"Personne[[#This Row],[Facture (HT)]]+ROW()/100000","v":6.77E-3},{"$f":"_xlfn.CONCAT(Personne[[#This Row],[Adresse]],\" \",Personne[[#This Row],[CodePostal]],\" \",Personne[[#This Row],[Ville]],\" \",Personne[[#This Row],[CodePays]])","v":"   "}]
[null,null,null,null,null,null,null,null,null,null,null,null,null,null,null,null,null,null,null,null,null,null,null,null,null,null,null,null,null,null,{"$f":"IF(PARAMETRES!$B$3=\"SANS\",SUMIFS(Honoraire[TotalHonoraireHT],Honoraire[ClientId],Personne[[#This Row],[PersonneId]]),SUMIFS(Honoraire[TotalHT],Honoraire[ClientId],Personne[[#This Row],[PersonneId]]))","v":0},{"$f":"Personne[[#This Row],[Facture (HT)]]+ROW()/100000","v":6.7799999999999996E-3},{"$f":"_xlfn.CONCAT(Personne[[#This Row],[Adresse]],\" \",Personne[[#This Row],[CodePostal]],\" \",Personne[[#This Row],[Ville]],\" \",Personne[[#This Row],[CodePays]])","v":"   "}]
[null,null,null,null,null,null,null,null,null,null,null,null,null,null,null,null,null,null,null,null,null,null,null,null,null,null,null,null,null,null,{"$f":"IF(PARAMETRES!$B$3=\"SANS\",SUMIFS(Honoraire[TotalHonoraireHT],Honoraire[ClientId],Personne[[#This Row],[PersonneId]]),SUMIFS(Honoraire[TotalHT],Honoraire[ClientId],Personne[[#This Row],[PersonneId]]))","v":0},{"$f":"Personne[[#This Row],[Facture (HT)]]+ROW()/100000","v":6.79E-3},{"$f":"_xlfn.CONCAT(Personne[[#This Row],[Adresse]],\" \",Personne[[#This Row],[CodePostal]],\" \",Personne[[#This Row],[Ville]],\" \",Personne[[#This Row],[CodePays]])","v":"   "}]
[null,null,null,null,null,null,null,null,null,null,null,null,null,null,null,null,null,null,null,null,null,null,null,null,null,null,null,null,null,null,{"$f":"IF(PARAMETRES!$B$3=\"SANS\",SUMIFS(Honoraire[TotalHonoraireHT],Honoraire[ClientId],Personne[[#This Row],[PersonneId]]),SUMIFS(Honoraire[TotalHT],Honoraire[ClientId],Personne[[#This Row],[PersonneId]]))","v":0},{"$f":"Personne[[#This Row],[Facture (HT)]]+ROW()/100000","v":6.7999999999999996E-3},{"$f":"_xlfn.CONCAT(Personne[[#This Row],[Adresse]],\" \",Personne[[#This Row],[CodePostal]],\" \",Personne[[#This Row],[Ville]],\" \",Personne[[#This Row],[CodePays]])","v":"   "}]
[null,null,null,null,null,null,null,null,null,null,null,null,null,null,null,null,null,null,null,null,null,null,null,null,null,null,null,null,null,null,{"$f":"IF(PARAMETRES!$B$3=\"SANS\",SUMIFS(Honoraire[TotalHonoraireHT],Honoraire[ClientId],Personne[[#This Row],[PersonneId]]),SUMIFS(Honoraire[TotalHT],Honoraire[ClientId],Personne[[#This Row],[PersonneId]]))","v":0},{"$f":"Personne[[#This Row],[Facture (HT)]]+ROW()/100000","v":6.8100000000000001E-3},{"$f":"_xlfn.CONCAT(Personne[[#This Row],[Adresse]],\" \",Personne[[#This Row],[CodePostal]],\" \",Personne[[#This Row],[Ville]],\" \",Personne[[#This Row],[CodePays]])","v":"   "}]
[null,null,null,null,null,null,null,null,null,null,null,null,null,null,null,null,null,null,null,null,null,null,null,null,null,null,null,null,null,null,{"$f":"IF(PARAMETRES!$B$3=\"SANS\",SUMIFS(Honoraire[TotalHonoraireHT],Honoraire[ClientId],Personne[[#This Row],[PersonneId]]),SUMIFS(Honoraire[TotalHT],Honoraire[ClientId],Personne[[#This Row],[PersonneId]]))","v":0},{"$f":"Personne[[#This Row],[Facture (HT)]]+ROW()/100000","v":6.8199999999999997E-3},{"$f":"_xlfn.CONCAT(Personne[[#This Row],[Adresse]],\" \",Personne[[#This Row],[CodePostal]],\" \",Personne[[#This Row],[Ville]],\" \",Personne[[#This Row],[CodePays]])","v":"   "}]
[null,null,null,null,null,null,null,null,null,null,null,null,null,null,null,null,null,null,null,null,null,null,null,null,null,null,null,null,null,null,{"$f":"IF(PARAMETRES!$B$3=\"SANS\",SUMIFS(Honoraire[TotalHonoraireHT],Honoraire[ClientId],Personne[[#This Row],[PersonneId]]),SUMIFS(Honoraire[TotalHT],Honoraire[ClientId],Personne[[#This Row],[PersonneId]]))","v":0},{"$f":"Personne[[#This Row],[Facture (HT)]]+ROW()/100000","v":6.8300000000000001E-3},{"$f":"_xlfn.CONCAT(Personne[[#This Row],[Adresse]],\" \",Personne[[#This Row],[CodePostal]],\" \",Personne[[#This Row],[Ville]],\" \",Personne[[#This Row],[CodePays]])","v":"   "}]
[null,null,null,null,null,null,null,null,null,null,null,null,null,null,null,null,null,null,null,null,null,null,null,null,null,null,null,null,null,null,{"$f":"IF(PARAMETRES!$B$3=\"SANS\",SUMIFS(Honoraire[TotalHonoraireHT],Honoraire[ClientId],Personne[[#This Row],[PersonneId]]),SUMIFS(Honoraire[TotalHT],Honoraire[ClientId],Personne[[#This Row],[PersonneId]]))","v":0},{"$f":"Personne[[#This Row],[Facture (HT)]]+ROW()/100000","v":6.8399999999999997E-3},{"$f":"_xlfn.CONCAT(Personne[[#This Row],[Adresse]],\" \",Personne[[#This Row],[CodePostal]],\" \",Personne[[#This Row],[Ville]],\" \",Personne[[#This Row],[CodePays]])","v":"   "}]
[null,null,null,null,null,null,null,null,null,null,null,null,null,null,null,null,null,null,null,null,null,null,null,null,null,null,null,null,null,null,{"$f":"IF(PARAMETRES!$B$3=\"SANS\",SUMIFS(Honoraire[TotalHonoraireHT],Honoraire[ClientId],Personne[[#This Row],[PersonneId]]),SUMIFS(Honoraire[TotalHT],Honoraire[ClientId],Personne[[#This Row],[PersonneId]]))","v":0},{"$f":"Personne[[#This Row],[Facture (HT)]]+ROW()/100000","v":6.8500000000000002E-3},{"$f":"_xlfn.CONCAT(Personne[[#This Row],[Adresse]],\" \",Personne[[#This Row],[CodePostal]],\" \",Personne[[#This Row],[Ville]],\" \",Personne[[#This Row],[CodePays]])","v":"   "}]
[null,null,null,null,null,null,null,null,null,null,null,null,null,null,null,null,null,null,null,null,null,null,null,null,null,null,null,null,null,null,{"$f":"IF(PARAMETRES!$B$3=\"SANS\",SUMIFS(Honoraire[TotalHonoraireHT],Honoraire[ClientId],Personne[[#This Row],[PersonneId]]),SUMIFS(Honoraire[TotalHT],Honoraire[ClientId],Personne[[#This Row],[PersonneId]]))","v":0},{"$f":"Personne[[#This Row],[Facture (HT)]]+ROW()/100000","v":6.8599999999999998E-3},{"$f":"_xlfn.CONCAT(Personne[[#This Row],[Adresse]],\" \",Personne[[#This Row],[CodePostal]],\" \",Personne[[#This Row],[Ville]],\" \",Personne[[#This Row],[CodePays]])","v":"   "}]
[null,null,null,null,null,null,null,null,null,null,null,null,null,null,null,null,null,null,null,null,null,null,null,null,null,null,null,null,null,null,{"$f":"IF(PARAMETRES!$B$3=\"SANS\",SUMIFS(Honoraire[TotalHonoraireHT],Honoraire[ClientId],Personne[[#This Row],[PersonneId]]),SUMIFS(Honoraire[TotalHT],Honoraire[ClientId],Personne[[#This Row],[PersonneId]]))","v":0},{"$f":"Personne[[#This Row],[Facture (HT)]]+ROW()/100000","v":6.8700000000000002E-3},{"$f":"_xlfn.CONCAT(Personne[[#This Row],[Adresse]],\" \",Personne[[#This Row],[CodePostal]],\" \",Personne[[#This Row],[Ville]],\" \",Personne[[#This Row],[CodePays]])","v":"   "}]
[null,null,null,null,null,null,null,null,null,null,null,null,null,null,null,null,null,null,null,null,null,null,null,null,null,null,null,null,null,null,{"$f":"IF(PARAMETRES!$B$3=\"SANS\",SUMIFS(Honoraire[TotalHonoraireHT],Honoraire[ClientId],Personne[[#This Row],[PersonneId]]),SUMIFS(Honoraire[TotalHT],Honoraire[ClientId],Personne[[#This Row],[PersonneId]]))","v":0},{"$f":"Personne[[#This Row],[Facture (HT)]]+ROW()/100000","v":6.8799999999999998E-3},{"$f":"_xlfn.CONCAT(Personne[[#This Row],[Adresse]],\" \",Personne[[#This Row],[CodePostal]],\" \",Personne[[#This Row],[Ville]],\" \",Personne[[#This Row],[CodePays]])","v":"   "}]
[null,null,null,null,null,null,null,null,null,null,null,null,null,null,null,null,null,null,null,null,null,null,null,null,null,null,null,null,null,null,{"$f":"IF(PARAMETRES!$B$3=\"SANS\",SUMIFS(Honoraire[TotalHonoraireHT],Honoraire[ClientId],Personne[[#This Row],[PersonneId]]),SUMIFS(Honoraire[TotalHT],Honoraire[ClientId],Personne[[#This Row],[PersonneId]]))","v":0},{"$f":"Personne[[#This Row],[Facture (HT)]]+ROW()/100000","v":6.8900000000000003E-3},{"$f":"_xlfn.CONCAT(Personne[[#This Row],[Adresse]],\" \",Personne[[#This Row],[CodePostal]],\" \",Personne[[#This Row],[Ville]],\" \",Personne[[#This Row],[CodePays]])","v":"   "}]
[null,null,null,null,null,null,null,null,null,null,null,null,null,null,null,null,null,null,null,null,null,null,null,null,null,null,null,null,null,null,{"$f":"IF(PARAMETRES!$B$3=\"SANS\",SUMIFS(Honoraire[TotalHonoraireHT],Honoraire[ClientId],Personne[[#This Row],[PersonneId]]),SUMIFS(Honoraire[TotalHT],Honoraire[ClientId],Personne[[#This Row],[PersonneId]]))","v":0},{"$f":"Personne[[#This Row],[Facture (HT)]]+ROW()/100000","v":6.8999999999999999E-3},{"$f":"_xlfn.CONCAT(Personne[[#This Row],[Adresse]],\" \",Personne[[#This Row],[CodePostal]],\" \",Personne[[#This Row],[Ville]],\" \",Personne[[#This Row],[CodePays]])","v":"   "}]
[null,null,null,null,null,null,null,null,null,null,null,null,null,null,null,null,null,null,null,null,null,null,null,null,null,null,null,null,null,null,{"$f":"IF(PARAMETRES!$B$3=\"SANS\",SUMIFS(Honoraire[TotalHonoraireHT],Honoraire[ClientId],Personne[[#This Row],[PersonneId]]),SUMIFS(Honoraire[TotalHT],Honoraire[ClientId],Personne[[#This Row],[PersonneId]]))","v":0},{"$f":"Personne[[#This Row],[Facture (HT)]]+ROW()/100000","v":6.9100000000000003E-3},{"$f":"_xlfn.CONCAT(Personne[[#This Row],[Adresse]],\" \",Personne[[#This Row],[CodePostal]],\" \",Personne[[#This Row],[Ville]],\" \",Personne[[#This Row],[CodePays]])","v":"   "}]
[null,null,null,null,null,null,null,null,null,null,null,null,null,null,null,null,null,null,null,null,null,null,null,null,null,null,null,null,null,null,{"$f":"IF(PARAMETRES!$B$3=\"SANS\",SUMIFS(Honoraire[TotalHonoraireHT],Honoraire[ClientId],Personne[[#This Row],[PersonneId]]),SUMIFS(Honoraire[TotalHT],Honoraire[ClientId],Personne[[#This Row],[PersonneId]]))","v":0},{"$f":"Personne[[#This Row],[Facture (HT)]]+ROW()/100000","v":6.9199999999999999E-3},{"$f":"_xlfn.CONCAT(Personne[[#This Row],[Adresse]],\" \",Personne[[#This Row],[CodePostal]],\" \",Personne[[#This Row],[Ville]],\" \",Personne[[#This Row],[CodePays]])","v":"   "}]
[null,null,null,null,null,null,null,null,null,null,null,null,null,null,null,null,null,null,null,null,null,null,null,null,null,null,null,null,null,null,{"$f":"IF(PARAMETRES!$B$3=\"SANS\",SUMIFS(Honoraire[TotalHonoraireHT],Honoraire[ClientId],Personne[[#This Row],[PersonneId]]),SUMIFS(Honoraire[TotalHT],Honoraire[ClientId],Personne[[#This Row],[PersonneId]]))","v":0},{"$f":"Personne[[#This Row],[Facture (HT)]]+ROW()/100000","v":6.9300000000000004E-3},{"$f":"_xlfn.CONCAT(Personne[[#This Row],[Adresse]],\" \",Personne[[#This Row],[CodePostal]],\" \",Personne[[#This Row],[Ville]],\" \",Personne[[#This Row],[CodePays]])","v":"   "}]
[null,null,null,null,null,null,null,null,null,null,null,null,null,null,null,null,null,null,null,null,null,null,null,null,null,null,null,null,null,null,{"$f":"IF(PARAMETRES!$B$3=\"SANS\",SUMIFS(Honoraire[TotalHonoraireHT],Honoraire[ClientId],Personne[[#This Row],[PersonneId]]),SUMIFS(Honoraire[TotalHT],Honoraire[ClientId],Personne[[#This Row],[PersonneId]]))","v":0},{"$f":"Personne[[#This Row],[Facture (HT)]]+ROW()/100000","v":6.94E-3},{"$f":"_xlfn.CONCAT(Personne[[#This Row],[Adresse]],\" \",Personne[[#This Row],[CodePostal]],\" \",Personne[[#This Row],[Ville]],\" \",Personne[[#This Row],[CodePays]])","v":"   "}]
[null,null,null,null,null,null,null,null,null,null,null,null,null,null,null,null,null,null,null,null,null,null,null,null,null,null,null,null,null,null,{"$f":"IF(PARAMETRES!$B$3=\"SANS\",SUMIFS(Honoraire[TotalHonoraireHT],Honoraire[ClientId],Personne[[#This Row],[PersonneId]]),SUMIFS(Honoraire[TotalHT],Honoraire[ClientId],Personne[[#This Row],[PersonneId]]))","v":0},{"$f":"Personne[[#This Row],[Facture (HT)]]+ROW()/100000","v":6.9499999999999996E-3},{"$f":"_xlfn.CONCAT(Personne[[#This Row],[Adresse]],\" \",Personne[[#This Row],[CodePostal]],\" \",Personne[[#This Row],[Ville]],\" \",Personne[[#This Row],[CodePays]])","v":"   "}]
[null,null,null,null,null,null,null,null,null,null,null,null,null,null,null,null,null,null,null,null,null,null,null,null,null,null,null,null,null,null,{"$f":"IF(PARAMETRES!$B$3=\"SANS\",SUMIFS(Honoraire[TotalHonoraireHT],Honoraire[ClientId],Personne[[#This Row],[PersonneId]]),SUMIFS(Honoraire[TotalHT],Honoraire[ClientId],Personne[[#This Row],[PersonneId]]))","v":0},{"$f":"Personne[[#This Row],[Facture (HT)]]+ROW()/100000","v":6.96E-3},{"$f":"_xlfn.CONCAT(Personne[[#This Row],[Adresse]],\" \",Personne[[#This Row],[CodePostal]],\" \",Personne[[#This Row],[Ville]],\" \",Personne[[#This Row],[CodePays]])","v":"   "}]
[null,null,null,null,null,null,null,null,null,null,null,null,null,null,null,null,null,null,null,null,null,null,null,null,null,null,null,null,null,null,{"$f":"IF(PARAMETRES!$B$3=\"SANS\",SUMIFS(Honoraire[TotalHonoraireHT],Honoraire[ClientId],Personne[[#This Row],[PersonneId]]),SUMIFS(Honoraire[TotalHT],Honoraire[ClientId],Personne[[#This Row],[PersonneId]]))","v":0},{"$f":"Personne[[#This Row],[Facture (HT)]]+ROW()/100000","v":6.9699999999999996E-3},{"$f":"_xlfn.CONCAT(Personne[[#This Row],[Adresse]],\" \",Personne[[#This Row],[CodePostal]],\" \",Personne[[#This Row],[Ville]],\" \",Personne[[#This Row],[CodePays]])","v":"   "}]
[null,null,null,null,null,null,null,null,null,null,null,null,null,null,null,null,null,null,null,null,null,null,null,null,null,null,null,null,null,null,{"$f":"IF(PARAMETRES!$B$3=\"SANS\",SUMIFS(Honoraire[TotalHonoraireHT],Honoraire[ClientId],Personne[[#This Row],[PersonneId]]),SUMIFS(Honoraire[TotalHT],Honoraire[ClientId],Personne[[#This Row],[PersonneId]]))","v":0},{"$f":"Personne[[#This Row],[Facture (HT)]]+ROW()/100000","v":6.9800000000000001E-3},{"$f":"_xlfn.CONCAT(Personne[[#This Row],[Adresse]],\" \",Personne[[#This Row],[CodePostal]],\" \",Personne[[#This Row],[Ville]],\" \",Personne[[#This Row],[CodePays]])","v":"   "}]
[null,null,null,null,null,null,null,null,null,null,null,null,null,null,null,null,null,null,null,null,null,null,null,null,null,null,null,null,null,null,{"$f":"IF(PARAMETRES!$B$3=\"SANS\",SUMIFS(Honoraire[TotalHonoraireHT],Honoraire[ClientId],Personne[[#This Row],[PersonneId]]),SUMIFS(Honoraire[TotalHT],Honoraire[ClientId],Personne[[#This Row],[PersonneId]]))","v":0},{"$f":"Personne[[#This Row],[Facture (HT)]]+ROW()/100000","v":6.9899999999999997E-3},{"$f":"_xlfn.CONCAT(Personne[[#This Row],[Adresse]],\" \",Personne[[#This Row],[CodePostal]],\" \",Personne[[#This Row],[Ville]],\" \",Personne[[#This Row],[CodePays]])","v":"   "}]
[null,null,null,null,null,null,null,null,null,null,null,null,null,null,null,null,null,null,null,null,null,null,null,null,null,null,null,null,null,null,{"$f":"IF(PARAMETRES!$B$3=\"SANS\",SUMIFS(Honoraire[TotalHonoraireHT],Honoraire[ClientId],Personne[[#This Row],[PersonneId]]),SUMIFS(Honoraire[TotalHT],Honoraire[ClientId],Personne[[#This Row],[PersonneId]]))","v":0},{"$f":"Personne[[#This Row],[Facture (HT)]]+ROW()/100000","v":7.0000000000000001E-3},{"$f":"_xlfn.CONCAT(Personne[[#This Row],[Adresse]],\" \",Personne[[#This Row],[CodePostal]],\" \",Personne[[#This Row],[Ville]],\" \",Personne[[#This Row],[CodePays]])","v":"   "}]
[null,null,null,null,null,null,null,null,null,null,null,null,null,null,null,null,null,null,null,null,null,null,null,null,null,null,null,null,null,null,{"$f":"IF(PARAMETRES!$B$3=\"SANS\",SUMIFS(Honoraire[TotalHonoraireHT],Honoraire[ClientId],Personne[[#This Row],[PersonneId]]),SUMIFS(Honoraire[TotalHT],Honoraire[ClientId],Personne[[#This Row],[PersonneId]]))","v":0},{"$f":"Personne[[#This Row],[Facture (HT)]]+ROW()/100000","v":7.0099999999999997E-3},{"$f":"_xlfn.CONCAT(Personne[[#This Row],[Adresse]],\" \",Personne[[#This Row],[CodePostal]],\" \",Personne[[#This Row],[Ville]],\" \",Personne[[#This Row],[CodePays]])","v":"   "}]
[null,null,null,null,null,null,null,null,null,null,null,null,null,null,null,null,null,null,null,null,null,null,null,null,null,null,null,null,null,null,{"$f":"IF(PARAMETRES!$B$3=\"SANS\",SUMIFS(Honoraire[TotalHonoraireHT],Honoraire[ClientId],Personne[[#This Row],[PersonneId]]),SUMIFS(Honoraire[TotalHT],Honoraire[ClientId],Personne[[#This Row],[PersonneId]]))","v":0},{"$f":"Personne[[#This Row],[Facture (HT)]]+ROW()/100000","v":7.0200000000000002E-3},{"$f":"_xlfn.CONCAT(Personne[[#This Row],[Adresse]],\" \",Personne[[#This Row],[CodePostal]],\" \",Personne[[#This Row],[Ville]],\" \",Personne[[#This Row],[CodePays]])","v":"   "}]
[null,null,null,null,null,null,null,null,null,null,null,null,null,null,null,null,null,null,null,null,null,null,null,null,null,null,null,null,null,null,{"$f":"IF(PARAMETRES!$B$3=\"SANS\",SUMIFS(Honoraire[TotalHonoraireHT],Honoraire[ClientId],Personne[[#This Row],[PersonneId]]),SUMIFS(Honoraire[TotalHT],Honoraire[ClientId],Personne[[#This Row],[PersonneId]]))","v":0},{"$f":"Personne[[#This Row],[Facture (HT)]]+ROW()/100000","v":7.0299999999999998E-3},{"$f":"_xlfn.CONCAT(Personne[[#This Row],[Adresse]],\" \",Personne[[#This Row],[CodePostal]],\" \",Personne[[#This Row],[Ville]],\" \",Personne[[#This Row],[CodePays]])","v":"   "}]
[null,null,null,null,null,null,null,null,null,null,null,null,null,null,null,null,null,null,null,null,null,null,null,null,null,null,null,null,null,null,{"$f":"IF(PARAMETRES!$B$3=\"SANS\",SUMIFS(Honoraire[TotalHonoraireHT],Honoraire[ClientId],Personne[[#This Row],[PersonneId]]),SUMIFS(Honoraire[TotalHT],Honoraire[ClientId],Personne[[#This Row],[PersonneId]]))","v":0},{"$f":"Personne[[#This Row],[Facture (HT)]]+ROW()/100000","v":7.0400000000000003E-3},{"$f":"_xlfn.CONCAT(Personne[[#This Row],[Adresse]],\" \",Personne[[#This Row],[CodePostal]],\" \",Personne[[#This Row],[Ville]],\" \",Personne[[#This Row],[CodePays]])","v":"   "}]
[null,null,null,null,null,null,null,null,null,null,null,null,null,null,null,null,null,null,null,null,null,null,null,null,null,null,null,null,null,null,{"$f":"IF(PARAMETRES!$B$3=\"SANS\",SUMIFS(Honoraire[TotalHonoraireHT],Honoraire[ClientId],Personne[[#This Row],[PersonneId]]),SUMIFS(Honoraire[TotalHT],Honoraire[ClientId],Personne[[#This Row],[PersonneId]]))","v":0},{"$f":"Personne[[#This Row],[Facture (HT)]]+ROW()/100000","v":7.0499999999999998E-3},{"$f":"_xlfn.CONCAT(Personne[[#This Row],[Adresse]],\" \",Personne[[#This Row],[CodePostal]],\" \",Personne[[#This Row],[Ville]],\" \",Personne[[#This Row],[CodePays]])","v":"   "}]
[null,null,null,null,null,null,null,null,null,null,null,null,null,null,null,null,null,null,null,null,null,null,null,null,null,null,null,null,null,null,{"$f":"IF(PARAMETRES!$B$3=\"SANS\",SUMIFS(Honoraire[TotalHonoraireHT],Honoraire[ClientId],Personne[[#This Row],[PersonneId]]),SUMIFS(Honoraire[TotalHT],Honoraire[ClientId],Personne[[#This Row],[PersonneId]]))","v":0},{"$f":"Personne[[#This Row],[Facture (HT)]]+ROW()/100000","v":7.0600000000000003E-3},{"$f":"_xlfn.CONCAT(Personne[[#This Row],[Adresse]],\" \",Personne[[#This Row],[CodePostal]],\" \",Personne[[#This Row],[Ville]],\" \",Personne[[#This Row],[CodePays]])","v":"   "}]
[null,null,null,null,null,null,null,null,null,null,null,null,null,null,null,null,null,null,null,null,null,null,null,null,null,null,null,null,null,null,{"$f":"IF(PARAMETRES!$B$3=\"SANS\",SUMIFS(Honoraire[TotalHonoraireHT],Honoraire[ClientId],Personne[[#This Row],[PersonneId]]),SUMIFS(Honoraire[TotalHT],Honoraire[ClientId],Personne[[#This Row],[PersonneId]]))","v":0},{"$f":"Personne[[#This Row],[Facture (HT)]]+ROW()/100000","v":7.0699999999999999E-3},{"$f":"_xlfn.CONCAT(Personne[[#This Row],[Adresse]],\" \",Personne[[#This Row],[CodePostal]],\" \",Personne[[#This Row],[Ville]],\" \",Personne[[#This Row],[CodePays]])","v":"   "}]
[null,null,null,null,null,null,null,null,null,null,null,null,null,null,null,null,null,null,null,null,null,null,null,null,null,null,null,null,null,null,{"$f":"IF(PARAMETRES!$B$3=\"SANS\",SUMIFS(Honoraire[TotalHonoraireHT],Honoraire[ClientId],Personne[[#This Row],[PersonneId]]),SUMIFS(Honoraire[TotalHT],Honoraire[ClientId],Personne[[#This Row],[PersonneId]]))","v":0},{"$f":"Personne[[#This Row],[Facture (HT)]]+ROW()/100000","v":7.0800000000000004E-3},{"$f":"_xlfn.CONCAT(Personne[[#This Row],[Adresse]],\" \",Personne[[#This Row],[CodePostal]],\" \",Personne[[#This Row],[Ville]],\" \",Personne[[#This Row],[CodePays]])","v":"   "}]
[null,null,null,null,null,null,null,null,null,null,null,null,null,null,null,null,null,null,null,null,null,null,null,null,null,null,null,null,null,null,{"$f":"IF(PARAMETRES!$B$3=\"SANS\",SUMIFS(Honoraire[TotalHonoraireHT],Honoraire[ClientId],Personne[[#This Row],[PersonneId]]),SUMIFS(Honoraire[TotalHT],Honoraire[ClientId],Personne[[#This Row],[PersonneId]]))","v":0},{"$f":"Personne[[#This Row],[Facture (HT)]]+ROW()/100000","v":7.0899999999999999E-3},{"$f":"_xlfn.CONCAT(Personne[[#This Row],[Adresse]],\" \",Personne[[#This Row],[CodePostal]],\" \",Personne[[#This Row],[Ville]],\" \",Personne[[#This Row],[CodePays]])","v":"   "}]
[null,null,null,null,null,null,null,null,null,null,null,null,null,null,null,null,null,null,null,null,null,null,null,null,null,null,null,null,null,null,{"$f":"IF(PARAMETRES!$B$3=\"SANS\",SUMIFS(Honoraire[TotalHonoraireHT],Honoraire[ClientId],Personne[[#This Row],[PersonneId]]),SUMIFS(Honoraire[TotalHT],Honoraire[ClientId],Personne[[#This Row],[PersonneId]]))","v":0},{"$f":"Personne[[#This Row],[Facture (HT)]]+ROW()/100000","v":7.1000000000000004E-3},{"$f":"_xlfn.CONCAT(Personne[[#This Row],[Adresse]],\" \",Personne[[#This Row],[CodePostal]],\" \",Personne[[#This Row],[Ville]],\" \",Personne[[#This Row],[CodePays]])","v":"   "}]
[null,null,null,null,null,null,null,null,null,null,null,null,null,null,null,null,null,null,null,null,null,null,null,null,null,null,null,null,null,null,{"$f":"IF(PARAMETRES!$B$3=\"SANS\",SUMIFS(Honoraire[TotalHonoraireHT],Honoraire[ClientId],Personne[[#This Row],[PersonneId]]),SUMIFS(Honoraire[TotalHT],Honoraire[ClientId],Personne[[#This Row],[PersonneId]]))","v":0},{"$f":"Personne[[#This Row],[Facture (HT)]]+ROW()/100000","v":7.11E-3},{"$f":"_xlfn.CONCAT(Personne[[#This Row],[Adresse]],\" \",Personne[[#This Row],[CodePostal]],\" \",Personne[[#This Row],[Ville]],\" \",Personne[[#This Row],[CodePays]])","v":"   "}]
[null,null,null,null,null,null,null,null,null,null,null,null,null,null,null,null,null,null,null,null,null,null,null,null,null,null,null,null,null,null,{"$f":"IF(PARAMETRES!$B$3=\"SANS\",SUMIFS(Honoraire[TotalHonoraireHT],Honoraire[ClientId],Personne[[#This Row],[PersonneId]]),SUMIFS(Honoraire[TotalHT],Honoraire[ClientId],Personne[[#This Row],[PersonneId]]))","v":0},{"$f":"Personne[[#This Row],[Facture (HT)]]+ROW()/100000","v":7.1199999999999996E-3},{"$f":"_xlfn.CONCAT(Personne[[#This Row],[Adresse]],\" \",Personne[[#This Row],[CodePostal]],\" \",Personne[[#This Row],[Ville]],\" \",Personne[[#This Row],[CodePays]])","v":"   "}]
[null,null,null,null,null,null,null,null,null,null,null,null,null,null,null,null,null,null,null,null,null,null,null,null,null,null,null,null,null,null,{"$f":"IF(PARAMETRES!$B$3=\"SANS\",SUMIFS(Honoraire[TotalHonoraireHT],Honoraire[ClientId],Personne[[#This Row],[PersonneId]]),SUMIFS(Honoraire[TotalHT],Honoraire[ClientId],Personne[[#This Row],[PersonneId]]))","v":0},{"$f":"Personne[[#This Row],[Facture (HT)]]+ROW()/100000","v":7.1300000000000001E-3},{"$f":"_xlfn.CONCAT(Personne[[#This Row],[Adresse]],\" \",Personne[[#This Row],[CodePostal]],\" \",Personne[[#This Row],[Ville]],\" \",Personne[[#This Row],[CodePays]])","v":"   "}]
[null,null,null,null,null,null,null,null,null,null,null,null,null,null,null,null,null,null,null,null,null,null,null,null,null,null,null,null,null,null,{"$f":"IF(PARAMETRES!$B$3=\"SANS\",SUMIFS(Honoraire[TotalHonoraireHT],Honoraire[ClientId],Personne[[#This Row],[PersonneId]]),SUMIFS(Honoraire[TotalHT],Honoraire[ClientId],Personne[[#This Row],[PersonneId]]))","v":0},{"$f":"Personne[[#This Row],[Facture (HT)]]+ROW()/100000","v":7.1399999999999996E-3},{"$f":"_xlfn.CONCAT(Personne[[#This Row],[Adresse]],\" \",Personne[[#This Row],[CodePostal]],\" \",Personne[[#This Row],[Ville]],\" \",Personne[[#This Row],[CodePays]])","v":"   "}]
[null,null,null,null,null,null,null,null,null,null,null,null,null,null,null,null,null,null,null,null,null,null,null,null,null,null,null,null,null,null,{"$f":"IF(PARAMETRES!$B$3=\"SANS\",SUMIFS(Honoraire[TotalHonoraireHT],Honoraire[ClientId],Personne[[#This Row],[PersonneId]]),SUMIFS(Honoraire[TotalHT],Honoraire[ClientId],Personne[[#This Row],[PersonneId]]))","v":0},{"$f":"Personne[[#This Row],[Facture (HT)]]+ROW()/100000","v":7.1500000000000001E-3},{"$f":"_xlfn.CONCAT(Personne[[#This Row],[Adresse]],\" \",Personne[[#This Row],[CodePostal]],\" \",Personne[[#This Row],[Ville]],\" \",Personne[[#This Row],[CodePays]])","v":"   "}]
[null,null,null,null,null,null,null,null,null,null,null,null,null,null,null,null,null,null,null,null,null,null,null,null,null,null,null,null,null,null,{"$f":"IF(PARAMETRES!$B$3=\"SANS\",SUMIFS(Honoraire[TotalHonoraireHT],Honoraire[ClientId],Personne[[#This Row],[PersonneId]]),SUMIFS(Honoraire[TotalHT],Honoraire[ClientId],Personne[[#This Row],[PersonneId]]))","v":0},{"$f":"Personne[[#This Row],[Facture (HT)]]+ROW()/100000","v":7.1599999999999997E-3},{"$f":"_xlfn.CONCAT(Personne[[#This Row],[Adresse]],\" \",Personne[[#This Row],[CodePostal]],\" \",Personne[[#This Row],[Ville]],\" \",Personne[[#This Row],[CodePays]])","v":"   "}]
[null,null,null,null,null,null,null,null,null,null,null,null,null,null,null,null,null,null,null,null,null,null,null,null,null,null,null,null,null,null,{"$f":"IF(PARAMETRES!$B$3=\"SANS\",SUMIFS(Honoraire[TotalHonoraireHT],Honoraire[ClientId],Personne[[#This Row],[PersonneId]]),SUMIFS(Honoraire[TotalHT],Honoraire[ClientId],Personne[[#This Row],[PersonneId]]))","v":0},{"$f":"Personne[[#This Row],[Facture (HT)]]+ROW()/100000","v":7.1700000000000002E-3},{"$f":"_xlfn.CONCAT(Personne[[#This Row],[Adresse]],\" \",Personne[[#This Row],[CodePostal]],\" \",Personne[[#This Row],[Ville]],\" \",Personne[[#This Row],[CodePays]])","v":"   "}]
[null,null,null,null,null,null,null,null,null,null,null,null,null,null,null,null,null,null,null,null,null,null,null,null,null,null,null,null,null,null,{"$f":"IF(PARAMETRES!$B$3=\"SANS\",SUMIFS(Honoraire[TotalHonoraireHT],Honoraire[ClientId],Personne[[#This Row],[PersonneId]]),SUMIFS(Honoraire[TotalHT],Honoraire[ClientId],Personne[[#This Row],[PersonneId]]))","v":0},{"$f":"Personne[[#This Row],[Facture (HT)]]+ROW()/100000","v":7.1799999999999998E-3},{"$f":"_xlfn.CONCAT(Personne[[#This Row],[Adresse]],\" \",Personne[[#This Row],[CodePostal]],\" \",Personne[[#This Row],[Ville]],\" \",Personne[[#This Row],[CodePays]])","v":"   "}]
[null,null,null,null,null,null,null,null,null,null,null,null,null,null,null,null,null,null,null,null,null,null,null,null,null,null,null,null,null,null,{"$f":"IF(PARAMETRES!$B$3=\"SANS\",SUMIFS(Honoraire[TotalHonoraireHT],Honoraire[ClientId],Personne[[#This Row],[PersonneId]]),SUMIFS(Honoraire[TotalHT],Honoraire[ClientId],Personne[[#This Row],[PersonneId]]))","v":0},{"$f":"Personne[[#This Row],[Facture (HT)]]+ROW()/100000","v":7.1900000000000002E-3},{"$f":"_xlfn.CONCAT(Personne[[#This Row],[Adresse]],\" \",Personne[[#This Row],[CodePostal]],\" \",Personne[[#This Row],[Ville]],\" \",Personne[[#This Row],[CodePays]])","v":"   "}]
[null,null,null,null,null,null,null,null,null,null,null,null,null,null,null,null,null,null,null,null,null,null,null,null,null,null,null,null,null,null,{"$f":"IF(PARAMETRES!$B$3=\"SANS\",SUMIFS(Honoraire[TotalHonoraireHT],Honoraire[ClientId],Personne[[#This Row],[PersonneId]]),SUMIFS(Honoraire[TotalHT],Honoraire[ClientId],Personne[[#This Row],[PersonneId]]))","v":0},{"$f":"Personne[[#This Row],[Facture (HT)]]+ROW()/100000","v":7.1999999999999998E-3},{"$f":"_xlfn.CONCAT(Personne[[#This Row],[Adresse]],\" \",Personne[[#This Row],[CodePostal]],\" \",Personne[[#This Row],[Ville]],\" \",Personne[[#This Row],[CodePays]])","v":"   "}]
[null,null,null,null,null,null,null,null,null,null,null,null,null,null,null,null,null,null,null,null,null,null,null,null,null,null,null,null,null,null,{"$f":"IF(PARAMETRES!$B$3=\"SANS\",SUMIFS(Honoraire[TotalHonoraireHT],Honoraire[ClientId],Personne[[#This Row],[PersonneId]]),SUMIFS(Honoraire[TotalHT],Honoraire[ClientId],Personne[[#This Row],[PersonneId]]))","v":0},{"$f":"Personne[[#This Row],[Facture (HT)]]+ROW()/100000","v":7.2100000000000003E-3},{"$f":"_xlfn.CONCAT(Personne[[#This Row],[Adresse]],\" \",Personne[[#This Row],[CodePostal]],\" \",Personne[[#This Row],[Ville]],\" \",Personne[[#This Row],[CodePays]])","v":"   "}]
[null,null,null,null,null,null,null,null,null,null,null,null,null,null,null,null,null,null,null,null,null,null,null,null,null,null,null,null,null,null,{"$f":"IF(PARAMETRES!$B$3=\"SANS\",SUMIFS(Honoraire[TotalHonoraireHT],Honoraire[ClientId],Personne[[#This Row],[PersonneId]]),SUMIFS(Honoraire[TotalHT],Honoraire[ClientId],Personne[[#This Row],[PersonneId]]))","v":0},{"$f":"Personne[[#This Row],[Facture (HT)]]+ROW()/100000","v":7.2199999999999999E-3},{"$f":"_xlfn.CONCAT(Personne[[#This Row],[Adresse]],\" \",Personne[[#This Row],[CodePostal]],\" \",Personne[[#This Row],[Ville]],\" \",Personne[[#This Row],[CodePays]])","v":"   "}]
[null,null,null,null,null,null,null,null,null,null,null,null,null,null,null,null,null,null,null,null,null,null,null,null,null,null,null,null,null,null,{"$f":"IF(PARAMETRES!$B$3=\"SANS\",SUMIFS(Honoraire[TotalHonoraireHT],Honoraire[ClientId],Personne[[#This Row],[PersonneId]]),SUMIFS(Honoraire[TotalHT],Honoraire[ClientId],Personne[[#This Row],[PersonneId]]))","v":0},{"$f":"Personne[[#This Row],[Facture (HT)]]+ROW()/100000","v":7.2300000000000003E-3},{"$f":"_xlfn.CONCAT(Personne[[#This Row],[Adresse]],\" \",Personne[[#This Row],[CodePostal]],\" \",Personne[[#This Row],[Ville]],\" \",Personne[[#This Row],[CodePays]])","v":"   "}]
[null,null,null,null,null,null,null,null,null,null,null,null,null,null,null,null,null,null,null,null,null,null,null,null,null,null,null,null,null,null,{"$f":"IF(PARAMETRES!$B$3=\"SANS\",SUMIFS(Honoraire[TotalHonoraireHT],Honoraire[ClientId],Personne[[#This Row],[PersonneId]]),SUMIFS(Honoraire[TotalHT],Honoraire[ClientId],Personne[[#This Row],[PersonneId]]))","v":0},{"$f":"Personne[[#This Row],[Facture (HT)]]+ROW()/100000","v":7.2399999999999999E-3},{"$f":"_xlfn.CONCAT(Personne[[#This Row],[Adresse]],\" \",Personne[[#This Row],[CodePostal]],\" \",Personne[[#This Row],[Ville]],\" \",Personne[[#This Row],[CodePays]])","v":"   "}]
[null,null,null,null,null,null,null,null,null,null,null,null,null,null,null,null,null,null,null,null,null,null,null,null,null,null,null,null,null,null,{"$f":"IF(PARAMETRES!$B$3=\"SANS\",SUMIFS(Honoraire[TotalHonoraireHT],Honoraire[ClientId],Personne[[#This Row],[PersonneId]]),SUMIFS(Honoraire[TotalHT],Honoraire[ClientId],Personne[[#This Row],[PersonneId]]))","v":0},{"$f":"Personne[[#This Row],[Facture (HT)]]+ROW()/100000","v":7.2500000000000004E-3},{"$f":"_xlfn.CONCAT(Personne[[#This Row],[Adresse]],\" \",Personne[[#This Row],[CodePostal]],\" \",Personne[[#This Row],[Ville]],\" \",Personne[[#This Row],[CodePays]])","v":"   "}]
[null,null,null,null,null,null,null,null,null,null,null,null,null,null,null,null,null,null,null,null,null,null,null,null,null,null,null,null,null,null,{"$f":"IF(PARAMETRES!$B$3=\"SANS\",SUMIFS(Honoraire[TotalHonoraireHT],Honoraire[ClientId],Personne[[#This Row],[PersonneId]]),SUMIFS(Honoraire[TotalHT],Honoraire[ClientId],Personne[[#This Row],[PersonneId]]))","v":0},{"$f":"Personne[[#This Row],[Facture (HT)]]+ROW()/100000","v":7.26E-3},{"$f":"_xlfn.CONCAT(Personne[[#This Row],[Adresse]],\" \",Personne[[#This Row],[CodePostal]],\" \",Personne[[#This Row],[Ville]],\" \",Personne[[#This Row],[CodePays]])","v":"   "}]
[null,null,null,null,null,null,null,null,null,null,null,null,null,null,null,null,null,null,null,null,null,null,null,null,null,null,null,null,null,null,{"$f":"IF(PARAMETRES!$B$3=\"SANS\",SUMIFS(Honoraire[TotalHonoraireHT],Honoraire[ClientId],Personne[[#This Row],[PersonneId]]),SUMIFS(Honoraire[TotalHT],Honoraire[ClientId],Personne[[#This Row],[PersonneId]]))","v":0},{"$f":"Personne[[#This Row],[Facture (HT)]]+ROW()/100000","v":7.2700000000000004E-3},{"$f":"_xlfn.CONCAT(Personne[[#This Row],[Adresse]],\" \",Personne[[#This Row],[CodePostal]],\" \",Personne[[#This Row],[Ville]],\" \",Personne[[#This Row],[CodePays]])","v":"   "}]
[null,null,null,null,null,null,null,null,null,null,null,null,null,null,null,null,null,null,null,null,null,null,null,null,null,null,null,null,null,null,{"$f":"IF(PARAMETRES!$B$3=\"SANS\",SUMIFS(Honoraire[TotalHonoraireHT],Honoraire[ClientId],Personne[[#This Row],[PersonneId]]),SUMIFS(Honoraire[TotalHT],Honoraire[ClientId],Personne[[#This Row],[PersonneId]]))","v":0},{"$f":"Personne[[#This Row],[Facture (HT)]]+ROW()/100000","v":7.28E-3},{"$f":"_xlfn.CONCAT(Personne[[#This Row],[Adresse]],\" \",Personne[[#This Row],[CodePostal]],\" \",Personne[[#This Row],[Ville]],\" \",Personne[[#This Row],[CodePays]])","v":"   "}]
[null,null,null,null,null,null,null,null,null,null,null,null,null,null,null,null,null,null,null,null,null,null,null,null,null,null,null,null,null,null,{"$f":"IF(PARAMETRES!$B$3=\"SANS\",SUMIFS(Honoraire[TotalHonoraireHT],Honoraire[ClientId],Personne[[#This Row],[PersonneId]]),SUMIFS(Honoraire[TotalHT],Honoraire[ClientId],Personne[[#This Row],[PersonneId]]))","v":0},{"$f":"Personne[[#This Row],[Facture (HT)]]+ROW()/100000","v":7.2899999999999996E-3},{"$f":"_xlfn.CONCAT(Personne[[#This Row],[Adresse]],\" \",Personne[[#This Row],[CodePostal]],\" \",Personne[[#This Row],[Ville]],\" \",Personne[[#This Row],[CodePays]])","v":"   "}]
[null,null,null,null,null,null,null,null,null,null,null,null,null,null,null,null,null,null,null,null,null,null,null,null,null,null,null,null,null,null,{"$f":"IF(PARAMETRES!$B$3=\"SANS\",SUMIFS(Honoraire[TotalHonoraireHT],Honoraire[ClientId],Personne[[#This Row],[PersonneId]]),SUMIFS(Honoraire[TotalHT],Honoraire[ClientId],Personne[[#This Row],[PersonneId]]))","v":0},{"$f":"Personne[[#This Row],[Facture (HT)]]+ROW()/100000","v":7.3000000000000001E-3},{"$f":"_xlfn.CONCAT(Personne[[#This Row],[Adresse]],\" \",Personne[[#This Row],[CodePostal]],\" \",Personne[[#This Row],[Ville]],\" \",Personne[[#This Row],[CodePays]])","v":"   "}]
[null,null,null,null,null,null,null,null,null,null,null,null,null,null,null,null,null,null,null,null,null,null,null,null,null,null,null,null,null,null,{"$f":"IF(PARAMETRES!$B$3=\"SANS\",SUMIFS(Honoraire[TotalHonoraireHT],Honoraire[ClientId],Personne[[#This Row],[PersonneId]]),SUMIFS(Honoraire[TotalHT],Honoraire[ClientId],Personne[[#This Row],[PersonneId]]))","v":0},{"$f":"Personne[[#This Row],[Facture (HT)]]+ROW()/100000","v":7.3099999999999997E-3},{"$f":"_xlfn.CONCAT(Personne[[#This Row],[Adresse]],\" \",Personne[[#This Row],[CodePostal]],\" \",Personne[[#This Row],[Ville]],\" \",Personne[[#This Row],[CodePays]])","v":"   "}]
[null,null,null,null,null,null,null,null,null,null,null,null,null,null,null,null,null,null,null,null,null,null,null,null,null,null,null,null,null,null,{"$f":"IF(PARAMETRES!$B$3=\"SANS\",SUMIFS(Honoraire[TotalHonoraireHT],Honoraire[ClientId],Personne[[#This Row],[PersonneId]]),SUMIFS(Honoraire[TotalHT],Honoraire[ClientId],Personne[[#This Row],[PersonneId]]))","v":0},{"$f":"Personne[[#This Row],[Facture (HT)]]+ROW()/100000","v":7.3200000000000001E-3},{"$f":"_xlfn.CONCAT(Personne[[#This Row],[Adresse]],\" \",Personne[[#This Row],[CodePostal]],\" \",Personne[[#This Row],[Ville]],\" \",Personne[[#This Row],[CodePays]])","v":"   "}]
[null,null,null,null,null,null,null,null,null,null,null,null,null,null,null,null,null,null,null,null,null,null,null,null,null,null,null,null,null,null,{"$f":"IF(PARAMETRES!$B$3=\"SANS\",SUMIFS(Honoraire[TotalHonoraireHT],Honoraire[ClientId],Personne[[#This Row],[PersonneId]]),SUMIFS(Honoraire[TotalHT],Honoraire[ClientId],Personne[[#This Row],[PersonneId]]))","v":0},{"$f":"Personne[[#This Row],[Facture (HT)]]+ROW()/100000","v":7.3299999999999997E-3},{"$f":"_xlfn.CONCAT(Personne[[#This Row],[Adresse]],\" \",Personne[[#This Row],[CodePostal]],\" \",Personne[[#This Row],[Ville]],\" \",Personne[[#This Row],[CodePays]])","v":"   "}]
[null,null,null,null,null,null,null,null,null,null,null,null,null,null,null,null,null,null,null,null,null,null,null,null,null,null,null,null,null,null,{"$f":"IF(PARAMETRES!$B$3=\"SANS\",SUMIFS(Honoraire[TotalHonoraireHT],Honoraire[ClientId],Personne[[#This Row],[PersonneId]]),SUMIFS(Honoraire[TotalHT],Honoraire[ClientId],Personne[[#This Row],[PersonneId]]))","v":0},{"$f":"Personne[[#This Row],[Facture (HT)]]+ROW()/100000","v":7.3400000000000002E-3},{"$f":"_xlfn.CONCAT(Personne[[#This Row],[Adresse]],\" \",Personne[[#This Row],[CodePostal]],\" \",Personne[[#This Row],[Ville]],\" \",Personne[[#This Row],[CodePays]])","v":"   "}]
[null,null,null,null,null,null,null,null,null,null,null,null,null,null,null,null,null,null,null,null,null,null,null,null,null,null,null,null,null,null,{"$f":"IF(PARAMETRES!$B$3=\"SANS\",SUMIFS(Honoraire[TotalHonoraireHT],Honoraire[ClientId],Personne[[#This Row],[PersonneId]]),SUMIFS(Honoraire[TotalHT],Honoraire[ClientId],Personne[[#This Row],[PersonneId]]))","v":0},{"$f":"Personne[[#This Row],[Facture (HT)]]+ROW()/100000","v":7.3499999999999998E-3},{"$f":"_xlfn.CONCAT(Personne[[#This Row],[Adresse]],\" \",Personne[[#This Row],[CodePostal]],\" \",Personne[[#This Row],[Ville]],\" \",Personne[[#This Row],[CodePays]])","v":"   "}]
[null,null,null,null,null,null,null,null,null,null,null,null,null,null,null,null,null,null,null,null,null,null,null,null,null,null,null,null,null,null,{"$f":"IF(PARAMETRES!$B$3=\"SANS\",SUMIFS(Honoraire[TotalHonoraireHT],Honoraire[ClientId],Personne[[#This Row],[PersonneId]]),SUMIFS(Honoraire[TotalHT],Honoraire[ClientId],Personne[[#This Row],[PersonneId]]))","v":0},{"$f":"Personne[[#This Row],[Facture (HT)]]+ROW()/100000","v":7.3600000000000002E-3},{"$f":"_xlfn.CONCAT(Personne[[#This Row],[Adresse]],\" \",Personne[[#This Row],[CodePostal]],\" \",Personne[[#This Row],[Ville]],\" \",Personne[[#This Row],[CodePays]])","v":"   "}]
[null,null,null,null,null,null,null,null,null,null,null,null,null,null,null,null,null,null,null,null,null,null,null,null,null,null,null,null,null,null,{"$f":"IF(PARAMETRES!$B$3=\"SANS\",SUMIFS(Honoraire[TotalHonoraireHT],Honoraire[ClientId],Personne[[#This Row],[PersonneId]]),SUMIFS(Honoraire[TotalHT],Honoraire[ClientId],Personne[[#This Row],[PersonneId]]))","v":0},{"$f":"Personne[[#This Row],[Facture (HT)]]+ROW()/100000","v":7.3699999999999998E-3},{"$f":"_xlfn.CONCAT(Personne[[#This Row],[Adresse]],\" \",Personne[[#This Row],[CodePostal]],\" \",Personne[[#This Row],[Ville]],\" \",Personne[[#This Row],[CodePays]])","v":"   "}]
[null,null,null,null,null,null,null,null,null,null,null,null,null,null,null,null,null,null,null,null,null,null,null,null,null,null,null,null,null,null,{"$f":"IF(PARAMETRES!$B$3=\"SANS\",SUMIFS(Honoraire[TotalHonoraireHT],Honoraire[ClientId],Personne[[#This Row],[PersonneId]]),SUMIFS(Honoraire[TotalHT],Honoraire[ClientId],Personne[[#This Row],[PersonneId]]))","v":0},{"$f":"Personne[[#This Row],[Facture (HT)]]+ROW()/100000","v":7.3800000000000003E-3},{"$f":"_xlfn.CONCAT(Personne[[#This Row],[Adresse]],\" \",Personne[[#This Row],[CodePostal]],\" \",Personne[[#This Row],[Ville]],\" \",Personne[[#This Row],[CodePays]])","v":"   "}]
[null,null,null,null,null,null,null,null,null,null,null,null,null,null,null,null,null,null,null,null,null,null,null,null,null,null,null,null,null,null,{"$f":"IF(PARAMETRES!$B$3=\"SANS\",SUMIFS(Honoraire[TotalHonoraireHT],Honoraire[ClientId],Personne[[#This Row],[PersonneId]]),SUMIFS(Honoraire[TotalHT],Honoraire[ClientId],Personne[[#This Row],[PersonneId]]))","v":0},{"$f":"Personne[[#This Row],[Facture (HT)]]+ROW()/100000","v":7.3899999999999999E-3},{"$f":"_xlfn.CONCAT(Personne[[#This Row],[Adresse]],\" \",Personne[[#This Row],[CodePostal]],\" \",Personne[[#This Row],[Ville]],\" \",Personne[[#This Row],[CodePays]])","v":"   "}]
[null,null,null,null,null,null,null,null,null,null,null,null,null,null,null,null,null,null,null,null,null,null,null,null,null,null,null,null,null,null,{"$f":"IF(PARAMETRES!$B$3=\"SANS\",SUMIFS(Honoraire[TotalHonoraireHT],Honoraire[ClientId],Personne[[#This Row],[PersonneId]]),SUMIFS(Honoraire[TotalHT],Honoraire[ClientId],Personne[[#This Row],[PersonneId]]))","v":0},{"$f":"Personne[[#This Row],[Facture (HT)]]+ROW()/100000","v":7.4000000000000003E-3},{"$f":"_xlfn.CONCAT(Personne[[#This Row],[Adresse]],\" \",Personne[[#This Row],[CodePostal]],\" \",Personne[[#This Row],[Ville]],\" \",Personne[[#This Row],[CodePays]])","v":"   "}]
[null,null,null,null,null,null,null,null,null,null,null,null,null,null,null,null,null,null,null,null,null,null,null,null,null,null,null,null,null,null,{"$f":"IF(PARAMETRES!$B$3=\"SANS\",SUMIFS(Honoraire[TotalHonoraireHT],Honoraire[ClientId],Personne[[#This Row],[PersonneId]]),SUMIFS(Honoraire[TotalHT],Honoraire[ClientId],Personne[[#This Row],[PersonneId]]))","v":0},{"$f":"Personne[[#This Row],[Facture (HT)]]+ROW()/100000","v":7.4099999999999999E-3},{"$f":"_xlfn.CONCAT(Personne[[#This Row],[Adresse]],\" \",Personne[[#This Row],[CodePostal]],\" \",Personne[[#This Row],[Ville]],\" \",Personne[[#This Row],[CodePays]])","v":"   "}]
[null,null,null,null,null,null,null,null,null,null,null,null,null,null,null,null,null,null,null,null,null,null,null,null,null,null,null,null,null,null,{"$f":"IF(PARAMETRES!$B$3=\"SANS\",SUMIFS(Honoraire[TotalHonoraireHT],Honoraire[ClientId],Personne[[#This Row],[PersonneId]]),SUMIFS(Honoraire[TotalHT],Honoraire[ClientId],Personne[[#This Row],[PersonneId]]))","v":0},{"$f":"Personne[[#This Row],[Facture (HT)]]+ROW()/100000","v":7.4200000000000004E-3},{"$f":"_xlfn.CONCAT(Personne[[#This Row],[Adresse]],\" \",Personne[[#This Row],[CodePostal]],\" \",Personne[[#This Row],[Ville]],\" \",Personne[[#This Row],[CodePays]])","v":"   "}]
[null,null,null,null,null,null,null,null,null,null,null,null,null,null,null,null,null,null,null,null,null,null,null,null,null,null,null,null,null,null,{"$f":"IF(PARAMETRES!$B$3=\"SANS\",SUMIFS(Honoraire[TotalHonoraireHT],Honoraire[ClientId],Personne[[#This Row],[PersonneId]]),SUMIFS(Honoraire[TotalHT],Honoraire[ClientId],Personne[[#This Row],[PersonneId]]))","v":0},{"$f":"Personne[[#This Row],[Facture (HT)]]+ROW()/100000","v":7.43E-3},{"$f":"_xlfn.CONCAT(Personne[[#This Row],[Adresse]],\" \",Personne[[#This Row],[CodePostal]],\" \",Personne[[#This Row],[Ville]],\" \",Personne[[#This Row],[CodePays]])","v":"   "}]
[null,null,null,null,null,null,null,null,null,null,null,null,null,null,null,null,null,null,null,null,null,null,null,null,null,null,null,null,null,null,{"$f":"IF(PARAMETRES!$B$3=\"SANS\",SUMIFS(Honoraire[TotalHonoraireHT],Honoraire[ClientId],Personne[[#This Row],[PersonneId]]),SUMIFS(Honoraire[TotalHT],Honoraire[ClientId],Personne[[#This Row],[PersonneId]]))","v":0},{"$f":"Personne[[#This Row],[Facture (HT)]]+ROW()/100000","v":7.4400000000000004E-3},{"$f":"_xlfn.CONCAT(Personne[[#This Row],[Adresse]],\" \",Personne[[#This Row],[CodePostal]],\" \",Personne[[#This Row],[Ville]],\" \",Personne[[#This Row],[CodePays]])","v":"   "}]
[null,null,null,null,null,null,null,null,null,null,null,null,null,null,null,null,null,null,null,null,null,null,null,null,null,null,null,null,null,null,{"$f":"IF(PARAMETRES!$B$3=\"SANS\",SUMIFS(Honoraire[TotalHonoraireHT],Honoraire[ClientId],Personne[[#This Row],[PersonneId]]),SUMIFS(Honoraire[TotalHT],Honoraire[ClientId],Personne[[#This Row],[PersonneId]]))","v":0},{"$f":"Personne[[#This Row],[Facture (HT)]]+ROW()/100000","v":7.45E-3},{"$f":"_xlfn.CONCAT(Personne[[#This Row],[Adresse]],\" \",Personne[[#This Row],[CodePostal]],\" \",Personne[[#This Row],[Ville]],\" \",Personne[[#This Row],[CodePays]])","v":"   "}]
[null,null,null,null,null,null,null,null,null,null,null,null,null,null,null,null,null,null,null,null,null,null,null,null,null,null,null,null,null,null,{"$f":"IF(PARAMETRES!$B$3=\"SANS\",SUMIFS(Honoraire[TotalHonoraireHT],Honoraire[ClientId],Personne[[#This Row],[PersonneId]]),SUMIFS(Honoraire[TotalHT],Honoraire[ClientId],Personne[[#This Row],[PersonneId]]))","v":0},{"$f":"Personne[[#This Row],[Facture (HT)]]+ROW()/100000","v":7.4599999999999996E-3},{"$f":"_xlfn.CONCAT(Personne[[#This Row],[Adresse]],\" \",Personne[[#This Row],[CodePostal]],\" \",Personne[[#This Row],[Ville]],\" \",Personne[[#This Row],[CodePays]])","v":"   "}]
[null,null,null,null,null,null,null,null,null,null,null,null,null,null,null,null,null,null,null,null,null,null,null,null,null,null,null,null,null,null,{"$f":"IF(PARAMETRES!$B$3=\"SANS\",SUMIFS(Honoraire[TotalHonoraireHT],Honoraire[ClientId],Personne[[#This Row],[PersonneId]]),SUMIFS(Honoraire[TotalHT],Honoraire[ClientId],Personne[[#This Row],[PersonneId]]))","v":0},{"$f":"Personne[[#This Row],[Facture (HT)]]+ROW()/100000","v":7.4700000000000001E-3},{"$f":"_xlfn.CONCAT(Personne[[#This Row],[Adresse]],\" \",Personne[[#This Row],[CodePostal]],\" \",Personne[[#This Row],[Ville]],\" \",Personne[[#This Row],[CodePays]])","v":"   "}]
[null,null,null,null,null,null,null,null,null,null,null,null,null,null,null,null,null,null,null,null,null,null,null,null,null,null,null,null,null,null,{"$f":"IF(PARAMETRES!$B$3=\"SANS\",SUMIFS(Honoraire[TotalHonoraireHT],Honoraire[ClientId],Personne[[#This Row],[PersonneId]]),SUMIFS(Honoraire[TotalHT],Honoraire[ClientId],Personne[[#This Row],[PersonneId]]))","v":0},{"$f":"Personne[[#This Row],[Facture (HT)]]+ROW()/100000","v":7.4799999999999997E-3},{"$f":"_xlfn.CONCAT(Personne[[#This Row],[Adresse]],\" \",Personne[[#This Row],[CodePostal]],\" \",Personne[[#This Row],[Ville]],\" \",Personne[[#This Row],[CodePays]])","v":"   "}]
[null,null,null,null,null,null,null,null,null,null,null,null,null,null,null,null,null,null,null,null,null,null,null,null,null,null,null,null,null,null,{"$f":"IF(PARAMETRES!$B$3=\"SANS\",SUMIFS(Honoraire[TotalHonoraireHT],Honoraire[ClientId],Personne[[#This Row],[PersonneId]]),SUMIFS(Honoraire[TotalHT],Honoraire[ClientId],Personne[[#This Row],[PersonneId]]))","v":0},{"$f":"Personne[[#This Row],[Facture (HT)]]+ROW()/100000","v":7.4900000000000001E-3},{"$f":"_xlfn.CONCAT(Personne[[#This Row],[Adresse]],\" \",Personne[[#This Row],[CodePostal]],\" \",Personne[[#This Row],[Ville]],\" \",Personne[[#This Row],[CodePays]])","v":"   "}]
[null,null,null,null,null,null,null,null,null,null,null,null,null,null,null,null,null,null,null,null,null,null,null,null,null,null,null,null,null,null,{"$f":"IF(PARAMETRES!$B$3=\"SANS\",SUMIFS(Honoraire[TotalHonoraireHT],Honoraire[ClientId],Personne[[#This Row],[PersonneId]]),SUMIFS(Honoraire[TotalHT],Honoraire[ClientId],Personne[[#This Row],[PersonneId]]))","v":0},{"$f":"Personne[[#This Row],[Facture (HT)]]+ROW()/100000","v":7.4999999999999997E-3},{"$f":"_xlfn.CONCAT(Personne[[#This Row],[Adresse]],\" \",Personne[[#This Row],[CodePostal]],\" \",Personne[[#This Row],[Ville]],\" \",Personne[[#This Row],[CodePays]])","v":"   "}]
[null,null,null,null,null,null,null,null,null,null,null,null,null,null,null,null,null,null,null,null,null,null,null,null,null,null,null,null,null,null,{"$f":"IF(PARAMETRES!$B$3=\"SANS\",SUMIFS(Honoraire[TotalHonoraireHT],Honoraire[ClientId],Personne[[#This Row],[PersonneId]]),SUMIFS(Honoraire[TotalHT],Honoraire[ClientId],Personne[[#This Row],[PersonneId]]))","v":0},{"$f":"Personne[[#This Row],[Facture (HT)]]+ROW()/100000","v":7.5100000000000002E-3},{"$f":"_xlfn.CONCAT(Personne[[#This Row],[Adresse]],\" \",Personne[[#This Row],[CodePostal]],\" \",Personne[[#This Row],[Ville]],\" \",Personne[[#This Row],[CodePays]])","v":"   "}]
[null,null,null,null,null,null,null,null,null,null,null,null,null,null,null,null,null,null,null,null,null,null,null,null,null,null,null,null,null,null,{"$f":"IF(PARAMETRES!$B$3=\"SANS\",SUMIFS(Honoraire[TotalHonoraireHT],Honoraire[ClientId],Personne[[#This Row],[PersonneId]]),SUMIFS(Honoraire[TotalHT],Honoraire[ClientId],Personne[[#This Row],[PersonneId]]))","v":0},{"$f":"Personne[[#This Row],[Facture (HT)]]+ROW()/100000","v":7.5199999999999998E-3},{"$f":"_xlfn.CONCAT(Personne[[#This Row],[Adresse]],\" \",Personne[[#This Row],[CodePostal]],\" \",Personne[[#This Row],[Ville]],\" \",Personne[[#This Row],[CodePays]])","v":"   "}]
[null,null,null,null,null,null,null,null,null,null,null,null,null,null,null,null,null,null,null,null,null,null,null,null,null,null,null,null,null,null,{"$f":"IF(PARAMETRES!$B$3=\"SANS\",SUMIFS(Honoraire[TotalHonoraireHT],Honoraire[ClientId],Personne[[#This Row],[PersonneId]]),SUMIFS(Honoraire[TotalHT],Honoraire[ClientId],Personne[[#This Row],[PersonneId]]))","v":0},{"$f":"Personne[[#This Row],[Facture (HT)]]+ROW()/100000","v":7.5300000000000002E-3},{"$f":"_xlfn.CONCAT(Personne[[#This Row],[Adresse]],\" \",Personne[[#This Row],[CodePostal]],\" \",Personne[[#This Row],[Ville]],\" \",Personne[[#This Row],[CodePays]])","v":"   "}]
[null,null,null,null,null,null,null,null,null,null,null,null,null,null,null,null,null,null,null,null,null,null,null,null,null,null,null,null,null,null,{"$f":"IF(PARAMETRES!$B$3=\"SANS\",SUMIFS(Honoraire[TotalHonoraireHT],Honoraire[ClientId],Personne[[#This Row],[PersonneId]]),SUMIFS(Honoraire[TotalHT],Honoraire[ClientId],Personne[[#This Row],[PersonneId]]))","v":0},{"$f":"Personne[[#This Row],[Facture (HT)]]+ROW()/100000","v":7.5399999999999998E-3},{"$f":"_xlfn.CONCAT(Personne[[#This Row],[Adresse]],\" \",Personne[[#This Row],[CodePostal]],\" \",Personne[[#This Row],[Ville]],\" \",Personne[[#This Row],[CodePays]])","v":"   "}]
[null,null,null,null,null,null,null,null,null,null,null,null,null,null,null,null,null,null,null,null,null,null,null,null,null,null,null,null,null,null,{"$f":"IF(PARAMETRES!$B$3=\"SANS\",SUMIFS(Honoraire[TotalHonoraireHT],Honoraire[ClientId],Personne[[#This Row],[PersonneId]]),SUMIFS(Honoraire[TotalHT],Honoraire[ClientId],Personne[[#This Row],[PersonneId]]))","v":0},{"$f":"Personne[[#This Row],[Facture (HT)]]+ROW()/100000","v":7.5500000000000003E-3},{"$f":"_xlfn.CONCAT(Personne[[#This Row],[Adresse]],\" \",Personne[[#This Row],[CodePostal]],\" \",Personne[[#This Row],[Ville]],\" \",Personne[[#This Row],[CodePays]])","v":"   "}]
[null,null,null,null,null,null,null,null,null,null,null,null,null,null,null,null,null,null,null,null,null,null,null,null,null,null,null,null,null,null,{"$f":"IF(PARAMETRES!$B$3=\"SANS\",SUMIFS(Honoraire[TotalHonoraireHT],Honoraire[ClientId],Personne[[#This Row],[PersonneId]]),SUMIFS(Honoraire[TotalHT],Honoraire[ClientId],Personne[[#This Row],[PersonneId]]))","v":0},{"$f":"Personne[[#This Row],[Facture (HT)]]+ROW()/100000","v":7.5599999999999999E-3},{"$f":"_xlfn.CONCAT(Personne[[#This Row],[Adresse]],\" \",Personne[[#This Row],[CodePostal]],\" \",Personne[[#This Row],[Ville]],\" \",Personne[[#This Row],[CodePays]])","v":"   "}]
[null,null,null,null,null,null,null,null,null,null,null,null,null,null,null,null,null,null,null,null,null,null,null,null,null,null,null,null,null,null,{"$f":"IF(PARAMETRES!$B$3=\"SANS\",SUMIFS(Honoraire[TotalHonoraireHT],Honoraire[ClientId],Personne[[#This Row],[PersonneId]]),SUMIFS(Honoraire[TotalHT],Honoraire[ClientId],Personne[[#This Row],[PersonneId]]))","v":0},{"$f":"Personne[[#This Row],[Facture (HT)]]+ROW()/100000","v":7.5700000000000003E-3},{"$f":"_xlfn.CONCAT(Personne[[#This Row],[Adresse]],\" \",Personne[[#This Row],[CodePostal]],\" \",Personne[[#This Row],[Ville]],\" \",Personne[[#This Row],[CodePays]])","v":"   "}]
[null,null,null,null,null,null,null,null,null,null,null,null,null,null,null,null,null,null,null,null,null,null,null,null,null,null,null,null,null,null,{"$f":"IF(PARAMETRES!$B$3=\"SANS\",SUMIFS(Honoraire[TotalHonoraireHT],Honoraire[ClientId],Personne[[#This Row],[PersonneId]]),SUMIFS(Honoraire[TotalHT],Honoraire[ClientId],Personne[[#This Row],[PersonneId]]))","v":0},{"$f":"Personne[[#This Row],[Facture (HT)]]+ROW()/100000","v":7.5799999999999999E-3},{"$f":"_xlfn.CONCAT(Personne[[#This Row],[Adresse]],\" \",Personne[[#This Row],[CodePostal]],\" \",Personne[[#This Row],[Ville]],\" \",Personne[[#This Row],[CodePays]])","v":"   "}]
[null,null,null,null,null,null,null,null,null,null,null,null,null,null,null,null,null,null,null,null,null,null,null,null,null,null,null,null,null,null,{"$f":"IF(PARAMETRES!$B$3=\"SANS\",SUMIFS(Honoraire[TotalHonoraireHT],Honoraire[ClientId],Personne[[#This Row],[PersonneId]]),SUMIFS(Honoraire[TotalHT],Honoraire[ClientId],Personne[[#This Row],[PersonneId]]))","v":0},{"$f":"Personne[[#This Row],[Facture (HT)]]+ROW()/100000","v":7.5900000000000004E-3},{"$f":"_xlfn.CONCAT(Personne[[#This Row],[Adresse]],\" \",Personne[[#This Row],[CodePostal]],\" \",Personne[[#This Row],[Ville]],\" \",Personne[[#This Row],[CodePays]])","v":"   "}]
[null,null,null,null,null,null,null,null,null,null,null,null,null,null,null,null,null,null,null,null,null,null,null,null,null,null,null,null,null,null,{"$f":"IF(PARAMETRES!$B$3=\"SANS\",SUMIFS(Honoraire[TotalHonoraireHT],Honoraire[ClientId],Personne[[#This Row],[PersonneId]]),SUMIFS(Honoraire[TotalHT],Honoraire[ClientId],Personne[[#This Row],[PersonneId]]))","v":0},{"$f":"Personne[[#This Row],[Facture (HT)]]+ROW()/100000","v":7.6E-3},{"$f":"_xlfn.CONCAT(Personne[[#This Row],[Adresse]],\" \",Personne[[#This Row],[CodePostal]],\" \",Personne[[#This Row],[Ville]],\" \",Personne[[#This Row],[CodePays]])","v":"   "}]
[null,null,null,null,null,null,null,null,null,null,null,null,null,null,null,null,null,null,null,null,null,null,null,null,null,null,null,null,null,null,{"$f":"IF(PARAMETRES!$B$3=\"SANS\",SUMIFS(Honoraire[TotalHonoraireHT],Honoraire[ClientId],Personne[[#This Row],[PersonneId]]),SUMIFS(Honoraire[TotalHT],Honoraire[ClientId],Personne[[#This Row],[PersonneId]]))","v":0},{"$f":"Personne[[#This Row],[Facture (HT)]]+ROW()/100000","v":7.6099999999999996E-3},{"$f":"_xlfn.CONCAT(Personne[[#This Row],[Adresse]],\" \",Personne[[#This Row],[CodePostal]],\" \",Personne[[#This Row],[Ville]],\" \",Personne[[#This Row],[CodePays]])","v":"   "}]
[null,null,null,null,null,null,null,null,null,null,null,null,null,null,null,null,null,null,null,null,null,null,null,null,null,null,null,null,null,null,{"$f":"IF(PARAMETRES!$B$3=\"SANS\",SUMIFS(Honoraire[TotalHonoraireHT],Honoraire[ClientId],Personne[[#This Row],[PersonneId]]),SUMIFS(Honoraire[TotalHT],Honoraire[ClientId],Personne[[#This Row],[PersonneId]]))","v":0},{"$f":"Personne[[#This Row],[Facture (HT)]]+ROW()/100000","v":7.62E-3},{"$f":"_xlfn.CONCAT(Personne[[#This Row],[Adresse]],\" \",Personne[[#This Row],[CodePostal]],\" \",Personne[[#This Row],[Ville]],\" \",Personne[[#This Row],[CodePays]])","v":"   "}]
[null,null,null,null,null,null,null,null,null,null,null,null,null,null,null,null,null,null,null,null,null,null,null,null,null,null,null,null,null,null,{"$f":"IF(PARAMETRES!$B$3=\"SANS\",SUMIFS(Honoraire[TotalHonoraireHT],Honoraire[ClientId],Personne[[#This Row],[PersonneId]]),SUMIFS(Honoraire[TotalHT],Honoraire[ClientId],Personne[[#This Row],[PersonneId]]))","v":0},{"$f":"Personne[[#This Row],[Facture (HT)]]+ROW()/100000","v":7.6299999999999996E-3},{"$f":"_xlfn.CONCAT(Personne[[#This Row],[Adresse]],\" \",Personne[[#This Row],[CodePostal]],\" \",Personne[[#This Row],[Ville]],\" \",Personne[[#This Row],[CodePays]])","v":"   "}]
[null,null,null,null,null,null,null,null,null,null,null,null,null,null,null,null,null,null,null,null,null,null,null,null,null,null,null,null,null,null,{"$f":"IF(PARAMETRES!$B$3=\"SANS\",SUMIFS(Honoraire[TotalHonoraireHT],Honoraire[ClientId],Personne[[#This Row],[PersonneId]]),SUMIFS(Honoraire[TotalHT],Honoraire[ClientId],Personne[[#This Row],[PersonneId]]))","v":0},{"$f":"Personne[[#This Row],[Facture (HT)]]+ROW()/100000","v":7.6400000000000001E-3},{"$f":"_xlfn.CONCAT(Personne[[#This Row],[Adresse]],\" \",Personne[[#This Row],[CodePostal]],\" \",Personne[[#This Row],[Ville]],\" \",Personne[[#This Row],[CodePays]])","v":"   "}]
[null,null,null,null,null,null,null,null,null,null,null,null,null,null,null,null,null,null,null,null,null,null,null,null,null,null,null,null,null,null,{"$f":"IF(PARAMETRES!$B$3=\"SANS\",SUMIFS(Honoraire[TotalHonoraireHT],Honoraire[ClientId],Personne[[#This Row],[PersonneId]]),SUMIFS(Honoraire[TotalHT],Honoraire[ClientId],Personne[[#This Row],[PersonneId]]))","v":0},{"$f":"Personne[[#This Row],[Facture (HT)]]+ROW()/100000","v":7.6499999999999997E-3},{"$f":"_xlfn.CONCAT(Personne[[#This Row],[Adresse]],\" \",Personne[[#This Row],[CodePostal]],\" \",Personne[[#This Row],[Ville]],\" \",Personne[[#This Row],[CodePays]])","v":"   "}]
[null,null,null,null,null,null,null,null,null,null,null,null,null,null,null,null,null,null,null,null,null,null,null,null,null,null,null,null,null,null,{"$f":"IF(PARAMETRES!$B$3=\"SANS\",SUMIFS(Honoraire[TotalHonoraireHT],Honoraire[ClientId],Personne[[#This Row],[PersonneId]]),SUMIFS(Honoraire[TotalHT],Honoraire[ClientId],Personne[[#This Row],[PersonneId]]))","v":0},{"$f":"Personne[[#This Row],[Facture (HT)]]+ROW()/100000","v":7.6600000000000001E-3},{"$f":"_xlfn.CONCAT(Personne[[#This Row],[Adresse]],\" \",Personne[[#This Row],[CodePostal]],\" \",Personne[[#This Row],[Ville]],\" \",Personne[[#This Row],[CodePays]])","v":"   "}]
[null,null,null,null,null,null,null,null,null,null,null,null,null,null,null,null,null,null,null,null,null,null,null,null,null,null,null,null,null,null,{"$f":"IF(PARAMETRES!$B$3=\"SANS\",SUMIFS(Honoraire[TotalHonoraireHT],Honoraire[ClientId],Personne[[#This Row],[PersonneId]]),SUMIFS(Honoraire[TotalHT],Honoraire[ClientId],Personne[[#This Row],[PersonneId]]))","v":0},{"$f":"Personne[[#This Row],[Facture (HT)]]+ROW()/100000","v":7.6699999999999997E-3},{"$f":"_xlfn.CONCAT(Personne[[#This Row],[Adresse]],\" \",Personne[[#This Row],[CodePostal]],\" \",Personne[[#This Row],[Ville]],\" \",Personne[[#This Row],[CodePays]])","v":"   "}]
[null,null,null,null,null,null,null,null,null,null,null,null,null,null,null,null,null,null,null,null,null,null,null,null,null,null,null,null,null,null,{"$f":"IF(PARAMETRES!$B$3=\"SANS\",SUMIFS(Honoraire[TotalHonoraireHT],Honoraire[ClientId],Personne[[#This Row],[PersonneId]]),SUMIFS(Honoraire[TotalHT],Honoraire[ClientId],Personne[[#This Row],[PersonneId]]))","v":0},{"$f":"Personne[[#This Row],[Facture (HT)]]+ROW()/100000","v":7.6800000000000002E-3},{"$f":"_xlfn.CONCAT(Personne[[#This Row],[Adresse]],\" \",Personne[[#This Row],[CodePostal]],\" \",Personne[[#This Row],[Ville]],\" \",Personne[[#This Row],[CodePays]])","v":"   "}]
[null,null,null,null,null,null,null,null,null,null,null,null,null,null,null,null,null,null,null,null,null,null,null,null,null,null,null,null,null,null,{"$f":"IF(PARAMETRES!$B$3=\"SANS\",SUMIFS(Honoraire[TotalHonoraireHT],Honoraire[ClientId],Personne[[#This Row],[PersonneId]]),SUMIFS(Honoraire[TotalHT],Honoraire[ClientId],Personne[[#This Row],[PersonneId]]))","v":0},{"$f":"Personne[[#This Row],[Facture (HT)]]+ROW()/100000","v":7.6899999999999998E-3},{"$f":"_xlfn.CONCAT(Personne[[#This Row],[Adresse]],\" \",Personne[[#This Row],[CodePostal]],\" \",Personne[[#This Row],[Ville]],\" \",Personne[[#This Row],[CodePays]])","v":"   "}]
[null,null,null,null,null,null,null,null,null,null,null,null,null,null,null,null,null,null,null,null,null,null,null,null,null,null,null,null,null,null,{"$f":"IF(PARAMETRES!$B$3=\"SANS\",SUMIFS(Honoraire[TotalHonoraireHT],Honoraire[ClientId],Personne[[#This Row],[PersonneId]]),SUMIFS(Honoraire[TotalHT],Honoraire[ClientId],Personne[[#This Row],[PersonneId]]))","v":0},{"$f":"Personne[[#This Row],[Facture (HT)]]+ROW()/100000","v":7.7000000000000002E-3},{"$f":"_xlfn.CONCAT(Personne[[#This Row],[Adresse]],\" \",Personne[[#This Row],[CodePostal]],\" \",Personne[[#This Row],[Ville]],\" \",Personne[[#This Row],[CodePays]])","v":"   "}]
[null,null,null,null,null,null,null,null,null,null,null,null,null,null,null,null,null,null,null,null,null,null,null,null,null,null,null,null,null,null,{"$f":"IF(PARAMETRES!$B$3=\"SANS\",SUMIFS(Honoraire[TotalHonoraireHT],Honoraire[ClientId],Personne[[#This Row],[PersonneId]]),SUMIFS(Honoraire[TotalHT],Honoraire[ClientId],Personne[[#This Row],[PersonneId]]))","v":0},{"$f":"Personne[[#This Row],[Facture (HT)]]+ROW()/100000","v":7.7099999999999998E-3},{"$f":"_xlfn.CONCAT(Personne[[#This Row],[Adresse]],\" \",Personne[[#This Row],[CodePostal]],\" \",Personne[[#This Row],[Ville]],\" \",Personne[[#This Row],[CodePays]])","v":"   "}]
[null,null,null,null,null,null,null,null,null,null,null,null,null,null,null,null,null,null,null,null,null,null,null,null,null,null,null,null,null,null,{"$f":"IF(PARAMETRES!$B$3=\"SANS\",SUMIFS(Honoraire[TotalHonoraireHT],Honoraire[ClientId],Personne[[#This Row],[PersonneId]]),SUMIFS(Honoraire[TotalHT],Honoraire[ClientId],Personne[[#This Row],[PersonneId]]))","v":0},{"$f":"Personne[[#This Row],[Facture (HT)]]+ROW()/100000","v":7.7200000000000003E-3},{"$f":"_xlfn.CONCAT(Personne[[#This Row],[Adresse]],\" \",Personne[[#This Row],[CodePostal]],\" \",Personne[[#This Row],[Ville]],\" \",Personne[[#This Row],[CodePays]])","v":"   "}]
[null,null,null,null,null,null,null,null,null,null,null,null,null,null,null,null,null,null,null,null,null,null,null,null,null,null,null,null,null,null,{"$f":"IF(PARAMETRES!$B$3=\"SANS\",SUMIFS(Honoraire[TotalHonoraireHT],Honoraire[ClientId],Personne[[#This Row],[PersonneId]]),SUMIFS(Honoraire[TotalHT],Honoraire[ClientId],Personne[[#This Row],[PersonneId]]))","v":0},{"$f":"Personne[[#This Row],[Facture (HT)]]+ROW()/100000","v":7.7299999999999999E-3},{"$f":"_xlfn.CONCAT(Personne[[#This Row],[Adresse]],\" \",Personne[[#This Row],[CodePostal]],\" \",Personne[[#This Row],[Ville]],\" \",Personne[[#This Row],[CodePays]])","v":"   "}]
[null,null,null,null,null,null,null,null,null,null,null,null,null,null,null,null,null,null,null,null,null,null,null,null,null,null,null,null,null,null,{"$f":"IF(PARAMETRES!$B$3=\"SANS\",SUMIFS(Honoraire[TotalHonoraireHT],Honoraire[ClientId],Personne[[#This Row],[PersonneId]]),SUMIFS(Honoraire[TotalHT],Honoraire[ClientId],Personne[[#This Row],[PersonneId]]))","v":0},{"$f":"Personne[[#This Row],[Facture (HT)]]+ROW()/100000","v":7.7400000000000004E-3},{"$f":"_xlfn.CONCAT(Personne[[#This Row],[Adresse]],\" \",Personne[[#This Row],[CodePostal]],\" \",Personne[[#This Row],[Ville]],\" \",Personne[[#This Row],[CodePays]])","v":"   "}]
[null,null,null,null,null,null,null,null,null,null,null,null,null,null,null,null,null,null,null,null,null,null,null,null,null,null,null,null,null,null,{"$f":"IF(PARAMETRES!$B$3=\"SANS\",SUMIFS(Honoraire[TotalHonoraireHT],Honoraire[ClientId],Personne[[#This Row],[PersonneId]]),SUMIFS(Honoraire[TotalHT],Honoraire[ClientId],Personne[[#This Row],[PersonneId]]))","v":0},{"$f":"Personne[[#This Row],[Facture (HT)]]+ROW()/100000","v":7.7499999999999999E-3},{"$f":"_xlfn.CONCAT(Personne[[#This Row],[Adresse]],\" \",Personne[[#This Row],[CodePostal]],\" \",Personne[[#This Row],[Ville]],\" \",Personne[[#This Row],[CodePays]])","v":"   "}]
[null,null,null,null,null,null,null,null,null,null,null,null,null,null,null,null,null,null,null,null,null,null,null,null,null,null,null,null,null,null,{"$f":"IF(PARAMETRES!$B$3=\"SANS\",SUMIFS(Honoraire[TotalHonoraireHT],Honoraire[ClientId],Personne[[#This Row],[PersonneId]]),SUMIFS(Honoraire[TotalHT],Honoraire[ClientId],Personne[[#This Row],[PersonneId]]))","v":0},{"$f":"Personne[[#This Row],[Facture (HT)]]+ROW()/100000","v":7.7600000000000004E-3},{"$f":"_xlfn.CONCAT(Personne[[#This Row],[Adresse]],\" \",Personne[[#This Row],[CodePostal]],\" \",Personne[[#This Row],[Ville]],\" \",Personne[[#This Row],[CodePays]])","v":"   "}]
[null,null,null,null,null,null,null,null,null,null,null,null,null,null,null,null,null,null,null,null,null,null,null,null,null,null,null,null,null,null,{"$f":"IF(PARAMETRES!$B$3=\"SANS\",SUMIFS(Honoraire[TotalHonoraireHT],Honoraire[ClientId],Personne[[#This Row],[PersonneId]]),SUMIFS(Honoraire[TotalHT],Honoraire[ClientId],Personne[[#This Row],[PersonneId]]))","v":0},{"$f":"Personne[[#This Row],[Facture (HT)]]+ROW()/100000","v":7.77E-3},{"$f":"_xlfn.CONCAT(Personne[[#This Row],[Adresse]],\" \",Personne[[#This Row],[CodePostal]],\" \",Personne[[#This Row],[Ville]],\" \",Personne[[#This Row],[CodePays]])","v":"   "}]
[null,null,null,null,null,null,null,null,null,null,null,null,null,null,null,null,null,null,null,null,null,null,null,null,null,null,null,null,null,null,{"$f":"IF(PARAMETRES!$B$3=\"SANS\",SUMIFS(Honoraire[TotalHonoraireHT],Honoraire[ClientId],Personne[[#This Row],[PersonneId]]),SUMIFS(Honoraire[TotalHT],Honoraire[ClientId],Personne[[#This Row],[PersonneId]]))","v":0},{"$f":"Personne[[#This Row],[Facture (HT)]]+ROW()/100000","v":7.7799999999999996E-3},{"$f":"_xlfn.CONCAT(Personne[[#This Row],[Adresse]],\" \",Personne[[#This Row],[CodePostal]],\" \",Personne[[#This Row],[Ville]],\" \",Personne[[#This Row],[CodePays]])","v":"   "}]
[null,null,null,null,null,null,null,null,null,null,null,null,null,null,null,null,null,null,null,null,null,null,null,null,null,null,null,null,null,null,{"$f":"IF(PARAMETRES!$B$3=\"SANS\",SUMIFS(Honoraire[TotalHonoraireHT],Honoraire[ClientId],Personne[[#This Row],[PersonneId]]),SUMIFS(Honoraire[TotalHT],Honoraire[ClientId],Personne[[#This Row],[PersonneId]]))","v":0},{"$f":"Personne[[#This Row],[Facture (HT)]]+ROW()/100000","v":7.79E-3},{"$f":"_xlfn.CONCAT(Personne[[#This Row],[Adresse]],\" \",Personne[[#This Row],[CodePostal]],\" \",Personne[[#This Row],[Ville]],\" \",Personne[[#This Row],[CodePays]])","v":"   "}]
[null,null,null,null,null,null,null,null,null,null,null,null,null,null,null,null,null,null,null,null,null,null,null,null,null,null,null,null,null,null,{"$f":"IF(PARAMETRES!$B$3=\"SANS\",SUMIFS(Honoraire[TotalHonoraireHT],Honoraire[ClientId],Personne[[#This Row],[PersonneId]]),SUMIFS(Honoraire[TotalHT],Honoraire[ClientId],Personne[[#This Row],[PersonneId]]))","v":0},{"$f":"Personne[[#This Row],[Facture (HT)]]+ROW()/100000","v":7.7999999999999996E-3},{"$f":"_xlfn.CONCAT(Personne[[#This Row],[Adresse]],\" \",Personne[[#This Row],[CodePostal]],\" \",Personne[[#This Row],[Ville]],\" \",Personne[[#This Row],[CodePays]])","v":"   "}]
[null,null,null,null,null,null,null,null,null,null,null,null,null,null,null,null,null,null,null,null,null,null,null,null,null,null,null,null,null,null,{"$f":"IF(PARAMETRES!$B$3=\"SANS\",SUMIFS(Honoraire[TotalHonoraireHT],Honoraire[ClientId],Personne[[#This Row],[PersonneId]]),SUMIFS(Honoraire[TotalHT],Honoraire[ClientId],Personne[[#This Row],[PersonneId]]))","v":0},{"$f":"Personne[[#This Row],[Facture (HT)]]+ROW()/100000","v":7.8100000000000001E-3},{"$f":"_xlfn.CONCAT(Personne[[#This Row],[Adresse]],\" \",Personne[[#This Row],[CodePostal]],\" \",Personne[[#This Row],[Ville]],\" \",Personne[[#This Row],[CodePays]])","v":"   "}]
[null,null,null,null,null,null,null,null,null,null,null,null,null,null,null,null,null,null,null,null,null,null,null,null,null,null,null,null,null,null,{"$f":"IF(PARAMETRES!$B$3=\"SANS\",SUMIFS(Honoraire[TotalHonoraireHT],Honoraire[ClientId],Personne[[#This Row],[PersonneId]]),SUMIFS(Honoraire[TotalHT],Honoraire[ClientId],Personne[[#This Row],[PersonneId]]))","v":0},{"$f":"Personne[[#This Row],[Facture (HT)]]+ROW()/100000","v":7.8200000000000006E-3},{"$f":"_xlfn.CONCAT(Personne[[#This Row],[Adresse]],\" \",Personne[[#This Row],[CodePostal]],\" \",Personne[[#This Row],[Ville]],\" \",Personne[[#This Row],[CodePays]])","v":"   "}]
[null,null,null,null,null,null,null,null,null,null,null,null,null,null,null,null,null,null,null,null,null,null,null,null,null,null,null,null,null,null,{"$f":"IF(PARAMETRES!$B$3=\"SANS\",SUMIFS(Honoraire[TotalHonoraireHT],Honoraire[ClientId],Personne[[#This Row],[PersonneId]]),SUMIFS(Honoraire[TotalHT],Honoraire[ClientId],Personne[[#This Row],[PersonneId]]))","v":0},{"$f":"Personne[[#This Row],[Facture (HT)]]+ROW()/100000","v":7.8300000000000002E-3},{"$f":"_xlfn.CONCAT(Personne[[#This Row],[Adresse]],\" \",Personne[[#This Row],[CodePostal]],\" \",Personne[[#This Row],[Ville]],\" \",Personne[[#This Row],[CodePays]])","v":"   "}]
[null,null,null,null,null,null,null,null,null,null,null,null,null,null,null,null,null,null,null,null,null,null,null,null,null,null,null,null,null,null,{"$f":"IF(PARAMETRES!$B$3=\"SANS\",SUMIFS(Honoraire[TotalHonoraireHT],Honoraire[ClientId],Personne[[#This Row],[PersonneId]]),SUMIFS(Honoraire[TotalHT],Honoraire[ClientId],Personne[[#This Row],[PersonneId]]))","v":0},{"$f":"Personne[[#This Row],[Facture (HT)]]+ROW()/100000","v":7.8399999999999997E-3},{"$f":"_xlfn.CONCAT(Personne[[#This Row],[Adresse]],\" \",Personne[[#This Row],[CodePostal]],\" \",Personne[[#This Row],[Ville]],\" \",Personne[[#This Row],[CodePays]])","v":"   "}]
[null,null,null,null,null,null,null,null,null,null,null,null,null,null,null,null,null,null,null,null,null,null,null,null,null,null,null,null,null,null,{"$f":"IF(PARAMETRES!$B$3=\"SANS\",SUMIFS(Honoraire[TotalHonoraireHT],Honoraire[ClientId],Personne[[#This Row],[PersonneId]]),SUMIFS(Honoraire[TotalHT],Honoraire[ClientId],Personne[[#This Row],[PersonneId]]))","v":0},{"$f":"Personne[[#This Row],[Facture (HT)]]+ROW()/100000","v":7.8499999999999993E-3},{"$f":"_xlfn.CONCAT(Personne[[#This Row],[Adresse]],\" \",Personne[[#This Row],[CodePostal]],\" \",Personne[[#This Row],[Ville]],\" \",Personne[[#This Row],[CodePays]])","v":"   "}]
[null,null,null,null,null,null,null,null,null,null,null,null,null,null,null,null,null,null,null,null,null,null,null,null,null,null,null,null,null,null,{"$f":"IF(PARAMETRES!$B$3=\"SANS\",SUMIFS(Honoraire[TotalHonoraireHT],Honoraire[ClientId],Personne[[#This Row],[PersonneId]]),SUMIFS(Honoraire[TotalHT],Honoraire[ClientId],Personne[[#This Row],[PersonneId]]))","v":0},{"$f":"Personne[[#This Row],[Facture (HT)]]+ROW()/100000","v":7.8600000000000007E-3},{"$f":"_xlfn.CONCAT(Personne[[#This Row],[Adresse]],\" \",Personne[[#This Row],[CodePostal]],\" \",Personne[[#This Row],[Ville]],\" \",Personne[[#This Row],[CodePays]])","v":"   "}]
[null,null,null,null,null,null,null,null,null,null,null,null,null,null,null,null,null,null,null,null,null,null,null,null,null,null,null,null,null,null,{"$f":"IF(PARAMETRES!$B$3=\"SANS\",SUMIFS(Honoraire[TotalHonoraireHT],Honoraire[ClientId],Personne[[#This Row],[PersonneId]]),SUMIFS(Honoraire[TotalHT],Honoraire[ClientId],Personne[[#This Row],[PersonneId]]))","v":0},{"$f":"Personne[[#This Row],[Facture (HT)]]+ROW()/100000","v":7.8700000000000003E-3},{"$f":"_xlfn.CONCAT(Personne[[#This Row],[Adresse]],\" \",Personne[[#This Row],[CodePostal]],\" \",Personne[[#This Row],[Ville]],\" \",Personne[[#This Row],[CodePays]])","v":"   "}]
[null,null,null,null,null,null,null,null,null,null,null,null,null,null,null,null,null,null,null,null,null,null,null,null,null,null,null,null,null,null,{"$f":"IF(PARAMETRES!$B$3=\"SANS\",SUMIFS(Honoraire[TotalHonoraireHT],Honoraire[ClientId],Personne[[#This Row],[PersonneId]]),SUMIFS(Honoraire[TotalHT],Honoraire[ClientId],Personne[[#This Row],[PersonneId]]))","v":0},{"$f":"Personne[[#This Row],[Facture (HT)]]+ROW()/100000","v":7.8799999999999999E-3},{"$f":"_xlfn.CONCAT(Personne[[#This Row],[Adresse]],\" \",Personne[[#This Row],[CodePostal]],\" \",Personne[[#This Row],[Ville]],\" \",Personne[[#This Row],[CodePays]])","v":"   "}]
[null,null,null,null,null,null,null,null,null,null,null,null,null,null,null,null,null,null,null,null,null,null,null,null,null,null,null,null,null,null,{"$f":"IF(PARAMETRES!$B$3=\"SANS\",SUMIFS(Honoraire[TotalHonoraireHT],Honoraire[ClientId],Personne[[#This Row],[PersonneId]]),SUMIFS(Honoraire[TotalHT],Honoraire[ClientId],Personne[[#This Row],[PersonneId]]))","v":0},{"$f":"Personne[[#This Row],[Facture (HT)]]+ROW()/100000","v":7.8899999999999994E-3},{"$f":"_xlfn.CONCAT(Personne[[#This Row],[Adresse]],\" \",Personne[[#This Row],[CodePostal]],\" \",Personne[[#This Row],[Ville]],\" \",Personne[[#This Row],[CodePays]])","v":"   "}]
[null,null,null,null,null,null,null,null,null,null,null,null,null,null,null,null,null,null,null,null,null,null,null,null,null,null,null,null,null,null,{"$f":"IF(PARAMETRES!$B$3=\"SANS\",SUMIFS(Honoraire[TotalHonoraireHT],Honoraire[ClientId],Personne[[#This Row],[PersonneId]]),SUMIFS(Honoraire[TotalHT],Honoraire[ClientId],Personne[[#This Row],[PersonneId]]))","v":0},{"$f":"Personne[[#This Row],[Facture (HT)]]+ROW()/100000","v":7.9000000000000008E-3},{"$f":"_xlfn.CONCAT(Personne[[#This Row],[Adresse]],\" \",Personne[[#This Row],[CodePostal]],\" \",Personne[[#This Row],[Ville]],\" \",Personne[[#This Row],[CodePays]])","v":"   "}]
[null,null,null,null,null,null,null,null,null,null,null,null,null,null,null,null,null,null,null,null,null,null,null,null,null,null,null,null,null,null,{"$f":"IF(PARAMETRES!$B$3=\"SANS\",SUMIFS(Honoraire[TotalHonoraireHT],Honoraire[ClientId],Personne[[#This Row],[PersonneId]]),SUMIFS(Honoraire[TotalHT],Honoraire[ClientId],Personne[[#This Row],[PersonneId]]))","v":0},{"$f":"Personne[[#This Row],[Facture (HT)]]+ROW()/100000","v":7.9100000000000004E-3},{"$f":"_xlfn.CONCAT(Personne[[#This Row],[Adresse]],\" \",Personne[[#This Row],[CodePostal]],\" \",Personne[[#This Row],[Ville]],\" \",Personne[[#This Row],[CodePays]])","v":"   "}]
[null,null,null,null,null,null,null,null,null,null,null,null,null,null,null,null,null,null,null,null,null,null,null,null,null,null,null,null,null,null,{"$f":"IF(PARAMETRES!$B$3=\"SANS\",SUMIFS(Honoraire[TotalHonoraireHT],Honoraire[ClientId],Personne[[#This Row],[PersonneId]]),SUMIFS(Honoraire[TotalHT],Honoraire[ClientId],Personne[[#This Row],[PersonneId]]))","v":0},{"$f":"Personne[[#This Row],[Facture (HT)]]+ROW()/100000","v":7.92E-3},{"$f":"_xlfn.CONCAT(Personne[[#This Row],[Adresse]],\" \",Personne[[#This Row],[CodePostal]],\" \",Personne[[#This Row],[Ville]],\" \",Personne[[#This Row],[CodePays]])","v":"   "}]
[null,null,null,null,null,null,null,null,null,null,null,null,null,null,null,null,null,null,null,null,null,null,null,null,null,null,null,null,null,null,{"$f":"IF(PARAMETRES!$B$3=\"SANS\",SUMIFS(Honoraire[TotalHonoraireHT],Honoraire[ClientId],Personne[[#This Row],[PersonneId]]),SUMIFS(Honoraire[TotalHT],Honoraire[ClientId],Personne[[#This Row],[PersonneId]]))","v":0},{"$f":"Personne[[#This Row],[Facture (HT)]]+ROW()/100000","v":7.9299999999999995E-3},{"$f":"_xlfn.CONCAT(Personne[[#This Row],[Adresse]],\" \",Personne[[#This Row],[CodePostal]],\" \",Personne[[#This Row],[Ville]],\" \",Personne[[#This Row],[CodePays]])","v":"   "}]
[null,null,null,null,null,null,null,null,null,null,null,null,null,null,null,null,null,null,null,null,null,null,null,null,null,null,null,null,null,null,{"$f":"IF(PARAMETRES!$B$3=\"SANS\",SUMIFS(Honoraire[TotalHonoraireHT],Honoraire[ClientId],Personne[[#This Row],[PersonneId]]),SUMIFS(Honoraire[TotalHT],Honoraire[ClientId],Personne[[#This Row],[PersonneId]]))","v":0},{"$f":"Personne[[#This Row],[Facture (HT)]]+ROW()/100000","v":7.9399999999999991E-3},{"$f":"_xlfn.CONCAT(Personne[[#This Row],[Adresse]],\" \",Personne[[#This Row],[CodePostal]],\" \",Personne[[#This Row],[Ville]],\" \",Personne[[#This Row],[CodePays]])","v":"   "}]
[null,null,null,null,null,null,null,null,null,null,null,null,null,null,null,null,null,null,null,null,null,null,null,null,null,null,null,null,null,null,{"$f":"IF(PARAMETRES!$B$3=\"SANS\",SUMIFS(Honoraire[TotalHonoraireHT],Honoraire[ClientId],Personne[[#This Row],[PersonneId]]),SUMIFS(Honoraire[TotalHT],Honoraire[ClientId],Personne[[#This Row],[PersonneId]]))","v":0},{"$f":"Personne[[#This Row],[Facture (HT)]]+ROW()/100000","v":7.9500000000000005E-3},{"$f":"_xlfn.CONCAT(Personne[[#This Row],[Adresse]],\" \",Personne[[#This Row],[CodePostal]],\" \",Personne[[#This Row],[Ville]],\" \",Personne[[#This Row],[CodePays]])","v":"   "}]
[null,null,null,null,null,null,null,null,null,null,null,null,null,null,null,null,null,null,null,null,null,null,null,null,null,null,null,null,null,null,{"$f":"IF(PARAMETRES!$B$3=\"SANS\",SUMIFS(Honoraire[TotalHonoraireHT],Honoraire[ClientId],Personne[[#This Row],[PersonneId]]),SUMIFS(Honoraire[TotalHT],Honoraire[ClientId],Personne[[#This Row],[PersonneId]]))","v":0},{"$f":"Personne[[#This Row],[Facture (HT)]]+ROW()/100000","v":7.9600000000000001E-3},{"$f":"_xlfn.CONCAT(Personne[[#This Row],[Adresse]],\" \",Personne[[#This Row],[CodePostal]],\" \",Personne[[#This Row],[Ville]],\" \",Personne[[#This Row],[CodePays]])","v":"   "}]
[null,null,null,null,null,null,null,null,null,null,null,null,null,null,null,null,null,null,null,null,null,null,null,null,null,null,null,null,null,null,{"$f":"IF(PARAMETRES!$B$3=\"SANS\",SUMIFS(Honoraire[TotalHonoraireHT],Honoraire[ClientId],Personne[[#This Row],[PersonneId]]),SUMIFS(Honoraire[TotalHT],Honoraire[ClientId],Personne[[#This Row],[PersonneId]]))","v":0},{"$f":"Personne[[#This Row],[Facture (HT)]]+ROW()/100000","v":7.9699999999999997E-3},{"$f":"_xlfn.CONCAT(Personne[[#This Row],[Adresse]],\" \",Personne[[#This Row],[CodePostal]],\" \",Personne[[#This Row],[Ville]],\" \",Personne[[#This Row],[CodePays]])","v":"   "}]
[null,null,null,null,null,null,null,null,null,null,null,null,null,null,null,null,null,null,null,null,null,null,null,null,null,null,null,null,null,null,{"$f":"IF(PARAMETRES!$B$3=\"SANS\",SUMIFS(Honoraire[TotalHonoraireHT],Honoraire[ClientId],Personne[[#This Row],[PersonneId]]),SUMIFS(Honoraire[TotalHT],Honoraire[ClientId],Personne[[#This Row],[PersonneId]]))","v":0},{"$f":"Personne[[#This Row],[Facture (HT)]]+ROW()/100000","v":7.9799999999999992E-3},{"$f":"_xlfn.CONCAT(Personne[[#This Row],[Adresse]],\" \",Personne[[#This Row],[CodePostal]],\" \",Personne[[#This Row],[Ville]],\" \",Personne[[#This Row],[CodePays]])","v":"   "}]
[null,null,null,null,null,null,null,null,null,null,null,null,null,null,null,null,null,null,null,null,null,null,null,null,null,null,null,null,null,null,{"$f":"IF(PARAMETRES!$B$3=\"SANS\",SUMIFS(Honoraire[TotalHonoraireHT],Honoraire[ClientId],Personne[[#This Row],[PersonneId]]),SUMIFS(Honoraire[TotalHT],Honoraire[ClientId],Personne[[#This Row],[PersonneId]]))","v":0},{"$f":"Personne[[#This Row],[Facture (HT)]]+ROW()/100000","v":7.9900000000000006E-3},{"$f":"_xlfn.CONCAT(Personne[[#This Row],[Adresse]],\" \",Personne[[#This Row],[CodePostal]],\" \",Personne[[#This Row],[Ville]],\" \",Personne[[#This Row],[CodePays]])","v":"   "}]
[null,null,null,null,null,null,null,null,null,null,null,null,null,null,null,null,null,null,null,null,null,null,null,null,null,null,null,null,null,null,{"$f":"IF(PARAMETRES!$B$3=\"SANS\",SUMIFS(Honoraire[TotalHonoraireHT],Honoraire[ClientId],Personne[[#This Row],[PersonneId]]),SUMIFS(Honoraire[TotalHT],Honoraire[ClientId],Personne[[#This Row],[PersonneId]]))","v":0},{"$f":"Personne[[#This Row],[Facture (HT)]]+ROW()/100000","v":8.0000000000000002E-3},{"$f":"_xlfn.CONCAT(Personne[[#This Row],[Adresse]],\" \",Personne[[#This Row],[CodePostal]],\" \",Personne[[#This Row],[Ville]],\" \",Personne[[#This Row],[CodePays]])","v":"   "}]
[null,null,null,null,null,null,null,null,null,null,null,null,null,null,null,null,null,null,null,null,null,null,null,null,null,null,null,null,null,null,{"$f":"IF(PARAMETRES!$B$3=\"SANS\",SUMIFS(Honoraire[TotalHonoraireHT],Honoraire[ClientId],Personne[[#This Row],[PersonneId]]),SUMIFS(Honoraire[TotalHT],Honoraire[ClientId],Personne[[#This Row],[PersonneId]]))","v":0},{"$f":"Personne[[#This Row],[Facture (HT)]]+ROW()/100000","v":8.0099999999999998E-3},{"$f":"_xlfn.CONCAT(Personne[[#This Row],[Adresse]],\" \",Personne[[#This Row],[CodePostal]],\" \",Personne[[#This Row],[Ville]],\" \",Personne[[#This Row],[CodePays]])","v":"   "}]
[null,null,null,null,null,null,null,null,null,null,null,null,null,null,null,null,null,null,null,null,null,null,null,null,null,null,null,null,null,null,{"$f":"IF(PARAMETRES!$B$3=\"SANS\",SUMIFS(Honoraire[TotalHonoraireHT],Honoraire[ClientId],Personne[[#This Row],[PersonneId]]),SUMIFS(Honoraire[TotalHT],Honoraire[ClientId],Personne[[#This Row],[PersonneId]]))","v":0},{"$f":"Personne[[#This Row],[Facture (HT)]]+ROW()/100000","v":8.0199999999999994E-3},{"$f":"_xlfn.CONCAT(Personne[[#This Row],[Adresse]],\" \",Personne[[#This Row],[CodePostal]],\" \",Personne[[#This Row],[Ville]],\" \",Personne[[#This Row],[CodePays]])","v":"   "}]
[null,null,null,null,null,null,null,null,null,null,null,null,null,null,null,null,null,null,null,null,null,null,null,null,null,null,null,null,null,null,{"$f":"IF(PARAMETRES!$B$3=\"SANS\",SUMIFS(Honoraire[TotalHonoraireHT],Honoraire[ClientId],Personne[[#This Row],[PersonneId]]),SUMIFS(Honoraire[TotalHT],Honoraire[ClientId],Personne[[#This Row],[PersonneId]]))","v":0},{"$f":"Personne[[#This Row],[Facture (HT)]]+ROW()/100000","v":8.0300000000000007E-3},{"$f":"_xlfn.CONCAT(Personne[[#This Row],[Adresse]],\" \",Personne[[#This Row],[CodePostal]],\" \",Personne[[#This Row],[Ville]],\" \",Personne[[#This Row],[CodePays]])","v":"   "}]
[null,null,null,null,null,null,null,null,null,null,null,null,null,null,null,null,null,null,null,null,null,null,null,null,null,null,null,null,null,null,{"$f":"IF(PARAMETRES!$B$3=\"SANS\",SUMIFS(Honoraire[TotalHonoraireHT],Honoraire[ClientId],Personne[[#This Row],[PersonneId]]),SUMIFS(Honoraire[TotalHT],Honoraire[ClientId],Personne[[#This Row],[PersonneId]]))","v":0},{"$f":"Personne[[#This Row],[Facture (HT)]]+ROW()/100000","v":8.0400000000000003E-3},{"$f":"_xlfn.CONCAT(Personne[[#This Row],[Adresse]],\" \",Personne[[#This Row],[CodePostal]],\" \",Personne[[#This Row],[Ville]],\" \",Personne[[#This Row],[CodePays]])","v":"   "}]
[null,null,null,null,null,null,null,null,null,null,null,null,null,null,null,null,null,null,null,null,null,null,null,null,null,null,null,null,null,null,{"$f":"IF(PARAMETRES!$B$3=\"SANS\",SUMIFS(Honoraire[TotalHonoraireHT],Honoraire[ClientId],Personne[[#This Row],[PersonneId]]),SUMIFS(Honoraire[TotalHT],Honoraire[ClientId],Personne[[#This Row],[PersonneId]]))","v":0},{"$f":"Personne[[#This Row],[Facture (HT)]]+ROW()/100000","v":8.0499999999999999E-3},{"$f":"_xlfn.CONCAT(Personne[[#This Row],[Adresse]],\" \",Personne[[#This Row],[CodePostal]],\" \",Personne[[#This Row],[Ville]],\" \",Personne[[#This Row],[CodePays]])","v":"   "}]
[null,null,null,null,null,null,null,null,null,null,null,null,null,null,null,null,null,null,null,null,null,null,null,null,null,null,null,null,null,null,{"$f":"IF(PARAMETRES!$B$3=\"SANS\",SUMIFS(Honoraire[TotalHonoraireHT],Honoraire[ClientId],Personne[[#This Row],[PersonneId]]),SUMIFS(Honoraire[TotalHT],Honoraire[ClientId],Personne[[#This Row],[PersonneId]]))","v":0},{"$f":"Personne[[#This Row],[Facture (HT)]]+ROW()/100000","v":8.0599999999999995E-3},{"$f":"_xlfn.CONCAT(Personne[[#This Row],[Adresse]],\" \",Personne[[#This Row],[CodePostal]],\" \",Personne[[#This Row],[Ville]],\" \",Personne[[#This Row],[CodePays]])","v":"   "}]
[null,null,null,null,null,null,null,null,null,null,null,null,null,null,null,null,null,null,null,null,null,null,null,null,null,null,null,null,null,null,{"$f":"IF(PARAMETRES!$B$3=\"SANS\",SUMIFS(Honoraire[TotalHonoraireHT],Honoraire[ClientId],Personne[[#This Row],[PersonneId]]),SUMIFS(Honoraire[TotalHT],Honoraire[ClientId],Personne[[#This Row],[PersonneId]]))","v":0},{"$f":"Personne[[#This Row],[Facture (HT)]]+ROW()/100000","v":8.0700000000000008E-3},{"$f":"_xlfn.CONCAT(Personne[[#This Row],[Adresse]],\" \",Personne[[#This Row],[CodePostal]],\" \",Personne[[#This Row],[Ville]],\" \",Personne[[#This Row],[CodePays]])","v":"   "}]
[null,null,null,null,null,null,null,null,null,null,null,null,null,null,null,null,null,null,null,null,null,null,null,null,null,null,null,null,null,null,{"$f":"IF(PARAMETRES!$B$3=\"SANS\",SUMIFS(Honoraire[TotalHonoraireHT],Honoraire[ClientId],Personne[[#This Row],[PersonneId]]),SUMIFS(Honoraire[TotalHT],Honoraire[ClientId],Personne[[#This Row],[PersonneId]]))","v":0},{"$f":"Personne[[#This Row],[Facture (HT)]]+ROW()/100000","v":8.0800000000000004E-3},{"$f":"_xlfn.CONCAT(Personne[[#This Row],[Adresse]],\" \",Personne[[#This Row],[CodePostal]],\" \",Personne[[#This Row],[Ville]],\" \",Personne[[#This Row],[CodePays]])","v":"   "}]
[null,null,null,null,null,null,null,null,null,null,null,null,null,null,null,null,null,null,null,null,null,null,null,null,null,null,null,null,null,null,{"$f":"IF(PARAMETRES!$B$3=\"SANS\",SUMIFS(Honoraire[TotalHonoraireHT],Honoraire[ClientId],Personne[[#This Row],[PersonneId]]),SUMIFS(Honoraire[TotalHT],Honoraire[ClientId],Personne[[#This Row],[PersonneId]]))","v":0},{"$f":"Personne[[#This Row],[Facture (HT)]]+ROW()/100000","v":8.09E-3},{"$f":"_xlfn.CONCAT(Personne[[#This Row],[Adresse]],\" \",Personne[[#This Row],[CodePostal]],\" \",Personne[[#This Row],[Ville]],\" \",Personne[[#This Row],[CodePays]])","v":"   "}]
[null,null,null,null,null,null,null,null,null,null,null,null,null,null,null,null,null,null,null,null,null,null,null,null,null,null,null,null,null,null,{"$f":"IF(PARAMETRES!$B$3=\"SANS\",SUMIFS(Honoraire[TotalHonoraireHT],Honoraire[ClientId],Personne[[#This Row],[PersonneId]]),SUMIFS(Honoraire[TotalHT],Honoraire[ClientId],Personne[[#This Row],[PersonneId]]))","v":0},{"$f":"Personne[[#This Row],[Facture (HT)]]+ROW()/100000","v":8.0999999999999996E-3},{"$f":"_xlfn.CONCAT(Personne[[#This Row],[Adresse]],\" \",Personne[[#This Row],[CodePostal]],\" \",Personne[[#This Row],[Ville]],\" \",Personne[[#This Row],[CodePays]])","v":"   "}]
[null,null,null,null,null,null,null,null,null,null,null,null,null,null,null,null,null,null,null,null,null,null,null,null,null,null,null,null,null,null,{"$f":"IF(PARAMETRES!$B$3=\"SANS\",SUMIFS(Honoraire[TotalHonoraireHT],Honoraire[ClientId],Personne[[#This Row],[PersonneId]]),SUMIFS(Honoraire[TotalHT],Honoraire[ClientId],Personne[[#This Row],[PersonneId]]))","v":0},{"$f":"Personne[[#This Row],[Facture (HT)]]+ROW()/100000","v":8.1099999999999992E-3},{"$f":"_xlfn.CONCAT(Personne[[#This Row],[Adresse]],\" \",Personne[[#This Row],[CodePostal]],\" \",Personne[[#This Row],[Ville]],\" \",Personne[[#This Row],[CodePays]])","v":"   "}]
[null,null,null,null,null,null,null,null,null,null,null,null,null,null,null,null,null,null,null,null,null,null,null,null,null,null,null,null,null,null,{"$f":"IF(PARAMETRES!$B$3=\"SANS\",SUMIFS(Honoraire[TotalHonoraireHT],Honoraire[ClientId],Personne[[#This Row],[PersonneId]]),SUMIFS(Honoraire[TotalHT],Honoraire[ClientId],Personne[[#This Row],[PersonneId]]))","v":0},{"$f":"Personne[[#This Row],[Facture (HT)]]+ROW()/100000","v":8.1200000000000005E-3},{"$f":"_xlfn.CONCAT(Personne[[#This Row],[Adresse]],\" \",Personne[[#This Row],[CodePostal]],\" \",Personne[[#This Row],[Ville]],\" \",Personne[[#This Row],[CodePays]])","v":"   "}]
[null,null,null,null,null,null,null,null,null,null,null,null,null,null,null,null,null,null,null,null,null,null,null,null,null,null,null,null,null,null,{"$f":"IF(PARAMETRES!$B$3=\"SANS\",SUMIFS(Honoraire[TotalHonoraireHT],Honoraire[ClientId],Personne[[#This Row],[PersonneId]]),SUMIFS(Honoraire[TotalHT],Honoraire[ClientId],Personne[[#This Row],[PersonneId]]))","v":0},{"$f":"Personne[[#This Row],[Facture (HT)]]+ROW()/100000","v":8.1300000000000001E-3},{"$f":"_xlfn.CONCAT(Personne[[#This Row],[Adresse]],\" \",Personne[[#This Row],[CodePostal]],\" \",Personne[[#This Row],[Ville]],\" \",Personne[[#This Row],[CodePays]])","v":"   "}]
[null,null,null,null,null,null,null,null,null,null,null,null,null,null,null,null,null,null,null,null,null,null,null,null,null,null,null,null,null,null,{"$f":"IF(PARAMETRES!$B$3=\"SANS\",SUMIFS(Honoraire[TotalHonoraireHT],Honoraire[ClientId],Personne[[#This Row],[PersonneId]]),SUMIFS(Honoraire[TotalHT],Honoraire[ClientId],Personne[[#This Row],[PersonneId]]))","v":0},{"$f":"Personne[[#This Row],[Facture (HT)]]+ROW()/100000","v":8.1399999999999997E-3},{"$f":"_xlfn.CONCAT(Personne[[#This Row],[Adresse]],\" \",Personne[[#This Row],[CodePostal]],\" \",Personne[[#This Row],[Ville]],\" \",Personne[[#This Row],[CodePays]])","v":"   "}]
[null,null,null,null,null,null,null,null,null,null,null,null,null,null,null,null,null,null,null,null,null,null,null,null,null,null,null,null,null,null,{"$f":"IF(PARAMETRES!$B$3=\"SANS\",SUMIFS(Honoraire[TotalHonoraireHT],Honoraire[ClientId],Personne[[#This Row],[PersonneId]]),SUMIFS(Honoraire[TotalHT],Honoraire[ClientId],Personne[[#This Row],[PersonneId]]))","v":0},{"$f":"Personne[[#This Row],[Facture (HT)]]+ROW()/100000","v":8.1499999999999993E-3},{"$f":"_xlfn.CONCAT(Personne[[#This Row],[Adresse]],\" \",Personne[[#This Row],[CodePostal]],\" \",Personne[[#This Row],[Ville]],\" \",Personne[[#This Row],[CodePays]])","v":"   "}]
[null,null,null,null,null,null,null,null,null,null,null,null,null,null,null,null,null,null,null,null,null,null,null,null,null,null,null,null,null,null,{"$f":"IF(PARAMETRES!$B$3=\"SANS\",SUMIFS(Honoraire[TotalHonoraireHT],Honoraire[ClientId],Personne[[#This Row],[PersonneId]]),SUMIFS(Honoraire[TotalHT],Honoraire[ClientId],Personne[[#This Row],[PersonneId]]))","v":0},{"$f":"Personne[[#This Row],[Facture (HT)]]+ROW()/100000","v":8.1600000000000006E-3},{"$f":"_xlfn.CONCAT(Personne[[#This Row],[Adresse]],\" \",Personne[[#This Row],[CodePostal]],\" \",Personne[[#This Row],[Ville]],\" \",Personne[[#This Row],[CodePays]])","v":"   "}]
[null,null,null,null,null,null,null,null,null,null,null,null,null,null,null,null,null,null,null,null,null,null,null,null,null,null,null,null,null,null,{"$f":"IF(PARAMETRES!$B$3=\"SANS\",SUMIFS(Honoraire[TotalHonoraireHT],Honoraire[ClientId],Personne[[#This Row],[PersonneId]]),SUMIFS(Honoraire[TotalHT],Honoraire[ClientId],Personne[[#This Row],[PersonneId]]))","v":0},{"$f":"Personne[[#This Row],[Facture (HT)]]+ROW()/100000","v":8.1700000000000002E-3},{"$f":"_xlfn.CONCAT(Personne[[#This Row],[Adresse]],\" \",Personne[[#This Row],[CodePostal]],\" \",Personne[[#This Row],[Ville]],\" \",Personne[[#This Row],[CodePays]])","v":"   "}]
[null,null,null,null,null,null,null,null,null,null,null,null,null,null,null,null,null,null,null,null,null,null,null,null,null,null,null,null,null,null,{"$f":"IF(PARAMETRES!$B$3=\"SANS\",SUMIFS(Honoraire[TotalHonoraireHT],Honoraire[ClientId],Personne[[#This Row],[PersonneId]]),SUMIFS(Honoraire[TotalHT],Honoraire[ClientId],Personne[[#This Row],[PersonneId]]))","v":0},{"$f":"Personne[[#This Row],[Facture (HT)]]+ROW()/100000","v":8.1799999999999998E-3},{"$f":"_xlfn.CONCAT(Personne[[#This Row],[Adresse]],\" \",Personne[[#This Row],[CodePostal]],\" \",Personne[[#This Row],[Ville]],\" \",Personne[[#This Row],[CodePays]])","v":"   "}]
[null,null,null,null,null,null,null,null,null,null,null,null,null,null,null,null,null,null,null,null,null,null,null,null,null,null,null,null,null,null,{"$f":"IF(PARAMETRES!$B$3=\"SANS\",SUMIFS(Honoraire[TotalHonoraireHT],Honoraire[ClientId],Personne[[#This Row],[PersonneId]]),SUMIFS(Honoraire[TotalHT],Honoraire[ClientId],Personne[[#This Row],[PersonneId]]))","v":0},{"$f":"Personne[[#This Row],[Facture (HT)]]+ROW()/100000","v":8.1899999999999994E-3},{"$f":"_xlfn.CONCAT(Personne[[#This Row],[Adresse]],\" \",Personne[[#This Row],[CodePostal]],\" \",Personne[[#This Row],[Ville]],\" \",Personne[[#This Row],[CodePays]])","v":"   "}]
[null,null,null,null,null,null,null,null,null,null,null,null,null,null,null,null,null,null,null,null,null,null,null,null,null,null,null,null,null,null,{"$f":"IF(PARAMETRES!$B$3=\"SANS\",SUMIFS(Honoraire[TotalHonoraireHT],Honoraire[ClientId],Personne[[#This Row],[PersonneId]]),SUMIFS(Honoraire[TotalHT],Honoraire[ClientId],Personne[[#This Row],[PersonneId]]))","v":0},{"$f":"Personne[[#This Row],[Facture (HT)]]+ROW()/100000","v":8.2000000000000007E-3},{"$f":"_xlfn.CONCAT(Personne[[#This Row],[Adresse]],\" \",Personne[[#This Row],[CodePostal]],\" \",Personne[[#This Row],[Ville]],\" \",Personne[[#This Row],[CodePays]])","v":"   "}]
[null,null,null,null,null,null,null,null,null,null,null,null,null,null,null,null,null,null,null,null,null,null,null,null,null,null,null,null,null,null,{"$f":"IF(PARAMETRES!$B$3=\"SANS\",SUMIFS(Honoraire[TotalHonoraireHT],Honoraire[ClientId],Personne[[#This Row],[PersonneId]]),SUMIFS(Honoraire[TotalHT],Honoraire[ClientId],Personne[[#This Row],[PersonneId]]))","v":0},{"$f":"Personne[[#This Row],[Facture (HT)]]+ROW()/100000","v":8.2100000000000003E-3},{"$f":"_xlfn.CONCAT(Personne[[#This Row],[Adresse]],\" \",Personne[[#This Row],[CodePostal]],\" \",Personne[[#This Row],[Ville]],\" \",Personne[[#This Row],[CodePays]])","v":"   "}]
[null,null,null,null,null,null,null,null,null,null,null,null,null,null,null,null,null,null,null,null,null,null,null,null,null,null,null,null,null,null,{"$f":"IF(PARAMETRES!$B$3=\"SANS\",SUMIFS(Honoraire[TotalHonoraireHT],Honoraire[ClientId],Personne[[#This Row],[PersonneId]]),SUMIFS(Honoraire[TotalHT],Honoraire[ClientId],Personne[[#This Row],[PersonneId]]))","v":0},{"$f":"Personne[[#This Row],[Facture (HT)]]+ROW()/100000","v":8.2199999999999999E-3},{"$f":"_xlfn.CONCAT(Personne[[#This Row],[Adresse]],\" \",Personne[[#This Row],[CodePostal]],\" \",Personne[[#This Row],[Ville]],\" \",Personne[[#This Row],[CodePays]])","v":"   "}]
[null,null,null,null,null,null,null,null,null,null,null,null,null,null,null,null,null,null,null,null,null,null,null,null,null,null,null,null,null,null,{"$f":"IF(PARAMETRES!$B$3=\"SANS\",SUMIFS(Honoraire[TotalHonoraireHT],Honoraire[ClientId],Personne[[#This Row],[PersonneId]]),SUMIFS(Honoraire[TotalHT],Honoraire[ClientId],Personne[[#This Row],[PersonneId]]))","v":0},{"$f":"Personne[[#This Row],[Facture (HT)]]+ROW()/100000","v":8.2299999999999995E-3},{"$f":"_xlfn.CONCAT(Personne[[#This Row],[Adresse]],\" \",Personne[[#This Row],[CodePostal]],\" \",Personne[[#This Row],[Ville]],\" \",Personne[[#This Row],[CodePays]])","v":"   "}]
[null,null,null,null,null,null,null,null,null,null,null,null,null,null,null,null,null,null,null,null,null,null,null,null,null,null,null,null,null,null,{"$f":"IF(PARAMETRES!$B$3=\"SANS\",SUMIFS(Honoraire[TotalHonoraireHT],Honoraire[ClientId],Personne[[#This Row],[PersonneId]]),SUMIFS(Honoraire[TotalHT],Honoraire[ClientId],Personne[[#This Row],[PersonneId]]))","v":0},{"$f":"Personne[[#This Row],[Facture (HT)]]+ROW()/100000","v":8.2400000000000008E-3},{"$f":"_xlfn.CONCAT(Personne[[#This Row],[Adresse]],\" \",Personne[[#This Row],[CodePostal]],\" \",Personne[[#This Row],[Ville]],\" \",Personne[[#This Row],[CodePays]])","v":"   "}]
[null,null,null,null,null,null,null,null,null,null,null,null,null,null,null,null,null,null,null,null,null,null,null,null,null,null,null,null,null,null,{"$f":"IF(PARAMETRES!$B$3=\"SANS\",SUMIFS(Honoraire[TotalHonoraireHT],Honoraire[ClientId],Personne[[#This Row],[PersonneId]]),SUMIFS(Honoraire[TotalHT],Honoraire[ClientId],Personne[[#This Row],[PersonneId]]))","v":0},{"$f":"Personne[[#This Row],[Facture (HT)]]+ROW()/100000","v":8.2500000000000004E-3},{"$f":"_xlfn.CONCAT(Personne[[#This Row],[Adresse]],\" \",Personne[[#This Row],[CodePostal]],\" \",Personne[[#This Row],[Ville]],\" \",Personne[[#This Row],[CodePays]])","v":"   "}]
[null,null,null,null,null,null,null,null,null,null,null,null,null,null,null,null,null,null,null,null,null,null,null,null,null,null,null,null,null,null,{"$f":"IF(PARAMETRES!$B$3=\"SANS\",SUMIFS(Honoraire[TotalHonoraireHT],Honoraire[ClientId],Personne[[#This Row],[PersonneId]]),SUMIFS(Honoraire[TotalHT],Honoraire[ClientId],Personne[[#This Row],[PersonneId]]))","v":0},{"$f":"Personne[[#This Row],[Facture (HT)]]+ROW()/100000","v":8.26E-3},{"$f":"_xlfn.CONCAT(Personne[[#This Row],[Adresse]],\" \",Personne[[#This Row],[CodePostal]],\" \",Personne[[#This Row],[Ville]],\" \",Personne[[#This Row],[CodePays]])","v":"   "}]
[null,null,null,null,null,null,null,null,null,null,null,null,null,null,null,null,null,null,null,null,null,null,null,null,null,null,null,null,null,null,{"$f":"IF(PARAMETRES!$B$3=\"SANS\",SUMIFS(Honoraire[TotalHonoraireHT],Honoraire[ClientId],Personne[[#This Row],[PersonneId]]),SUMIFS(Honoraire[TotalHT],Honoraire[ClientId],Personne[[#This Row],[PersonneId]]))","v":0},{"$f":"Personne[[#This Row],[Facture (HT)]]+ROW()/100000","v":8.2699999999999996E-3},{"$f":"_xlfn.CONCAT(Personne[[#This Row],[Adresse]],\" \",Personne[[#This Row],[CodePostal]],\" \",Personne[[#This Row],[Ville]],\" \",Personne[[#This Row],[CodePays]])","v":"   "}]
[null,null,null,null,null,null,null,null,null,null,null,null,null,null,null,null,null,null,null,null,null,null,null,null,null,null,null,null,null,null,{"$f":"IF(PARAMETRES!$B$3=\"SANS\",SUMIFS(Honoraire[TotalHonoraireHT],Honoraire[ClientId],Personne[[#This Row],[PersonneId]]),SUMIFS(Honoraire[TotalHT],Honoraire[ClientId],Personne[[#This Row],[PersonneId]]))","v":0},{"$f":"Personne[[#This Row],[Facture (HT)]]+ROW()/100000","v":8.2799999999999992E-3},{"$f":"_xlfn.CONCAT(Personne[[#This Row],[Adresse]],\" \",Personne[[#This Row],[CodePostal]],\" \",Personne[[#This Row],[Ville]],\" \",Personne[[#This Row],[CodePays]])","v":"   "}]
[null,null,null,null,null,null,null,null,null,null,null,null,null,null,null,null,null,null,null,null,null,null,null,null,null,null,null,null,null,null,{"$f":"IF(PARAMETRES!$B$3=\"SANS\",SUMIFS(Honoraire[TotalHonoraireHT],Honoraire[ClientId],Personne[[#This Row],[PersonneId]]),SUMIFS(Honoraire[TotalHT],Honoraire[ClientId],Personne[[#This Row],[PersonneId]]))","v":0},{"$f":"Personne[[#This Row],[Facture (HT)]]+ROW()/100000","v":8.2900000000000005E-3},{"$f":"_xlfn.CONCAT(Personne[[#This Row],[Adresse]],\" \",Personne[[#This Row],[CodePostal]],\" \",Personne[[#This Row],[Ville]],\" \",Personne[[#This Row],[CodePays]])","v":"   "}]
[null,null,null,null,null,null,null,null,null,null,null,null,null,null,null,null,null,null,null,null,null,null,null,null,null,null,null,null,null,null,{"$f":"IF(PARAMETRES!$B$3=\"SANS\",SUMIFS(Honoraire[TotalHonoraireHT],Honoraire[ClientId],Personne[[#This Row],[PersonneId]]),SUMIFS(Honoraire[TotalHT],Honoraire[ClientId],Personne[[#This Row],[PersonneId]]))","v":0},{"$f":"Personne[[#This Row],[Facture (HT)]]+ROW()/100000","v":8.3000000000000001E-3},{"$f":"_xlfn.CONCAT(Personne[[#This Row],[Adresse]],\" \",Personne[[#This Row],[CodePostal]],\" \",Personne[[#This Row],[Ville]],\" \",Personne[[#This Row],[CodePays]])","v":"   "}]
[null,null,null,null,null,null,null,null,null,null,null,null,null,null,null,null,null,null,null,null,null,null,null,null,null,null,null,null,null,null,{"$f":"IF(PARAMETRES!$B$3=\"SANS\",SUMIFS(Honoraire[TotalHonoraireHT],Honoraire[ClientId],Personne[[#This Row],[PersonneId]]),SUMIFS(Honoraire[TotalHT],Honoraire[ClientId],Personne[[#This Row],[PersonneId]]))","v":0},{"$f":"Personne[[#This Row],[Facture (HT)]]+ROW()/100000","v":8.3099999999999997E-3},{"$f":"_xlfn.CONCAT(Personne[[#This Row],[Adresse]],\" \",Personne[[#This Row],[CodePostal]],\" \",Personne[[#This Row],[Ville]],\" \",Personne[[#This Row],[CodePays]])","v":"   "}]
[null,null,null,null,null,null,null,null,null,null,null,null,null,null,null,null,null,null,null,null,null,null,null,null,null,null,null,null,null,null,{"$f":"IF(PARAMETRES!$B$3=\"SANS\",SUMIFS(Honoraire[TotalHonoraireHT],Honoraire[ClientId],Personne[[#This Row],[PersonneId]]),SUMIFS(Honoraire[TotalHT],Honoraire[ClientId],Personne[[#This Row],[PersonneId]]))","v":0},{"$f":"Personne[[#This Row],[Facture (HT)]]+ROW()/100000","v":8.3199999999999993E-3},{"$f":"_xlfn.CONCAT(Personne[[#This Row],[Adresse]],\" \",Personne[[#This Row],[CodePostal]],\" \",Personne[[#This Row],[Ville]],\" \",Personne[[#This Row],[CodePays]])","v":"   "}]
[null,null,null,null,null,null,null,null,null,null,null,null,null,null,null,null,null,null,null,null,null,null,null,null,null,null,null,null,null,null,{"$f":"IF(PARAMETRES!$B$3=\"SANS\",SUMIFS(Honoraire[TotalHonoraireHT],Honoraire[ClientId],Personne[[#This Row],[PersonneId]]),SUMIFS(Honoraire[TotalHT],Honoraire[ClientId],Personne[[#This Row],[PersonneId]]))","v":0},{"$f":"Personne[[#This Row],[Facture (HT)]]+ROW()/100000","v":8.3300000000000006E-3},{"$f":"_xlfn.CONCAT(Personne[[#This Row],[Adresse]],\" \",Personne[[#This Row],[CodePostal]],\" \",Personne[[#This Row],[Ville]],\" \",Personne[[#This Row],[CodePays]])","v":"   "}]
[null,null,null,null,null,null,null,null,null,null,null,null,null,null,null,null,null,null,null,null,null,null,null,null,null,null,null,null,null,null,{"$f":"IF(PARAMETRES!$B$3=\"SANS\",SUMIFS(Honoraire[TotalHonoraireHT],Honoraire[ClientId],Personne[[#This Row],[PersonneId]]),SUMIFS(Honoraire[TotalHT],Honoraire[ClientId],Personne[[#This Row],[PersonneId]]))","v":0},{"$f":"Personne[[#This Row],[Facture (HT)]]+ROW()/100000","v":8.3400000000000002E-3},{"$f":"_xlfn.CONCAT(Personne[[#This Row],[Adresse]],\" \",Personne[[#This Row],[CodePostal]],\" \",Personne[[#This Row],[Ville]],\" \",Personne[[#This Row],[CodePays]])","v":"   "}]
[null,null,null,null,null,null,null,null,null,null,null,null,null,null,null,null,null,null,null,null,null,null,null,null,null,null,null,null,null,null,{"$f":"IF(PARAMETRES!$B$3=\"SANS\",SUMIFS(Honoraire[TotalHonoraireHT],Honoraire[ClientId],Personne[[#This Row],[PersonneId]]),SUMIFS(Honoraire[TotalHT],Honoraire[ClientId],Personne[[#This Row],[PersonneId]]))","v":0},{"$f":"Personne[[#This Row],[Facture (HT)]]+ROW()/100000","v":8.3499999999999998E-3},{"$f":"_xlfn.CONCAT(Personne[[#This Row],[Adresse]],\" \",Personne[[#This Row],[CodePostal]],\" \",Personne[[#This Row],[Ville]],\" \",Personne[[#This Row],[CodePays]])","v":"   "}]
[null,null,null,null,null,null,null,null,null,null,null,null,null,null,null,null,null,null,null,null,null,null,null,null,null,null,null,null,null,null,{"$f":"IF(PARAMETRES!$B$3=\"SANS\",SUMIFS(Honoraire[TotalHonoraireHT],Honoraire[ClientId],Personne[[#This Row],[PersonneId]]),SUMIFS(Honoraire[TotalHT],Honoraire[ClientId],Personne[[#This Row],[PersonneId]]))","v":0},{"$f":"Personne[[#This Row],[Facture (HT)]]+ROW()/100000","v":8.3599999999999994E-3},{"$f":"_xlfn.CONCAT(Personne[[#This Row],[Adresse]],\" \",Personne[[#This Row],[CodePostal]],\" \",Personne[[#This Row],[Ville]],\" \",Personne[[#This Row],[CodePays]])","v":"   "}]
[null,null,null,null,null,null,null,null,null,null,null,null,null,null,null,null,null,null,null,null,null,null,null,null,null,null,null,null,null,null,{"$f":"IF(PARAMETRES!$B$3=\"SANS\",SUMIFS(Honoraire[TotalHonoraireHT],Honoraire[ClientId],Personne[[#This Row],[PersonneId]]),SUMIFS(Honoraire[TotalHT],Honoraire[ClientId],Personne[[#This Row],[PersonneId]]))","v":0},{"$f":"Personne[[#This Row],[Facture (HT)]]+ROW()/100000","v":8.3700000000000007E-3},{"$f":"_xlfn.CONCAT(Personne[[#This Row],[Adresse]],\" \",Personne[[#This Row],[CodePostal]],\" \",Personne[[#This Row],[Ville]],\" \",Personne[[#This Row],[CodePays]])","v":"   "}]
[null,null,null,null,null,null,null,null,null,null,null,null,null,null,null,null,null,null,null,null,null,null,null,null,null,null,null,null,null,null,{"$f":"IF(PARAMETRES!$B$3=\"SANS\",SUMIFS(Honoraire[TotalHonoraireHT],Honoraire[ClientId],Personne[[#This Row],[PersonneId]]),SUMIFS(Honoraire[TotalHT],Honoraire[ClientId],Personne[[#This Row],[PersonneId]]))","v":0},{"$f":"Personne[[#This Row],[Facture (HT)]]+ROW()/100000","v":8.3800000000000003E-3},{"$f":"_xlfn.CONCAT(Personne[[#This Row],[Adresse]],\" \",Personne[[#This Row],[CodePostal]],\" \",Personne[[#This Row],[Ville]],\" \",Personne[[#This Row],[CodePays]])","v":"   "}]
[null,null,null,null,null,null,null,null,null,null,null,null,null,null,null,null,null,null,null,null,null,null,null,null,null,null,null,null,null,null,{"$f":"IF(PARAMETRES!$B$3=\"SANS\",SUMIFS(Honoraire[TotalHonoraireHT],Honoraire[ClientId],Personne[[#This Row],[PersonneId]]),SUMIFS(Honoraire[TotalHT],Honoraire[ClientId],Personne[[#This Row],[PersonneId]]))","v":0},{"$f":"Personne[[#This Row],[Facture (HT)]]+ROW()/100000","v":8.3899999999999999E-3},{"$f":"_xlfn.CONCAT(Personne[[#This Row],[Adresse]],\" \",Personne[[#This Row],[CodePostal]],\" \",Personne[[#This Row],[Ville]],\" \",Personne[[#This Row],[CodePays]])","v":"   "}]
[null,null,null,null,null,null,null,null,null,null,null,null,null,null,null,null,null,null,null,null,null,null,null,null,null,null,null,null,null,null,{"$f":"IF(PARAMETRES!$B$3=\"SANS\",SUMIFS(Honoraire[TotalHonoraireHT],Honoraire[ClientId],Personne[[#This Row],[PersonneId]]),SUMIFS(Honoraire[TotalHT],Honoraire[ClientId],Personne[[#This Row],[PersonneId]]))","v":0},{"$f":"Personne[[#This Row],[Facture (HT)]]+ROW()/100000","v":8.3999999999999995E-3},{"$f":"_xlfn.CONCAT(Personne[[#This Row],[Adresse]],\" \",Personne[[#This Row],[CodePostal]],\" \",Personne[[#This Row],[Ville]],\" \",Personne[[#This Row],[CodePays]])","v":"   "}]
[null,null,null,null,null,null,null,null,null,null,null,null,null,null,null,null,null,null,null,null,null,null,null,null,null,null,null,null,null,null,{"$f":"IF(PARAMETRES!$B$3=\"SANS\",SUMIFS(Honoraire[TotalHonoraireHT],Honoraire[ClientId],Personne[[#This Row],[PersonneId]]),SUMIFS(Honoraire[TotalHT],Honoraire[ClientId],Personne[[#This Row],[PersonneId]]))","v":0},{"$f":"Personne[[#This Row],[Facture (HT)]]+ROW()/100000","v":8.4100000000000008E-3},{"$f":"_xlfn.CONCAT(Personne[[#This Row],[Adresse]],\" \",Personne[[#This Row],[CodePostal]],\" \",Personne[[#This Row],[Ville]],\" \",Personne[[#This Row],[CodePays]])","v":"   "}]
[null,null,null,null,null,null,null,null,null,null,null,null,null,null,null,null,null,null,null,null,null,null,null,null,null,null,null,null,null,null,{"$f":"IF(PARAMETRES!$B$3=\"SANS\",SUMIFS(Honoraire[TotalHonoraireHT],Honoraire[ClientId],Personne[[#This Row],[PersonneId]]),SUMIFS(Honoraire[TotalHT],Honoraire[ClientId],Personne[[#This Row],[PersonneId]]))","v":0},{"$f":"Personne[[#This Row],[Facture (HT)]]+ROW()/100000","v":8.4200000000000004E-3},{"$f":"_xlfn.CONCAT(Personne[[#This Row],[Adresse]],\" \",Personne[[#This Row],[CodePostal]],\" \",Personne[[#This Row],[Ville]],\" \",Personne[[#This Row],[CodePays]])","v":"   "}]
[null,null,null,null,null,null,null,null,null,null,null,null,null,null,null,null,null,null,null,null,null,null,null,null,null,null,null,null,null,null,{"$f":"IF(PARAMETRES!$B$3=\"SANS\",SUMIFS(Honoraire[TotalHonoraireHT],Honoraire[ClientId],Personne[[#This Row],[PersonneId]]),SUMIFS(Honoraire[TotalHT],Honoraire[ClientId],Personne[[#This Row],[PersonneId]]))","v":0},{"$f":"Personne[[#This Row],[Facture (HT)]]+ROW()/100000","v":8.43E-3},{"$f":"_xlfn.CONCAT(Personne[[#This Row],[Adresse]],\" \",Personne[[#This Row],[CodePostal]],\" \",Personne[[#This Row],[Ville]],\" \",Personne[[#This Row],[CodePays]])","v":"   "}]
[null,null,null,null,null,null,null,null,null,null,null,null,null,null,null,null,null,null,null,null,null,null,null,null,null,null,null,null,null,null,{"$f":"IF(PARAMETRES!$B$3=\"SANS\",SUMIFS(Honoraire[TotalHonoraireHT],Honoraire[ClientId],Personne[[#This Row],[PersonneId]]),SUMIFS(Honoraire[TotalHT],Honoraire[ClientId],Personne[[#This Row],[PersonneId]]))","v":0},{"$f":"Personne[[#This Row],[Facture (HT)]]+ROW()/100000","v":8.4399999999999996E-3},{"$f":"_xlfn.CONCAT(Personne[[#This Row],[Adresse]],\" \",Personne[[#This Row],[CodePostal]],\" \",Personne[[#This Row],[Ville]],\" \",Personne[[#This Row],[CodePays]])","v":"   "}]
[null,null,null,null,null,null,null,null,null,null,null,null,null,null,null,null,null,null,null,null,null,null,null,null,null,null,null,null,null,null,{"$f":"IF(PARAMETRES!$B$3=\"SANS\",SUMIFS(Honoraire[TotalHonoraireHT],Honoraire[ClientId],Personne[[#This Row],[PersonneId]]),SUMIFS(Honoraire[TotalHT],Honoraire[ClientId],Personne[[#This Row],[PersonneId]]))","v":0},{"$f":"Personne[[#This Row],[Facture (HT)]]+ROW()/100000","v":8.4499999999999992E-3},{"$f":"_xlfn.CONCAT(Personne[[#This Row],[Adresse]],\" \",Personne[[#This Row],[CodePostal]],\" \",Personne[[#This Row],[Ville]],\" \",Personne[[#This Row],[CodePays]])","v":"   "}]
[null,null,null,null,null,null,null,null,null,null,null,null,null,null,null,null,null,null,null,null,null,null,null,null,null,null,null,null,null,null,{"$f":"IF(PARAMETRES!$B$3=\"SANS\",SUMIFS(Honoraire[TotalHonoraireHT],Honoraire[ClientId],Personne[[#This Row],[PersonneId]]),SUMIFS(Honoraire[TotalHT],Honoraire[ClientId],Personne[[#This Row],[PersonneId]]))","v":0},{"$f":"Personne[[#This Row],[Facture (HT)]]+ROW()/100000","v":8.4600000000000005E-3},{"$f":"_xlfn.CONCAT(Personne[[#This Row],[Adresse]],\" \",Personne[[#This Row],[CodePostal]],\" \",Personne[[#This Row],[Ville]],\" \",Personne[[#This Row],[CodePays]])","v":"   "}]
[null,null,null,null,null,null,null,null,null,null,null,null,null,null,null,null,null,null,null,null,null,null,null,null,null,null,null,null,null,null,{"$f":"IF(PARAMETRES!$B$3=\"SANS\",SUMIFS(Honoraire[TotalHonoraireHT],Honoraire[ClientId],Personne[[#This Row],[PersonneId]]),SUMIFS(Honoraire[TotalHT],Honoraire[ClientId],Personne[[#This Row],[PersonneId]]))","v":0},{"$f":"Personne[[#This Row],[Facture (HT)]]+ROW()/100000","v":8.4700000000000001E-3},{"$f":"_xlfn.CONCAT(Personne[[#This Row],[Adresse]],\" \",Personne[[#This Row],[CodePostal]],\" \",Personne[[#This Row],[Ville]],\" \",Personne[[#This Row],[CodePays]])","v":"   "}]
[null,null,null,null,null,null,null,null,null,null,null,null,null,null,null,null,null,null,null,null,null,null,null,null,null,null,null,null,null,null,{"$f":"IF(PARAMETRES!$B$3=\"SANS\",SUMIFS(Honoraire[TotalHonoraireHT],Honoraire[ClientId],Personne[[#This Row],[PersonneId]]),SUMIFS(Honoraire[TotalHT],Honoraire[ClientId],Personne[[#This Row],[PersonneId]]))","v":0},{"$f":"Personne[[#This Row],[Facture (HT)]]+ROW()/100000","v":8.4799999999999997E-3},{"$f":"_xlfn.CONCAT(Personne[[#This Row],[Adresse]],\" \",Personne[[#This Row],[CodePostal]],\" \",Personne[[#This Row],[Ville]],\" \",Personne[[#This Row],[CodePays]])","v":"   "}]
[null,null,null,null,null,null,null,null,null,null,null,null,null,null,null,null,null,null,null,null,null,null,null,null,null,null,null,null,null,null,{"$f":"IF(PARAMETRES!$B$3=\"SANS\",SUMIFS(Honoraire[TotalHonoraireHT],Honoraire[ClientId],Personne[[#This Row],[PersonneId]]),SUMIFS(Honoraire[TotalHT],Honoraire[ClientId],Personne[[#This Row],[PersonneId]]))","v":0},{"$f":"Personne[[#This Row],[Facture (HT)]]+ROW()/100000","v":8.4899999999999993E-3},{"$f":"_xlfn.CONCAT(Personne[[#This Row],[Adresse]],\" \",Personne[[#This Row],[CodePostal]],\" \",Personne[[#This Row],[Ville]],\" \",Personne[[#This Row],[CodePays]])","v":"   "}]
[null,null,null,null,null,null,null,null,null,null,null,null,null,null,null,null,null,null,null,null,null,null,null,null,null,null,null,null,null,null,{"$f":"IF(PARAMETRES!$B$3=\"SANS\",SUMIFS(Honoraire[TotalHonoraireHT],Honoraire[ClientId],Personne[[#This Row],[PersonneId]]),SUMIFS(Honoraire[TotalHT],Honoraire[ClientId],Personne[[#This Row],[PersonneId]]))","v":0},{"$f":"Personne[[#This Row],[Facture (HT)]]+ROW()/100000","v":8.5000000000000006E-3},{"$f":"_xlfn.CONCAT(Personne[[#This Row],[Adresse]],\" \",Personne[[#This Row],[CodePostal]],\" \",Personne[[#This Row],[Ville]],\" \",Personne[[#This Row],[CodePays]])","v":"   "}]
[null,null,null,null,null,null,null,null,null,null,null,null,null,null,null,null,null,null,null,null,null,null,null,null,null,null,null,null,null,null,{"$f":"IF(PARAMETRES!$B$3=\"SANS\",SUMIFS(Honoraire[TotalHonoraireHT],Honoraire[ClientId],Personne[[#This Row],[PersonneId]]),SUMIFS(Honoraire[TotalHT],Honoraire[ClientId],Personne[[#This Row],[PersonneId]]))","v":0},{"$f":"Personne[[#This Row],[Facture (HT)]]+ROW()/100000","v":8.5100000000000002E-3},{"$f":"_xlfn.CONCAT(Personne[[#This Row],[Adresse]],\" \",Personne[[#This Row],[CodePostal]],\" \",Personne[[#This Row],[Ville]],\" \",Personne[[#This Row],[CodePays]])","v":"   "}]
[null,null,null,null,null,null,null,null,null,null,null,null,null,null,null,null,null,null,null,null,null,null,null,null,null,null,null,null,null,null,{"$f":"IF(PARAMETRES!$B$3=\"SANS\",SUMIFS(Honoraire[TotalHonoraireHT],Honoraire[ClientId],Personne[[#This Row],[PersonneId]]),SUMIFS(Honoraire[TotalHT],Honoraire[ClientId],Personne[[#This Row],[PersonneId]]))","v":0},{"$f":"Personne[[#This Row],[Facture (HT)]]+ROW()/100000","v":8.5199999999999998E-3},{"$f":"_xlfn.CONCAT(Personne[[#This Row],[Adresse]],\" \",Personne[[#This Row],[CodePostal]],\" \",Personne[[#This Row],[Ville]],\" \",Personne[[#This Row],[CodePays]])","v":"   "}]
[null,null,null,null,null,null,null,null,null,null,null,null,null,null,null,null,null,null,null,null,null,null,null,null,null,null,null,null,null,null,{"$f":"IF(PARAMETRES!$B$3=\"SANS\",SUMIFS(Honoraire[TotalHonoraireHT],Honoraire[ClientId],Personne[[#This Row],[PersonneId]]),SUMIFS(Honoraire[TotalHT],Honoraire[ClientId],Personne[[#This Row],[PersonneId]]))","v":0},{"$f":"Personne[[#This Row],[Facture (HT)]]+ROW()/100000","v":8.5299999999999994E-3},{"$f":"_xlfn.CONCAT(Personne[[#This Row],[Adresse]],\" \",Personne[[#This Row],[CodePostal]],\" \",Personne[[#This Row],[Ville]],\" \",Personne[[#This Row],[CodePays]])","v":"   "}]
[null,null,null,null,null,null,null,null,null,null,null,null,null,null,null,null,null,null,null,null,null,null,null,null,null,null,null,null,null,null,{"$f":"IF(PARAMETRES!$B$3=\"SANS\",SUMIFS(Honoraire[TotalHonoraireHT],Honoraire[ClientId],Personne[[#This Row],[PersonneId]]),SUMIFS(Honoraire[TotalHT],Honoraire[ClientId],Personne[[#This Row],[PersonneId]]))","v":0},{"$f":"Personne[[#This Row],[Facture (HT)]]+ROW()/100000","v":8.5400000000000007E-3},{"$f":"_xlfn.CONCAT(Personne[[#This Row],[Adresse]],\" \",Personne[[#This Row],[CodePostal]],\" \",Personne[[#This Row],[Ville]],\" \",Personne[[#This Row],[CodePays]])","v":"   "}]
[null,null,null,null,null,null,null,null,null,null,null,null,null,null,null,null,null,null,null,null,null,null,null,null,null,null,null,null,null,null,{"$f":"IF(PARAMETRES!$B$3=\"SANS\",SUMIFS(Honoraire[TotalHonoraireHT],Honoraire[ClientId],Personne[[#This Row],[PersonneId]]),SUMIFS(Honoraire[TotalHT],Honoraire[ClientId],Personne[[#This Row],[PersonneId]]))","v":0},{"$f":"Personne[[#This Row],[Facture (HT)]]+ROW()/100000","v":8.5500000000000003E-3},{"$f":"_xlfn.CONCAT(Personne[[#This Row],[Adresse]],\" \",Personne[[#This Row],[CodePostal]],\" \",Personne[[#This Row],[Ville]],\" \",Personne[[#This Row],[CodePays]])","v":"   "}]
[null,null,null,null,null,null,null,null,null,null,null,null,null,null,null,null,null,null,null,null,null,null,null,null,null,null,null,null,null,null,{"$f":"IF(PARAMETRES!$B$3=\"SANS\",SUMIFS(Honoraire[TotalHonoraireHT],Honoraire[ClientId],Personne[[#This Row],[PersonneId]]),SUMIFS(Honoraire[TotalHT],Honoraire[ClientId],Personne[[#This Row],[PersonneId]]))","v":0},{"$f":"Personne[[#This Row],[Facture (HT)]]+ROW()/100000","v":8.5599999999999999E-3},{"$f":"_xlfn.CONCAT(Personne[[#This Row],[Adresse]],\" \",Personne[[#This Row],[CodePostal]],\" \",Personne[[#This Row],[Ville]],\" \",Personne[[#This Row],[CodePays]])","v":"   "}]
[null,null,null,null,null,null,null,null,null,null,null,null,null,null,null,null,null,null,null,null,null,null,null,null,null,null,null,null,null,null,{"$f":"IF(PARAMETRES!$B$3=\"SANS\",SUMIFS(Honoraire[TotalHonoraireHT],Honoraire[ClientId],Personne[[#This Row],[PersonneId]]),SUMIFS(Honoraire[TotalHT],Honoraire[ClientId],Personne[[#This Row],[PersonneId]]))","v":0},{"$f":"Personne[[#This Row],[Facture (HT)]]+ROW()/100000","v":8.5699999999999995E-3},{"$f":"_xlfn.CONCAT(Personne[[#This Row],[Adresse]],\" \",Personne[[#This Row],[CodePostal]],\" \",Personne[[#This Row],[Ville]],\" \",Personne[[#This Row],[CodePays]])","v":"   "}]
[null,null,null,null,null,null,null,null,null,null,null,null,null,null,null,null,null,null,null,null,null,null,null,null,null,null,null,null,null,null,{"$f":"IF(PARAMETRES!$B$3=\"SANS\",SUMIFS(Honoraire[TotalHonoraireHT],Honoraire[ClientId],Personne[[#This Row],[PersonneId]]),SUMIFS(Honoraire[TotalHT],Honoraire[ClientId],Personne[[#This Row],[PersonneId]]))","v":0},{"$f":"Personne[[#This Row],[Facture (HT)]]+ROW()/100000","v":8.5800000000000008E-3},{"$f":"_xlfn.CONCAT(Personne[[#This Row],[Adresse]],\" \",Personne[[#This Row],[CodePostal]],\" \",Personne[[#This Row],[Ville]],\" \",Personne[[#This Row],[CodePays]])","v":"   "}]
[null,null,null,null,null,null,null,null,null,null,null,null,null,null,null,null,null,null,null,null,null,null,null,null,null,null,null,null,null,null,{"$f":"IF(PARAMETRES!$B$3=\"SANS\",SUMIFS(Honoraire[TotalHonoraireHT],Honoraire[ClientId],Personne[[#This Row],[PersonneId]]),SUMIFS(Honoraire[TotalHT],Honoraire[ClientId],Personne[[#This Row],[PersonneId]]))","v":0},{"$f":"Personne[[#This Row],[Facture (HT)]]+ROW()/100000","v":8.5900000000000004E-3},{"$f":"_xlfn.CONCAT(Personne[[#This Row],[Adresse]],\" \",Personne[[#This Row],[CodePostal]],\" \",Personne[[#This Row],[Ville]],\" \",Personne[[#This Row],[CodePays]])","v":"   "}]
[null,null,null,null,null,null,null,null,null,null,null,null,null,null,null,null,null,null,null,null,null,null,null,null,null,null,null,null,null,null,{"$f":"IF(PARAMETRES!$B$3=\"SANS\",SUMIFS(Honoraire[TotalHonoraireHT],Honoraire[ClientId],Personne[[#This Row],[PersonneId]]),SUMIFS(Honoraire[TotalHT],Honoraire[ClientId],Personne[[#This Row],[PersonneId]]))","v":0},{"$f":"Personne[[#This Row],[Facture (HT)]]+ROW()/100000","v":8.6E-3},{"$f":"_xlfn.CONCAT(Personne[[#This Row],[Adresse]],\" \",Personne[[#This Row],[CodePostal]],\" \",Personne[[#This Row],[Ville]],\" \",Personne[[#This Row],[CodePays]])","v":"   "}]
[null,null,null,null,null,null,null,null,null,null,null,null,null,null,null,null,null,null,null,null,null,null,null,null,null,null,null,null,null,null,{"$f":"IF(PARAMETRES!$B$3=\"SANS\",SUMIFS(Honoraire[TotalHonoraireHT],Honoraire[ClientId],Personne[[#This Row],[PersonneId]]),SUMIFS(Honoraire[TotalHT],Honoraire[ClientId],Personne[[#This Row],[PersonneId]]))","v":0},{"$f":"Personne[[#This Row],[Facture (HT)]]+ROW()/100000","v":8.6099999999999996E-3},{"$f":"_xlfn.CONCAT(Personne[[#This Row],[Adresse]],\" \",Personne[[#This Row],[CodePostal]],\" \",Personne[[#This Row],[Ville]],\" \",Personne[[#This Row],[CodePays]])","v":"   "}]
[null,null,null,null,null,null,null,null,null,null,null,null,null,null,null,null,null,null,null,null,null,null,null,null,null,null,null,null,null,null,{"$f":"IF(PARAMETRES!$B$3=\"SANS\",SUMIFS(Honoraire[TotalHonoraireHT],Honoraire[ClientId],Personne[[#This Row],[PersonneId]]),SUMIFS(Honoraire[TotalHT],Honoraire[ClientId],Personne[[#This Row],[PersonneId]]))","v":0},{"$f":"Personne[[#This Row],[Facture (HT)]]+ROW()/100000","v":8.6199999999999992E-3},{"$f":"_xlfn.CONCAT(Personne[[#This Row],[Adresse]],\" \",Personne[[#This Row],[CodePostal]],\" \",Personne[[#This Row],[Ville]],\" \",Personne[[#This Row],[CodePays]])","v":"   "}]
[null,null,null,null,null,null,null,null,null,null,null,null,null,null,null,null,null,null,null,null,null,null,null,null,null,null,null,null,null,null,{"$f":"IF(PARAMETRES!$B$3=\"SANS\",SUMIFS(Honoraire[TotalHonoraireHT],Honoraire[ClientId],Personne[[#This Row],[PersonneId]]),SUMIFS(Honoraire[TotalHT],Honoraire[ClientId],Personne[[#This Row],[PersonneId]]))","v":0},{"$f":"Personne[[#This Row],[Facture (HT)]]+ROW()/100000","v":8.6300000000000005E-3},{"$f":"_xlfn.CONCAT(Personne[[#This Row],[Adresse]],\" \",Personne[[#This Row],[CodePostal]],\" \",Personne[[#This Row],[Ville]],\" \",Personne[[#This Row],[CodePays]])","v":"   "}]
[null,null,null,null,null,null,null,null,null,null,null,null,null,null,null,null,null,null,null,null,null,null,null,null,null,null,null,null,null,null,{"$f":"IF(PARAMETRES!$B$3=\"SANS\",SUMIFS(Honoraire[TotalHonoraireHT],Honoraire[ClientId],Personne[[#This Row],[PersonneId]]),SUMIFS(Honoraire[TotalHT],Honoraire[ClientId],Personne[[#This Row],[PersonneId]]))","v":0},{"$f":"Personne[[#This Row],[Facture (HT)]]+ROW()/100000","v":8.6400000000000001E-3},{"$f":"_xlfn.CONCAT(Personne[[#This Row],[Adresse]],\" \",Personne[[#This Row],[CodePostal]],\" \",Personne[[#This Row],[Ville]],\" \",Personne[[#This Row],[CodePays]])","v":"   "}]
[null,null,null,null,null,null,null,null,null,null,null,null,null,null,null,null,null,null,null,null,null,null,null,null,null,null,null,null,null,null,{"$f":"IF(PARAMETRES!$B$3=\"SANS\",SUMIFS(Honoraire[TotalHonoraireHT],Honoraire[ClientId],Personne[[#This Row],[PersonneId]]),SUMIFS(Honoraire[TotalHT],Honoraire[ClientId],Personne[[#This Row],[PersonneId]]))","v":0},{"$f":"Personne[[#This Row],[Facture (HT)]]+ROW()/100000","v":8.6499999999999997E-3},{"$f":"_xlfn.CONCAT(Personne[[#This Row],[Adresse]],\" \",Personne[[#This Row],[CodePostal]],\" \",Personne[[#This Row],[Ville]],\" \",Personne[[#This Row],[CodePays]])","v":"   "}]
[null,null,null,null,null,null,null,null,null,null,null,null,null,null,null,null,null,null,null,null,null,null,null,null,null,null,null,null,null,null,{"$f":"IF(PARAMETRES!$B$3=\"SANS\",SUMIFS(Honoraire[TotalHonoraireHT],Honoraire[ClientId],Personne[[#This Row],[PersonneId]]),SUMIFS(Honoraire[TotalHT],Honoraire[ClientId],Personne[[#This Row],[PersonneId]]))","v":0},{"$f":"Personne[[#This Row],[Facture (HT)]]+ROW()/100000","v":8.6599999999999993E-3},{"$f":"_xlfn.CONCAT(Personne[[#This Row],[Adresse]],\" \",Personne[[#This Row],[CodePostal]],\" \",Personne[[#This Row],[Ville]],\" \",Personne[[#This Row],[CodePays]])","v":"   "}]
[null,null,null,null,null,null,null,null,null,null,null,null,null,null,null,null,null,null,null,null,null,null,null,null,null,null,null,null,null,null,{"$f":"IF(PARAMETRES!$B$3=\"SANS\",SUMIFS(Honoraire[TotalHonoraireHT],Honoraire[ClientId],Personne[[#This Row],[PersonneId]]),SUMIFS(Honoraire[TotalHT],Honoraire[ClientId],Personne[[#This Row],[PersonneId]]))","v":0},{"$f":"Personne[[#This Row],[Facture (HT)]]+ROW()/100000","v":8.6700000000000006E-3},{"$f":"_xlfn.CONCAT(Personne[[#This Row],[Adresse]],\" \",Personne[[#This Row],[CodePostal]],\" \",Personne[[#This Row],[Ville]],\" \",Personne[[#This Row],[CodePays]])","v":"   "}]
[null,null,null,null,null,null,null,null,null,null,null,null,null,null,null,null,null,null,null,null,null,null,null,null,null,null,null,null,null,null,{"$f":"IF(PARAMETRES!$B$3=\"SANS\",SUMIFS(Honoraire[TotalHonoraireHT],Honoraire[ClientId],Personne[[#This Row],[PersonneId]]),SUMIFS(Honoraire[TotalHT],Honoraire[ClientId],Personne[[#This Row],[PersonneId]]))","v":0},{"$f":"Personne[[#This Row],[Facture (HT)]]+ROW()/100000","v":8.6800000000000002E-3},{"$f":"_xlfn.CONCAT(Personne[[#This Row],[Adresse]],\" \",Personne[[#This Row],[CodePostal]],\" \",Personne[[#This Row],[Ville]],\" \",Personne[[#This Row],[CodePays]])","v":"   "}]
[null,null,null,null,null,null,null,null,null,null,null,null,null,null,null,null,null,null,null,null,null,null,null,null,null,null,null,null,null,null,{"$f":"IF(PARAMETRES!$B$3=\"SANS\",SUMIFS(Honoraire[TotalHonoraireHT],Honoraire[ClientId],Personne[[#This Row],[PersonneId]]),SUMIFS(Honoraire[TotalHT],Honoraire[ClientId],Personne[[#This Row],[PersonneId]]))","v":0},{"$f":"Personne[[#This Row],[Facture (HT)]]+ROW()/100000","v":8.6899999999999998E-3},{"$f":"_xlfn.CONCAT(Personne[[#This Row],[Adresse]],\" \",Personne[[#This Row],[CodePostal]],\" \",Personne[[#This Row],[Ville]],\" \",Personne[[#This Row],[CodePays]])","v":"   "}]
[null,null,null,null,null,null,null,null,null,null,null,null,null,null,null,null,null,null,null,null,null,null,null,null,null,null,null,null,null,null,{"$f":"IF(PARAMETRES!$B$3=\"SANS\",SUMIFS(Honoraire[TotalHonoraireHT],Honoraire[ClientId],Personne[[#This Row],[PersonneId]]),SUMIFS(Honoraire[TotalHT],Honoraire[ClientId],Personne[[#This Row],[PersonneId]]))","v":0},{"$f":"Personne[[#This Row],[Facture (HT)]]+ROW()/100000","v":8.6999999999999994E-3},{"$f":"_xlfn.CONCAT(Personne[[#This Row],[Adresse]],\" \",Personne[[#This Row],[CodePostal]],\" \",Personne[[#This Row],[Ville]],\" \",Personne[[#This Row],[CodePays]])","v":"   "}]
[null,null,null,null,null,null,null,null,null,null,null,null,null,null,null,null,null,null,null,null,null,null,null,null,null,null,null,null,null,null,{"$f":"IF(PARAMETRES!$B$3=\"SANS\",SUMIFS(Honoraire[TotalHonoraireHT],Honoraire[ClientId],Personne[[#This Row],[PersonneId]]),SUMIFS(Honoraire[TotalHT],Honoraire[ClientId],Personne[[#This Row],[PersonneId]]))","v":0},{"$f":"Personne[[#This Row],[Facture (HT)]]+ROW()/100000","v":8.7100000000000007E-3},{"$f":"_xlfn.CONCAT(Personne[[#This Row],[Adresse]],\" \",Personne[[#This Row],[CodePostal]],\" \",Personne[[#This Row],[Ville]],\" \",Personne[[#This Row],[CodePays]])","v":"   "}]
[null,null,null,null,null,null,null,null,null,null,null,null,null,null,null,null,null,null,null,null,null,null,null,null,null,null,null,null,null,null,{"$f":"IF(PARAMETRES!$B$3=\"SANS\",SUMIFS(Honoraire[TotalHonoraireHT],Honoraire[ClientId],Personne[[#This Row],[PersonneId]]),SUMIFS(Honoraire[TotalHT],Honoraire[ClientId],Personne[[#This Row],[PersonneId]]))","v":0},{"$f":"Personne[[#This Row],[Facture (HT)]]+ROW()/100000","v":8.7200000000000003E-3},{"$f":"_xlfn.CONCAT(Personne[[#This Row],[Adresse]],\" \",Personne[[#This Row],[CodePostal]],\" \",Personne[[#This Row],[Ville]],\" \",Personne[[#This Row],[CodePays]])","v":"   "}]
[null,null,null,null,null,null,null,null,null,null,null,null,null,null,null,null,null,null,null,null,null,null,null,null,null,null,null,null,null,null,{"$f":"IF(PARAMETRES!$B$3=\"SANS\",SUMIFS(Honoraire[TotalHonoraireHT],Honoraire[ClientId],Personne[[#This Row],[PersonneId]]),SUMIFS(Honoraire[TotalHT],Honoraire[ClientId],Personne[[#This Row],[PersonneId]]))","v":0},{"$f":"Personne[[#This Row],[Facture (HT)]]+ROW()/100000","v":8.7299999999999999E-3},{"$f":"_xlfn.CONCAT(Personne[[#This Row],[Adresse]],\" \",Personne[[#This Row],[CodePostal]],\" \",Personne[[#This Row],[Ville]],\" \",Personne[[#This Row],[CodePays]])","v":"   "}]
[null,null,null,null,null,null,null,null,null,null,null,null,null,null,null,null,null,null,null,null,null,null,null,null,null,null,null,null,null,null,{"$f":"IF(PARAMETRES!$B$3=\"SANS\",SUMIFS(Honoraire[TotalHonoraireHT],Honoraire[ClientId],Personne[[#This Row],[PersonneId]]),SUMIFS(Honoraire[TotalHT],Honoraire[ClientId],Personne[[#This Row],[PersonneId]]))","v":0},{"$f":"Personne[[#This Row],[Facture (HT)]]+ROW()/100000","v":8.7399999999999995E-3},{"$f":"_xlfn.CONCAT(Personne[[#This Row],[Adresse]],\" \",Personne[[#This Row],[CodePostal]],\" \",Personne[[#This Row],[Ville]],\" \",Personne[[#This Row],[CodePays]])","v":"   "}]
[null,null,null,null,null,null,null,null,null,null,null,null,null,null,null,null,null,null,null,null,null,null,null,null,null,null,null,null,null,null,{"$f":"IF(PARAMETRES!$B$3=\"SANS\",SUMIFS(Honoraire[TotalHonoraireHT],Honoraire[ClientId],Personne[[#This Row],[PersonneId]]),SUMIFS(Honoraire[TotalHT],Honoraire[ClientId],Personne[[#This Row],[PersonneId]]))","v":0},{"$f":"Personne[[#This Row],[Facture (HT)]]+ROW()/100000","v":8.7500000000000008E-3},{"$f":"_xlfn.CONCAT(Personne[[#This Row],[Adresse]],\" \",Personne[[#This Row],[CodePostal]],\" \",Personne[[#This Row],[Ville]],\" \",Personne[[#This Row],[CodePays]])","v":"   "}]
[null,null,null,null,null,null,null,null,null,null,null,null,null,null,null,null,null,null,null,null,null,null,null,null,null,null,null,null,null,null,{"$f":"IF(PARAMETRES!$B$3=\"SANS\",SUMIFS(Honoraire[TotalHonoraireHT],Honoraire[ClientId],Personne[[#This Row],[PersonneId]]),SUMIFS(Honoraire[TotalHT],Honoraire[ClientId],Personne[[#This Row],[PersonneId]]))","v":0},{"$f":"Personne[[#This Row],[Facture (HT)]]+ROW()/100000","v":8.7600000000000004E-3},{"$f":"_xlfn.CONCAT(Personne[[#This Row],[Adresse]],\" \",Personne[[#This Row],[CodePostal]],\" \",Personne[[#This Row],[Ville]],\" \",Personne[[#This Row],[CodePays]])","v":"   "}]
[null,null,null,null,null,null,null,null,null,null,null,null,null,null,null,null,null,null,null,null,null,null,null,null,null,null,null,null,null,null,{"$f":"IF(PARAMETRES!$B$3=\"SANS\",SUMIFS(Honoraire[TotalHonoraireHT],Honoraire[ClientId],Personne[[#This Row],[PersonneId]]),SUMIFS(Honoraire[TotalHT],Honoraire[ClientId],Personne[[#This Row],[PersonneId]]))","v":0},{"$f":"Personne[[#This Row],[Facture (HT)]]+ROW()/100000","v":8.77E-3},{"$f":"_xlfn.CONCAT(Personne[[#This Row],[Adresse]],\" \",Personne[[#This Row],[CodePostal]],\" \",Personne[[#This Row],[Ville]],\" \",Personne[[#This Row],[CodePays]])","v":"   "}]
[null,null,null,null,null,null,null,null,null,null,null,null,null,null,null,null,null,null,null,null,null,null,null,null,null,null,null,null,null,null,{"$f":"IF(PARAMETRES!$B$3=\"SANS\",SUMIFS(Honoraire[TotalHonoraireHT],Honoraire[ClientId],Personne[[#This Row],[PersonneId]]),SUMIFS(Honoraire[TotalHT],Honoraire[ClientId],Personne[[#This Row],[PersonneId]]))","v":0},{"$f":"Personne[[#This Row],[Facture (HT)]]+ROW()/100000","v":8.7799999999999996E-3},{"$f":"_xlfn.CONCAT(Personne[[#This Row],[Adresse]],\" \",Personne[[#This Row],[CodePostal]],\" \",Personne[[#This Row],[Ville]],\" \",Personne[[#This Row],[CodePays]])","v":"   "}]
[null,null,null,null,null,null,null,null,null,null,null,null,null,null,null,null,null,null,null,null,null,null,null,null,null,null,null,null,null,null,{"$f":"IF(PARAMETRES!$B$3=\"SANS\",SUMIFS(Honoraire[TotalHonoraireHT],Honoraire[ClientId],Personne[[#This Row],[PersonneId]]),SUMIFS(Honoraire[TotalHT],Honoraire[ClientId],Personne[[#This Row],[PersonneId]]))","v":0},{"$f":"Personne[[#This Row],[Facture (HT)]]+ROW()/100000","v":8.7899999999999992E-3},{"$f":"_xlfn.CONCAT(Personne[[#This Row],[Adresse]],\" \",Personne[[#This Row],[CodePostal]],\" \",Personne[[#This Row],[Ville]],\" \",Personne[[#This Row],[CodePays]])","v":"   "}]
[null,null,null,null,null,null,null,null,null,null,null,null,null,null,null,null,null,null,null,null,null,null,null,null,null,null,null,null,null,null,{"$f":"IF(PARAMETRES!$B$3=\"SANS\",SUMIFS(Honoraire[TotalHonoraireHT],Honoraire[ClientId],Personne[[#This Row],[PersonneId]]),SUMIFS(Honoraire[TotalHT],Honoraire[ClientId],Personne[[#This Row],[PersonneId]]))","v":0},{"$f":"Personne[[#This Row],[Facture (HT)]]+ROW()/100000","v":8.8000000000000005E-3},{"$f":"_xlfn.CONCAT(Personne[[#This Row],[Adresse]],\" \",Personne[[#This Row],[CodePostal]],\" \",Personne[[#This Row],[Ville]],\" \",Personne[[#This Row],[CodePays]])","v":"   "}]
[null,null,null,null,null,null,null,null,null,null,null,null,null,null,null,null,null,null,null,null,null,null,null,null,null,null,null,null,null,null,{"$f":"IF(PARAMETRES!$B$3=\"SANS\",SUMIFS(Honoraire[TotalHonoraireHT],Honoraire[ClientId],Personne[[#This Row],[PersonneId]]),SUMIFS(Honoraire[TotalHT],Honoraire[ClientId],Personne[[#This Row],[PersonneId]]))","v":0},{"$f":"Personne[[#This Row],[Facture (HT)]]+ROW()/100000","v":8.8100000000000001E-3},{"$f":"_xlfn.CONCAT(Personne[[#This Row],[Adresse]],\" \",Personne[[#This Row],[CodePostal]],\" \",Personne[[#This Row],[Ville]],\" \",Personne[[#This Row],[CodePays]])","v":"   "}]
[null,null,null,null,null,null,null,null,null,null,null,null,null,null,null,null,null,null,null,null,null,null,null,null,null,null,null,null,null,null,{"$f":"IF(PARAMETRES!$B$3=\"SANS\",SUMIFS(Honoraire[TotalHonoraireHT],Honoraire[ClientId],Personne[[#This Row],[PersonneId]]),SUMIFS(Honoraire[TotalHT],Honoraire[ClientId],Personne[[#This Row],[PersonneId]]))","v":0},{"$f":"Personne[[#This Row],[Facture (HT)]]+ROW()/100000","v":8.8199999999999997E-3},{"$f":"_xlfn.CONCAT(Personne[[#This Row],[Adresse]],\" \",Personne[[#This Row],[CodePostal]],\" \",Personne[[#This Row],[Ville]],\" \",Personne[[#This Row],[CodePays]])","v":"   "}]
[null,null,null,null,null,null,null,null,null,null,null,null,null,null,null,null,null,null,null,null,null,null,null,null,null,null,null,null,null,null,{"$f":"IF(PARAMETRES!$B$3=\"SANS\",SUMIFS(Honoraire[TotalHonoraireHT],Honoraire[ClientId],Personne[[#This Row],[PersonneId]]),SUMIFS(Honoraire[TotalHT],Honoraire[ClientId],Personne[[#This Row],[PersonneId]]))","v":0},{"$f":"Personne[[#This Row],[Facture (HT)]]+ROW()/100000","v":8.8299999999999993E-3},{"$f":"_xlfn.CONCAT(Personne[[#This Row],[Adresse]],\" \",Personne[[#This Row],[CodePostal]],\" \",Personne[[#This Row],[Ville]],\" \",Personne[[#This Row],[CodePays]])","v":"   "}]
[null,null,null,null,null,null,null,null,null,null,null,null,null,null,null,null,null,null,null,null,null,null,null,null,null,null,null,null,null,null,{"$f":"IF(PARAMETRES!$B$3=\"SANS\",SUMIFS(Honoraire[TotalHonoraireHT],Honoraire[ClientId],Personne[[#This Row],[PersonneId]]),SUMIFS(Honoraire[TotalHT],Honoraire[ClientId],Personne[[#This Row],[PersonneId]]))","v":0},{"$f":"Personne[[#This Row],[Facture (HT)]]+ROW()/100000","v":8.8400000000000006E-3},{"$f":"_xlfn.CONCAT(Personne[[#This Row],[Adresse]],\" \",Personne[[#This Row],[CodePostal]],\" \",Personne[[#This Row],[Ville]],\" \",Personne[[#This Row],[CodePays]])","v":"   "}]
[null,null,null,null,null,null,null,null,null,null,null,null,null,null,null,null,null,null,null,null,null,null,null,null,null,null,null,null,null,null,{"$f":"IF(PARAMETRES!$B$3=\"SANS\",SUMIFS(Honoraire[TotalHonoraireHT],Honoraire[ClientId],Personne[[#This Row],[PersonneId]]),SUMIFS(Honoraire[TotalHT],Honoraire[ClientId],Personne[[#This Row],[PersonneId]]))","v":0},{"$f":"Personne[[#This Row],[Facture (HT)]]+ROW()/100000","v":8.8500000000000002E-3},{"$f":"_xlfn.CONCAT(Personne[[#This Row],[Adresse]],\" \",Personne[[#This Row],[CodePostal]],\" \",Personne[[#This Row],[Ville]],\" \",Personne[[#This Row],[CodePays]])","v":"   "}]
[null,null,null,null,null,null,null,null,null,null,null,null,null,null,null,null,null,null,null,null,null,null,null,null,null,null,null,null,null,null,{"$f":"IF(PARAMETRES!$B$3=\"SANS\",SUMIFS(Honoraire[TotalHonoraireHT],Honoraire[ClientId],Personne[[#This Row],[PersonneId]]),SUMIFS(Honoraire[TotalHT],Honoraire[ClientId],Personne[[#This Row],[PersonneId]]))","v":0},{"$f":"Personne[[#This Row],[Facture (HT)]]+ROW()/100000","v":8.8599999999999998E-3},{"$f":"_xlfn.CONCAT(Personne[[#This Row],[Adresse]],\" \",Personne[[#This Row],[CodePostal]],\" \",Personne[[#This Row],[Ville]],\" \",Personne[[#This Row],[CodePays]])","v":"   "}]
[null,null,null,null,null,null,null,null,null,null,null,null,null,null,null,null,null,null,null,null,null,null,null,null,null,null,null,null,null,null,{"$f":"IF(PARAMETRES!$B$3=\"SANS\",SUMIFS(Honoraire[TotalHonoraireHT],Honoraire[ClientId],Personne[[#This Row],[PersonneId]]),SUMIFS(Honoraire[TotalHT],Honoraire[ClientId],Personne[[#This Row],[PersonneId]]))","v":0},{"$f":"Personne[[#This Row],[Facture (HT)]]+ROW()/100000","v":8.8699999999999994E-3},{"$f":"_xlfn.CONCAT(Personne[[#This Row],[Adresse]],\" \",Personne[[#This Row],[CodePostal]],\" \",Personne[[#This Row],[Ville]],\" \",Personne[[#This Row],[CodePays]])","v":"   "}]
[null,null,null,null,null,null,null,null,null,null,null,null,null,null,null,null,null,null,null,null,null,null,null,null,null,null,null,null,null,null,{"$f":"IF(PARAMETRES!$B$3=\"SANS\",SUMIFS(Honoraire[TotalHonoraireHT],Honoraire[ClientId],Personne[[#This Row],[PersonneId]]),SUMIFS(Honoraire[TotalHT],Honoraire[ClientId],Personne[[#This Row],[PersonneId]]))","v":0},{"$f":"Personne[[#This Row],[Facture (HT)]]+ROW()/100000","v":8.8800000000000007E-3},{"$f":"_xlfn.CONCAT(Personne[[#This Row],[Adresse]],\" \",Personne[[#This Row],[CodePostal]],\" \",Personne[[#This Row],[Ville]],\" \",Personne[[#This Row],[CodePays]])","v":"   "}]
[null,null,null,null,null,null,null,null,null,null,null,null,null,null,null,null,null,null,null,null,null,null,null,null,null,null,null,null,null,null,{"$f":"IF(PARAMETRES!$B$3=\"SANS\",SUMIFS(Honoraire[TotalHonoraireHT],Honoraire[ClientId],Personne[[#This Row],[PersonneId]]),SUMIFS(Honoraire[TotalHT],Honoraire[ClientId],Personne[[#This Row],[PersonneId]]))","v":0},{"$f":"Personne[[#This Row],[Facture (HT)]]+ROW()/100000","v":8.8900000000000003E-3},{"$f":"_xlfn.CONCAT(Personne[[#This Row],[Adresse]],\" \",Personne[[#This Row],[CodePostal]],\" \",Personne[[#This Row],[Ville]],\" \",Personne[[#This Row],[CodePays]])","v":"   "}]
[null,null,null,null,null,null,null,null,null,null,null,null,null,null,null,null,null,null,null,null,null,null,null,null,null,null,null,null,null,null,{"$f":"IF(PARAMETRES!$B$3=\"SANS\",SUMIFS(Honoraire[TotalHonoraireHT],Honoraire[ClientId],Personne[[#This Row],[PersonneId]]),SUMIFS(Honoraire[TotalHT],Honoraire[ClientId],Personne[[#This Row],[PersonneId]]))","v":0},{"$f":"Personne[[#This Row],[Facture (HT)]]+ROW()/100000","v":8.8999999999999999E-3},{"$f":"_xlfn.CONCAT(Personne[[#This Row],[Adresse]],\" \",Personne[[#This Row],[CodePostal]],\" \",Personne[[#This Row],[Ville]],\" \",Personne[[#This Row],[CodePays]])","v":"   "}]
[null,null,null,null,null,null,null,null,null,null,null,null,null,null,null,null,null,null,null,null,null,null,null,null,null,null,null,null,null,null,{"$f":"IF(PARAMETRES!$B$3=\"SANS\",SUMIFS(Honoraire[TotalHonoraireHT],Honoraire[ClientId],Personne[[#This Row],[PersonneId]]),SUMIFS(Honoraire[TotalHT],Honoraire[ClientId],Personne[[#This Row],[PersonneId]]))","v":0},{"$f":"Personne[[#This Row],[Facture (HT)]]+ROW()/100000","v":8.9099999999999995E-3},{"$f":"_xlfn.CONCAT(Personne[[#This Row],[Adresse]],\" \",Personne[[#This Row],[CodePostal]],\" \",Personne[[#This Row],[Ville]],\" \",Personne[[#This Row],[CodePays]])","v":"   "}]
[null,null,null,null,null,null,null,null,null,null,null,null,null,null,null,null,null,null,null,null,null,null,null,null,null,null,null,null,null,null,{"$f":"IF(PARAMETRES!$B$3=\"SANS\",SUMIFS(Honoraire[TotalHonoraireHT],Honoraire[ClientId],Personne[[#This Row],[PersonneId]]),SUMIFS(Honoraire[TotalHT],Honoraire[ClientId],Personne[[#This Row],[PersonneId]]))","v":0},{"$f":"Personne[[#This Row],[Facture (HT)]]+ROW()/100000","v":8.9200000000000008E-3},{"$f":"_xlfn.CONCAT(Personne[[#This Row],[Adresse]],\" \",Personne[[#This Row],[CodePostal]],\" \",Personne[[#This Row],[Ville]],\" \",Personne[[#This Row],[CodePays]])","v":"   "}]
[null,null,null,null,null,null,null,null,null,null,null,null,null,null,null,null,null,null,null,null,null,null,null,null,null,null,null,null,null,null,{"$f":"IF(PARAMETRES!$B$3=\"SANS\",SUMIFS(Honoraire[TotalHonoraireHT],Honoraire[ClientId],Personne[[#This Row],[PersonneId]]),SUMIFS(Honoraire[TotalHT],Honoraire[ClientId],Personne[[#This Row],[PersonneId]]))","v":0},{"$f":"Personne[[#This Row],[Facture (HT)]]+ROW()/100000","v":8.9300000000000004E-3},{"$f":"_xlfn.CONCAT(Personne[[#This Row],[Adresse]],\" \",Personne[[#This Row],[CodePostal]],\" \",Personne[[#This Row],[Ville]],\" \",Personne[[#This Row],[CodePays]])","v":"   "}]
[null,null,null,null,null,null,null,null,null,null,null,null,null,null,null,null,null,null,null,null,null,null,null,null,null,null,null,null,null,null,{"$f":"IF(PARAMETRES!$B$3=\"SANS\",SUMIFS(Honoraire[TotalHonoraireHT],Honoraire[ClientId],Personne[[#This Row],[PersonneId]]),SUMIFS(Honoraire[TotalHT],Honoraire[ClientId],Personne[[#This Row],[PersonneId]]))","v":0},{"$f":"Personne[[#This Row],[Facture (HT)]]+ROW()/100000","v":8.94E-3},{"$f":"_xlfn.CONCAT(Personne[[#This Row],[Adresse]],\" \",Personne[[#This Row],[CodePostal]],\" \",Personne[[#This Row],[Ville]],\" \",Personne[[#This Row],[CodePays]])","v":"   "}]
[null,null,null,null,null,null,null,null,null,null,null,null,null,null,null,null,null,null,null,null,null,null,null,null,null,null,null,null,null,null,{"$f":"IF(PARAMETRES!$B$3=\"SANS\",SUMIFS(Honoraire[TotalHonoraireHT],Honoraire[ClientId],Personne[[#This Row],[PersonneId]]),SUMIFS(Honoraire[TotalHT],Honoraire[ClientId],Personne[[#This Row],[PersonneId]]))","v":0},{"$f":"Personne[[#This Row],[Facture (HT)]]+ROW()/100000","v":8.9499999999999996E-3},{"$f":"_xlfn.CONCAT(Personne[[#This Row],[Adresse]],\" \",Personne[[#This Row],[CodePostal]],\" \",Personne[[#This Row],[Ville]],\" \",Personne[[#This Row],[CodePays]])","v":"   "}]
[null,null,null,null,null,null,null,null,null,null,null,null,null,null,null,null,null,null,null,null,null,null,null,null,null,null,null,null,null,null,{"$f":"IF(PARAMETRES!$B$3=\"SANS\",SUMIFS(Honoraire[TotalHonoraireHT],Honoraire[ClientId],Personne[[#This Row],[PersonneId]]),SUMIFS(Honoraire[TotalHT],Honoraire[ClientId],Personne[[#This Row],[PersonneId]]))","v":0},{"$f":"Personne[[#This Row],[Facture (HT)]]+ROW()/100000","v":8.9599999999999992E-3},{"$f":"_xlfn.CONCAT(Personne[[#This Row],[Adresse]],\" \",Personne[[#This Row],[CodePostal]],\" \",Personne[[#This Row],[Ville]],\" \",Personne[[#This Row],[CodePays]])","v":"   "}]
[null,null,null,null,null,null,null,null,null,null,null,null,null,null,null,null,null,null,null,null,null,null,null,null,null,null,null,null,null,null,{"$f":"IF(PARAMETRES!$B$3=\"SANS\",SUMIFS(Honoraire[TotalHonoraireHT],Honoraire[ClientId],Personne[[#This Row],[PersonneId]]),SUMIFS(Honoraire[TotalHT],Honoraire[ClientId],Personne[[#This Row],[PersonneId]]))","v":0},{"$f":"Personne[[#This Row],[Facture (HT)]]+ROW()/100000","v":8.9700000000000005E-3},{"$f":"_xlfn.CONCAT(Personne[[#This Row],[Adresse]],\" \",Personne[[#This Row],[CodePostal]],\" \",Personne[[#This Row],[Ville]],\" \",Personne[[#This Row],[CodePays]])","v":"   "}]
[null,null,null,null,null,null,null,null,null,null,null,null,null,null,null,null,null,null,null,null,null,null,null,null,null,null,null,null,null,null,{"$f":"IF(PARAMETRES!$B$3=\"SANS\",SUMIFS(Honoraire[TotalHonoraireHT],Honoraire[ClientId],Personne[[#This Row],[PersonneId]]),SUMIFS(Honoraire[TotalHT],Honoraire[ClientId],Personne[[#This Row],[PersonneId]]))","v":0},{"$f":"Personne[[#This Row],[Facture (HT)]]+ROW()/100000","v":8.9800000000000001E-3},{"$f":"_xlfn.CONCAT(Personne[[#This Row],[Adresse]],\" \",Personne[[#This Row],[CodePostal]],\" \",Personne[[#This Row],[Ville]],\" \",Personne[[#This Row],[CodePays]])","v":"   "}]
[null,null,null,null,null,null,null,null,null,null,null,null,null,null,null,null,null,null,null,null,null,null,null,null,null,null,null,null,null,null,{"$f":"IF(PARAMETRES!$B$3=\"SANS\",SUMIFS(Honoraire[TotalHonoraireHT],Honoraire[ClientId],Personne[[#This Row],[PersonneId]]),SUMIFS(Honoraire[TotalHT],Honoraire[ClientId],Personne[[#This Row],[PersonneId]]))","v":0},{"$f":"Personne[[#This Row],[Facture (HT)]]+ROW()/100000","v":8.9899999999999997E-3},{"$f":"_xlfn.CONCAT(Personne[[#This Row],[Adresse]],\" \",Personne[[#This Row],[CodePostal]],\" \",Personne[[#This Row],[Ville]],\" \",Personne[[#This Row],[CodePays]])","v":"   "}]
[null,null,null,null,null,null,null,null,null,null,null,null,null,null,null,null,null,null,null,null,null,null,null,null,null,null,null,null,null,null,{"$f":"IF(PARAMETRES!$B$3=\"SANS\",SUMIFS(Honoraire[TotalHonoraireHT],Honoraire[ClientId],Personne[[#This Row],[PersonneId]]),SUMIFS(Honoraire[TotalHT],Honoraire[ClientId],Personne[[#This Row],[PersonneId]]))","v":0},{"$f":"Personne[[#This Row],[Facture (HT)]]+ROW()/100000","v":8.9999999999999993E-3},{"$f":"_xlfn.CONCAT(Personne[[#This Row],[Adresse]],\" \",Personne[[#This Row],[CodePostal]],\" \",Personne[[#This Row],[Ville]],\" \",Personne[[#This Row],[CodePays]])","v":"   "}]
[null,null,null,null,null,null,null,null,null,null,null,null,null,null,null,null,null,null,null,null,null,null,null,null,null,null,null,null,null,null,{"$f":"IF(PARAMETRES!$B$3=\"SANS\",SUMIFS(Honoraire[TotalHonoraireHT],Honoraire[ClientId],Personne[[#This Row],[PersonneId]]),SUMIFS(Honoraire[TotalHT],Honoraire[ClientId],Personne[[#This Row],[PersonneId]]))","v":0},{"$f":"Personne[[#This Row],[Facture (HT)]]+ROW()/100000","v":9.0100000000000006E-3},{"$f":"_xlfn.CONCAT(Personne[[#This Row],[Adresse]],\" \",Personne[[#This Row],[CodePostal]],\" \",Personne[[#This Row],[Ville]],\" \",Personne[[#This Row],[CodePays]])","v":"   "}]
[null,null,null,null,null,null,null,null,null,null,null,null,null,null,null,null,null,null,null,null,null,null,null,null,null,null,null,null,null,null,{"$f":"IF(PARAMETRES!$B$3=\"SANS\",SUMIFS(Honoraire[TotalHonoraireHT],Honoraire[ClientId],Personne[[#This Row],[PersonneId]]),SUMIFS(Honoraire[TotalHT],Honoraire[ClientId],Personne[[#This Row],[PersonneId]]))","v":0},{"$f":"Personne[[#This Row],[Facture (HT)]]+ROW()/100000","v":9.0200000000000002E-3},{"$f":"_xlfn.CONCAT(Personne[[#This Row],[Adresse]],\" \",Personne[[#This Row],[CodePostal]],\" \",Personne[[#This Row],[Ville]],\" \",Personne[[#This Row],[CodePays]])","v":"   "}]
[null,null,null,null,null,null,null,null,null,null,null,null,null,null,null,null,null,null,null,null,null,null,null,null,null,null,null,null,null,null,{"$f":"IF(PARAMETRES!$B$3=\"SANS\",SUMIFS(Honoraire[TotalHonoraireHT],Honoraire[ClientId],Personne[[#This Row],[PersonneId]]),SUMIFS(Honoraire[TotalHT],Honoraire[ClientId],Personne[[#This Row],[PersonneId]]))","v":0},{"$f":"Personne[[#This Row],[Facture (HT)]]+ROW()/100000","v":9.0299999999999998E-3},{"$f":"_xlfn.CONCAT(Personne[[#This Row],[Adresse]],\" \",Personne[[#This Row],[CodePostal]],\" \",Personne[[#This Row],[Ville]],\" \",Personne[[#This Row],[CodePays]])","v":"   "}]
[null,null,null,null,null,null,null,null,null,null,null,null,null,null,null,null,null,null,null,null,null,null,null,null,null,null,null,null,null,null,{"$f":"IF(PARAMETRES!$B$3=\"SANS\",SUMIFS(Honoraire[TotalHonoraireHT],Honoraire[ClientId],Personne[[#This Row],[PersonneId]]),SUMIFS(Honoraire[TotalHT],Honoraire[ClientId],Personne[[#This Row],[PersonneId]]))","v":0},{"$f":"Personne[[#This Row],[Facture (HT)]]+ROW()/100000","v":9.0399999999999994E-3},{"$f":"_xlfn.CONCAT(Personne[[#This Row],[Adresse]],\" \",Personne[[#This Row],[CodePostal]],\" \",Personne[[#This Row],[Ville]],\" \",Personne[[#This Row],[CodePays]])","v":"   "}]
[null,null,null,null,null,null,null,null,null,null,null,null,null,null,null,null,null,null,null,null,null,null,null,null,null,null,null,null,null,null,{"$f":"IF(PARAMETRES!$B$3=\"SANS\",SUMIFS(Honoraire[TotalHonoraireHT],Honoraire[ClientId],Personne[[#This Row],[PersonneId]]),SUMIFS(Honoraire[TotalHT],Honoraire[ClientId],Personne[[#This Row],[PersonneId]]))","v":0},{"$f":"Personne[[#This Row],[Facture (HT)]]+ROW()/100000","v":9.0500000000000008E-3},{"$f":"_xlfn.CONCAT(Personne[[#This Row],[Adresse]],\" \",Personne[[#This Row],[CodePostal]],\" \",Personne[[#This Row],[Ville]],\" \",Personne[[#This Row],[CodePays]])","v":"   "}]
[null,null,null,null,null,null,null,null,null,null,null,null,null,null,null,null,null,null,null,null,null,null,null,null,null,null,null,null,null,null,{"$f":"IF(PARAMETRES!$B$3=\"SANS\",SUMIFS(Honoraire[TotalHonoraireHT],Honoraire[ClientId],Personne[[#This Row],[PersonneId]]),SUMIFS(Honoraire[TotalHT],Honoraire[ClientId],Personne[[#This Row],[PersonneId]]))","v":0},{"$f":"Personne[[#This Row],[Facture (HT)]]+ROW()/100000","v":9.0600000000000003E-3},{"$f":"_xlfn.CONCAT(Personne[[#This Row],[Adresse]],\" \",Personne[[#This Row],[CodePostal]],\" \",Personne[[#This Row],[Ville]],\" \",Personne[[#This Row],[CodePays]])","v":"   "}]
[null,null,null,null,null,null,null,null,null,null,null,null,null,null,null,null,null,null,null,null,null,null,null,null,null,null,null,null,null,null,{"$f":"IF(PARAMETRES!$B$3=\"SANS\",SUMIFS(Honoraire[TotalHonoraireHT],Honoraire[ClientId],Personne[[#This Row],[PersonneId]]),SUMIFS(Honoraire[TotalHT],Honoraire[ClientId],Personne[[#This Row],[PersonneId]]))","v":0},{"$f":"Personne[[#This Row],[Facture (HT)]]+ROW()/100000","v":9.0699999999999999E-3},{"$f":"_xlfn.CONCAT(Personne[[#This Row],[Adresse]],\" \",Personne[[#This Row],[CodePostal]],\" \",Personne[[#This Row],[Ville]],\" \",Personne[[#This Row],[CodePays]])","v":"   "}]
[null,null,null,null,null,null,null,null,null,null,null,null,null,null,null,null,null,null,null,null,null,null,null,null,null,null,null,null,null,null,{"$f":"IF(PARAMETRES!$B$3=\"SANS\",SUMIFS(Honoraire[TotalHonoraireHT],Honoraire[ClientId],Personne[[#This Row],[PersonneId]]),SUMIFS(Honoraire[TotalHT],Honoraire[ClientId],Personne[[#This Row],[PersonneId]]))","v":0},{"$f":"Personne[[#This Row],[Facture (HT)]]+ROW()/100000","v":9.0799999999999995E-3},{"$f":"_xlfn.CONCAT(Personne[[#This Row],[Adresse]],\" \",Personne[[#This Row],[CodePostal]],\" \",Personne[[#This Row],[Ville]],\" \",Personne[[#This Row],[CodePays]])","v":"   "}]
[null,null,null,null,null,null,null,null,null,null,null,null,null,null,null,null,null,null,null,null,null,null,null,null,null,null,null,null,null,null,{"$f":"IF(PARAMETRES!$B$3=\"SANS\",SUMIFS(Honoraire[TotalHonoraireHT],Honoraire[ClientId],Personne[[#This Row],[PersonneId]]),SUMIFS(Honoraire[TotalHT],Honoraire[ClientId],Personne[[#This Row],[PersonneId]]))","v":0},{"$f":"Personne[[#This Row],[Facture (HT)]]+ROW()/100000","v":9.0900000000000009E-3},{"$f":"_xlfn.CONCAT(Personne[[#This Row],[Adresse]],\" \",Personne[[#This Row],[CodePostal]],\" \",Personne[[#This Row],[Ville]],\" \",Personne[[#This Row],[CodePays]])","v":"   "}]
[null,null,null,null,null,null,null,null,null,null,null,null,null,null,null,null,null,null,null,null,null,null,null,null,null,null,null,null,null,null,{"$f":"IF(PARAMETRES!$B$3=\"SANS\",SUMIFS(Honoraire[TotalHonoraireHT],Honoraire[ClientId],Personne[[#This Row],[PersonneId]]),SUMIFS(Honoraire[TotalHT],Honoraire[ClientId],Personne[[#This Row],[PersonneId]]))","v":0},{"$f":"Personne[[#This Row],[Facture (HT)]]+ROW()/100000","v":9.1000000000000004E-3},{"$f":"_xlfn.CONCAT(Personne[[#This Row],[Adresse]],\" \",Personne[[#This Row],[CodePostal]],\" \",Personne[[#This Row],[Ville]],\" \",Personne[[#This Row],[CodePays]])","v":"   "}]
[null,null,null,null,null,null,null,null,null,null,null,null,null,null,null,null,null,null,null,null,null,null,null,null,null,null,null,null,null,null,{"$f":"IF(PARAMETRES!$B$3=\"SANS\",SUMIFS(Honoraire[TotalHonoraireHT],Honoraire[ClientId],Personne[[#This Row],[PersonneId]]),SUMIFS(Honoraire[TotalHT],Honoraire[ClientId],Personne[[#This Row],[PersonneId]]))","v":0},{"$f":"Personne[[#This Row],[Facture (HT)]]+ROW()/100000","v":9.11E-3},{"$f":"_xlfn.CONCAT(Personne[[#This Row],[Adresse]],\" \",Personne[[#This Row],[CodePostal]],\" \",Personne[[#This Row],[Ville]],\" \",Personne[[#This Row],[CodePays]])","v":"   "}]
[null,null,null,null,null,null,null,null,null,null,null,null,null,null,null,null,null,null,null,null,null,null,null,null,null,null,null,null,null,null,{"$f":"IF(PARAMETRES!$B$3=\"SANS\",SUMIFS(Honoraire[TotalHonoraireHT],Honoraire[ClientId],Personne[[#This Row],[PersonneId]]),SUMIFS(Honoraire[TotalHT],Honoraire[ClientId],Personne[[#This Row],[PersonneId]]))","v":0},{"$f":"Personne[[#This Row],[Facture (HT)]]+ROW()/100000","v":9.1199999999999996E-3},{"$f":"_xlfn.CONCAT(Personne[[#This Row],[Adresse]],\" \",Personne[[#This Row],[CodePostal]],\" \",Personne[[#This Row],[Ville]],\" \",Personne[[#This Row],[CodePays]])","v":"   "}]
[null,null,null,null,null,null,null,null,null,null,null,null,null,null,null,null,null,null,null,null,null,null,null,null,null,null,null,null,null,null,{"$f":"IF(PARAMETRES!$B$3=\"SANS\",SUMIFS(Honoraire[TotalHonoraireHT],Honoraire[ClientId],Personne[[#This Row],[PersonneId]]),SUMIFS(Honoraire[TotalHT],Honoraire[ClientId],Personne[[#This Row],[PersonneId]]))","v":0},{"$f":"Personne[[#This Row],[Facture (HT)]]+ROW()/100000","v":9.1299999999999992E-3},{"$f":"_xlfn.CONCAT(Personne[[#This Row],[Adresse]],\" \",Personne[[#This Row],[CodePostal]],\" \",Personne[[#This Row],[Ville]],\" \",Personne[[#This Row],[CodePays]])","v":"   "}]
[null,null,null,null,null,null,null,null,null,null,null,null,null,null,null,null,null,null,null,null,null,null,null,null,null,null,null,null,null,null,{"$f":"IF(PARAMETRES!$B$3=\"SANS\",SUMIFS(Honoraire[TotalHonoraireHT],Honoraire[ClientId],Personne[[#This Row],[PersonneId]]),SUMIFS(Honoraire[TotalHT],Honoraire[ClientId],Personne[[#This Row],[PersonneId]]))","v":0},{"$f":"Personne[[#This Row],[Facture (HT)]]+ROW()/100000","v":9.1400000000000006E-3},{"$f":"_xlfn.CONCAT(Personne[[#This Row],[Adresse]],\" \",Personne[[#This Row],[CodePostal]],\" \",Personne[[#This Row],[Ville]],\" \",Personne[[#This Row],[CodePays]])","v":"   "}]
[null,null,null,null,null,null,null,null,null,null,null,null,null,null,null,null,null,null,null,null,null,null,null,null,null,null,null,null,null,null,{"$f":"IF(PARAMETRES!$B$3=\"SANS\",SUMIFS(Honoraire[TotalHonoraireHT],Honoraire[ClientId],Personne[[#This Row],[PersonneId]]),SUMIFS(Honoraire[TotalHT],Honoraire[ClientId],Personne[[#This Row],[PersonneId]]))","v":0},{"$f":"Personne[[#This Row],[Facture (HT)]]+ROW()/100000","v":9.1500000000000001E-3},{"$f":"_xlfn.CONCAT(Personne[[#This Row],[Adresse]],\" \",Personne[[#This Row],[CodePostal]],\" \",Personne[[#This Row],[Ville]],\" \",Personne[[#This Row],[CodePays]])","v":"   "}]
[null,null,null,null,null,null,null,null,null,null,null,null,null,null,null,null,null,null,null,null,null,null,null,null,null,null,null,null,null,null,{"$f":"IF(PARAMETRES!$B$3=\"SANS\",SUMIFS(Honoraire[TotalHonoraireHT],Honoraire[ClientId],Personne[[#This Row],[PersonneId]]),SUMIFS(Honoraire[TotalHT],Honoraire[ClientId],Personne[[#This Row],[PersonneId]]))","v":0},{"$f":"Personne[[#This Row],[Facture (HT)]]+ROW()/100000","v":9.1599999999999997E-3},{"$f":"_xlfn.CONCAT(Personne[[#This Row],[Adresse]],\" \",Personne[[#This Row],[CodePostal]],\" \",Personne[[#This Row],[Ville]],\" \",Personne[[#This Row],[CodePays]])","v":"   "}]
[null,null,null,null,null,null,null,null,null,null,null,null,null,null,null,null,null,null,null,null,null,null,null,null,null,null,null,null,null,null,{"$f":"IF(PARAMETRES!$B$3=\"SANS\",SUMIFS(Honoraire[TotalHonoraireHT],Honoraire[ClientId],Personne[[#This Row],[PersonneId]]),SUMIFS(Honoraire[TotalHT],Honoraire[ClientId],Personne[[#This Row],[PersonneId]]))","v":0},{"$f":"Personne[[#This Row],[Facture (HT)]]+ROW()/100000","v":9.1699999999999993E-3},{"$f":"_xlfn.CONCAT(Personne[[#This Row],[Adresse]],\" \",Personne[[#This Row],[CodePostal]],\" \",Personne[[#This Row],[Ville]],\" \",Personne[[#This Row],[CodePays]])","v":"   "}]
[null,null,null,null,null,null,null,null,null,null,null,null,null,null,null,null,null,null,null,null,null,null,null,null,null,null,null,null,null,null,{"$f":"IF(PARAMETRES!$B$3=\"SANS\",SUMIFS(Honoraire[TotalHonoraireHT],Honoraire[ClientId],Personne[[#This Row],[PersonneId]]),SUMIFS(Honoraire[TotalHT],Honoraire[ClientId],Personne[[#This Row],[PersonneId]]))","v":0},{"$f":"Personne[[#This Row],[Facture (HT)]]+ROW()/100000","v":9.1800000000000007E-3},{"$f":"_xlfn.CONCAT(Personne[[#This Row],[Adresse]],\" \",Personne[[#This Row],[CodePostal]],\" \",Personne[[#This Row],[Ville]],\" \",Personne[[#This Row],[CodePays]])","v":"   "}]
[null,null,null,null,null,null,null,null,null,null,null,null,null,null,null,null,null,null,null,null,null,null,null,null,null,null,null,null,null,null,{"$f":"IF(PARAMETRES!$B$3=\"SANS\",SUMIFS(Honoraire[TotalHonoraireHT],Honoraire[ClientId],Personne[[#This Row],[PersonneId]]),SUMIFS(Honoraire[TotalHT],Honoraire[ClientId],Personne[[#This Row],[PersonneId]]))","v":0},{"$f":"Personne[[#This Row],[Facture (HT)]]+ROW()/100000","v":9.1900000000000003E-3},{"$f":"_xlfn.CONCAT(Personne[[#This Row],[Adresse]],\" \",Personne[[#This Row],[CodePostal]],\" \",Personne[[#This Row],[Ville]],\" \",Personne[[#This Row],[CodePays]])","v":"   "}]
[null,null,null,null,null,null,null,null,null,null,null,null,null,null,null,null,null,null,null,null,null,null,null,null,null,null,null,null,null,null,{"$f":"IF(PARAMETRES!$B$3=\"SANS\",SUMIFS(Honoraire[TotalHonoraireHT],Honoraire[ClientId],Personne[[#This Row],[PersonneId]]),SUMIFS(Honoraire[TotalHT],Honoraire[ClientId],Personne[[#This Row],[PersonneId]]))","v":0},{"$f":"Personne[[#This Row],[Facture (HT)]]+ROW()/100000","v":9.1999999999999998E-3},{"$f":"_xlfn.CONCAT(Personne[[#This Row],[Adresse]],\" \",Personne[[#This Row],[CodePostal]],\" \",Personne[[#This Row],[Ville]],\" \",Personne[[#This Row],[CodePays]])","v":"   "}]
[null,null,null,null,null,null,null,null,null,null,null,null,null,null,null,null,null,null,null,null,null,null,null,null,null,null,null,null,null,null,{"$f":"IF(PARAMETRES!$B$3=\"SANS\",SUMIFS(Honoraire[TotalHonoraireHT],Honoraire[ClientId],Personne[[#This Row],[PersonneId]]),SUMIFS(Honoraire[TotalHT],Honoraire[ClientId],Personne[[#This Row],[PersonneId]]))","v":0},{"$f":"Personne[[#This Row],[Facture (HT)]]+ROW()/100000","v":9.2099999999999994E-3},{"$f":"_xlfn.CONCAT(Personne[[#This Row],[Adresse]],\" \",Personne[[#This Row],[CodePostal]],\" \",Personne[[#This Row],[Ville]],\" \",Personne[[#This Row],[CodePays]])","v":"   "}]
[null,null,null,null,null,null,null,null,null,null,null,null,null,null,null,null,null,null,null,null,null,null,null,null,null,null,null,null,null,null,{"$f":"IF(PARAMETRES!$B$3=\"SANS\",SUMIFS(Honoraire[TotalHonoraireHT],Honoraire[ClientId],Personne[[#This Row],[PersonneId]]),SUMIFS(Honoraire[TotalHT],Honoraire[ClientId],Personne[[#This Row],[PersonneId]]))","v":0},{"$f":"Personne[[#This Row],[Facture (HT)]]+ROW()/100000","v":9.2200000000000008E-3},{"$f":"_xlfn.CONCAT(Personne[[#This Row],[Adresse]],\" \",Personne[[#This Row],[CodePostal]],\" \",Personne[[#This Row],[Ville]],\" \",Personne[[#This Row],[CodePays]])","v":"   "}]
[null,null,null,null,null,null,null,null,null,null,null,null,null,null,null,null,null,null,null,null,null,null,null,null,null,null,null,null,null,null,{"$f":"IF(PARAMETRES!$B$3=\"SANS\",SUMIFS(Honoraire[TotalHonoraireHT],Honoraire[ClientId],Personne[[#This Row],[PersonneId]]),SUMIFS(Honoraire[TotalHT],Honoraire[ClientId],Personne[[#This Row],[PersonneId]]))","v":0},{"$f":"Personne[[#This Row],[Facture (HT)]]+ROW()/100000","v":9.2300000000000004E-3},{"$f":"_xlfn.CONCAT(Personne[[#This Row],[Adresse]],\" \",Personne[[#This Row],[CodePostal]],\" \",Personne[[#This Row],[Ville]],\" \",Personne[[#This Row],[CodePays]])","v":"   "}]
[null,null,null,null,null,null,null,null,null,null,null,null,null,null,null,null,null,null,null,null,null,null,null,null,null,null,null,null,null,null,{"$f":"IF(PARAMETRES!$B$3=\"SANS\",SUMIFS(Honoraire[TotalHonoraireHT],Honoraire[ClientId],Personne[[#This Row],[PersonneId]]),SUMIFS(Honoraire[TotalHT],Honoraire[ClientId],Personne[[#This Row],[PersonneId]]))","v":0},{"$f":"Personne[[#This Row],[Facture (HT)]]+ROW()/100000","v":9.2399999999999999E-3},{"$f":"_xlfn.CONCAT(Personne[[#This Row],[Adresse]],\" \",Personne[[#This Row],[CodePostal]],\" \",Personne[[#This Row],[Ville]],\" \",Personne[[#This Row],[CodePays]])","v":"   "}]
[null,null,null,null,null,null,null,null,null,null,null,null,null,null,null,null,null,null,null,null,null,null,null,null,null,null,null,null,null,null,{"$f":"IF(PARAMETRES!$B$3=\"SANS\",SUMIFS(Honoraire[TotalHonoraireHT],Honoraire[ClientId],Personne[[#This Row],[PersonneId]]),SUMIFS(Honoraire[TotalHT],Honoraire[ClientId],Personne[[#This Row],[PersonneId]]))","v":0},{"$f":"Personne[[#This Row],[Facture (HT)]]+ROW()/100000","v":9.2499999999999995E-3},{"$f":"_xlfn.CONCAT(Personne[[#This Row],[Adresse]],\" \",Personne[[#This Row],[CodePostal]],\" \",Personne[[#This Row],[Ville]],\" \",Personne[[#This Row],[CodePays]])","v":"   "}]
[null,null,null,null,null,null,null,null,null,null,null,null,null,null,null,null,null,null,null,null,null,null,null,null,null,null,null,null,null,null,{"$f":"IF(PARAMETRES!$B$3=\"SANS\",SUMIFS(Honoraire[TotalHonoraireHT],Honoraire[ClientId],Personne[[#This Row],[PersonneId]]),SUMIFS(Honoraire[TotalHT],Honoraire[ClientId],Personne[[#This Row],[PersonneId]]))","v":0},{"$f":"Personne[[#This Row],[Facture (HT)]]+ROW()/100000","v":9.2599999999999991E-3},{"$f":"_xlfn.CONCAT(Personne[[#This Row],[Adresse]],\" \",Personne[[#This Row],[CodePostal]],\" \",Personne[[#This Row],[Ville]],\" \",Personne[[#This Row],[CodePays]])","v":"   "}]
[null,null,null,null,null,null,null,null,null,null,null,null,null,null,null,null,null,null,null,null,null,null,null,null,null,null,null,null,null,null,{"$f":"IF(PARAMETRES!$B$3=\"SANS\",SUMIFS(Honoraire[TotalHonoraireHT],Honoraire[ClientId],Personne[[#This Row],[PersonneId]]),SUMIFS(Honoraire[TotalHT],Honoraire[ClientId],Personne[[#This Row],[PersonneId]]))","v":0},{"$f":"Personne[[#This Row],[Facture (HT)]]+ROW()/100000","v":9.2700000000000005E-3},{"$f":"_xlfn.CONCAT(Personne[[#This Row],[Adresse]],\" \",Personne[[#This Row],[CodePostal]],\" \",Personne[[#This Row],[Ville]],\" \",Personne[[#This Row],[CodePays]])","v":"   "}]
[null,null,null,null,null,null,null,null,null,null,null,null,null,null,null,null,null,null,null,null,null,null,null,null,null,null,null,null,null,null,{"$f":"IF(PARAMETRES!$B$3=\"SANS\",SUMIFS(Honoraire[TotalHonoraireHT],Honoraire[ClientId],Personne[[#This Row],[PersonneId]]),SUMIFS(Honoraire[TotalHT],Honoraire[ClientId],Personne[[#This Row],[PersonneId]]))","v":0},{"$f":"Personne[[#This Row],[Facture (HT)]]+ROW()/100000","v":9.2800000000000001E-3},{"$f":"_xlfn.CONCAT(Personne[[#This Row],[Adresse]],\" \",Personne[[#This Row],[CodePostal]],\" \",Personne[[#This Row],[Ville]],\" \",Personne[[#This Row],[CodePays]])","v":"   "}]
[null,null,null,null,null,null,null,null,null,null,null,null,null,null,null,null,null,null,null,null,null,null,null,null,null,null,null,null,null,null,{"$f":"IF(PARAMETRES!$B$3=\"SANS\",SUMIFS(Honoraire[TotalHonoraireHT],Honoraire[ClientId],Personne[[#This Row],[PersonneId]]),SUMIFS(Honoraire[TotalHT],Honoraire[ClientId],Personne[[#This Row],[PersonneId]]))","v":0},{"$f":"Personne[[#This Row],[Facture (HT)]]+ROW()/100000","v":9.2899999999999996E-3},{"$f":"_xlfn.CONCAT(Personne[[#This Row],[Adresse]],\" \",Personne[[#This Row],[CodePostal]],\" \",Personne[[#This Row],[Ville]],\" \",Personne[[#This Row],[CodePays]])","v":"   "}]
[null,null,null,null,null,null,null,null,null,null,null,null,null,null,null,null,null,null,null,null,null,null,null,null,null,null,null,null,null,null,{"$f":"IF(PARAMETRES!$B$3=\"SANS\",SUMIFS(Honoraire[TotalHonoraireHT],Honoraire[ClientId],Personne[[#This Row],[PersonneId]]),SUMIFS(Honoraire[TotalHT],Honoraire[ClientId],Personne[[#This Row],[PersonneId]]))","v":0},{"$f":"Personne[[#This Row],[Facture (HT)]]+ROW()/100000","v":9.2999999999999992E-3},{"$f":"_xlfn.CONCAT(Personne[[#This Row],[Adresse]],\" \",Personne[[#This Row],[CodePostal]],\" \",Personne[[#This Row],[Ville]],\" \",Personne[[#This Row],[CodePays]])","v":"   "}]
[null,null,null,null,null,null,null,null,null,null,null,null,null,null,null,null,null,null,null,null,null,null,null,null,null,null,null,null,null,null,{"$f":"IF(PARAMETRES!$B$3=\"SANS\",SUMIFS(Honoraire[TotalHonoraireHT],Honoraire[ClientId],Personne[[#This Row],[PersonneId]]),SUMIFS(Honoraire[TotalHT],Honoraire[ClientId],Personne[[#This Row],[PersonneId]]))","v":0},{"$f":"Personne[[#This Row],[Facture (HT)]]+ROW()/100000","v":9.3100000000000006E-3},{"$f":"_xlfn.CONCAT(Personne[[#This Row],[Adresse]],\" \",Personne[[#This Row],[CodePostal]],\" \",Personne[[#This Row],[Ville]],\" \",Personne[[#This Row],[CodePays]])","v":"   "}]
[null,null,null,null,null,null,null,null,null,null,null,null,null,null,null,null,null,null,null,null,null,null,null,null,null,null,null,null,null,null,{"$f":"IF(PARAMETRES!$B$3=\"SANS\",SUMIFS(Honoraire[TotalHonoraireHT],Honoraire[ClientId],Personne[[#This Row],[PersonneId]]),SUMIFS(Honoraire[TotalHT],Honoraire[ClientId],Personne[[#This Row],[PersonneId]]))","v":0},{"$f":"Personne[[#This Row],[Facture (HT)]]+ROW()/100000","v":9.3200000000000002E-3},{"$f":"_xlfn.CONCAT(Personne[[#This Row],[Adresse]],\" \",Personne[[#This Row],[CodePostal]],\" \",Personne[[#This Row],[Ville]],\" \",Personne[[#This Row],[CodePays]])","v":"   "}]
[null,null,null,null,null,null,null,null,null,null,null,null,null,null,null,null,null,null,null,null,null,null,null,null,null,null,null,null,null,null,{"$f":"IF(PARAMETRES!$B$3=\"SANS\",SUMIFS(Honoraire[TotalHonoraireHT],Honoraire[ClientId],Personne[[#This Row],[PersonneId]]),SUMIFS(Honoraire[TotalHT],Honoraire[ClientId],Personne[[#This Row],[PersonneId]]))","v":0},{"$f":"Personne[[#This Row],[Facture (HT)]]+ROW()/100000","v":9.3299999999999998E-3},{"$f":"_xlfn.CONCAT(Personne[[#This Row],[Adresse]],\" \",Personne[[#This Row],[CodePostal]],\" \",Personne[[#This Row],[Ville]],\" \",Personne[[#This Row],[CodePays]])","v":"   "}]
[null,null,null,null,null,null,null,null,null,null,null,null,null,null,null,null,null,null,null,null,null,null,null,null,null,null,null,null,null,null,{"$f":"IF(PARAMETRES!$B$3=\"SANS\",SUMIFS(Honoraire[TotalHonoraireHT],Honoraire[ClientId],Personne[[#This Row],[PersonneId]]),SUMIFS(Honoraire[TotalHT],Honoraire[ClientId],Personne[[#This Row],[PersonneId]]))","v":0},{"$f":"Personne[[#This Row],[Facture (HT)]]+ROW()/100000","v":9.3399999999999993E-3},{"$f":"_xlfn.CONCAT(Personne[[#This Row],[Adresse]],\" \",Personne[[#This Row],[CodePostal]],\" \",Personne[[#This Row],[Ville]],\" \",Personne[[#This Row],[CodePays]])","v":"   "}]
[null,null,null,null,null,null,null,null,null,null,null,null,null,null,null,null,null,null,null,null,null,null,null,null,null,null,null,null,null,null,{"$f":"IF(PARAMETRES!$B$3=\"SANS\",SUMIFS(Honoraire[TotalHonoraireHT],Honoraire[ClientId],Personne[[#This Row],[PersonneId]]),SUMIFS(Honoraire[TotalHT],Honoraire[ClientId],Personne[[#This Row],[PersonneId]]))","v":0},{"$f":"Personne[[#This Row],[Facture (HT)]]+ROW()/100000","v":9.3500000000000007E-3},{"$f":"_xlfn.CONCAT(Personne[[#This Row],[Adresse]],\" \",Personne[[#This Row],[CodePostal]],\" \",Personne[[#This Row],[Ville]],\" \",Personne[[#This Row],[CodePays]])","v":"   "}]
[null,null,null,null,null,null,null,null,null,null,null,null,null,null,null,null,null,null,null,null,null,null,null,null,null,null,null,null,null,null,{"$f":"IF(PARAMETRES!$B$3=\"SANS\",SUMIFS(Honoraire[TotalHonoraireHT],Honoraire[ClientId],Personne[[#This Row],[PersonneId]]),SUMIFS(Honoraire[TotalHT],Honoraire[ClientId],Personne[[#This Row],[PersonneId]]))","v":0},{"$f":"Personne[[#This Row],[Facture (HT)]]+ROW()/100000","v":9.3600000000000003E-3},{"$f":"_xlfn.CONCAT(Personne[[#This Row],[Adresse]],\" \",Personne[[#This Row],[CodePostal]],\" \",Personne[[#This Row],[Ville]],\" \",Personne[[#This Row],[CodePays]])","v":"   "}]
[null,null,null,null,null,null,null,null,null,null,null,null,null,null,null,null,null,null,null,null,null,null,null,null,null,null,null,null,null,null,{"$f":"IF(PARAMETRES!$B$3=\"SANS\",SUMIFS(Honoraire[TotalHonoraireHT],Honoraire[ClientId],Personne[[#This Row],[PersonneId]]),SUMIFS(Honoraire[TotalHT],Honoraire[ClientId],Personne[[#This Row],[PersonneId]]))","v":0},{"$f":"Personne[[#This Row],[Facture (HT)]]+ROW()/100000","v":9.3699999999999999E-3},{"$f":"_xlfn.CONCAT(Personne[[#This Row],[Adresse]],\" \",Personne[[#This Row],[CodePostal]],\" \",Personne[[#This Row],[Ville]],\" \",Personne[[#This Row],[CodePays]])","v":"   "}]
[null,null,null,null,null,null,null,null,null,null,null,null,null,null,null,null,null,null,null,null,null,null,null,null,null,null,null,null,null,null,{"$f":"IF(PARAMETRES!$B$3=\"SANS\",SUMIFS(Honoraire[TotalHonoraireHT],Honoraire[ClientId],Personne[[#This Row],[PersonneId]]),SUMIFS(Honoraire[TotalHT],Honoraire[ClientId],Personne[[#This Row],[PersonneId]]))","v":0},{"$f":"Personne[[#This Row],[Facture (HT)]]+ROW()/100000","v":9.3799999999999994E-3},{"$f":"_xlfn.CONCAT(Personne[[#This Row],[Adresse]],\" \",Personne[[#This Row],[CodePostal]],\" \",Personne[[#This Row],[Ville]],\" \",Personne[[#This Row],[CodePays]])","v":"   "}]
[null,null,null,null,null,null,null,null,null,null,null,null,null,null,null,null,null,null,null,null,null,null,null,null,null,null,null,null,null,null,{"$f":"IF(PARAMETRES!$B$3=\"SANS\",SUMIFS(Honoraire[TotalHonoraireHT],Honoraire[ClientId],Personne[[#This Row],[PersonneId]]),SUMIFS(Honoraire[TotalHT],Honoraire[ClientId],Personne[[#This Row],[PersonneId]]))","v":0},{"$f":"Personne[[#This Row],[Facture (HT)]]+ROW()/100000","v":9.3900000000000008E-3},{"$f":"_xlfn.CONCAT(Personne[[#This Row],[Adresse]],\" \",Personne[[#This Row],[CodePostal]],\" \",Personne[[#This Row],[Ville]],\" \",Personne[[#This Row],[CodePays]])","v":"   "}]
[null,null,null,null,null,null,null,null,null,null,null,null,null,null,null,null,null,null,null,null,null,null,null,null,null,null,null,null,null,null,{"$f":"IF(PARAMETRES!$B$3=\"SANS\",SUMIFS(Honoraire[TotalHonoraireHT],Honoraire[ClientId],Personne[[#This Row],[PersonneId]]),SUMIFS(Honoraire[TotalHT],Honoraire[ClientId],Personne[[#This Row],[PersonneId]]))","v":0},{"$f":"Personne[[#This Row],[Facture (HT)]]+ROW()/100000","v":9.4000000000000004E-3},{"$f":"_xlfn.CONCAT(Personne[[#This Row],[Adresse]],\" \",Personne[[#This Row],[CodePostal]],\" \",Personne[[#This Row],[Ville]],\" \",Personne[[#This Row],[CodePays]])","v":"   "}]
[null,null,null,null,null,null,null,null,null,null,null,null,null,null,null,null,null,null,null,null,null,null,null,null,null,null,null,null,null,null,{"$f":"IF(PARAMETRES!$B$3=\"SANS\",SUMIFS(Honoraire[TotalHonoraireHT],Honoraire[ClientId],Personne[[#This Row],[PersonneId]]),SUMIFS(Honoraire[TotalHT],Honoraire[ClientId],Personne[[#This Row],[PersonneId]]))","v":0},{"$f":"Personne[[#This Row],[Facture (HT)]]+ROW()/100000","v":9.41E-3},{"$f":"_xlfn.CONCAT(Personne[[#This Row],[Adresse]],\" \",Personne[[#This Row],[CodePostal]],\" \",Personne[[#This Row],[Ville]],\" \",Personne[[#This Row],[CodePays]])","v":"   "}]
[null,null,null,null,null,null,null,null,null,null,null,null,null,null,null,null,null,null,null,null,null,null,null,null,null,null,null,null,null,null,{"$f":"IF(PARAMETRES!$B$3=\"SANS\",SUMIFS(Honoraire[TotalHonoraireHT],Honoraire[ClientId],Personne[[#This Row],[PersonneId]]),SUMIFS(Honoraire[TotalHT],Honoraire[ClientId],Personne[[#This Row],[PersonneId]]))","v":0},{"$f":"Personne[[#This Row],[Facture (HT)]]+ROW()/100000","v":9.4199999999999996E-3},{"$f":"_xlfn.CONCAT(Personne[[#This Row],[Adresse]],\" \",Personne[[#This Row],[CodePostal]],\" \",Personne[[#This Row],[Ville]],\" \",Personne[[#This Row],[CodePays]])","v":"   "}]
[null,null,null,null,null,null,null,null,null,null,null,null,null,null,null,null,null,null,null,null,null,null,null,null,null,null,null,null,null,null,{"$f":"IF(PARAMETRES!$B$3=\"SANS\",SUMIFS(Honoraire[TotalHonoraireHT],Honoraire[ClientId],Personne[[#This Row],[PersonneId]]),SUMIFS(Honoraire[TotalHT],Honoraire[ClientId],Personne[[#This Row],[PersonneId]]))","v":0},{"$f":"Personne[[#This Row],[Facture (HT)]]+ROW()/100000","v":9.4299999999999991E-3},{"$f":"_xlfn.CONCAT(Personne[[#This Row],[Adresse]],\" \",Personne[[#This Row],[CodePostal]],\" \",Personne[[#This Row],[Ville]],\" \",Personne[[#This Row],[CodePays]])","v":"   "}]
[null,null,null,null,null,null,null,null,null,null,null,null,null,null,null,null,null,null,null,null,null,null,null,null,null,null,null,null,null,null,{"$f":"IF(PARAMETRES!$B$3=\"SANS\",SUMIFS(Honoraire[TotalHonoraireHT],Honoraire[ClientId],Personne[[#This Row],[PersonneId]]),SUMIFS(Honoraire[TotalHT],Honoraire[ClientId],Personne[[#This Row],[PersonneId]]))","v":0},{"$f":"Personne[[#This Row],[Facture (HT)]]+ROW()/100000","v":9.4400000000000005E-3},{"$f":"_xlfn.CONCAT(Personne[[#This Row],[Adresse]],\" \",Personne[[#This Row],[CodePostal]],\" \",Personne[[#This Row],[Ville]],\" \",Personne[[#This Row],[CodePays]])","v":"   "}]
[null,null,null,null,null,null,null,null,null,null,null,null,null,null,null,null,null,null,null,null,null,null,null,null,null,null,null,null,null,null,{"$f":"IF(PARAMETRES!$B$3=\"SANS\",SUMIFS(Honoraire[TotalHonoraireHT],Honoraire[ClientId],Personne[[#This Row],[PersonneId]]),SUMIFS(Honoraire[TotalHT],Honoraire[ClientId],Personne[[#This Row],[PersonneId]]))","v":0},{"$f":"Personne[[#This Row],[Facture (HT)]]+ROW()/100000","v":9.4500000000000001E-3},{"$f":"_xlfn.CONCAT(Personne[[#This Row],[Adresse]],\" \",Personne[[#This Row],[CodePostal]],\" \",Personne[[#This Row],[Ville]],\" \",Personne[[#This Row],[CodePays]])","v":"   "}]
[null,null,null,null,null,null,null,null,null,null,null,null,null,null,null,null,null,null,null,null,null,null,null,null,null,null,null,null,null,null,{"$f":"IF(PARAMETRES!$B$3=\"SANS\",SUMIFS(Honoraire[TotalHonoraireHT],Honoraire[ClientId],Personne[[#This Row],[PersonneId]]),SUMIFS(Honoraire[TotalHT],Honoraire[ClientId],Personne[[#This Row],[PersonneId]]))","v":0},{"$f":"Personne[[#This Row],[Facture (HT)]]+ROW()/100000","v":9.4599999999999997E-3},{"$f":"_xlfn.CONCAT(Personne[[#This Row],[Adresse]],\" \",Personne[[#This Row],[CodePostal]],\" \",Personne[[#This Row],[Ville]],\" \",Personne[[#This Row],[CodePays]])","v":"   "}]
[null,null,null,null,null,null,null,null,null,null,null,null,null,null,null,null,null,null,null,null,null,null,null,null,null,null,null,null,null,null,{"$f":"IF(PARAMETRES!$B$3=\"SANS\",SUMIFS(Honoraire[TotalHonoraireHT],Honoraire[ClientId],Personne[[#This Row],[PersonneId]]),SUMIFS(Honoraire[TotalHT],Honoraire[ClientId],Personne[[#This Row],[PersonneId]]))","v":0},{"$f":"Personne[[#This Row],[Facture (HT)]]+ROW()/100000","v":9.4699999999999993E-3},{"$f":"_xlfn.CONCAT(Personne[[#This Row],[Adresse]],\" \",Personne[[#This Row],[CodePostal]],\" \",Personne[[#This Row],[Ville]],\" \",Personne[[#This Row],[CodePays]])","v":"   "}]
[null,null,null,null,null,null,null,null,null,null,null,null,null,null,null,null,null,null,null,null,null,null,null,null,null,null,null,null,null,null,{"$f":"IF(PARAMETRES!$B$3=\"SANS\",SUMIFS(Honoraire[TotalHonoraireHT],Honoraire[ClientId],Personne[[#This Row],[PersonneId]]),SUMIFS(Honoraire[TotalHT],Honoraire[ClientId],Personne[[#This Row],[PersonneId]]))","v":0},{"$f":"Personne[[#This Row],[Facture (HT)]]+ROW()/100000","v":9.4800000000000006E-3},{"$f":"_xlfn.CONCAT(Personne[[#This Row],[Adresse]],\" \",Personne[[#This Row],[CodePostal]],\" \",Personne[[#This Row],[Ville]],\" \",Personne[[#This Row],[CodePays]])","v":"   "}]
[null,null,null,null,null,null,null,null,null,null,null,null,null,null,null,null,null,null,null,null,null,null,null,null,null,null,null,null,null,null,{"$f":"IF(PARAMETRES!$B$3=\"SANS\",SUMIFS(Honoraire[TotalHonoraireHT],Honoraire[ClientId],Personne[[#This Row],[PersonneId]]),SUMIFS(Honoraire[TotalHT],Honoraire[ClientId],Personne[[#This Row],[PersonneId]]))","v":0},{"$f":"Personne[[#This Row],[Facture (HT)]]+ROW()/100000","v":9.4900000000000002E-3},{"$f":"_xlfn.CONCAT(Personne[[#This Row],[Adresse]],\" \",Personne[[#This Row],[CodePostal]],\" \",Personne[[#This Row],[Ville]],\" \",Personne[[#This Row],[CodePays]])","v":"   "}]
[null,null,null,null,null,null,null,null,null,null,null,null,null,null,null,null,null,null,null,null,null,null,null,null,null,null,null,null,null,null,{"$f":"IF(PARAMETRES!$B$3=\"SANS\",SUMIFS(Honoraire[TotalHonoraireHT],Honoraire[ClientId],Personne[[#This Row],[PersonneId]]),SUMIFS(Honoraire[TotalHT],Honoraire[ClientId],Personne[[#This Row],[PersonneId]]))","v":0},{"$f":"Personne[[#This Row],[Facture (HT)]]+ROW()/100000","v":9.4999999999999998E-3},{"$f":"_xlfn.CONCAT(Personne[[#This Row],[Adresse]],\" \",Personne[[#This Row],[CodePostal]],\" \",Personne[[#This Row],[Ville]],\" \",Personne[[#This Row],[CodePays]])","v":"   "}]
[null,null,null,null,null,null,null,null,null,null,null,null,null,null,null,null,null,null,null,null,null,null,null,null,null,null,null,null,null,null,{"$f":"IF(PARAMETRES!$B$3=\"SANS\",SUMIFS(Honoraire[TotalHonoraireHT],Honoraire[ClientId],Personne[[#This Row],[PersonneId]]),SUMIFS(Honoraire[TotalHT],Honoraire[ClientId],Personne[[#This Row],[PersonneId]]))","v":0},{"$f":"Personne[[#This Row],[Facture (HT)]]+ROW()/100000","v":9.5099999999999994E-3},{"$f":"_xlfn.CONCAT(Personne[[#This Row],[Adresse]],\" \",Personne[[#This Row],[CodePostal]],\" \",Personne[[#This Row],[Ville]],\" \",Personne[[#This Row],[CodePays]])","v":"   "}]
[null,null,null,null,null,null,null,null,null,null,null,null,null,null,null,null,null,null,null,null,null,null,null,null,null,null,null,null,null,null,{"$f":"IF(PARAMETRES!$B$3=\"SANS\",SUMIFS(Honoraire[TotalHonoraireHT],Honoraire[ClientId],Personne[[#This Row],[PersonneId]]),SUMIFS(Honoraire[TotalHT],Honoraire[ClientId],Personne[[#This Row],[PersonneId]]))","v":0},{"$f":"Personne[[#This Row],[Facture (HT)]]+ROW()/100000","v":9.5200000000000007E-3},{"$f":"_xlfn.CONCAT(Personne[[#This Row],[Adresse]],\" \",Personne[[#This Row],[CodePostal]],\" \",Personne[[#This Row],[Ville]],\" \",Personne[[#This Row],[CodePays]])","v":"   "}]
[null,null,null,null,null,null,null,null,null,null,null,null,null,null,null,null,null,null,null,null,null,null,null,null,null,null,null,null,null,null,{"$f":"IF(PARAMETRES!$B$3=\"SANS\",SUMIFS(Honoraire[TotalHonoraireHT],Honoraire[ClientId],Personne[[#This Row],[PersonneId]]),SUMIFS(Honoraire[TotalHT],Honoraire[ClientId],Personne[[#This Row],[PersonneId]]))","v":0},{"$f":"Personne[[#This Row],[Facture (HT)]]+ROW()/100000","v":9.5300000000000003E-3},{"$f":"_xlfn.CONCAT(Personne[[#This Row],[Adresse]],\" \",Personne[[#This Row],[CodePostal]],\" \",Personne[[#This Row],[Ville]],\" \",Personne[[#This Row],[CodePays]])","v":"   "}]
[null,null,null,null,null,null,null,null,null,null,null,null,null,null,null,null,null,null,null,null,null,null,null,null,null,null,null,null,null,null,{"$f":"IF(PARAMETRES!$B$3=\"SANS\",SUMIFS(Honoraire[TotalHonoraireHT],Honoraire[ClientId],Personne[[#This Row],[PersonneId]]),SUMIFS(Honoraire[TotalHT],Honoraire[ClientId],Personne[[#This Row],[PersonneId]]))","v":0},{"$f":"Personne[[#This Row],[Facture (HT)]]+ROW()/100000","v":9.5399999999999999E-3},{"$f":"_xlfn.CONCAT(Personne[[#This Row],[Adresse]],\" \",Personne[[#This Row],[CodePostal]],\" \",Personne[[#This Row],[Ville]],\" \",Personne[[#This Row],[CodePays]])","v":"   "}]
[null,null,null,null,null,null,null,null,null,null,null,null,null,null,null,null,null,null,null,null,null,null,null,null,null,null,null,null,null,null,{"$f":"IF(PARAMETRES!$B$3=\"SANS\",SUMIFS(Honoraire[TotalHonoraireHT],Honoraire[ClientId],Personne[[#This Row],[PersonneId]]),SUMIFS(Honoraire[TotalHT],Honoraire[ClientId],Personne[[#This Row],[PersonneId]]))","v":0},{"$f":"Personne[[#This Row],[Facture (HT)]]+ROW()/100000","v":9.5499999999999995E-3},{"$f":"_xlfn.CONCAT(Personne[[#This Row],[Adresse]],\" \",Personne[[#This Row],[CodePostal]],\" \",Personne[[#This Row],[Ville]],\" \",Personne[[#This Row],[CodePays]])","v":"   "}]
[null,null,null,null,null,null,null,null,null,null,null,null,null,null,null,null,null,null,null,null,null,null,null,null,null,null,null,null,null,null,{"$f":"IF(PARAMETRES!$B$3=\"SANS\",SUMIFS(Honoraire[TotalHonoraireHT],Honoraire[ClientId],Personne[[#This Row],[PersonneId]]),SUMIFS(Honoraire[TotalHT],Honoraire[ClientId],Personne[[#This Row],[PersonneId]]))","v":0},{"$f":"Personne[[#This Row],[Facture (HT)]]+ROW()/100000","v":9.5600000000000008E-3},{"$f":"_xlfn.CONCAT(Personne[[#This Row],[Adresse]],\" \",Personne[[#This Row],[CodePostal]],\" \",Personne[[#This Row],[Ville]],\" \",Personne[[#This Row],[CodePays]])","v":"   "}]
[null,null,null,null,null,null,null,null,null,null,null,null,null,null,null,null,null,null,null,null,null,null,null,null,null,null,null,null,null,null,{"$f":"IF(PARAMETRES!$B$3=\"SANS\",SUMIFS(Honoraire[TotalHonoraireHT],Honoraire[ClientId],Personne[[#This Row],[PersonneId]]),SUMIFS(Honoraire[TotalHT],Honoraire[ClientId],Personne[[#This Row],[PersonneId]]))","v":0},{"$f":"Personne[[#This Row],[Facture (HT)]]+ROW()/100000","v":9.5700000000000004E-3},{"$f":"_xlfn.CONCAT(Personne[[#This Row],[Adresse]],\" \",Personne[[#This Row],[CodePostal]],\" \",Personne[[#This Row],[Ville]],\" \",Personne[[#This Row],[CodePays]])","v":"   "}]
[null,null,null,null,null,null,null,null,null,null,null,null,null,null,null,null,null,null,null,null,null,null,null,null,null,null,null,null,null,null,{"$f":"IF(PARAMETRES!$B$3=\"SANS\",SUMIFS(Honoraire[TotalHonoraireHT],Honoraire[ClientId],Personne[[#This Row],[PersonneId]]),SUMIFS(Honoraire[TotalHT],Honoraire[ClientId],Personne[[#This Row],[PersonneId]]))","v":0},{"$f":"Personne[[#This Row],[Facture (HT)]]+ROW()/100000","v":9.58E-3},{"$f":"_xlfn.CONCAT(Personne[[#This Row],[Adresse]],\" \",Personne[[#This Row],[CodePostal]],\" \",Personne[[#This Row],[Ville]],\" \",Personne[[#This Row],[CodePays]])","v":"   "}]
[null,null,null,null,null,null,null,null,null,null,null,null,null,null,null,null,null,null,null,null,null,null,null,null,null,null,null,null,null,null,{"$f":"IF(PARAMETRES!$B$3=\"SANS\",SUMIFS(Honoraire[TotalHonoraireHT],Honoraire[ClientId],Personne[[#This Row],[PersonneId]]),SUMIFS(Honoraire[TotalHT],Honoraire[ClientId],Personne[[#This Row],[PersonneId]]))","v":0},{"$f":"Personne[[#This Row],[Facture (HT)]]+ROW()/100000","v":9.5899999999999996E-3},{"$f":"_xlfn.CONCAT(Personne[[#This Row],[Adresse]],\" \",Personne[[#This Row],[CodePostal]],\" \",Personne[[#This Row],[Ville]],\" \",Personne[[#This Row],[CodePays]])","v":"   "}]
[null,null,null,null,null,null,null,null,null,null,null,null,null,null,null,null,null,null,null,null,null,null,null,null,null,null,null,null,null,null,{"$f":"IF(PARAMETRES!$B$3=\"SANS\",SUMIFS(Honoraire[TotalHonoraireHT],Honoraire[ClientId],Personne[[#This Row],[PersonneId]]),SUMIFS(Honoraire[TotalHT],Honoraire[ClientId],Personne[[#This Row],[PersonneId]]))","v":0},{"$f":"Personne[[#This Row],[Facture (HT)]]+ROW()/100000","v":9.5999999999999992E-3},{"$f":"_xlfn.CONCAT(Personne[[#This Row],[Adresse]],\" \",Personne[[#This Row],[CodePostal]],\" \",Personne[[#This Row],[Ville]],\" \",Personne[[#This Row],[CodePays]])","v":"   "}]
[null,null,null,null,null,null,null,null,null,null,null,null,null,null,null,null,null,null,null,null,null,null,null,null,null,null,null,null,null,null,{"$f":"IF(PARAMETRES!$B$3=\"SANS\",SUMIFS(Honoraire[TotalHonoraireHT],Honoraire[ClientId],Personne[[#This Row],[PersonneId]]),SUMIFS(Honoraire[TotalHT],Honoraire[ClientId],Personne[[#This Row],[PersonneId]]))","v":0},{"$f":"Personne[[#This Row],[Facture (HT)]]+ROW()/100000","v":9.6100000000000005E-3},{"$f":"_xlfn.CONCAT(Personne[[#This Row],[Adresse]],\" \",Personne[[#This Row],[CodePostal]],\" \",Personne[[#This Row],[Ville]],\" \",Personne[[#This Row],[CodePays]])","v":"   "}]
[null,null,null,null,null,null,null,null,null,null,null,null,null,null,null,null,null,null,null,null,null,null,null,null,null,null,null,null,null,null,{"$f":"IF(PARAMETRES!$B$3=\"SANS\",SUMIFS(Honoraire[TotalHonoraireHT],Honoraire[ClientId],Personne[[#This Row],[PersonneId]]),SUMIFS(Honoraire[TotalHT],Honoraire[ClientId],Personne[[#This Row],[PersonneId]]))","v":0},{"$f":"Personne[[#This Row],[Facture (HT)]]+ROW()/100000","v":9.6200000000000001E-3},{"$f":"_xlfn.CONCAT(Personne[[#This Row],[Adresse]],\" \",Personne[[#This Row],[CodePostal]],\" \",Personne[[#This Row],[Ville]],\" \",Personne[[#This Row],[CodePays]])","v":"   "}]
[null,null,null,null,null,null,null,null,null,null,null,null,null,null,null,null,null,null,null,null,null,null,null,null,null,null,null,null,null,null,{"$f":"IF(PARAMETRES!$B$3=\"SANS\",SUMIFS(Honoraire[TotalHonoraireHT],Honoraire[ClientId],Personne[[#This Row],[PersonneId]]),SUMIFS(Honoraire[TotalHT],Honoraire[ClientId],Personne[[#This Row],[PersonneId]]))","v":0},{"$f":"Personne[[#This Row],[Facture (HT)]]+ROW()/100000","v":9.6299999999999997E-3},{"$f":"_xlfn.CONCAT(Personne[[#This Row],[Adresse]],\" \",Personne[[#This Row],[CodePostal]],\" \",Personne[[#This Row],[Ville]],\" \",Personne[[#This Row],[CodePays]])","v":"   "}]
[null,null,null,null,null,null,null,null,null,null,null,null,null,null,null,null,null,null,null,null,null,null,null,null,null,null,null,null,null,null,{"$f":"IF(PARAMETRES!$B$3=\"SANS\",SUMIFS(Honoraire[TotalHonoraireHT],Honoraire[ClientId],Personne[[#This Row],[PersonneId]]),SUMIFS(Honoraire[TotalHT],Honoraire[ClientId],Personne[[#This Row],[PersonneId]]))","v":0},{"$f":"Personne[[#This Row],[Facture (HT)]]+ROW()/100000","v":9.6399999999999993E-3},{"$f":"_xlfn.CONCAT(Personne[[#This Row],[Adresse]],\" \",Personne[[#This Row],[CodePostal]],\" \",Personne[[#This Row],[Ville]],\" \",Personne[[#This Row],[CodePays]])","v":"   "}]
[null,null,null,null,null,null,null,null,null,null,null,null,null,null,null,null,null,null,null,null,null,null,null,null,null,null,null,null,null,null,{"$f":"IF(PARAMETRES!$B$3=\"SANS\",SUMIFS(Honoraire[TotalHonoraireHT],Honoraire[ClientId],Personne[[#This Row],[PersonneId]]),SUMIFS(Honoraire[TotalHT],Honoraire[ClientId],Personne[[#This Row],[PersonneId]]))","v":0},{"$f":"Personne[[#This Row],[Facture (HT)]]+ROW()/100000","v":9.6500000000000006E-3},{"$f":"_xlfn.CONCAT(Personne[[#This Row],[Adresse]],\" \",Personne[[#This Row],[CodePostal]],\" \",Personne[[#This Row],[Ville]],\" \",Personne[[#This Row],[CodePays]])","v":"   "}]
[null,null,null,null,null,null,null,null,null,null,null,null,null,null,null,null,null,null,null,null,null,null,null,null,null,null,null,null,null,null,{"$f":"IF(PARAMETRES!$B$3=\"SANS\",SUMIFS(Honoraire[TotalHonoraireHT],Honoraire[ClientId],Personne[[#This Row],[PersonneId]]),SUMIFS(Honoraire[TotalHT],Honoraire[ClientId],Personne[[#This Row],[PersonneId]]))","v":0},{"$f":"Personne[[#This Row],[Facture (HT)]]+ROW()/100000","v":9.6600000000000002E-3},{"$f":"_xlfn.CONCAT(Personne[[#This Row],[Adresse]],\" \",Personne[[#This Row],[CodePostal]],\" \",Personne[[#This Row],[Ville]],\" \",Personne[[#This Row],[CodePays]])","v":"   "}]
[null,null,null,null,null,null,null,null,null,null,null,null,null,null,null,null,null,null,null,null,null,null,null,null,null,null,null,null,null,null,{"$f":"IF(PARAMETRES!$B$3=\"SANS\",SUMIFS(Honoraire[TotalHonoraireHT],Honoraire[ClientId],Personne[[#This Row],[PersonneId]]),SUMIFS(Honoraire[TotalHT],Honoraire[ClientId],Personne[[#This Row],[PersonneId]]))","v":0},{"$f":"Personne[[#This Row],[Facture (HT)]]+ROW()/100000","v":9.6699999999999998E-3},{"$f":"_xlfn.CONCAT(Personne[[#This Row],[Adresse]],\" \",Personne[[#This Row],[CodePostal]],\" \",Personne[[#This Row],[Ville]],\" \",Personne[[#This Row],[CodePays]])","v":"   "}]
[null,null,null,null,null,null,null,null,null,null,null,null,null,null,null,null,null,null,null,null,null,null,null,null,null,null,null,null,null,null,{"$f":"IF(PARAMETRES!$B$3=\"SANS\",SUMIFS(Honoraire[TotalHonoraireHT],Honoraire[ClientId],Personne[[#This Row],[PersonneId]]),SUMIFS(Honoraire[TotalHT],Honoraire[ClientId],Personne[[#This Row],[PersonneId]]))","v":0},{"$f":"Personne[[#This Row],[Facture (HT)]]+ROW()/100000","v":9.6799999999999994E-3},{"$f":"_xlfn.CONCAT(Personne[[#This Row],[Adresse]],\" \",Personne[[#This Row],[CodePostal]],\" \",Personne[[#This Row],[Ville]],\" \",Personne[[#This Row],[CodePays]])","v":"   "}]
[null,null,null,null,null,null,null,null,null,null,null,null,null,null,null,null,null,null,null,null,null,null,null,null,null,null,null,null,null,null,{"$f":"IF(PARAMETRES!$B$3=\"SANS\",SUMIFS(Honoraire[TotalHonoraireHT],Honoraire[ClientId],Personne[[#This Row],[PersonneId]]),SUMIFS(Honoraire[TotalHT],Honoraire[ClientId],Personne[[#This Row],[PersonneId]]))","v":0},{"$f":"Personne[[#This Row],[Facture (HT)]]+ROW()/100000","v":9.6900000000000007E-3},{"$f":"_xlfn.CONCAT(Personne[[#This Row],[Adresse]],\" \",Personne[[#This Row],[CodePostal]],\" \",Personne[[#This Row],[Ville]],\" \",Personne[[#This Row],[CodePays]])","v":"   "}]
[null,null,null,null,null,null,null,null,null,null,null,null,null,null,null,null,null,null,null,null,null,null,null,null,null,null,null,null,null,null,{"$f":"IF(PARAMETRES!$B$3=\"SANS\",SUMIFS(Honoraire[TotalHonoraireHT],Honoraire[ClientId],Personne[[#This Row],[PersonneId]]),SUMIFS(Honoraire[TotalHT],Honoraire[ClientId],Personne[[#This Row],[PersonneId]]))","v":0},{"$f":"Personne[[#This Row],[Facture (HT)]]+ROW()/100000","v":9.7000000000000003E-3},{"$f":"_xlfn.CONCAT(Personne[[#This Row],[Adresse]],\" \",Personne[[#This Row],[CodePostal]],\" \",Personne[[#This Row],[Ville]],\" \",Personne[[#This Row],[CodePays]])","v":"   "}]
[null,null,null,null,null,null,null,null,null,null,null,null,null,null,null,null,null,null,null,null,null,null,null,null,null,null,null,null,null,null,{"$f":"IF(PARAMETRES!$B$3=\"SANS\",SUMIFS(Honoraire[TotalHonoraireHT],Honoraire[ClientId],Personne[[#This Row],[PersonneId]]),SUMIFS(Honoraire[TotalHT],Honoraire[ClientId],Personne[[#This Row],[PersonneId]]))","v":0},{"$f":"Personne[[#This Row],[Facture (HT)]]+ROW()/100000","v":9.7099999999999999E-3},{"$f":"_xlfn.CONCAT(Personne[[#This Row],[Adresse]],\" \",Personne[[#This Row],[CodePostal]],\" \",Personne[[#This Row],[Ville]],\" \",Personne[[#This Row],[CodePays]])","v":"   "}]
[null,null,null,null,null,null,null,null,null,null,null,null,null,null,null,null,null,null,null,null,null,null,null,null,null,null,null,null,null,null,{"$f":"IF(PARAMETRES!$B$3=\"SANS\",SUMIFS(Honoraire[TotalHonoraireHT],Honoraire[ClientId],Personne[[#This Row],[PersonneId]]),SUMIFS(Honoraire[TotalHT],Honoraire[ClientId],Personne[[#This Row],[PersonneId]]))","v":0},{"$f":"Personne[[#This Row],[Facture (HT)]]+ROW()/100000","v":9.7199999999999995E-3},{"$f":"_xlfn.CONCAT(Personne[[#This Row],[Adresse]],\" \",Personne[[#This Row],[CodePostal]],\" \",Personne[[#This Row],[Ville]],\" \",Personne[[#This Row],[CodePays]])","v":"   "}]
[null,null,null,null,null,null,null,null,null,null,null,null,null,null,null,null,null,null,null,null,null,null,null,null,null,null,null,null,null,null,{"$f":"IF(PARAMETRES!$B$3=\"SANS\",SUMIFS(Honoraire[TotalHonoraireHT],Honoraire[ClientId],Personne[[#This Row],[PersonneId]]),SUMIFS(Honoraire[TotalHT],Honoraire[ClientId],Personne[[#This Row],[PersonneId]]))","v":0},{"$f":"Personne[[#This Row],[Facture (HT)]]+ROW()/100000","v":9.7300000000000008E-3},{"$f":"_xlfn.CONCAT(Personne[[#This Row],[Adresse]],\" \",Personne[[#This Row],[CodePostal]],\" \",Personne[[#This Row],[Ville]],\" \",Personne[[#This Row],[CodePays]])","v":"   "}]
[null,null,null,null,null,null,null,null,null,null,null,null,null,null,null,null,null,null,null,null,null,null,null,null,null,null,null,null,null,null,{"$f":"IF(PARAMETRES!$B$3=\"SANS\",SUMIFS(Honoraire[TotalHonoraireHT],Honoraire[ClientId],Personne[[#This Row],[PersonneId]]),SUMIFS(Honoraire[TotalHT],Honoraire[ClientId],Personne[[#This Row],[PersonneId]]))","v":0},{"$f":"Personne[[#This Row],[Facture (HT)]]+ROW()/100000","v":9.7400000000000004E-3},{"$f":"_xlfn.CONCAT(Personne[[#This Row],[Adresse]],\" \",Personne[[#This Row],[CodePostal]],\" \",Personne[[#This Row],[Ville]],\" \",Personne[[#This Row],[CodePays]])","v":"   "}]
[null,null,null,null,null,null,null,null,null,null,null,null,null,null,null,null,null,null,null,null,null,null,null,null,null,null,null,null,null,null,{"$f":"IF(PARAMETRES!$B$3=\"SANS\",SUMIFS(Honoraire[TotalHonoraireHT],Honoraire[ClientId],Personne[[#This Row],[PersonneId]]),SUMIFS(Honoraire[TotalHT],Honoraire[ClientId],Personne[[#This Row],[PersonneId]]))","v":0},{"$f":"Personne[[#This Row],[Facture (HT)]]+ROW()/100000","v":9.75E-3},{"$f":"_xlfn.CONCAT(Personne[[#This Row],[Adresse]],\" \",Personne[[#This Row],[CodePostal]],\" \",Personne[[#This Row],[Ville]],\" \",Personne[[#This Row],[CodePays]])","v":"   "}]
[null,null,null,null,null,null,null,null,null,null,null,null,null,null,null,null,null,null,null,null,null,null,null,null,null,null,null,null,null,null,{"$f":"IF(PARAMETRES!$B$3=\"SANS\",SUMIFS(Honoraire[TotalHonoraireHT],Honoraire[ClientId],Personne[[#This Row],[PersonneId]]),SUMIFS(Honoraire[TotalHT],Honoraire[ClientId],Personne[[#This Row],[PersonneId]]))","v":0},{"$f":"Personne[[#This Row],[Facture (HT)]]+ROW()/100000","v":9.7599999999999996E-3},{"$f":"_xlfn.CONCAT(Personne[[#This Row],[Adresse]],\" \",Personne[[#This Row],[CodePostal]],\" \",Personne[[#This Row],[Ville]],\" \",Personne[[#This Row],[CodePays]])","v":"   "}]
[null,null,null,null,null,null,null,null,null,null,null,null,null,null,null,null,null,null,null,null,null,null,null,null,null,null,null,null,null,null,{"$f":"IF(PARAMETRES!$B$3=\"SANS\",SUMIFS(Honoraire[TotalHonoraireHT],Honoraire[ClientId],Personne[[#This Row],[PersonneId]]),SUMIFS(Honoraire[TotalHT],Honoraire[ClientId],Personne[[#This Row],[PersonneId]]))","v":0},{"$f":"Personne[[#This Row],[Facture (HT)]]+ROW()/100000","v":9.7699999999999992E-3},{"$f":"_xlfn.CONCAT(Personne[[#This Row],[Adresse]],\" \",Personne[[#This Row],[CodePostal]],\" \",Personne[[#This Row],[Ville]],\" \",Personne[[#This Row],[CodePays]])","v":"   "}]
[null,null,null,null,null,null,null,null,null,null,null,null,null,null,null,null,null,null,null,null,null,null,null,null,null,null,null,null,null,null,{"$f":"IF(PARAMETRES!$B$3=\"SANS\",SUMIFS(Honoraire[TotalHonoraireHT],Honoraire[ClientId],Personne[[#This Row],[PersonneId]]),SUMIFS(Honoraire[TotalHT],Honoraire[ClientId],Personne[[#This Row],[PersonneId]]))","v":0},{"$f":"Personne[[#This Row],[Facture (HT)]]+ROW()/100000","v":9.7800000000000005E-3},{"$f":"_xlfn.CONCAT(Personne[[#This Row],[Adresse]],\" \",Personne[[#This Row],[CodePostal]],\" \",Personne[[#This Row],[Ville]],\" \",Personne[[#This Row],[CodePays]])","v":"   "}]
[null,null,null,null,null,null,null,null,null,null,null,null,null,null,null,null,null,null,null,null,null,null,null,null,null,null,null,null,null,null,{"$f":"IF(PARAMETRES!$B$3=\"SANS\",SUMIFS(Honoraire[TotalHonoraireHT],Honoraire[ClientId],Personne[[#This Row],[PersonneId]]),SUMIFS(Honoraire[TotalHT],Honoraire[ClientId],Personne[[#This Row],[PersonneId]]))","v":0},{"$f":"Personne[[#This Row],[Facture (HT)]]+ROW()/100000","v":9.7900000000000001E-3},{"$f":"_xlfn.CONCAT(Personne[[#This Row],[Adresse]],\" \",Personne[[#This Row],[CodePostal]],\" \",Personne[[#This Row],[Ville]],\" \",Personne[[#This Row],[CodePays]])","v":"   "}]
[null,null,null,null,null,null,null,null,null,null,null,null,null,null,null,null,null,null,null,null,null,null,null,null,null,null,null,null,null,null,{"$f":"IF(PARAMETRES!$B$3=\"SANS\",SUMIFS(Honoraire[TotalHonoraireHT],Honoraire[ClientId],Personne[[#This Row],[PersonneId]]),SUMIFS(Honoraire[TotalHT],Honoraire[ClientId],Personne[[#This Row],[PersonneId]]))","v":0},{"$f":"Personne[[#This Row],[Facture (HT)]]+ROW()/100000","v":9.7999999999999997E-3},{"$f":"_xlfn.CONCAT(Personne[[#This Row],[Adresse]],\" \",Personne[[#This Row],[CodePostal]],\" \",Personne[[#This Row],[Ville]],\" \",Personne[[#This Row],[CodePays]])","v":"   "}]
[null,null,null,null,null,null,null,null,null,null,null,null,null,null,null,null,null,null,null,null,null,null,null,null,null,null,null,null,null,null,{"$f":"IF(PARAMETRES!$B$3=\"SANS\",SUMIFS(Honoraire[TotalHonoraireHT],Honoraire[ClientId],Personne[[#This Row],[PersonneId]]),SUMIFS(Honoraire[TotalHT],Honoraire[ClientId],Personne[[#This Row],[PersonneId]]))","v":0},{"$f":"Personne[[#This Row],[Facture (HT)]]+ROW()/100000","v":9.8099999999999993E-3},{"$f":"_xlfn.CONCAT(Personne[[#This Row],[Adresse]],\" \",Personne[[#This Row],[CodePostal]],\" \",Personne[[#This Row],[Ville]],\" \",Personne[[#This Row],[CodePays]])","v":"   "}]
[null,null,null,null,null,null,null,null,null,null,null,null,null,null,null,null,null,null,null,null,null,null,null,null,null,null,null,null,null,null,{"$f":"IF(PARAMETRES!$B$3=\"SANS\",SUMIFS(Honoraire[TotalHonoraireHT],Honoraire[ClientId],Personne[[#This Row],[PersonneId]]),SUMIFS(Honoraire[TotalHT],Honoraire[ClientId],Personne[[#This Row],[PersonneId]]))","v":0},{"$f":"Personne[[#This Row],[Facture (HT)]]+ROW()/100000","v":9.8200000000000006E-3},{"$f":"_xlfn.CONCAT(Personne[[#This Row],[Adresse]],\" \",Personne[[#This Row],[CodePostal]],\" \",Personne[[#This Row],[Ville]],\" \",Personne[[#This Row],[CodePays]])","v":"   "}]
[null,null,null,null,null,null,null,null,null,null,null,null,null,null,null,null,null,null,null,null,null,null,null,null,null,null,null,null,null,null,{"$f":"IF(PARAMETRES!$B$3=\"SANS\",SUMIFS(Honoraire[TotalHonoraireHT],Honoraire[ClientId],Personne[[#This Row],[PersonneId]]),SUMIFS(Honoraire[TotalHT],Honoraire[ClientId],Personne[[#This Row],[PersonneId]]))","v":0},{"$f":"Personne[[#This Row],[Facture (HT)]]+ROW()/100000","v":9.8300000000000002E-3},{"$f":"_xlfn.CONCAT(Personne[[#This Row],[Adresse]],\" \",Personne[[#This Row],[CodePostal]],\" \",Personne[[#This Row],[Ville]],\" \",Personne[[#This Row],[CodePays]])","v":"   "}]
[null,null,null,null,null,null,null,null,null,null,null,null,null,null,null,null,null,null,null,null,null,null,null,null,null,null,null,null,null,null,{"$f":"IF(PARAMETRES!$B$3=\"SANS\",SUMIFS(Honoraire[TotalHonoraireHT],Honoraire[ClientId],Personne[[#This Row],[PersonneId]]),SUMIFS(Honoraire[TotalHT],Honoraire[ClientId],Personne[[#This Row],[PersonneId]]))","v":0},{"$f":"Personne[[#This Row],[Facture (HT)]]+ROW()/100000","v":9.8399999999999998E-3},{"$f":"_xlfn.CONCAT(Personne[[#This Row],[Adresse]],\" \",Personne[[#This Row],[CodePostal]],\" \",Personne[[#This Row],[Ville]],\" \",Personne[[#This Row],[CodePays]])","v":"   "}]
[null,null,null,null,null,null,null,null,null,null,null,null,null,null,null,null,null,null,null,null,null,null,null,null,null,null,null,null,null,null,{"$f":"IF(PARAMETRES!$B$3=\"SANS\",SUMIFS(Honoraire[TotalHonoraireHT],Honoraire[ClientId],Personne[[#This Row],[PersonneId]]),SUMIFS(Honoraire[TotalHT],Honoraire[ClientId],Personne[[#This Row],[PersonneId]]))","v":0},{"$f":"Personne[[#This Row],[Facture (HT)]]+ROW()/100000","v":9.8499999999999994E-3},{"$f":"_xlfn.CONCAT(Personne[[#This Row],[Adresse]],\" \",Personne[[#This Row],[CodePostal]],\" \",Personne[[#This Row],[Ville]],\" \",Personne[[#This Row],[CodePays]])","v":"   "}]
[null,null,null,null,null,null,null,null,null,null,null,null,null,null,null,null,null,null,null,null,null,null,null,null,null,null,null,null,null,null,{"$f":"IF(PARAMETRES!$B$3=\"SANS\",SUMIFS(Honoraire[TotalHonoraireHT],Honoraire[ClientId],Personne[[#This Row],[PersonneId]]),SUMIFS(Honoraire[TotalHT],Honoraire[ClientId],Personne[[#This Row],[PersonneId]]))","v":0},{"$f":"Personne[[#This Row],[Facture (HT)]]+ROW()/100000","v":9.8600000000000007E-3},{"$f":"_xlfn.CONCAT(Personne[[#This Row],[Adresse]],\" \",Personne[[#This Row],[CodePostal]],\" \",Personne[[#This Row],[Ville]],\" \",Personne[[#This Row],[CodePays]])","v":"   "}]
[null,null,null,null,null,null,null,null,null,null,null,null,null,null,null,null,null,null,null,null,null,null,null,null,null,null,null,null,null,null,{"$f":"IF(PARAMETRES!$B$3=\"SANS\",SUMIFS(Honoraire[TotalHonoraireHT],Honoraire[ClientId],Personne[[#This Row],[PersonneId]]),SUMIFS(Honoraire[TotalHT],Honoraire[ClientId],Personne[[#This Row],[PersonneId]]))","v":0},{"$f":"Personne[[#This Row],[Facture (HT)]]+ROW()/100000","v":9.8700000000000003E-3},{"$f":"_xlfn.CONCAT(Personne[[#This Row],[Adresse]],\" \",Personne[[#This Row],[CodePostal]],\" \",Personne[[#This Row],[Ville]],\" \",Personne[[#This Row],[CodePays]])","v":"   "}]
[null,null,null,null,null,null,null,null,null,null,null,null,null,null,null,null,null,null,null,null,null,null,null,null,null,null,null,null,null,null,{"$f":"IF(PARAMETRES!$B$3=\"SANS\",SUMIFS(Honoraire[TotalHonoraireHT],Honoraire[ClientId],Personne[[#This Row],[PersonneId]]),SUMIFS(Honoraire[TotalHT],Honoraire[ClientId],Personne[[#This Row],[PersonneId]]))","v":0},{"$f":"Personne[[#This Row],[Facture (HT)]]+ROW()/100000","v":9.8799999999999999E-3},{"$f":"_xlfn.CONCAT(Personne[[#This Row],[Adresse]],\" \",Personne[[#This Row],[CodePostal]],\" \",Personne[[#This Row],[Ville]],\" \",Personne[[#This Row],[CodePays]])","v":"   "}]
[null,null,null,null,null,null,null,null,null,null,null,null,null,null,null,null,null,null,null,null,null,null,null,null,null,null,null,null,null,null,{"$f":"IF(PARAMETRES!$B$3=\"SANS\",SUMIFS(Honoraire[TotalHonoraireHT],Honoraire[ClientId],Personne[[#This Row],[PersonneId]]),SUMIFS(Honoraire[TotalHT],Honoraire[ClientId],Personne[[#This Row],[PersonneId]]))","v":0},{"$f":"Personne[[#This Row],[Facture (HT)]]+ROW()/100000","v":9.8899999999999995E-3},{"$f":"_xlfn.CONCAT(Personne[[#This Row],[Adresse]],\" \",Personne[[#This Row],[CodePostal]],\" \",Personne[[#This Row],[Ville]],\" \",Personne[[#This Row],[CodePays]])","v":"   "}]
[null,null,null,null,null,null,null,null,null,null,null,null,null,null,null,null,null,null,null,null,null,null,null,null,null,null,null,null,null,null,{"$f":"IF(PARAMETRES!$B$3=\"SANS\",SUMIFS(Honoraire[TotalHonoraireHT],Honoraire[ClientId],Personne[[#This Row],[PersonneId]]),SUMIFS(Honoraire[TotalHT],Honoraire[ClientId],Personne[[#This Row],[PersonneId]]))","v":0},{"$f":"Personne[[#This Row],[Facture (HT)]]+ROW()/100000","v":9.9000000000000008E-3},{"$f":"_xlfn.CONCAT(Personne[[#This Row],[Adresse]],\" \",Personne[[#This Row],[CodePostal]],\" \",Personne[[#This Row],[Ville]],\" \",Personne[[#This Row],[CodePays]])","v":"   "}]
[null,null,null,null,null,null,null,null,null,null,null,null,null,null,null,null,null,null,null,null,null,null,null,null,null,null,null,null,null,null,{"$f":"IF(PARAMETRES!$B$3=\"SANS\",SUMIFS(Honoraire[TotalHonoraireHT],Honoraire[ClientId],Personne[[#This Row],[PersonneId]]),SUMIFS(Honoraire[TotalHT],Honoraire[ClientId],Personne[[#This Row],[PersonneId]]))","v":0},{"$f":"Personne[[#This Row],[Facture (HT)]]+ROW()/100000","v":9.9100000000000004E-3},{"$f":"_xlfn.CONCAT(Personne[[#This Row],[Adresse]],\" \",Personne[[#This Row],[CodePostal]],\" \",Personne[[#This Row],[Ville]],\" \",Personne[[#This Row],[CodePays]])","v":"   "}]
[null,null,null,null,null,null,null,null,null,null,null,null,null,null,null,null,null,null,null,null,null,null,null,null,null,null,null,null,null,null,{"$f":"IF(PARAMETRES!$B$3=\"SANS\",SUMIFS(Honoraire[TotalHonoraireHT],Honoraire[ClientId],Personne[[#This Row],[PersonneId]]),SUMIFS(Honoraire[TotalHT],Honoraire[ClientId],Personne[[#This Row],[PersonneId]]))","v":0},{"$f":"Personne[[#This Row],[Facture (HT)]]+ROW()/100000","v":9.92E-3},{"$f":"_xlfn.CONCAT(Personne[[#This Row],[Adresse]],\" \",Personne[[#This Row],[CodePostal]],\" \",Personne[[#This Row],[Ville]],\" \",Personne[[#This Row],[CodePays]])","v":"   "}]
[null,null,null,null,null,null,null,null,null,null,null,null,null,null,null,null,null,null,null,null,null,null,null,null,null,null,null,null,null,null,{"$f":"IF(PARAMETRES!$B$3=\"SANS\",SUMIFS(Honoraire[TotalHonoraireHT],Honoraire[ClientId],Personne[[#This Row],[PersonneId]]),SUMIFS(Honoraire[TotalHT],Honoraire[ClientId],Personne[[#This Row],[PersonneId]]))","v":0},{"$f":"Personne[[#This Row],[Facture (HT)]]+ROW()/100000","v":9.9299999999999996E-3},{"$f":"_xlfn.CONCAT(Personne[[#This Row],[Adresse]],\" \",Personne[[#This Row],[CodePostal]],\" \",Personne[[#This Row],[Ville]],\" \",Personne[[#This Row],[CodePays]])","v":"   "}]
[null,null,null,null,null,null,null,null,null,null,null,null,null,null,null,null,null,null,null,null,null,null,null,null,null,null,null,null,null,null,{"$f":"IF(PARAMETRES!$B$3=\"SANS\",SUMIFS(Honoraire[TotalHonoraireHT],Honoraire[ClientId],Personne[[#This Row],[PersonneId]]),SUMIFS(Honoraire[TotalHT],Honoraire[ClientId],Personne[[#This Row],[PersonneId]]))","v":0},{"$f":"Personne[[#This Row],[Facture (HT)]]+ROW()/100000","v":9.9399999999999992E-3},{"$f":"_xlfn.CONCAT(Personne[[#This Row],[Adresse]],\" \",Personne[[#This Row],[CodePostal]],\" \",Personne[[#This Row],[Ville]],\" \",Personne[[#This Row],[CodePays]])","v":"   "}]
[null,null,null,null,null,null,null,null,null,null,null,null,null,null,null,null,null,null,null,null,null,null,null,null,null,null,null,null,null,null,{"$f":"IF(PARAMETRES!$B$3=\"SANS\",SUMIFS(Honoraire[TotalHonoraireHT],Honoraire[ClientId],Personne[[#This Row],[PersonneId]]),SUMIFS(Honoraire[TotalHT],Honoraire[ClientId],Personne[[#This Row],[PersonneId]]))","v":0},{"$f":"Personne[[#This Row],[Facture (HT)]]+ROW()/100000","v":9.9500000000000005E-3},{"$f":"_xlfn.CONCAT(Personne[[#This Row],[Adresse]],\" \",Personne[[#This Row],[CodePostal]],\" \",Personne[[#This Row],[Ville]],\" \",Personne[[#This Row],[CodePays]])","v":"   "}]
[null,null,null,null,null,null,null,null,null,null,null,null,null,null,null,null,null,null,null,null,null,null,null,null,null,null,null,null,null,null,{"$f":"IF(PARAMETRES!$B$3=\"SANS\",SUMIFS(Honoraire[TotalHonoraireHT],Honoraire[ClientId],Personne[[#This Row],[PersonneId]]),SUMIFS(Honoraire[TotalHT],Honoraire[ClientId],Personne[[#This Row],[PersonneId]]))","v":0},{"$f":"Personne[[#This Row],[Facture (HT)]]+ROW()/100000","v":9.9600000000000001E-3},{"$f":"_xlfn.CONCAT(Personne[[#This Row],[Adresse]],\" \",Personne[[#This Row],[CodePostal]],\" \",Personne[[#This Row],[Ville]],\" \",Personne[[#This Row],[CodePays]])","v":"   "}]
[null,null,null,null,null,null,null,null,null,null,null,null,null,null,null,null,null,null,null,null,null,null,null,null,null,null,null,null,null,null,{"$f":"IF(PARAMETRES!$B$3=\"SANS\",SUMIFS(Honoraire[TotalHonoraireHT],Honoraire[ClientId],Personne[[#This Row],[PersonneId]]),SUMIFS(Honoraire[TotalHT],Honoraire[ClientId],Personne[[#This Row],[PersonneId]]))","v":0},{"$f":"Personne[[#This Row],[Facture (HT)]]+ROW()/100000","v":9.9699999999999997E-3},{"$f":"_xlfn.CONCAT(Personne[[#This Row],[Adresse]],\" \",Personne[[#This Row],[CodePostal]],\" \",Personne[[#This Row],[Ville]],\" \",Personne[[#This Row],[CodePays]])","v":"   "}]
[null,null,null,null,null,null,null,null,null,null,null,null,null,null,null,null,null,null,null,null,null,null,null,null,null,null,null,null,null,null,{"$f":"IF(PARAMETRES!$B$3=\"SANS\",SUMIFS(Honoraire[TotalHonoraireHT],Honoraire[ClientId],Personne[[#This Row],[PersonneId]]),SUMIFS(Honoraire[TotalHT],Honoraire[ClientId],Personne[[#This Row],[PersonneId]]))","v":0},{"$f":"Personne[[#This Row],[Facture (HT)]]+ROW()/100000","v":9.9799999999999993E-3},{"$f":"_xlfn.CONCAT(Personne[[#This Row],[Adresse]],\" \",Personne[[#This Row],[CodePostal]],\" \",Personne[[#This Row],[Ville]],\" \",Personne[[#This Row],[CodePays]])","v":"   "}]
[null,null,null,null,null,null,null,null,null,null,null,null,null,null,null,null,null,null,null,null,null,null,null,null,null,null,null,null,null,null,{"$f":"IF(PARAMETRES!$B$3=\"SANS\",SUMIFS(Honoraire[TotalHonoraireHT],Honoraire[ClientId],Personne[[#This Row],[PersonneId]]),SUMIFS(Honoraire[TotalHT],Honoraire[ClientId],Personne[[#This Row],[PersonneId]]))","v":0},{"$f":"Personne[[#This Row],[Facture (HT)]]+ROW()/100000","v":9.9900000000000006E-3},{"$f":"_xlfn.CONCAT(Personne[[#This Row],[Adresse]],\" \",Personne[[#This Row],[CodePostal]],\" \",Personne[[#This Row],[Ville]],\" \",Personne[[#This Row],[CodePays]])","v":"   "}]
[null,null,null,null,null,null,null,null,null,null,null,null,null,null,null,null,null,null,null,null,null,null,null,null,null,null,null,null,null,null,{"$f":"IF(PARAMETRES!$B$3=\"SANS\",SUMIFS(Honoraire[TotalHonoraireHT],Honoraire[ClientId],Personne[[#This Row],[PersonneId]]),SUMIFS(Honoraire[TotalHT],Honoraire[ClientId],Personne[[#This Row],[PersonneId]]))","v":0},{"$f":"Personne[[#This Row],[Facture (HT)]]+ROW()/100000","v":0.01},{"$f":"_xlfn.CONCAT(Personne[[#This Row],[Adresse]],\" \",Personne[[#This Row],[CodePostal]],\" \",Personne[[#This Row],[Ville]],\" \",Personne[[#This Row],[CodePays]])","v":"   "}]
[null,null,null,null,null,null,null,null,null,null,null,null,null,null,null,null,null,null,null,null,null,null,null,null,null,null,null,null,null,null,{"$f":"IF(PARAMETRES!$B$3=\"SANS\",SUMIFS(Honoraire[TotalHonoraireHT],Honoraire[ClientId],Personne[[#This Row],[PersonneId]]),SUMIFS(Honoraire[TotalHT],Honoraire[ClientId],Personne[[#This Row],[PersonneId]]))","v":0},{"$f":"Personne[[#This Row],[Facture (HT)]]+ROW()/100000","v":1.0019999999999999E-2},{"$f":"_xlfn.CONCAT(Personne[[#This Row],[Adresse]],\" \",Personne[[#This Row],[CodePostal]],\" \",Personne[[#This Row],[Ville]],\" \",Personne[[#This Row],[CodePays]])","v":"   "}]
[null,null,null,null,null,null,null,null,null,null,null,null,null,null,null,null,null,null,null,null,null,null,null,null,null,null,null,null,null,null,{"$f":"IF(PARAMETRES!$B$3=\"SANS\",SUMIFS(Honoraire[TotalHonoraireHT],Honoraire[ClientId],Personne[[#This Row],[PersonneId]]),SUMIFS(Honoraire[TotalHT],Honoraire[ClientId],Personne[[#This Row],[PersonneId]]))","v":0},{"$f":"Personne[[#This Row],[Facture (HT)]]+ROW()/100000","v":1.0030000000000001E-2},{"$f":"_xlfn.CONCAT(Personne[[#This Row],[Adresse]],\" \",Personne[[#This Row],[CodePostal]],\" \",Personne[[#This Row],[Ville]],\" \",Personne[[#This Row],[CodePays]])","v":"   "}]
[null,null,null,null,null,null,null,null,null,null,null,null,null,null,null,null,null,null,null,null,null,null,null,null,null,null,null,null,null,null,{"$f":"IF(PARAMETRES!$B$3=\"SANS\",SUMIFS(Honoraire[TotalHonoraireHT],Honoraire[ClientId],Personne[[#This Row],[PersonneId]]),SUMIFS(Honoraire[TotalHT],Honoraire[ClientId],Personne[[#This Row],[PersonneId]]))","v":0},{"$f":"Personne[[#This Row],[Facture (HT)]]+ROW()/100000","v":1.0059999999999999E-2},{"$f":"_xlfn.CONCAT(Personne[[#This Row],[Adresse]],\" \",Personne[[#This Row],[CodePostal]],\" \",Personne[[#This Row],[Ville]],\" \",Personne[[#This Row],[CodePays]])","v":"   "}]
[null,null,null,null,null,null,null,null,null,null,null,null,null,null,null,null,null,null,null,null,null,null,null,null,null,null,null,null,null,null,{"$f":"IF(PARAMETRES!$B$3=\"SANS\",SUMIFS(Honoraire[TotalHonoraireHT],Honoraire[ClientId],Personne[[#This Row],[PersonneId]]),SUMIFS(Honoraire[TotalHT],Honoraire[ClientId],Personne[[#This Row],[PersonneId]]))","v":0},{"$f":"Personne[[#This Row],[Facture (HT)]]+ROW()/100000","v":1.0070000000000001E-2},{"$f":"_xlfn.CONCAT(Personne[[#This Row],[Adresse]],\" \",Personne[[#This Row],[CodePostal]],\" \",Personne[[#This Row],[Ville]],\" \",Personne[[#This Row],[CodePays]])","v":"   "}]
[null,null,null,null,null,null,null,null,null,null,null,null,null,null,null,null,null,null,null,null,null,null,null,null,null,null,null,null,null,null,{"$f":"IF(PARAMETRES!$B$3=\"SANS\",SUMIFS(Honoraire[TotalHonoraireHT],Honoraire[ClientId],Personne[[#This Row],[PersonneId]]),SUMIFS(Honoraire[TotalHT],Honoraire[ClientId],Personne[[#This Row],[PersonneId]]))","v":0},{"$f":"Personne[[#This Row],[Facture (HT)]]+ROW()/100000","v":1.01E-2},{"$f":"_xlfn.CONCAT(Personne[[#This Row],[Adresse]],\" \",Personne[[#This Row],[CodePostal]],\" \",Personne[[#This Row],[Ville]],\" \",Personne[[#This Row],[CodePays]])","v":"   "}]
[null,null,null,null,null,null,null,null,null,null,null,null,null,null,null,null,null,null,null,null,null,null,null,null,null,null,null,null,null,null,{"$f":"IF(PARAMETRES!$B$3=\"SANS\",SUMIFS(Honoraire[TotalHonoraireHT],Honoraire[ClientId],Personne[[#This Row],[PersonneId]]),SUMIFS(Honoraire[TotalHT],Honoraire[ClientId],Personne[[#This Row],[PersonneId]]))","v":0},{"$f":"Personne[[#This Row],[Facture (HT)]]+ROW()/100000","v":1.013E-2},{"$f":"_xlfn.CONCAT(Personne[[#This Row],[Adresse]],\" \",Personne[[#This Row],[CodePostal]],\" \",Personne[[#This Row],[Ville]],\" \",Personne[[#This Row],[CodePays]])","v":"   "}]
[null,null,null,null,null,null,null,null,null,null,null,null,null,null,null,null,null,null,null,null,null,null,null,null,null,null,null,null,null,null,{"$f":"IF(PARAMETRES!$B$3=\"SANS\",SUMIFS(Honoraire[TotalHonoraireHT],Honoraire[ClientId],Personne[[#This Row],[PersonneId]]),SUMIFS(Honoraire[TotalHT],Honoraire[ClientId],Personne[[#This Row],[PersonneId]]))","v":0},{"$f":"Personne[[#This Row],[Facture (HT)]]+ROW()/100000","v":1.0149999999999999E-2},{"$f":"_xlfn.CONCAT(Personne[[#This Row],[Adresse]],\" \",Personne[[#This Row],[CodePostal]],\" \",Personne[[#This Row],[Ville]],\" \",Personne[[#This Row],[CodePays]])","v":"   "}]
[null,null,null,null,null,null,null,null,null,null,null,null,null,null,null,null,null,null,null,null,null,null,null,null,null,null,null,null,null,null,{"$f":"IF(PARAMETRES!$B$3=\"SANS\",SUMIFS(Honoraire[TotalHonoraireHT],Honoraire[ClientId],Personne[[#This Row],[PersonneId]]),SUMIFS(Honoraire[TotalHT],Honoraire[ClientId],Personne[[#This Row],[PersonneId]]))","v":0},{"$f":"Personne[[#This Row],[Facture (HT)]]+ROW()/100000","v":1.0160000000000001E-2},{"$f":"_xlfn.CONCAT(Personne[[#This Row],[Adresse]],\" \",Personne[[#This Row],[CodePostal]],\" \",Personne[[#This Row],[Ville]],\" \",Personne[[#This Row],[CodePays]])","v":"   "}]
[null,null,null,null,null,null,null,null,null,null,null,null,null,null,null,null,null,null,null,null,null,null,null,null,null,null,null,null,null,null,{"$f":"IF(PARAMETRES!$B$3=\"SANS\",SUMIFS(Honoraire[TotalHonoraireHT],Honoraire[ClientId],Personne[[#This Row],[PersonneId]]),SUMIFS(Honoraire[TotalHT],Honoraire[ClientId],Personne[[#This Row],[PersonneId]]))","v":0},{"$f":"Personne[[#This Row],[Facture (HT)]]+ROW()/100000","v":1.0189999999999999E-2},{"$f":"_xlfn.CONCAT(Personne[[#This Row],[Adresse]],\" \",Personne[[#This Row],[CodePostal]],\" \",Personne[[#This Row],[Ville]],\" \",Personne[[#This Row],[CodePays]])","v":"   "}]
[null,null,null,null,null,null,null,null,null,null,null,null,null,null,null,null,null,null,null,null,null,null,null,null,null,null,null,null,null,null,{"$f":"IF(PARAMETRES!$B$3=\"SANS\",SUMIFS(Honoraire[TotalHonoraireHT],Honoraire[ClientId],Personne[[#This Row],[PersonneId]]),SUMIFS(Honoraire[TotalHT],Honoraire[ClientId],Personne[[#This Row],[PersonneId]]))","v":0},{"$f":"Personne[[#This Row],[Facture (HT)]]+ROW()/100000","v":1.0200000000000001E-2},{"$f":"_xlfn.CONCAT(Personne[[#This Row],[Adresse]],\" \",Personne[[#This Row],[CodePostal]],\" \",Personne[[#This Row],[Ville]],\" \",Personne[[#This Row],[CodePays]])","v":"   "}]
[null,null,null,null,null,null,null,null,null,null,null,null,null,null,null,null,null,null,null,null,null,null,null,null,null,null,null,null,null,null,{"$f":"IF(PARAMETRES!$B$3=\"SANS\",SUMIFS(Honoraire[TotalHonoraireHT],Honoraire[ClientId],Personne[[#This Row],[PersonneId]]),SUMIFS(Honoraire[TotalHT],Honoraire[ClientId],Personne[[#This Row],[PersonneId]]))","v":0},{"$f":"Personne[[#This Row],[Facture (HT)]]+ROW()/100000","v":1.023E-2},{"$f":"_xlfn.CONCAT(Personne[[#This Row],[Adresse]],\" \",Personne[[#This Row],[CodePostal]],\" \",Personne[[#This Row],[Ville]],\" \",Personne[[#This Row],[CodePays]])","v":"   "}]
[null,null,null,null,null,null,null,null,null,null,null,null,null,null,null,null,null,null,null,null,null,null,null,null,null,null,null,null,null,null,{"$f":"IF(PARAMETRES!$B$3=\"SANS\",SUMIFS(Honoraire[TotalHonoraireHT],Honoraire[ClientId],Personne[[#This Row],[PersonneId]]),SUMIFS(Honoraire[TotalHT],Honoraire[ClientId],Personne[[#This Row],[PersonneId]]))","v":0},{"$f":"Personne[[#This Row],[Facture (HT)]]+ROW()/100000","v":1.025E-2},{"$f":"_xlfn.CONCAT(Personne[[#This Row],[Adresse]],\" \",Personne[[#This Row],[CodePostal]],\" \",Personne[[#This Row],[Ville]],\" \",Personne[[#This Row],[CodePays]])","v":"   "}]
[null,null,null,null,null,null,null,null,null,null,null,null,null,null,null,null,null,null,null,null,null,null,null,null,null,null,null,null,null,null,{"$f":"IF(PARAMETRES!$B$3=\"SANS\",SUMIFS(Honoraire[TotalHonoraireHT],Honoraire[ClientId],Personne[[#This Row],[PersonneId]]),SUMIFS(Honoraire[TotalHT],Honoraire[ClientId],Personne[[#This Row],[PersonneId]]))","v":0},{"$f":"Personne[[#This Row],[Facture (HT)]]+ROW()/100000","v":1.0279999999999999E-2},{"$f":"_xlfn.CONCAT(Personne[[#This Row],[Adresse]],\" \",Personne[[#This Row],[CodePostal]],\" \",Personne[[#This Row],[Ville]],\" \",Personne[[#This Row],[CodePays]])","v":"   "}]
[null,null,null,null,null,null,null,null,null,null,null,null,null,null,null,null,null,null,null,null,null,null,null,null,null,null,null,null,null,null,{"$f":"IF(PARAMETRES!$B$3=\"SANS\",SUMIFS(Honoraire[TotalHonoraireHT],Honoraire[ClientId],Personne[[#This Row],[PersonneId]]),SUMIFS(Honoraire[TotalHT],Honoraire[ClientId],Personne[[#This Row],[PersonneId]]))","v":0},{"$f":"Personne[[#This Row],[Facture (HT)]]+ROW()/100000","v":1.0290000000000001E-2},{"$f":"_xlfn.CONCAT(Personne[[#This Row],[Adresse]],\" \",Personne[[#This Row],[CodePostal]],\" \",Personne[[#This Row],[Ville]],\" \",Personne[[#This Row],[CodePays]])","v":"   "}]
[null,null,null,null,null,null,null,null,null,null,null,null,null,null,null,null,null,null,null,null,null,null,null,null,null,null,null,null,null,null,{"$f":"IF(PARAMETRES!$B$3=\"SANS\",SUMIFS(Honoraire[TotalHonoraireHT],Honoraire[ClientId],Personne[[#This Row],[PersonneId]]),SUMIFS(Honoraire[TotalHT],Honoraire[ClientId],Personne[[#This Row],[PersonneId]]))","v":0},{"$f":"Personne[[#This Row],[Facture (HT)]]+ROW()/100000","v":1.0319999999999999E-2},{"$f":"_xlfn.CONCAT(Personne[[#This Row],[Adresse]],\" \",Personne[[#This Row],[CodePostal]],\" \",Personne[[#This Row],[Ville]],\" \",Personne[[#This Row],[CodePays]])","v":"   "}]
[null,null,null,null,null,null,null,null,null,null,null,null,null,null,null,null,null,null,null,null,null,null,null,null,null,null,null,null,null,null,{"$f":"IF(PARAMETRES!$B$3=\"SANS\",SUMIFS(Honoraire[TotalHonoraireHT],Honoraire[ClientId],Personne[[#This Row],[PersonneId]]),SUMIFS(Honoraire[TotalHT],Honoraire[ClientId],Personne[[#This Row],[PersonneId]]))","v":0},{"$f":"Personne[[#This Row],[Facture (HT)]]+ROW()/100000","v":1.0330000000000001E-2},{"$f":"_xlfn.CONCAT(Personne[[#This Row],[Adresse]],\" \",Personne[[#This Row],[CodePostal]],\" \",Personne[[#This Row],[Ville]],\" \",Personne[[#This Row],[CodePays]])","v":"   "}]
[null,null,null,null,null,null,null,null,null,null,null,null,null,null,null,null,null,null,null,null,null,null,null,null,null,null,null,null,null,null,{"$f":"IF(PARAMETRES!$B$3=\"SANS\",SUMIFS(Honoraire[TotalHonoraireHT],Honoraire[ClientId],Personne[[#This Row],[PersonneId]]),SUMIFS(Honoraire[TotalHT],Honoraire[ClientId],Personne[[#This Row],[PersonneId]]))","v":0},{"$f":"Personne[[#This Row],[Facture (HT)]]+ROW()/100000","v":1.0359999999999999E-2},{"$f":"_xlfn.CONCAT(Personne[[#This Row],[Adresse]],\" \",Personne[[#This Row],[CodePostal]],\" \",Personne[[#This Row],[Ville]],\" \",Personne[[#This Row],[CodePays]])","v":"   "}]
[null,null,null,null,null,null,null,null,null,null,null,null,null,null,null,null,null,null,null,null,null,null,null,null,null,null,null,null,null,null,{"$f":"IF(PARAMETRES!$B$3=\"SANS\",SUMIFS(Honoraire[TotalHonoraireHT],Honoraire[ClientId],Personne[[#This Row],[PersonneId]]),SUMIFS(Honoraire[TotalHT],Honoraire[ClientId],Personne[[#This Row],[PersonneId]]))","v":0},{"$f":"Personne[[#This Row],[Facture (HT)]]+ROW()/100000","v":1.038E-2},{"$f":"_xlfn.CONCAT(Personne[[#This Row],[Adresse]],\" \",Personne[[#This Row],[CodePostal]],\" \",Personne[[#This Row],[Ville]],\" \",Personne[[#This Row],[CodePays]])","v":"   "}]
[null,null,null,null,null,null,null,null,null,null,null,null,null,null,null,null,null,null,null,null,null,null,null,null,null,null,null,null,null,null,{"$f":"IF(PARAMETRES!$B$3=\"SANS\",SUMIFS(Honoraire[TotalHonoraireHT],Honoraire[ClientId],Personne[[#This Row],[PersonneId]]),SUMIFS(Honoraire[TotalHT],Honoraire[ClientId],Personne[[#This Row],[PersonneId]]))","v":0},{"$f":"Personne[[#This Row],[Facture (HT)]]+ROW()/100000","v":1.0410000000000001E-2},{"$f":"_xlfn.CONCAT(Personne[[#This Row],[Adresse]],\" \",Personne[[#This Row],[CodePostal]],\" \",Personne[[#This Row],[Ville]],\" \",Personne[[#This Row],[CodePays]])","v":"   "}]
[null,null,null,null,null,null,null,null,null,null,null,null,null,null,null,null,null,null,null,null,null,null,null,null,null,null,null,null,null,null,{"$f":"IF(PARAMETRES!$B$3=\"SANS\",SUMIFS(Honoraire[TotalHonoraireHT],Honoraire[ClientId],Personne[[#This Row],[PersonneId]]),SUMIFS(Honoraire[TotalHT],Honoraire[ClientId],Personne[[#This Row],[PersonneId]]))","v":0},{"$f":"Personne[[#This Row],[Facture (HT)]]+ROW()/100000","v":1.042E-2},{"$f":"_xlfn.CONCAT(Personne[[#This Row],[Adresse]],\" \",Personne[[#This Row],[CodePostal]],\" \",Personne[[#This Row],[Ville]],\" \",Personne[[#This Row],[CodePays]])","v":"   "}]
[null,null,null,null,null,null,null,null,null,null,null,null,null,null,null,null,null,null,null,null,null,null,null,null,null,null,null,null,null,null,{"$f":"IF(PARAMETRES!$B$3=\"SANS\",SUMIFS(Honoraire[TotalHonoraireHT],Honoraire[ClientId],Personne[[#This Row],[PersonneId]]),SUMIFS(Honoraire[TotalHT],Honoraire[ClientId],Personne[[#This Row],[PersonneId]]))","v":0},{"$f":"Personne[[#This Row],[Facture (HT)]]+ROW()/100000","v":1.0449999999999999E-2},{"$f":"_xlfn.CONCAT(Personne[[#This Row],[Adresse]],\" \",Personne[[#This Row],[CodePostal]],\" \",Personne[[#This Row],[Ville]],\" \",Personne[[#This Row],[CodePays]])","v":"   "}]
[null,null,null,null,null,null,null,null,null,null,null,null,null,null,null,null,null,null,null,null,null,null,null,null,null,null,null,null,null,null,{"$f":"IF(PARAMETRES!$B$3=\"SANS\",SUMIFS(Honoraire[TotalHonoraireHT],Honoraire[ClientId],Personne[[#This Row],[PersonneId]]),SUMIFS(Honoraire[TotalHT],Honoraire[ClientId],Personne[[#This Row],[PersonneId]]))","v":0},{"$f":"Personne[[#This Row],[Facture (HT)]]+ROW()/100000","v":1.0460000000000001E-2},{"$f":"_xlfn.CONCAT(Personne[[#This Row],[Adresse]],\" \",Personne[[#This Row],[CodePostal]],\" \",Personne[[#This Row],[Ville]],\" \",Personne[[#This Row],[CodePays]])","v":"   "}]
[null,null,null,null,null,null,null,null,null,null,null,null,null,null,null,null,null,null,null,null,null,null,null,null,null,null,null,null,null,null,{"$f":"IF(PARAMETRES!$B$3=\"SANS\",SUMIFS(Honoraire[TotalHonoraireHT],Honoraire[ClientId],Personne[[#This Row],[PersonneId]]),SUMIFS(Honoraire[TotalHT],Honoraire[ClientId],Personne[[#This Row],[PersonneId]]))","v":0},{"$f":"Personne[[#This Row],[Facture (HT)]]+ROW()/100000","v":1.0500000000000001E-2},{"$f":"_xlfn.CONCAT(Personne[[#This Row],[Adresse]],\" \",Personne[[#This Row],[CodePostal]],\" \",Personne[[#This Row],[Ville]],\" \",Personne[[#This Row],[CodePays]])","v":"   "}]
[null,null,null,null,null,null,null,null,null,null,null,null,null,null,null,null,null,null,null,null,null,null,null,null,null,null,null,null,null,null,{"$f":"IF(PARAMETRES!$B$3=\"SANS\",SUMIFS(Honoraire[TotalHonoraireHT],Honoraire[ClientId],Personne[[#This Row],[PersonneId]]),SUMIFS(Honoraire[TotalHT],Honoraire[ClientId],Personne[[#This Row],[PersonneId]]))","v":0},{"$f":"Personne[[#This Row],[Facture (HT)]]+ROW()/100000","v":1.051E-2},{"$f":"_xlfn.CONCAT(Personne[[#This Row],[Adresse]],\" \",Personne[[#This Row],[CodePostal]],\" \",Personne[[#This Row],[Ville]],\" \",Personne[[#This Row],[CodePays]])","v":"   "}]
[null,null,null,null,null,null,null,null,null,null,null,null,null,null,null,null,null,null,null,null,null,null,null,null,null,null,null,null,null,null,{"$f":"IF(PARAMETRES!$B$3=\"SANS\",SUMIFS(Honoraire[TotalHonoraireHT],Honoraire[ClientId],Personne[[#This Row],[PersonneId]]),SUMIFS(Honoraire[TotalHT],Honoraire[ClientId],Personne[[#This Row],[PersonneId]]))","v":0},{"$f":"Personne[[#This Row],[Facture (HT)]]+ROW()/100000","v":1.0540000000000001E-2},{"$f":"_xlfn.CONCAT(Personne[[#This Row],[Adresse]],\" \",Personne[[#This Row],[CodePostal]],\" \",Personne[[#This Row],[Ville]],\" \",Personne[[#This Row],[CodePays]])","v":"   "}]
[null,null,null,null,null,null,null,null,null,null,null,null,null,null,null,null,null,null,null,null,null,null,null,null,null,null,null,null,null,null,{"$f":"IF(PARAMETRES!$B$3=\"SANS\",SUMIFS(Honoraire[TotalHonoraireHT],Honoraire[ClientId],Personne[[#This Row],[PersonneId]]),SUMIFS(Honoraire[TotalHT],Honoraire[ClientId],Personne[[#This Row],[PersonneId]]))","v":0},{"$f":"Personne[[#This Row],[Facture (HT)]]+ROW()/100000","v":1.055E-2},{"$f":"_xlfn.CONCAT(Personne[[#This Row],[Adresse]],\" \",Personne[[#This Row],[CodePostal]],\" \",Personne[[#This Row],[Ville]],\" \",Personne[[#This Row],[CodePays]])","v":"   "}]
[null,null,null,null,null,null,null,null,null,null,null,null,null,null,null,null,null,null,null,null,null,null,null,null,null,null,null,null,null,null,{"$f":"IF(PARAMETRES!$B$3=\"SANS\",SUMIFS(Honoraire[TotalHonoraireHT],Honoraire[ClientId],Personne[[#This Row],[PersonneId]]),SUMIFS(Honoraire[TotalHT],Honoraire[ClientId],Personne[[#This Row],[PersonneId]]))","v":0},{"$f":"Personne[[#This Row],[Facture (HT)]]+ROW()/100000","v":1.0580000000000001E-2},{"$f":"_xlfn.CONCAT(Personne[[#This Row],[Adresse]],\" \",Personne[[#This Row],[CodePostal]],\" \",Personne[[#This Row],[Ville]],\" \",Personne[[#This Row],[CodePays]])","v":"   "}]
[null,null,null,null,null,null,null,null,null,null,null,null,null,null,null,null,null,null,null,null,null,null,null,null,null,null,null,null,null,null,{"$f":"IF(PARAMETRES!$B$3=\"SANS\",SUMIFS(Honoraire[TotalHonoraireHT],Honoraire[ClientId],Personne[[#This Row],[PersonneId]]),SUMIFS(Honoraire[TotalHT],Honoraire[ClientId],Personne[[#This Row],[PersonneId]]))","v":0},{"$f":"Personne[[#This Row],[Facture (HT)]]+ROW()/100000","v":1.061E-2},{"$f":"_xlfn.CONCAT(Personne[[#This Row],[Adresse]],\" \",Personne[[#This Row],[CodePostal]],\" \",Personne[[#This Row],[Ville]],\" \",Personne[[#This Row],[CodePays]])","v":"   "}]
[null,null,null,null,null,null,null,null,null,null,null,null,null,null,null,null,null,null,null,null,null,null,null,null,null,null,null,null,null,null,{"$f":"IF(PARAMETRES!$B$3=\"SANS\",SUMIFS(Honoraire[TotalHonoraireHT],Honoraire[ClientId],Personne[[#This Row],[PersonneId]]),SUMIFS(Honoraire[TotalHT],Honoraire[ClientId],Personne[[#This Row],[PersonneId]]))","v":0},{"$f":"Personne[[#This Row],[Facture (HT)]]+ROW()/100000","v":1.0630000000000001E-2},{"$f":"_xlfn.CONCAT(Personne[[#This Row],[Adresse]],\" \",Personne[[#This Row],[CodePostal]],\" \",Personne[[#This Row],[Ville]],\" \",Personne[[#This Row],[CodePays]])","v":"   "}]
[null,null,null,null,null,null,null,null,null,null,null,null,null,null,null,null,null,null,null,null,null,null,null,null,null,null,null,null,null,null,{"$f":"IF(PARAMETRES!$B$3=\"SANS\",SUMIFS(Honoraire[TotalHonoraireHT],Honoraire[ClientId],Personne[[#This Row],[PersonneId]]),SUMIFS(Honoraire[TotalHT],Honoraire[ClientId],Personne[[#This Row],[PersonneId]]))","v":0},{"$f":"Personne[[#This Row],[Facture (HT)]]+ROW()/100000","v":1.064E-2},{"$f":"_xlfn.CONCAT(Personne[[#This Row],[Adresse]],\" \",Personne[[#This Row],[CodePostal]],\" \",Personne[[#This Row],[Ville]],\" \",Personne[[#This Row],[CodePays]])","v":"   "}]
[null,null,null,null,null,null,null,null,null,null,null,null,null,null,null,null,null,null,null,null,null,null,null,null,null,null,null,null,null,null,{"$f":"IF(PARAMETRES!$B$3=\"SANS\",SUMIFS(Honoraire[TotalHonoraireHT],Honoraire[ClientId],Personne[[#This Row],[PersonneId]]),SUMIFS(Honoraire[TotalHT],Honoraire[ClientId],Personne[[#This Row],[PersonneId]]))","v":0},{"$f":"Personne[[#This Row],[Facture (HT)]]+ROW()/100000","v":1.0670000000000001E-2},{"$f":"_xlfn.CONCAT(Personne[[#This Row],[Adresse]],\" \",Personne[[#This Row],[CodePostal]],\" \",Personne[[#This Row],[Ville]],\" \",Personne[[#This Row],[CodePays]])","v":"   "}]
[null,null,null,null,null,null,null,null,null,null,null,null,null,null,null,null,null,null,null,null,null,null,null,null,null,null,null,null,null,null,{"$f":"IF(PARAMETRES!$B$3=\"SANS\",SUMIFS(Honoraire[TotalHonoraireHT],Honoraire[ClientId],Personne[[#This Row],[PersonneId]]),SUMIFS(Honoraire[TotalHT],Honoraire[ClientId],Personne[[#This Row],[PersonneId]]))","v":0},{"$f":"Personne[[#This Row],[Facture (HT)]]+ROW()/100000","v":1.068E-2},{"$f":"_xlfn.CONCAT(Personne[[#This Row],[Adresse]],\" \",Personne[[#This Row],[CodePostal]],\" \",Personne[[#This Row],[Ville]],\" \",Personne[[#This Row],[CodePays]])","v":"   "}]
[null,null,null,null,null,null,null,null,null,null,null,null,null,null,null,null,null,null,null,null,null,null,null,null,null,null,null,null,null,null,{"$f":"IF(PARAMETRES!$B$3=\"SANS\",SUMIFS(Honoraire[TotalHonoraireHT],Honoraire[ClientId],Personne[[#This Row],[PersonneId]]),SUMIFS(Honoraire[TotalHT],Honoraire[ClientId],Personne[[#This Row],[PersonneId]]))","v":0},{"$f":"Personne[[#This Row],[Facture (HT)]]+ROW()/100000","v":1.0710000000000001E-2},{"$f":"_xlfn.CONCAT(Personne[[#This Row],[Adresse]],\" \",Personne[[#This Row],[CodePostal]],\" \",Personne[[#This Row],[Ville]],\" \",Personne[[#This Row],[CodePays]])","v":"   "}]
[null,null,null,null,null,null,null,null,null,null,null,null,null,null,null,null,null,null,null,null,null,null,null,null,null,null,null,null,null,null,{"$f":"IF(PARAMETRES!$B$3=\"SANS\",SUMIFS(Honoraire[TotalHonoraireHT],Honoraire[ClientId],Personne[[#This Row],[PersonneId]]),SUMIFS(Honoraire[TotalHT],Honoraire[ClientId],Personne[[#This Row],[PersonneId]]))","v":0},{"$f":"Personne[[#This Row],[Facture (HT)]]+ROW()/100000","v":1.073E-2},{"$f":"_xlfn.CONCAT(Personne[[#This Row],[Adresse]],\" \",Personne[[#This Row],[CodePostal]],\" \",Personne[[#This Row],[Ville]],\" \",Personne[[#This Row],[CodePays]])","v":"   "}]
[null,null,null,null,null,null,null,null,null,null,null,null,null,null,null,null,null,null,null,null,null,null,null,null,null,null,null,null,null,null,{"$f":"IF(PARAMETRES!$B$3=\"SANS\",SUMIFS(Honoraire[TotalHonoraireHT],Honoraire[ClientId],Personne[[#This Row],[PersonneId]]),SUMIFS(Honoraire[TotalHT],Honoraire[ClientId],Personne[[#This Row],[PersonneId]]))","v":0},{"$f":"Personne[[#This Row],[Facture (HT)]]+ROW()/100000","v":1.076E-2},{"$f":"_xlfn.CONCAT(Personne[[#This Row],[Adresse]],\" \",Personne[[#This Row],[CodePostal]],\" \",Personne[[#This Row],[Ville]],\" \",Personne[[#This Row],[CodePays]])","v":"   "}]
[null,null,null,null,null,null,null,null,null,null,null,null,null,null,null,null,null,null,null,null,null,null,null,null,null,null,null,null,null,null,{"$f":"IF(PARAMETRES!$B$3=\"SANS\",SUMIFS(Honoraire[TotalHonoraireHT],Honoraire[ClientId],Personne[[#This Row],[PersonneId]]),SUMIFS(Honoraire[TotalHT],Honoraire[ClientId],Personne[[#This Row],[PersonneId]]))","v":0},{"$f":"Personne[[#This Row],[Facture (HT)]]+ROW()/100000","v":1.077E-2},{"$f":"_xlfn.CONCAT(Personne[[#This Row],[Adresse]],\" \",Personne[[#This Row],[CodePostal]],\" \",Personne[[#This Row],[Ville]],\" \",Personne[[#This Row],[CodePays]])","v":"   "}]
[null,null,null,null,null,null,null,null,null,null,null,null,null,null,null,null,null,null,null,null,null,null,null,null,null,null,null,null,null,null,{"$f":"IF(PARAMETRES!$B$3=\"SANS\",SUMIFS(Honoraire[TotalHonoraireHT],Honoraire[ClientId],Personne[[#This Row],[PersonneId]]),SUMIFS(Honoraire[TotalHT],Honoraire[ClientId],Personne[[#This Row],[PersonneId]]))","v":0},{"$f":"Personne[[#This Row],[Facture (HT)]]+ROW()/100000","v":1.0800000000000001E-2},{"$f":"_xlfn.CONCAT(Personne[[#This Row],[Adresse]],\" \",Personne[[#This Row],[CodePostal]],\" \",Personne[[#This Row],[Ville]],\" \",Personne[[#This Row],[CodePays]])","v":"   "}]
[null,null,null,null,null,null,null,null,null,null,null,null,null,null,null,null,null,null,null,null,null,null,null,null,null,null,null,null,null,null,{"$f":"IF(PARAMETRES!$B$3=\"SANS\",SUMIFS(Honoraire[TotalHonoraireHT],Honoraire[ClientId],Personne[[#This Row],[PersonneId]]),SUMIFS(Honoraire[TotalHT],Honoraire[ClientId],Personne[[#This Row],[PersonneId]]))","v":0},{"$f":"Personne[[#This Row],[Facture (HT)]]+ROW()/100000","v":1.081E-2},{"$f":"_xlfn.CONCAT(Personne[[#This Row],[Adresse]],\" \",Personne[[#This Row],[CodePostal]],\" \",Personne[[#This Row],[Ville]],\" \",Personne[[#This Row],[CodePays]])","v":"   "}]
[null,null,null,null,null,null,null,null,null,null,null,null,null,null,null,null,null,null,null,null,null,null,null,null,null,null,null,null,null,null,{"$f":"IF(PARAMETRES!$B$3=\"SANS\",SUMIFS(Honoraire[TotalHonoraireHT],Honoraire[ClientId],Personne[[#This Row],[PersonneId]]),SUMIFS(Honoraire[TotalHT],Honoraire[ClientId],Personne[[#This Row],[PersonneId]]))","v":0},{"$f":"Personne[[#This Row],[Facture (HT)]]+ROW()/100000","v":1.0829999999999999E-2},{"$f":"_xlfn.CONCAT(Personne[[#This Row],[Adresse]],\" \",Personne[[#This Row],[CodePostal]],\" \",Personne[[#This Row],[Ville]],\" \",Personne[[#This Row],[CodePays]])","v":"   "}]
[null,null,null,null,null,null,null,null,null,null,null,null,null,null,null,null,null,null,null,null,null,null,null,null,null,null,null,null,null,null,{"$f":"IF(PARAMETRES!$B$3=\"SANS\",SUMIFS(Honoraire[TotalHonoraireHT],Honoraire[ClientId],Personne[[#This Row],[PersonneId]]),SUMIFS(Honoraire[TotalHT],Honoraire[ClientId],Personne[[#This Row],[PersonneId]]))","v":0},{"$f":"Personne[[#This Row],[Facture (HT)]]+ROW()/100000","v":1.086E-2},{"$f":"_xlfn.CONCAT(Personne[[#This Row],[Adresse]],\" \",Personne[[#This Row],[CodePostal]],\" \",Personne[[#This Row],[Ville]],\" \",Personne[[#This Row],[CodePays]])","v":"   "}]
[null,null,null,null,null,null,null,null,null,null,null,null,null,null,null,null,null,null,null,null,null,null,null,null,null,null,null,null,null,null,{"$f":"IF(PARAMETRES!$B$3=\"SANS\",SUMIFS(Honoraire[TotalHonoraireHT],Honoraire[ClientId],Personne[[#This Row],[PersonneId]]),SUMIFS(Honoraire[TotalHT],Honoraire[ClientId],Personne[[#This Row],[PersonneId]]))","v":0},{"$f":"Personne[[#This Row],[Facture (HT)]]+ROW()/100000","v":1.089E-2},{"$f":"_xlfn.CONCAT(Personne[[#This Row],[Adresse]],\" \",Personne[[#This Row],[CodePostal]],\" \",Personne[[#This Row],[Ville]],\" \",Personne[[#This Row],[CodePays]])","v":"   "}]
[null,null,null,null,null,null,null,null,null,null,null,null,null,null,null,null,null,null,null,null,null,null,null,null,null,null,null,null,null,null,{"$f":"IF(PARAMETRES!$B$3=\"SANS\",SUMIFS(Honoraire[TotalHonoraireHT],Honoraire[ClientId],Personne[[#This Row],[PersonneId]]),SUMIFS(Honoraire[TotalHT],Honoraire[ClientId],Personne[[#This Row],[PersonneId]]))","v":0},{"$f":"Personne[[#This Row],[Facture (HT)]]+ROW()/100000","v":1.09E-2},{"$f":"_xlfn.CONCAT(Personne[[#This Row],[Adresse]],\" \",Personne[[#This Row],[CodePostal]],\" \",Personne[[#This Row],[Ville]],\" \",Personne[[#This Row],[CodePays]])","v":"   "}]
[null,null,null,null,null,null,null,null,null,null,null,null,null,null,null,null,null,null,null,null,null,null,null,null,null,null,null,null,null,null,{"$f":"IF(PARAMETRES!$B$3=\"SANS\",SUMIFS(Honoraire[TotalHonoraireHT],Honoraire[ClientId],Personne[[#This Row],[PersonneId]]),SUMIFS(Honoraire[TotalHT],Honoraire[ClientId],Personne[[#This Row],[PersonneId]]))","v":0},{"$f":"Personne[[#This Row],[Facture (HT)]]+ROW()/100000","v":1.093E-2},{"$f":"_xlfn.CONCAT(Personne[[#This Row],[Adresse]],\" \",Personne[[#This Row],[CodePostal]],\" \",Personne[[#This Row],[Ville]],\" \",Personne[[#This Row],[CodePays]])","v":"   "}]
[null,null,null,null,null,null,null,null,null,null,null,null,null,null,null,null,null,null,null,null,null,null,null,null,null,null,null,null,null,null,{"$f":"IF(PARAMETRES!$B$3=\"SANS\",SUMIFS(Honoraire[TotalHonoraireHT],Honoraire[ClientId],Personne[[#This Row],[PersonneId]]),SUMIFS(Honoraire[TotalHT],Honoraire[ClientId],Personne[[#This Row],[PersonneId]]))","v":0},{"$f":"Personne[[#This Row],[Facture (HT)]]+ROW()/100000","v":1.0959999999999999E-2},{"$f":"_xlfn.CONCAT(Personne[[#This Row],[Adresse]],\" \",Personne[[#This Row],[CodePostal]],\" \",Personne[[#This Row],[Ville]],\" \",Personne[[#This Row],[CodePays]])","v":"   "}]
[null,null,null,null,null,null,null,null,null,null,null,null,null,null,null,null,null,null,null,null,null,null,null,null,null,null,null,null,null,null,{"$f":"IF(PARAMETRES!$B$3=\"SANS\",SUMIFS(Honoraire[TotalHonoraireHT],Honoraire[ClientId],Personne[[#This Row],[PersonneId]]),SUMIFS(Honoraire[TotalHT],Honoraire[ClientId],Personne[[#This Row],[PersonneId]]))","v":0},{"$f":"Personne[[#This Row],[Facture (HT)]]+ROW()/100000","v":1.098E-2},{"$f":"_xlfn.CONCAT(Personne[[#This Row],[Adresse]],\" \",Personne[[#This Row],[CodePostal]],\" \",Personne[[#This Row],[Ville]],\" \",Personne[[#This Row],[CodePays]])","v":"   "}]
[null,null,null,null,null,null,null,null,null,null,null,null,null,null,null,null,null,null,null,null,null,null,null,null,null,null,null,null,null,null,{"$f":"IF(PARAMETRES!$B$3=\"SANS\",SUMIFS(Honoraire[TotalHonoraireHT],Honoraire[ClientId],Personne[[#This Row],[PersonneId]]),SUMIFS(Honoraire[TotalHT],Honoraire[ClientId],Personne[[#This Row],[PersonneId]]))","v":0},{"$f":"Personne[[#This Row],[Facture (HT)]]+ROW()/100000","v":1.099E-2},{"$f":"_xlfn.CONCAT(Personne[[#This Row],[Adresse]],\" \",Personne[[#This Row],[CodePostal]],\" \",Personne[[#This Row],[Ville]],\" \",Personne[[#This Row],[CodePays]])","v":"   "}]
[null,null,null,null,null,null,null,null,null,null,null,null,null,null,null,null,null,null,null,null,null,null,null,null,null,null,null,null,null,null,{"$f":"IF(PARAMETRES!$B$3=\"SANS\",SUMIFS(Honoraire[TotalHonoraireHT],Honoraire[ClientId],Personne[[#This Row],[PersonneId]]),SUMIFS(Honoraire[TotalHT],Honoraire[ClientId],Personne[[#This Row],[PersonneId]]))","v":0},{"$f":"Personne[[#This Row],[Facture (HT)]]+ROW()/100000","v":1.102E-2},{"$f":"_xlfn.CONCAT(Personne[[#This Row],[Adresse]],\" \",Personne[[#This Row],[CodePostal]],\" \",Personne[[#This Row],[Ville]],\" \",Personne[[#This Row],[CodePays]])","v":"   "}]
[null,null,null,null,null,null,null,null,null,null,null,null,null,null,null,null,null,null,null,null,null,null,null,null,null,null,null,null,null,null,{"$f":"IF(PARAMETRES!$B$3=\"SANS\",SUMIFS(Honoraire[TotalHonoraireHT],Honoraire[ClientId],Personne[[#This Row],[PersonneId]]),SUMIFS(Honoraire[TotalHT],Honoraire[ClientId],Personne[[#This Row],[PersonneId]]))","v":0},{"$f":"Personne[[#This Row],[Facture (HT)]]+ROW()/100000","v":1.103E-2},{"$f":"_xlfn.CONCAT(Personne[[#This Row],[Adresse]],\" \",Personne[[#This Row],[CodePostal]],\" \",Personne[[#This Row],[Ville]],\" \",Personne[[#This Row],[CodePays]])","v":"   "}]
[null,null,null,null,null,null,null,null,null,null,null,null,null,null,null,null,null,null,null,null,null,null,null,null,null,null,null,null,null,null,{"$f":"IF(PARAMETRES!$B$3=\"SANS\",SUMIFS(Honoraire[TotalHonoraireHT],Honoraire[ClientId],Personne[[#This Row],[PersonneId]]),SUMIFS(Honoraire[TotalHT],Honoraire[ClientId],Personne[[#This Row],[PersonneId]]))","v":0},{"$f":"Personne[[#This Row],[Facture (HT)]]+ROW()/100000","v":1.106E-2},{"$f":"_xlfn.CONCAT(Personne[[#This Row],[Adresse]],\" \",Personne[[#This Row],[CodePostal]],\" \",Personne[[#This Row],[Ville]],\" \",Personne[[#This Row],[CodePays]])","v":"   "}]
[null,null,null,null,null,null,null,null,null,null,null,null,null,null,null,null,null,null,null,null,null,null,null,null,null,null,null,null,null,null,{"$f":"IF(PARAMETRES!$B$3=\"SANS\",SUMIFS(Honoraire[TotalHonoraireHT],Honoraire[ClientId],Personne[[#This Row],[PersonneId]]),SUMIFS(Honoraire[TotalHT],Honoraire[ClientId],Personne[[#This Row],[PersonneId]]))","v":0},{"$f":"Personne[[#This Row],[Facture (HT)]]+ROW()/100000","v":1.108E-2},{"$f":"_xlfn.CONCAT(Personne[[#This Row],[Adresse]],\" \",Personne[[#This Row],[CodePostal]],\" \",Personne[[#This Row],[Ville]],\" \",Personne[[#This Row],[CodePays]])","v":"   "}]
[null,null,null,null,null,null,null,null,null,null,null,null,null,null,null,null,null,null,null,null,null,null,null,null,null,null,null,null,null,null,{"$f":"IF(PARAMETRES!$B$3=\"SANS\",SUMIFS(Honoraire[TotalHonoraireHT],Honoraire[ClientId],Personne[[#This Row],[PersonneId]]),SUMIFS(Honoraire[TotalHT],Honoraire[ClientId],Personne[[#This Row],[PersonneId]]))","v":0},{"$f":"Personne[[#This Row],[Facture (HT)]]+ROW()/100000","v":1.111E-2},{"$f":"_xlfn.CONCAT(Personne[[#This Row],[Adresse]],\" \",Personne[[#This Row],[CodePostal]],\" \",Personne[[#This Row],[Ville]],\" \",Personne[[#This Row],[CodePays]])","v":"   "}]
[null,null,null,null,null,null,null,null,null,null,null,null,null,null,null,null,null,null,null,null,null,null,null,null,null,null,null,null,null,null,{"$f":"IF(PARAMETRES!$B$3=\"SANS\",SUMIFS(Honoraire[TotalHonoraireHT],Honoraire[ClientId],Personne[[#This Row],[PersonneId]]),SUMIFS(Honoraire[TotalHT],Honoraire[ClientId],Personne[[#This Row],[PersonneId]]))","v":0},{"$f":"Personne[[#This Row],[Facture (HT)]]+ROW()/100000","v":1.112E-2},{"$f":"_xlfn.CONCAT(Personne[[#This Row],[Adresse]],\" \",Personne[[#This Row],[CodePostal]],\" \",Personne[[#This Row],[Ville]],\" \",Personne[[#This Row],[CodePays]])","v":"   "}]
[null,null,null,null,null,null,null,null,null,null,null,null,null,null,null,null,null,null,null,null,null,null,null,null,null,null,null,null,null,null,{"$f":"IF(PARAMETRES!$B$3=\"SANS\",SUMIFS(Honoraire[TotalHonoraireHT],Honoraire[ClientId],Personne[[#This Row],[PersonneId]]),SUMIFS(Honoraire[TotalHT],Honoraire[ClientId],Personne[[#This Row],[PersonneId]]))","v":0},{"$f":"Personne[[#This Row],[Facture (HT)]]+ROW()/100000","v":1.115E-2},{"$f":"_xlfn.CONCAT(Personne[[#This Row],[Adresse]],\" \",Personne[[#This Row],[CodePostal]],\" \",Personne[[#This Row],[Ville]],\" \",Personne[[#This Row],[CodePays]])","v":"   "}]
[null,null,null,null,null,null,null,null,null,null,null,null,null,null,null,null,null,null,null,null,null,null,null,null,null,null,null,null,null,null,{"$f":"IF(PARAMETRES!$B$3=\"SANS\",SUMIFS(Honoraire[TotalHonoraireHT],Honoraire[ClientId],Personne[[#This Row],[PersonneId]]),SUMIFS(Honoraire[TotalHT],Honoraire[ClientId],Personne[[#This Row],[PersonneId]]))","v":0},{"$f":"Personne[[#This Row],[Facture (HT)]]+ROW()/100000","v":1.116E-2},{"$f":"_xlfn.CONCAT(Personne[[#This Row],[Adresse]],\" \",Personne[[#This Row],[CodePostal]],\" \",Personne[[#This Row],[Ville]],\" \",Personne[[#This Row],[CodePays]])","v":"   "}]
[null,null,null,null,null,null,null,null,null,null,null,null,null,null,null,null,null,null,null,null,null,null,null,null,null,null,null,null,null,null,{"$f":"IF(PARAMETRES!$B$3=\"SANS\",SUMIFS(Honoraire[TotalHonoraireHT],Honoraire[ClientId],Personne[[#This Row],[PersonneId]]),SUMIFS(Honoraire[TotalHT],Honoraire[ClientId],Personne[[#This Row],[PersonneId]]))","v":0},{"$f":"Personne[[#This Row],[Facture (HT)]]+ROW()/100000","v":1.1180000000000001E-2},{"$f":"_xlfn.CONCAT(Personne[[#This Row],[Adresse]],\" \",Personne[[#This Row],[CodePostal]],\" \",Personne[[#This Row],[Ville]],\" \",Personne[[#This Row],[CodePays]])","v":"   "}]
[null,null,null,null,null,null,null,null,null,null,null,null,null,null,null,null,null,null,null,null,null,null,null,null,null,null,null,null,null,null,{"$f":"IF(PARAMETRES!$B$3=\"SANS\",SUMIFS(Honoraire[TotalHonoraireHT],Honoraire[ClientId],Personne[[#This Row],[PersonneId]]),SUMIFS(Honoraire[TotalHT],Honoraire[ClientId],Personne[[#This Row],[PersonneId]]))","v":0},{"$f":"Personne[[#This Row],[Facture (HT)]]+ROW()/100000","v":1.1209999999999999E-2},{"$f":"_xlfn.CONCAT(Personne[[#This Row],[Adresse]],\" \",Personne[[#This Row],[CodePostal]],\" \",Personne[[#This Row],[Ville]],\" \",Personne[[#This Row],[CodePays]])","v":"   "}]
[null,null,null,null,null,null,null,null,null,null,null,null,null,null,null,null,null,null,null,null,null,null,null,null,null,null,null,null,null,null,{"$f":"IF(PARAMETRES!$B$3=\"SANS\",SUMIFS(Honoraire[TotalHonoraireHT],Honoraire[ClientId],Personne[[#This Row],[PersonneId]]),SUMIFS(Honoraire[TotalHT],Honoraire[ClientId],Personne[[#This Row],[PersonneId]]))","v":0},{"$f":"Personne[[#This Row],[Facture (HT)]]+ROW()/100000","v":1.124E-2},{"$f":"_xlfn.CONCAT(Personne[[#This Row],[Adresse]],\" \",Personne[[#This Row],[CodePostal]],\" \",Personne[[#This Row],[Ville]],\" \",Personne[[#This Row],[CodePays]])","v":"   "}]
[null,null,null,null,null,null,null,null,null,null,null,null,null,null,null,null,null,null,null,null,null,null,null,null,null,null,null,null,null,null,{"$f":"IF(PARAMETRES!$B$3=\"SANS\",SUMIFS(Honoraire[TotalHonoraireHT],Honoraire[ClientId],Personne[[#This Row],[PersonneId]]),SUMIFS(Honoraire[TotalHT],Honoraire[ClientId],Personne[[#This Row],[PersonneId]]))","v":0},{"$f":"Personne[[#This Row],[Facture (HT)]]+ROW()/100000","v":1.125E-2},{"$f":"_xlfn.CONCAT(Personne[[#This Row],[Adresse]],\" \",Personne[[#This Row],[CodePostal]],\" \",Personne[[#This Row],[Ville]],\" \",Personne[[#This Row],[CodePays]])","v":"   "}]
[null,null,null,null,null,null,null,null,null,null,null,null,null,null,null,null,null,null,null,null,null,null,null,null,null,null,null,null,null,null,{"$f":"IF(PARAMETRES!$B$3=\"SANS\",SUMIFS(Honoraire[TotalHonoraireHT],Honoraire[ClientId],Personne[[#This Row],[PersonneId]]),SUMIFS(Honoraire[TotalHT],Honoraire[ClientId],Personne[[#This Row],[PersonneId]]))","v":0},{"$f":"Personne[[#This Row],[Facture (HT)]]+ROW()/100000","v":1.128E-2},{"$f":"_xlfn.CONCAT(Personne[[#This Row],[Adresse]],\" \",Personne[[#This Row],[CodePostal]],\" \",Personne[[#This Row],[Ville]],\" \",Personne[[#This Row],[CodePays]])","v":"   "}]
[null,null,null,null,null,null,null,null,null,null,null,null,null,null,null,null,null,null,null,null,null,null,null,null,null,null,null,null,null,null,{"$f":"IF(PARAMETRES!$B$3=\"SANS\",SUMIFS(Honoraire[TotalHonoraireHT],Honoraire[ClientId],Personne[[#This Row],[PersonneId]]),SUMIFS(Honoraire[TotalHT],Honoraire[ClientId],Personne[[#This Row],[PersonneId]]))","v":0},{"$f":"Personne[[#This Row],[Facture (HT)]]+ROW()/100000","v":1.1310000000000001E-2},{"$f":"_xlfn.CONCAT(Personne[[#This Row],[Adresse]],\" \",Personne[[#This Row],[CodePostal]],\" \",Personne[[#This Row],[Ville]],\" \",Personne[[#This Row],[CodePays]])","v":"   "}]
[null,null,null,null,null,null,null,null,null,null,null,null,null,null,null,null,null,null,null,null,null,null,null,null,null,null,null,null,null,null,{"$f":"IF(PARAMETRES!$B$3=\"SANS\",SUMIFS(Honoraire[TotalHonoraireHT],Honoraire[ClientId],Personne[[#This Row],[PersonneId]]),SUMIFS(Honoraire[TotalHT],Honoraire[ClientId],Personne[[#This Row],[PersonneId]]))","v":0},{"$f":"Personne[[#This Row],[Facture (HT)]]+ROW()/100000","v":1.133E-2},{"$f":"_xlfn.CONCAT(Personne[[#This Row],[Adresse]],\" \",Personne[[#This Row],[CodePostal]],\" \",Personne[[#This Row],[Ville]],\" \",Personne[[#This Row],[CodePays]])","v":"   "}]
[null,null,null,null,null,null,null,null,null,null,null,null,null,null,null,null,null,null,null,null,null,null,null,null,null,null,null,null,null,null,{"$f":"IF(PARAMETRES!$B$3=\"SANS\",SUMIFS(Honoraire[TotalHonoraireHT],Honoraire[ClientId],Personne[[#This Row],[PersonneId]]),SUMIFS(Honoraire[TotalHT],Honoraire[ClientId],Personne[[#This Row],[PersonneId]]))","v":0},{"$f":"Personne[[#This Row],[Facture (HT)]]+ROW()/100000","v":1.1339999999999999E-2},{"$f":"_xlfn.CONCAT(Personne[[#This Row],[Adresse]],\" \",Personne[[#This Row],[CodePostal]],\" \",Personne[[#This Row],[Ville]],\" \",Personne[[#This Row],[CodePays]])","v":"   "}]
[null,null,null,null,null,null,null,null,null,null,null,null,null,null,null,null,null,null,null,null,null,null,null,null,null,null,null,null,null,null,{"$f":"IF(PARAMETRES!$B$3=\"SANS\",SUMIFS(Honoraire[TotalHonoraireHT],Honoraire[ClientId],Personne[[#This Row],[PersonneId]]),SUMIFS(Honoraire[TotalHT],Honoraire[ClientId],Personne[[#This Row],[PersonneId]]))","v":0},{"$f":"Personne[[#This Row],[Facture (HT)]]+ROW()/100000","v":1.137E-2},{"$f":"_xlfn.CONCAT(Personne[[#This Row],[Adresse]],\" \",Personne[[#This Row],[CodePostal]],\" \",Personne[[#This Row],[Ville]],\" \",Personne[[#This Row],[CodePays]])","v":"   "}]
[null,null,null,null,null,null,null,null,null,null,null,null,null,null,null,null,null,null,null,null,null,null,null,null,null,null,null,null,null,null,{"$f":"IF(PARAMETRES!$B$3=\"SANS\",SUMIFS(Honoraire[TotalHonoraireHT],Honoraire[ClientId],Personne[[#This Row],[PersonneId]]),SUMIFS(Honoraire[TotalHT],Honoraire[ClientId],Personne[[#This Row],[PersonneId]]))","v":0},{"$f":"Personne[[#This Row],[Facture (HT)]]+ROW()/100000","v":1.1379999999999999E-2},{"$f":"_xlfn.CONCAT(Personne[[#This Row],[Adresse]],\" \",Personne[[#This Row],[CodePostal]],\" \",Personne[[#This Row],[Ville]],\" \",Personne[[#This Row],[CodePays]])","v":"   "}]
[null,null,null,null,null,null,null,null,null,null,null,null,null,null,null,null,null,null,null,null,null,null,null,null,null,null,null,null,null,null,{"$f":"IF(PARAMETRES!$B$3=\"SANS\",SUMIFS(Honoraire[TotalHonoraireHT],Honoraire[ClientId],Personne[[#This Row],[PersonneId]]),SUMIFS(Honoraire[TotalHT],Honoraire[ClientId],Personne[[#This Row],[PersonneId]]))","v":0},{"$f":"Personne[[#This Row],[Facture (HT)]]+ROW()/100000","v":1.141E-2},{"$f":"_xlfn.CONCAT(Personne[[#This Row],[Adresse]],\" \",Personne[[#This Row],[CodePostal]],\" \",Personne[[#This Row],[Ville]],\" \",Personne[[#This Row],[CodePays]])","v":"   "}]
[null,null,null,null,null,null,null,null,null,null,null,null,null,null,null,null,null,null,null,null,null,null,null,null,null,null,null,null,null,null,{"$f":"IF(PARAMETRES!$B$3=\"SANS\",SUMIFS(Honoraire[TotalHonoraireHT],Honoraire[ClientId],Personne[[#This Row],[PersonneId]]),SUMIFS(Honoraire[TotalHT],Honoraire[ClientId],Personne[[#This Row],[PersonneId]]))","v":0},{"$f":"Personne[[#This Row],[Facture (HT)]]+ROW()/100000","v":1.1429999999999999E-2},{"$f":"_xlfn.CONCAT(Personne[[#This Row],[Adresse]],\" \",Personne[[#This Row],[CodePostal]],\" \",Personne[[#This Row],[Ville]],\" \",Personne[[#This Row],[CodePays]])","v":"   "}]
[null,null,null,null,null,null,null,null,null,null,null,null,null,null,null,null,null,null,null,null,null,null,null,null,null,null,null,null,null,null,{"$f":"IF(PARAMETRES!$B$3=\"SANS\",SUMIFS(Honoraire[TotalHonoraireHT],Honoraire[ClientId],Personne[[#This Row],[PersonneId]]),SUMIFS(Honoraire[TotalHT],Honoraire[ClientId],Personne[[#This Row],[PersonneId]]))","v":0},{"$f":"Personne[[#This Row],[Facture (HT)]]+ROW()/100000","v":1.146E-2},{"$f":"_xlfn.CONCAT(Personne[[#This Row],[Adresse]],\" \",Personne[[#This Row],[CodePostal]],\" \",Personne[[#This Row],[Ville]],\" \",Personne[[#This Row],[CodePays]])","v":"   "}]
[null,null,null,null,null,null,null,null,null,null,null,null,null,null,null,null,null,null,null,null,null,null,null,null,null,null,null,null,null,null,{"$f":"IF(PARAMETRES!$B$3=\"SANS\",SUMIFS(Honoraire[TotalHonoraireHT],Honoraire[ClientId],Personne[[#This Row],[PersonneId]]),SUMIFS(Honoraire[TotalHT],Honoraire[ClientId],Personne[[#This Row],[PersonneId]]))","v":0},{"$f":"Personne[[#This Row],[Facture (HT)]]+ROW()/100000","v":1.1469999999999999E-2},{"$f":"_xlfn.CONCAT(Personne[[#This Row],[Adresse]],\" \",Personne[[#This Row],[CodePostal]],\" \",Personne[[#This Row],[Ville]],\" \",Personne[[#This Row],[CodePays]])","v":"   "}]
[null,null,null,null,null,null,null,null,null,null,null,null,null,null,null,null,null,null,null,null,null,null,null,null,null,null,null,null,null,null,{"$f":"IF(PARAMETRES!$B$3=\"SANS\",SUMIFS(Honoraire[TotalHonoraireHT],Honoraire[ClientId],Personne[[#This Row],[PersonneId]]),SUMIFS(Honoraire[TotalHT],Honoraire[ClientId],Personne[[#This Row],[PersonneId]]))","v":0},{"$f":"Personne[[#This Row],[Facture (HT)]]+ROW()/100000","v":1.15E-2},{"$f":"_xlfn.CONCAT(Personne[[#This Row],[Adresse]],\" \",Personne[[#This Row],[CodePostal]],\" \",Personne[[#This Row],[Ville]],\" \",Personne[[#This Row],[CodePays]])","v":"   "}]
[null,null,null,null,null,null,null,null,null,null,null,null,null,null,null,null,null,null,null,null,null,null,null,null,null,null,null,null,null,null,{"$f":"IF(PARAMETRES!$B$3=\"SANS\",SUMIFS(Honoraire[TotalHonoraireHT],Honoraire[ClientId],Personne[[#This Row],[PersonneId]]),SUMIFS(Honoraire[TotalHT],Honoraire[ClientId],Personne[[#This Row],[PersonneId]]))","v":0},{"$f":"Personne[[#This Row],[Facture (HT)]]+ROW()/100000","v":1.1509999999999999E-2},{"$f":"_xlfn.CONCAT(Personne[[#This Row],[Adresse]],\" \",Personne[[#This Row],[CodePostal]],\" \",Personne[[#This Row],[Ville]],\" \",Personne[[#This Row],[CodePays]])","v":"   "}]
[null,null,null,null,null,null,null,null,null,null,null,null,null,null,null,null,null,null,null,null,null,null,null,null,null,null,null,null,null,null,{"$f":"IF(PARAMETRES!$B$3=\"SANS\",SUMIFS(Honoraire[TotalHonoraireHT],Honoraire[ClientId],Personne[[#This Row],[PersonneId]]),SUMIFS(Honoraire[TotalHT],Honoraire[ClientId],Personne[[#This Row],[PersonneId]]))","v":0},{"$f":"Personne[[#This Row],[Facture (HT)]]+ROW()/100000","v":1.153E-2},{"$f":"_xlfn.CONCAT(Personne[[#This Row],[Adresse]],\" \",Personne[[#This Row],[CodePostal]],\" \",Personne[[#This Row],[Ville]],\" \",Personne[[#This Row],[CodePays]])","v":"   "}]
[null,null,null,null,null,null,null,null,null,null,null,null,null,null,null,null,null,null,null,null,null,null,null,null,null,null,null,null,null,null,{"$f":"IF(PARAMETRES!$B$3=\"SANS\",SUMIFS(Honoraire[TotalHonoraireHT],Honoraire[ClientId],Personne[[#This Row],[PersonneId]]),SUMIFS(Honoraire[TotalHT],Honoraire[ClientId],Personne[[#This Row],[PersonneId]]))","v":0},{"$f":"Personne[[#This Row],[Facture (HT)]]+ROW()/100000","v":1.1560000000000001E-2},{"$f":"_xlfn.CONCAT(Personne[[#This Row],[Adresse]],\" \",Personne[[#This Row],[CodePostal]],\" \",Personne[[#This Row],[Ville]],\" \",Personne[[#This Row],[CodePays]])","v":"   "}]
[null,null,null,null,null,null,null,null,null,null,null,null,null,null,null,null,null,null,null,null,null,null,null,null,null,null,null,null,null,null,{"$f":"IF(PARAMETRES!$B$3=\"SANS\",SUMIFS(Honoraire[TotalHonoraireHT],Honoraire[ClientId],Personne[[#This Row],[PersonneId]]),SUMIFS(Honoraire[TotalHT],Honoraire[ClientId],Personne[[#This Row],[PersonneId]]))","v":0},{"$f":"Personne[[#This Row],[Facture (HT)]]+ROW()/100000","v":1.159E-2},{"$f":"_xlfn.CONCAT(Personne[[#This Row],[Adresse]],\" \",Personne[[#This Row],[CodePostal]],\" \",Personne[[#This Row],[Ville]],\" \",Personne[[#This Row],[CodePays]])","v":"   "}]
[null,null,null,null,null,null,null,null,null,null,null,null,null,null,null,null,null,null,null,null,null,null,null,null,null,null,null,null,null,null,{"$f":"IF(PARAMETRES!$B$3=\"SANS\",SUMIFS(Honoraire[TotalHonoraireHT],Honoraire[ClientId],Personne[[#This Row],[PersonneId]]),SUMIFS(Honoraire[TotalHT],Honoraire[ClientId],Personne[[#This Row],[PersonneId]]))","v":0},{"$f":"Personne[[#This Row],[Facture (HT)]]+ROW()/100000","v":1.1599999999999999E-2},{"$f":"_xlfn.CONCAT(Personne[[#This Row],[Adresse]],\" \",Personne[[#This Row],[CodePostal]],\" \",Personne[[#This Row],[Ville]],\" \",Personne[[#This Row],[CodePays]])","v":"   "}]
[null,null,null,null,null,null,null,null,null,null,null,null,null,null,null,null,null,null,null,null,null,null,null,null,null,null,null,null,null,null,{"$f":"IF(PARAMETRES!$B$3=\"SANS\",SUMIFS(Honoraire[TotalHonoraireHT],Honoraire[ClientId],Personne[[#This Row],[PersonneId]]),SUMIFS(Honoraire[TotalHT],Honoraire[ClientId],Personne[[#This Row],[PersonneId]]))","v":0},{"$f":"Personne[[#This Row],[Facture (HT)]]+ROW()/100000","v":1.163E-2},{"$f":"_xlfn.CONCAT(Personne[[#This Row],[Adresse]],\" \",Personne[[#This Row],[CodePostal]],\" \",Personne[[#This Row],[Ville]],\" \",Personne[[#This Row],[CodePays]])","v":"   "}]
[null,null,null,null,null,null,null,null,null,null,null,null,null,null,null,null,null,null,null,null,null,null,null,null,null,null,null,null,null,null,{"$f":"IF(PARAMETRES!$B$3=\"SANS\",SUMIFS(Honoraire[TotalHonoraireHT],Honoraire[ClientId],Personne[[#This Row],[PersonneId]]),SUMIFS(Honoraire[TotalHT],Honoraire[ClientId],Personne[[#This Row],[PersonneId]]))","v":0},{"$f":"Personne[[#This Row],[Facture (HT)]]+ROW()/100000","v":1.1639999999999999E-2},{"$f":"_xlfn.CONCAT(Personne[[#This Row],[Adresse]],\" \",Personne[[#This Row],[CodePostal]],\" \",Personne[[#This Row],[Ville]],\" \",Personne[[#This Row],[CodePays]])","v":"   "}]
[null,null,null,null,null,null,null,null,null,null,null,null,null,null,null,null,null,null,null,null,null,null,null,null,null,null,null,null,null,null,{"$f":"IF(PARAMETRES!$B$3=\"SANS\",SUMIFS(Honoraire[TotalHonoraireHT],Honoraire[ClientId],Personne[[#This Row],[PersonneId]]),SUMIFS(Honoraire[TotalHT],Honoraire[ClientId],Personne[[#This Row],[PersonneId]]))","v":0},{"$f":"Personne[[#This Row],[Facture (HT)]]+ROW()/100000","v":1.166E-2},{"$f":"_xlfn.CONCAT(Personne[[#This Row],[Adresse]],\" \",Personne[[#This Row],[CodePostal]],\" \",Personne[[#This Row],[Ville]],\" \",Personne[[#This Row],[CodePays]])","v":"   "}]
[null,null,null,null,null,null,null,null,null,null,null,null,null,null,null,null,null,null,null,null,null,null,null,null,null,null,null,null,null,null,{"$f":"IF(PARAMETRES!$B$3=\"SANS\",SUMIFS(Honoraire[TotalHonoraireHT],Honoraire[ClientId],Personne[[#This Row],[PersonneId]]),SUMIFS(Honoraire[TotalHT],Honoraire[ClientId],Personne[[#This Row],[PersonneId]]))","v":0},{"$f":"Personne[[#This Row],[Facture (HT)]]+ROW()/100000","v":1.1690000000000001E-2},{"$f":"_xlfn.CONCAT(Personne[[#This Row],[Adresse]],\" \",Personne[[#This Row],[CodePostal]],\" \",Personne[[#This Row],[Ville]],\" \",Personne[[#This Row],[CodePays]])","v":"   "}]
[null,null,null,null,null,null,null,null,null,null,null,null,null,null,null,null,null,null,null,null,null,null,null,null,null,null,null,null,null,null,{"$f":"IF(PARAMETRES!$B$3=\"SANS\",SUMIFS(Honoraire[TotalHonoraireHT],Honoraire[ClientId],Personne[[#This Row],[PersonneId]]),SUMIFS(Honoraire[TotalHT],Honoraire[ClientId],Personne[[#This Row],[PersonneId]]))","v":0},{"$f":"Personne[[#This Row],[Facture (HT)]]+ROW()/100000","v":1.172E-2},{"$f":"_xlfn.CONCAT(Personne[[#This Row],[Adresse]],\" \",Personne[[#This Row],[CodePostal]],\" \",Personne[[#This Row],[Ville]],\" \",Personne[[#This Row],[CodePays]])","v":"   "}]
[null,null,null,null,null,null,null,null,null,null,null,null,null,null,null,null,null,null,null,null,null,null,null,null,null,null,null,null,null,null,{"$f":"IF(PARAMETRES!$B$3=\"SANS\",SUMIFS(Honoraire[TotalHonoraireHT],Honoraire[ClientId],Personne[[#This Row],[PersonneId]]),SUMIFS(Honoraire[TotalHT],Honoraire[ClientId],Personne[[#This Row],[PersonneId]]))","v":0},{"$f":"Personne[[#This Row],[Facture (HT)]]+ROW()/100000","v":1.1730000000000001E-2},{"$f":"_xlfn.CONCAT(Personne[[#This Row],[Adresse]],\" \",Personne[[#This Row],[CodePostal]],\" \",Personne[[#This Row],[Ville]],\" \",Personne[[#This Row],[CodePays]])","v":"   "}]
[null,null,null,null,null,null,null,null,null,null,null,null,null,null,null,null,null,null,null,null,null,null,null,null,null,null,null,null,null,null,{"$f":"IF(PARAMETRES!$B$3=\"SANS\",SUMIFS(Honoraire[TotalHonoraireHT],Honoraire[ClientId],Personne[[#This Row],[PersonneId]]),SUMIFS(Honoraire[TotalHT],Honoraire[ClientId],Personne[[#This Row],[PersonneId]]))","v":0},{"$f":"Personne[[#This Row],[Facture (HT)]]+ROW()/100000","v":1.176E-2},{"$f":"_xlfn.CONCAT(Personne[[#This Row],[Adresse]],\" \",Personne[[#This Row],[CodePostal]],\" \",Personne[[#This Row],[Ville]],\" \",Personne[[#This Row],[CodePays]])","v":"   "}]
[null,null,null,null,null,null,null,null,null,null,null,null,null,null,null,null,null,null,null,null,null,null,null,null,null,null,null,null,null,null,{"$f":"IF(PARAMETRES!$B$3=\"SANS\",SUMIFS(Honoraire[TotalHonoraireHT],Honoraire[ClientId],Personne[[#This Row],[PersonneId]]),SUMIFS(Honoraire[TotalHT],Honoraire[ClientId],Personne[[#This Row],[PersonneId]]))","v":0},{"$f":"Personne[[#This Row],[Facture (HT)]]+ROW()/100000","v":1.1780000000000001E-2},{"$f":"_xlfn.CONCAT(Personne[[#This Row],[Adresse]],\" \",Personne[[#This Row],[CodePostal]],\" \",Personne[[#This Row],[Ville]],\" \",Personne[[#This Row],[CodePays]])","v":"   "}]
[null,null,null,null,null,null,null,null,null,null,null,null,null,null,null,null,null,null,null,null,null,null,null,null,null,null,null,null,null,null,{"$f":"IF(PARAMETRES!$B$3=\"SANS\",SUMIFS(Honoraire[TotalHonoraireHT],Honoraire[ClientId],Personne[[#This Row],[PersonneId]]),SUMIFS(Honoraire[TotalHT],Honoraire[ClientId],Personne[[#This Row],[PersonneId]]))","v":0},{"$f":"Personne[[#This Row],[Facture (HT)]]+ROW()/100000","v":1.1809999999999999E-2},{"$f":"_xlfn.CONCAT(Personne[[#This Row],[Adresse]],\" \",Personne[[#This Row],[CodePostal]],\" \",Personne[[#This Row],[Ville]],\" \",Personne[[#This Row],[CodePays]])","v":"   "}]
[null,null,null,null,null,null,null,null,null,null,null,null,null,null,null,null,null,null,null,null,null,null,null,null,null,null,null,null,null,null,{"$f":"IF(PARAMETRES!$B$3=\"SANS\",SUMIFS(Honoraire[TotalHonoraireHT],Honoraire[ClientId],Personne[[#This Row],[PersonneId]]),SUMIFS(Honoraire[TotalHT],Honoraire[ClientId],Personne[[#This Row],[PersonneId]]))","v":0},{"$f":"Personne[[#This Row],[Facture (HT)]]+ROW()/100000","v":1.1820000000000001E-2},{"$f":"_xlfn.CONCAT(Personne[[#This Row],[Adresse]],\" \",Personne[[#This Row],[CodePostal]],\" \",Personne[[#This Row],[Ville]],\" \",Personne[[#This Row],[CodePays]])","v":"   "}]
[null,null,null,null,null,null,null,null,null,null,null,null,null,null,null,null,null,null,null,null,null,null,null,null,null,null,null,null,null,null,{"$f":"IF(PARAMETRES!$B$3=\"SANS\",SUMIFS(Honoraire[TotalHonoraireHT],Honoraire[ClientId],Personne[[#This Row],[PersonneId]]),SUMIFS(Honoraire[TotalHT],Honoraire[ClientId],Personne[[#This Row],[PersonneId]]))","v":0},{"$f":"Personne[[#This Row],[Facture (HT)]]+ROW()/100000","v":1.1849999999999999E-2},{"$f":"_xlfn.CONCAT(Personne[[#This Row],[Adresse]],\" \",Personne[[#This Row],[CodePostal]],\" \",Personne[[#This Row],[Ville]],\" \",Personne[[#This Row],[CodePays]])","v":"   "}]
[null,null,null,null,null,null,null,null,null,null,null,null,null,null,null,null,null,null,null,null,null,null,null,null,null,null,null,null,null,null,{"$f":"IF(PARAMETRES!$B$3=\"SANS\",SUMIFS(Honoraire[TotalHonoraireHT],Honoraire[ClientId],Personne[[#This Row],[PersonneId]]),SUMIFS(Honoraire[TotalHT],Honoraire[ClientId],Personne[[#This Row],[PersonneId]]))","v":0},{"$f":"Personne[[#This Row],[Facture (HT)]]+ROW()/100000","v":1.1860000000000001E-2},{"$f":"_xlfn.CONCAT(Personne[[#This Row],[Adresse]],\" \",Personne[[#This Row],[CodePostal]],\" \",Personne[[#This Row],[Ville]],\" \",Personne[[#This Row],[CodePays]])","v":"   "}]
[null,null,null,null,null,null,null,null,null,null,null,null,null,null,null,null,null,null,null,null,null,null,null,null,null,null,null,null,null,null,{"$f":"IF(PARAMETRES!$B$3=\"SANS\",SUMIFS(Honoraire[TotalHonoraireHT],Honoraire[ClientId],Personne[[#This Row],[PersonneId]]),SUMIFS(Honoraire[TotalHT],Honoraire[ClientId],Personne[[#This Row],[PersonneId]]))","v":0},{"$f":"Personne[[#This Row],[Facture (HT)]]+ROW()/100000","v":1.188E-2},{"$f":"_xlfn.CONCAT(Personne[[#This Row],[Adresse]],\" \",Personne[[#This Row],[CodePostal]],\" \",Personne[[#This Row],[Ville]],\" \",Personne[[#This Row],[CodePays]])","v":"   "}]
[null,null,null,null,null,null,null,null,null,null,null,null,null,null,null,null,null,null,null,null,null,null,null,null,null,null,null,null,null,null,{"$f":"IF(PARAMETRES!$B$3=\"SANS\",SUMIFS(Honoraire[TotalHonoraireHT],Honoraire[ClientId],Personne[[#This Row],[PersonneId]]),SUMIFS(Honoraire[TotalHT],Honoraire[ClientId],Personne[[#This Row],[PersonneId]]))","v":0},{"$f":"Personne[[#This Row],[Facture (HT)]]+ROW()/100000","v":1.191E-2},{"$f":"_xlfn.CONCAT(Personne[[#This Row],[Adresse]],\" \",Personne[[#This Row],[CodePostal]],\" \",Personne[[#This Row],[Ville]],\" \",Personne[[#This Row],[CodePays]])","v":"   "}]
[null,null,null,null,null,null,null,null,null,null,null,null,null,null,null,null,null,null,null,null,null,null,null,null,null,null,null,null,null,null,{"$f":"IF(PARAMETRES!$B$3=\"SANS\",SUMIFS(Honoraire[TotalHonoraireHT],Honoraire[ClientId],Personne[[#This Row],[PersonneId]]),SUMIFS(Honoraire[TotalHT],Honoraire[ClientId],Personne[[#This Row],[PersonneId]]))","v":0},{"$f":"Personne[[#This Row],[Facture (HT)]]+ROW()/100000","v":1.1939999999999999E-2},{"$f":"_xlfn.CONCAT(Personne[[#This Row],[Adresse]],\" \",Personne[[#This Row],[CodePostal]],\" \",Personne[[#This Row],[Ville]],\" \",Personne[[#This Row],[CodePays]])","v":"   "}]
[null,null,null,null,null,null,null,null,null,null,null,null,null,null,null,null,null,null,null,null,null,null,null,null,null,null,null,null,null,null,{"$f":"IF(PARAMETRES!$B$3=\"SANS\",SUMIFS(Honoraire[TotalHonoraireHT],Honoraire[ClientId],Personne[[#This Row],[PersonneId]]),SUMIFS(Honoraire[TotalHT],Honoraire[ClientId],Personne[[#This Row],[PersonneId]]))","v":0},{"$f":"Personne[[#This Row],[Facture (HT)]]+ROW()/100000","v":1.1950000000000001E-2},{"$f":"_xlfn.CONCAT(Personne[[#This Row],[Adresse]],\" \",Personne[[#This Row],[CodePostal]],\" \",Personne[[#This Row],[Ville]],\" \",Personne[[#This Row],[CodePays]])","v":"   "}]
[null,null,null,null,null,null,null,null,null,null,null,null,null,null,null,null,null,null,null,null,null,null,null,null,null,null,null,null,null,null,{"$f":"IF(PARAMETRES!$B$3=\"SANS\",SUMIFS(Honoraire[TotalHonoraireHT],Honoraire[ClientId],Personne[[#This Row],[PersonneId]]),SUMIFS(Honoraire[TotalHT],Honoraire[ClientId],Personne[[#This Row],[PersonneId]]))","v":0},{"$f":"Personne[[#This Row],[Facture (HT)]]+ROW()/100000","v":1.1979999999999999E-2},{"$f":"_xlfn.CONCAT(Personne[[#This Row],[Adresse]],\" \",Personne[[#This Row],[CodePostal]],\" \",Personne[[#This Row],[Ville]],\" \",Personne[[#This Row],[CodePays]])","v":"   "}]
[null,null,null,null,null,null,null,null,null,null,null,null,null,null,null,null,null,null,null,null,null,null,null,null,null,null,null,null,null,null,{"$f":"IF(PARAMETRES!$B$3=\"SANS\",SUMIFS(Honoraire[TotalHonoraireHT],Honoraire[ClientId],Personne[[#This Row],[PersonneId]]),SUMIFS(Honoraire[TotalHT],Honoraire[ClientId],Personne[[#This Row],[PersonneId]]))","v":0},{"$f":"Personne[[#This Row],[Facture (HT)]]+ROW()/100000","v":1.1990000000000001E-2},{"$f":"_xlfn.CONCAT(Personne[[#This Row],[Adresse]],\" \",Personne[[#This Row],[CodePostal]],\" \",Personne[[#This Row],[Ville]],\" \",Personne[[#This Row],[CodePays]])","v":"   "}]
[null,null,null,null,null,null,null,null,null,null,null,null,null,null,null,null,null,null,null,null,null,null,null,null,null,null,null,null,null,null,{"$f":"IF(PARAMETRES!$B$3=\"SANS\",SUMIFS(Honoraire[TotalHonoraireHT],Honoraire[ClientId],Personne[[#This Row],[PersonneId]]),SUMIFS(Honoraire[TotalHT],Honoraire[ClientId],Personne[[#This Row],[PersonneId]]))","v":0},{"$f":"Personne[[#This Row],[Facture (HT)]]+ROW()/100000","v":1.201E-2},{"$f":"_xlfn.CONCAT(Personne[[#This Row],[Adresse]],\" \",Personne[[#This Row],[CodePostal]],\" \",Personne[[#This Row],[Ville]],\" \",Personne[[#This Row],[CodePays]])","v":"   "}]
[null,null,null,null,null,null,null,null,null,null,null,null,null,null,null,null,null,null,null,null,null,null,null,null,null,null,null,null,null,null,{"$f":"IF(PARAMETRES!$B$3=\"SANS\",SUMIFS(Honoraire[TotalHonoraireHT],Honoraire[ClientId],Personne[[#This Row],[PersonneId]]),SUMIFS(Honoraire[TotalHT],Honoraire[ClientId],Personne[[#This Row],[PersonneId]]))","v":0},{"$f":"Personne[[#This Row],[Facture (HT)]]+ROW()/100000","v":1.204E-2},{"$f":"_xlfn.CONCAT(Personne[[#This Row],[Adresse]],\" \",Personne[[#This Row],[CodePostal]],\" \",Personne[[#This Row],[Ville]],\" \",Personne[[#This Row],[CodePays]])","v":"   "}]
[null,null,null,null,null,null,null,null,null,null,null,null,null,null,null,null,null,null,null,null,null,null,null,null,null,null,null,null,null,null,{"$f":"IF(PARAMETRES!$B$3=\"SANS\",SUMIFS(Honoraire[TotalHonoraireHT],Honoraire[ClientId],Personne[[#This Row],[PersonneId]]),SUMIFS(Honoraire[TotalHT],Honoraire[ClientId],Personne[[#This Row],[PersonneId]]))","v":0},{"$f":"Personne[[#This Row],[Facture (HT)]]+ROW()/100000","v":1.2070000000000001E-2},{"$f":"_xlfn.CONCAT(Personne[[#This Row],[Adresse]],\" \",Personne[[#This Row],[CodePostal]],\" \",Personne[[#This Row],[Ville]],\" \",Personne[[#This Row],[CodePays]])","v":"   "}]
[null,null,null,null,null,null,null,null,null,null,null,null,null,null,null,null,null,null,null,null,null,null,null,null,null,null,null,null,null,null,{"$f":"IF(PARAMETRES!$B$3=\"SANS\",SUMIFS(Honoraire[TotalHonoraireHT],Honoraire[ClientId],Personne[[#This Row],[PersonneId]]),SUMIFS(Honoraire[TotalHT],Honoraire[ClientId],Personne[[#This Row],[PersonneId]]))","v":0},{"$f":"Personne[[#This Row],[Facture (HT)]]+ROW()/100000","v":1.208E-2},{"$f":"_xlfn.CONCAT(Personne[[#This Row],[Adresse]],\" \",Personne[[#This Row],[CodePostal]],\" \",Personne[[#This Row],[Ville]],\" \",Personne[[#This Row],[CodePays]])","v":"   "}]
[null,null,null,null,null,null,null,null,null,null,null,null,null,null,null,null,null,null,null,null,null,null,null,null,null,null,null,null,null,null,{"$f":"IF(PARAMETRES!$B$3=\"SANS\",SUMIFS(Honoraire[TotalHonoraireHT],Honoraire[ClientId],Personne[[#This Row],[PersonneId]]),SUMIFS(Honoraire[TotalHT],Honoraire[ClientId],Personne[[#This Row],[PersonneId]]))","v":0},{"$f":"Personne[[#This Row],[Facture (HT)]]+ROW()/100000","v":1.2109999999999999E-2},{"$f":"_xlfn.CONCAT(Personne[[#This Row],[Adresse]],\" \",Personne[[#This Row],[CodePostal]],\" \",Personne[[#This Row],[Ville]],\" \",Personne[[#This Row],[CodePays]])","v":"   "}]
[null,null,null,null,null,null,null,null,null,null,null,null,null,null,null,null,null,null,null,null,null,null,null,null,null,null,null,null,null,null,{"$f":"IF(PARAMETRES!$B$3=\"SANS\",SUMIFS(Honoraire[TotalHonoraireHT],Honoraire[ClientId],Personne[[#This Row],[PersonneId]]),SUMIFS(Honoraire[TotalHT],Honoraire[ClientId],Personne[[#This Row],[PersonneId]]))","v":0},{"$f":"Personne[[#This Row],[Facture (HT)]]+ROW()/100000","v":1.214E-2},{"$f":"_xlfn.CONCAT(Personne[[#This Row],[Adresse]],\" \",Personne[[#This Row],[CodePostal]],\" \",Personne[[#This Row],[Ville]],\" \",Personne[[#This Row],[CodePays]])","v":"   "}]
[null,null,null,null,null,null,null,null,null,null,null,null,null,null,null,null,null,null,null,null,null,null,null,null,null,null,null,null,null,null,{"$f":"IF(PARAMETRES!$B$3=\"SANS\",SUMIFS(Honoraire[TotalHonoraireHT],Honoraire[ClientId],Personne[[#This Row],[PersonneId]]),SUMIFS(Honoraire[TotalHT],Honoraire[ClientId],Personne[[#This Row],[PersonneId]]))","v":0},{"$f":"Personne[[#This Row],[Facture (HT)]]+ROW()/100000","v":1.2160000000000001E-2},{"$f":"_xlfn.CONCAT(Personne[[#This Row],[Adresse]],\" \",Personne[[#This Row],[CodePostal]],\" \",Personne[[#This Row],[Ville]],\" \",Personne[[#This Row],[CodePays]])","v":"   "}]
[null,null,null,null,null,null,null,null,null,null,null,null,null,null,null,null,null,null,null,null,null,null,null,null,null,null,null,null,null,null,{"$f":"IF(PARAMETRES!$B$3=\"SANS\",SUMIFS(Honoraire[TotalHonoraireHT],Honoraire[ClientId],Personne[[#This Row],[PersonneId]]),SUMIFS(Honoraire[TotalHT],Honoraire[ClientId],Personne[[#This Row],[PersonneId]]))","v":0},{"$f":"Personne[[#This Row],[Facture (HT)]]+ROW()/100000","v":1.217E-2},{"$f":"_xlfn.CONCAT(Personne[[#This Row],[Adresse]],\" \",Personne[[#This Row],[CodePostal]],\" \",Personne[[#This Row],[Ville]],\" \",Personne[[#This Row],[CodePays]])","v":"   "}]
[null,null,null,null,null,null,null,null,null,null,null,null,null,null,null,null,null,null,null,null,null,null,null,null,null,null,null,null,null,null,{"$f":"IF(PARAMETRES!$B$3=\"SANS\",SUMIFS(Honoraire[TotalHonoraireHT],Honoraire[ClientId],Personne[[#This Row],[PersonneId]]),SUMIFS(Honoraire[TotalHT],Honoraire[ClientId],Personne[[#This Row],[PersonneId]]))","v":0},{"$f":"Personne[[#This Row],[Facture (HT)]]+ROW()/100000","v":1.2200000000000001E-2},{"$f":"_xlfn.CONCAT(Personne[[#This Row],[Adresse]],\" \",Personne[[#This Row],[CodePostal]],\" \",Personne[[#This Row],[Ville]],\" \",Personne[[#This Row],[CodePays]])","v":"   "}]
[null,null,null,null,null,null,null,null,null,null,null,null,null,null,null,null,null,null,null,null,null,null,null,null,null,null,null,null,null,null,{"$f":"IF(PARAMETRES!$B$3=\"SANS\",SUMIFS(Honoraire[TotalHonoraireHT],Honoraire[ClientId],Personne[[#This Row],[PersonneId]]),SUMIFS(Honoraire[TotalHT],Honoraire[ClientId],Personne[[#This Row],[PersonneId]]))","v":0},{"$f":"Personne[[#This Row],[Facture (HT)]]+ROW()/100000","v":1.221E-2},{"$f":"_xlfn.CONCAT(Personne[[#This Row],[Adresse]],\" \",Personne[[#This Row],[CodePostal]],\" \",Personne[[#This Row],[Ville]],\" \",Personne[[#This Row],[CodePays]])","v":"   "}]
[null,null,null,null,null,null,null,null,null,null,null,null,null,null,null,null,null,null,null,null,null,null,null,null,null,null,null,null,null,null,{"$f":"IF(PARAMETRES!$B$3=\"SANS\",SUMIFS(Honoraire[TotalHonoraireHT],Honoraire[ClientId],Personne[[#This Row],[PersonneId]]),SUMIFS(Honoraire[TotalHT],Honoraire[ClientId],Personne[[#This Row],[PersonneId]]))","v":0},{"$f":"Personne[[#This Row],[Facture (HT)]]+ROW()/100000","v":1.2239999999999999E-2},{"$f":"_xlfn.CONCAT(Personne[[#This Row],[Adresse]],\" \",Personne[[#This Row],[CodePostal]],\" \",Personne[[#This Row],[Ville]],\" \",Personne[[#This Row],[CodePays]])","v":"   "}]
[null,null,null,null,null,null,null,null,null,null,null,null,null,null,null,null,null,null,null,null,null,null,null,null,null,null,null,null,null,null,{"$f":"IF(PARAMETRES!$B$3=\"SANS\",SUMIFS(Honoraire[TotalHonoraireHT],Honoraire[ClientId],Personne[[#This Row],[PersonneId]]),SUMIFS(Honoraire[TotalHT],Honoraire[ClientId],Personne[[#This Row],[PersonneId]]))","v":0},{"$f":"Personne[[#This Row],[Facture (HT)]]+ROW()/100000","v":1.226E-2},{"$f":"_xlfn.CONCAT(Personne[[#This Row],[Adresse]],\" \",Personne[[#This Row],[CodePostal]],\" \",Personne[[#This Row],[Ville]],\" \",Personne[[#This Row],[CodePays]])","v":"   "}]
[null,null,null,null,null,null,null,null,null,null,null,null,null,null,null,null,null,null,null,null,null,null,null,null,null,null,null,null,null,null,{"$f":"IF(PARAMETRES!$B$3=\"SANS\",SUMIFS(Honoraire[TotalHonoraireHT],Honoraire[ClientId],Personne[[#This Row],[PersonneId]]),SUMIFS(Honoraire[TotalHT],Honoraire[ClientId],Personne[[#This Row],[PersonneId]]))","v":0},{"$f":"Personne[[#This Row],[Facture (HT)]]+ROW()/100000","v":1.2290000000000001E-2},{"$f":"_xlfn.CONCAT(Personne[[#This Row],[Adresse]],\" \",Personne[[#This Row],[CodePostal]],\" \",Personne[[#This Row],[Ville]],\" \",Personne[[#This Row],[CodePays]])","v":"   "}]
[null,null,null,null,null,null,null,null,null,null,null,null,null,null,null,null,null,null,null,null,null,null,null,null,null,null,null,null,null,null,{"$f":"IF(PARAMETRES!$B$3=\"SANS\",SUMIFS(Honoraire[TotalHonoraireHT],Honoraire[ClientId],Personne[[#This Row],[PersonneId]]),SUMIFS(Honoraire[TotalHT],Honoraire[ClientId],Personne[[#This Row],[PersonneId]]))","v":0},{"$f":"Personne[[#This Row],[Facture (HT)]]+ROW()/100000","v":1.23E-2},{"$f":"_xlfn.CONCAT(Personne[[#This Row],[Adresse]],\" \",Personne[[#This Row],[CodePostal]],\" \",Personne[[#This Row],[Ville]],\" \",Personne[[#This Row],[CodePays]])","v":"   "}]
[null,null,null,null,null,null,null,null,null,null,null,null,null,null,null,null,null,null,null,null,null,null,null,null,null,null,null,null,null,null,{"$f":"IF(PARAMETRES!$B$3=\"SANS\",SUMIFS(Honoraire[TotalHonoraireHT],Honoraire[ClientId],Personne[[#This Row],[PersonneId]]),SUMIFS(Honoraire[TotalHT],Honoraire[ClientId],Personne[[#This Row],[PersonneId]]))","v":0},{"$f":"Personne[[#This Row],[Facture (HT)]]+ROW()/100000","v":1.2330000000000001E-2},{"$f":"_xlfn.CONCAT(Personne[[#This Row],[Adresse]],\" \",Personne[[#This Row],[CodePostal]],\" \",Personne[[#This Row],[Ville]],\" \",Personne[[#This Row],[CodePays]])","v":"   "}]
[null,null,null,null,null,null,null,null,null,null,null,null,null,null,null,null,null,null,null,null,null,null,null,null,null,null,null,null,null,null,{"$f":"IF(PARAMETRES!$B$3=\"SANS\",SUMIFS(Honoraire[TotalHonoraireHT],Honoraire[ClientId],Personne[[#This Row],[PersonneId]]),SUMIFS(Honoraire[TotalHT],Honoraire[ClientId],Personne[[#This Row],[PersonneId]]))","v":0},{"$f":"Personne[[#This Row],[Facture (HT)]]+ROW()/100000","v":1.234E-2},{"$f":"_xlfn.CONCAT(Personne[[#This Row],[Adresse]],\" \",Personne[[#This Row],[CodePostal]],\" \",Personne[[#This Row],[Ville]],\" \",Personne[[#This Row],[CodePays]])","v":"   "}]
[null,null,null,null,null,null,null,null,null,null,null,null,null,null,null,null,null,null,null,null,null,null,null,null,null,null,null,null,null,null,{"$f":"IF(PARAMETRES!$B$3=\"SANS\",SUMIFS(Honoraire[TotalHonoraireHT],Honoraire[ClientId],Personne[[#This Row],[PersonneId]]),SUMIFS(Honoraire[TotalHT],Honoraire[ClientId],Personne[[#This Row],[PersonneId]]))","v":0},{"$f":"Personne[[#This Row],[Facture (HT)]]+ROW()/100000","v":1.2359999999999999E-2},{"$f":"_xlfn.CONCAT(Personne[[#This Row],[Adresse]],\" \",Personne[[#This Row],[CodePostal]],\" \",Personne[[#This Row],[Ville]],\" \",Personne[[#This Row],[CodePays]])","v":"   "}]
[null,null,null,null,null,null,null,null,null,null,null,null,null,null,null,null,null,null,null,null,null,null,null,null,null,null,null,null,null,null,{"$f":"IF(PARAMETRES!$B$3=\"SANS\",SUMIFS(Honoraire[TotalHonoraireHT],Honoraire[ClientId],Personne[[#This Row],[PersonneId]]),SUMIFS(Honoraire[TotalHT],Honoraire[ClientId],Personne[[#This Row],[PersonneId]]))","v":0},{"$f":"Personne[[#This Row],[Facture (HT)]]+ROW()/100000","v":1.239E-2},{"$f":"_xlfn.CONCAT(Personne[[#This Row],[Adresse]],\" \",Personne[[#This Row],[CodePostal]],\" \",Personne[[#This Row],[Ville]],\" \",Personne[[#This Row],[CodePays]])","v":"   "}]
[null,null,null,null,null,null,null,null,null,null,null,null,null,null,null,null,null,null,null,null,null,null,null,null,null,null,null,null,null,null,{"$f":"IF(PARAMETRES!$B$3=\"SANS\",SUMIFS(Honoraire[TotalHonoraireHT],Honoraire[ClientId],Personne[[#This Row],[PersonneId]]),SUMIFS(Honoraire[TotalHT],Honoraire[ClientId],Personne[[#This Row],[PersonneId]]))","v":0},{"$f":"Personne[[#This Row],[Facture (HT)]]+ROW()/100000","v":1.242E-2},{"$f":"_xlfn.CONCAT(Personne[[#This Row],[Adresse]],\" \",Personne[[#This Row],[CodePostal]],\" \",Personne[[#This Row],[Ville]],\" \",Personne[[#This Row],[CodePays]])","v":"   "}]
[null,null,null,null,null,null,null,null,null,null,null,null,null,null,null,null,null,null,null,null,null,null,null,null,null,null,null,null,null,null,{"$f":"IF(PARAMETRES!$B$3=\"SANS\",SUMIFS(Honoraire[TotalHonoraireHT],Honoraire[ClientId],Personne[[#This Row],[PersonneId]]),SUMIFS(Honoraire[TotalHT],Honoraire[ClientId],Personne[[#This Row],[PersonneId]]))","v":0},{"$f":"Personne[[#This Row],[Facture (HT)]]+ROW()/100000","v":1.243E-2},{"$f":"_xlfn.CONCAT(Personne[[#This Row],[Adresse]],\" \",Personne[[#This Row],[CodePostal]],\" \",Personne[[#This Row],[Ville]],\" \",Personne[[#This Row],[CodePays]])","v":"   "}]
[null,null,null,null,null,null,null,null,null,null,null,null,null,null,null,null,null,null,null,null,null,null,null,null,null,null,null,null,null,null,{"$f":"IF(PARAMETRES!$B$3=\"SANS\",SUMIFS(Honoraire[TotalHonoraireHT],Honoraire[ClientId],Personne[[#This Row],[PersonneId]]),SUMIFS(Honoraire[TotalHT],Honoraire[ClientId],Personne[[#This Row],[PersonneId]]))","v":0},{"$f":"Personne[[#This Row],[Facture (HT)]]+ROW()/100000","v":1.2460000000000001E-2},{"$f":"_xlfn.CONCAT(Personne[[#This Row],[Adresse]],\" \",Personne[[#This Row],[CodePostal]],\" \",Personne[[#This Row],[Ville]],\" \",Personne[[#This Row],[CodePays]])","v":"   "}]
[null,null,null,null,null,null,null,null,null,null,null,null,null,null,null,null,null,null,null,null,null,null,null,null,null,null,null,null,null,null,{"$f":"IF(PARAMETRES!$B$3=\"SANS\",SUMIFS(Honoraire[TotalHonoraireHT],Honoraire[ClientId],Personne[[#This Row],[PersonneId]]),SUMIFS(Honoraire[TotalHT],Honoraire[ClientId],Personne[[#This Row],[PersonneId]]))","v":0},{"$f":"Personne[[#This Row],[Facture (HT)]]+ROW()/100000","v":1.247E-2},{"$f":"_xlfn.CONCAT(Personne[[#This Row],[Adresse]],\" \",Personne[[#This Row],[CodePostal]],\" \",Personne[[#This Row],[Ville]],\" \",Personne[[#This Row],[CodePays]])","v":"   "}]
[null,null,null,null,null,null,null,null,null,null,null,null,null,null,null,null,null,null,null,null,null,null,null,null,null,null,null,null,null,null,{"$f":"IF(PARAMETRES!$B$3=\"SANS\",SUMIFS(Honoraire[TotalHonoraireHT],Honoraire[ClientId],Personne[[#This Row],[PersonneId]]),SUMIFS(Honoraire[TotalHT],Honoraire[ClientId],Personne[[#This Row],[PersonneId]]))","v":0},{"$f":"Personne[[#This Row],[Facture (HT)]]+ROW()/100000","v":1.251E-2},{"$f":"_xlfn.CONCAT(Personne[[#This Row],[Adresse]],\" \",Personne[[#This Row],[CodePostal]],\" \",Personne[[#This Row],[Ville]],\" \",Personne[[#This Row],[CodePays]])","v":"   "}]
[null,null,null,null,null,null,null,null,null,null,null,null,null,null,null,null,null,null,null,null,null,null,null,null,null,null,null,null,null,null,{"$f":"IF(PARAMETRES!$B$3=\"SANS\",SUMIFS(Honoraire[TotalHonoraireHT],Honoraire[ClientId],Personne[[#This Row],[PersonneId]]),SUMIFS(Honoraire[TotalHT],Honoraire[ClientId],Personne[[#This Row],[PersonneId]]))","v":0},{"$f":"Personne[[#This Row],[Facture (HT)]]+ROW()/100000","v":1.252E-2},{"$f":"_xlfn.CONCAT(Personne[[#This Row],[Adresse]],\" \",Personne[[#This Row],[CodePostal]],\" \",Personne[[#This Row],[Ville]],\" \",Personne[[#This Row],[CodePays]])","v":"   "}]
[null,null,null,null,null,null,null,null,null,null,null,null,null,null,null,null,null,null,null,null,null,null,null,null,null,null,null,null,null,null,{"$f":"IF(PARAMETRES!$B$3=\"SANS\",SUMIFS(Honoraire[TotalHonoraireHT],Honoraire[ClientId],Personne[[#This Row],[PersonneId]]),SUMIFS(Honoraire[TotalHT],Honoraire[ClientId],Personne[[#This Row],[PersonneId]]))","v":0},{"$f":"Personne[[#This Row],[Facture (HT)]]+ROW()/100000","v":1.255E-2},{"$f":"_xlfn.CONCAT(Personne[[#This Row],[Adresse]],\" \",Personne[[#This Row],[CodePostal]],\" \",Personne[[#This Row],[Ville]],\" \",Personne[[#This Row],[CodePays]])","v":"   "}]
[null,null,null,null,null,null,null,null,null,null,null,null,null,null,null,null,null,null,null,null,null,null,null,null,null,null,null,null,null,null,{"$f":"IF(PARAMETRES!$B$3=\"SANS\",SUMIFS(Honoraire[TotalHonoraireHT],Honoraire[ClientId],Personne[[#This Row],[PersonneId]]),SUMIFS(Honoraire[TotalHT],Honoraire[ClientId],Personne[[#This Row],[PersonneId]]))","v":0},{"$f":"Personne[[#This Row],[Facture (HT)]]+ROW()/100000","v":1.256E-2},{"$f":"_xlfn.CONCAT(Personne[[#This Row],[Adresse]],\" \",Personne[[#This Row],[CodePostal]],\" \",Personne[[#This Row],[Ville]],\" \",Personne[[#This Row],[CodePays]])","v":"   "}]
[null,null,null,null,null,null,null,null,null,null,null,null,null,null,null,null,null,null,null,null,null,null,null,null,null,null,null,null,null,null,{"$f":"IF(PARAMETRES!$B$3=\"SANS\",SUMIFS(Honoraire[TotalHonoraireHT],Honoraire[ClientId],Personne[[#This Row],[PersonneId]]),SUMIFS(Honoraire[TotalHT],Honoraire[ClientId],Personne[[#This Row],[PersonneId]]))","v":0},{"$f":"Personne[[#This Row],[Facture (HT)]]+ROW()/100000","v":1.259E-2},{"$f":"_xlfn.CONCAT(Personne[[#This Row],[Adresse]],\" \",Personne[[#This Row],[CodePostal]],\" \",Personne[[#This Row],[Ville]],\" \",Personne[[#This Row],[CodePays]])","v":"   "}]
[null,null,null,null,null,null,null,null,null,null,null,null,null,null,null,null,null,null,null,null,null,null,null,null,null,null,null,null,null,null,{"$f":"IF(PARAMETRES!$B$3=\"SANS\",SUMIFS(Honoraire[TotalHonoraireHT],Honoraire[ClientId],Personne[[#This Row],[PersonneId]]),SUMIFS(Honoraire[TotalHT],Honoraire[ClientId],Personne[[#This Row],[PersonneId]]))","v":0},{"$f":"Personne[[#This Row],[Facture (HT)]]+ROW()/100000","v":1.261E-2},{"$f":"_xlfn.CONCAT(Personne[[#This Row],[Adresse]],\" \",Personne[[#This Row],[CodePostal]],\" \",Personne[[#This Row],[Ville]],\" \",Personne[[#This Row],[CodePays]])","v":"   "}]
[null,null,null,null,null,null,null,null,null,null,null,null,null,null,null,null,null,null,null,null,null,null,null,null,null,null,null,null,null,null,{"$f":"IF(PARAMETRES!$B$3=\"SANS\",SUMIFS(Honoraire[TotalHonoraireHT],Honoraire[ClientId],Personne[[#This Row],[PersonneId]]),SUMIFS(Honoraire[TotalHT],Honoraire[ClientId],Personne[[#This Row],[PersonneId]]))","v":0},{"$f":"Personne[[#This Row],[Facture (HT)]]+ROW()/100000","v":1.264E-2},{"$f":"_xlfn.CONCAT(Personne[[#This Row],[Adresse]],\" \",Personne[[#This Row],[CodePostal]],\" \",Personne[[#This Row],[Ville]],\" \",Personne[[#This Row],[CodePays]])","v":"   "}]
[null,null,null,null,null,null,null,null,null,null,null,null,null,null,null,null,null,null,null,null,null,null,null,null,null,null,null,null,null,null,{"$f":"IF(PARAMETRES!$B$3=\"SANS\",SUMIFS(Honoraire[TotalHonoraireHT],Honoraire[ClientId],Personne[[#This Row],[PersonneId]]),SUMIFS(Honoraire[TotalHT],Honoraire[ClientId],Personne[[#This Row],[PersonneId]]))","v":0},{"$f":"Personne[[#This Row],[Facture (HT)]]+ROW()/100000","v":1.265E-2},{"$f":"_xlfn.CONCAT(Personne[[#This Row],[Adresse]],\" \",Personne[[#This Row],[CodePostal]],\" \",Personne[[#This Row],[Ville]],\" \",Personne[[#This Row],[CodePays]])","v":"   "}]
[null,null,null,null,null,null,null,null,null,null,null,null,null,null,null,null,null,null,null,null,null,null,null,null,null,null,null,null,null,null,{"$f":"IF(PARAMETRES!$B$3=\"SANS\",SUMIFS(Honoraire[TotalHonoraireHT],Honoraire[ClientId],Personne[[#This Row],[PersonneId]]),SUMIFS(Honoraire[TotalHT],Honoraire[ClientId],Personne[[#This Row],[PersonneId]]))","v":0},{"$f":"Personne[[#This Row],[Facture (HT)]]+ROW()/100000","v":1.268E-2},{"$f":"_xlfn.CONCAT(Personne[[#This Row],[Adresse]],\" \",Personne[[#This Row],[CodePostal]],\" \",Personne[[#This Row],[Ville]],\" \",Personne[[#This Row],[CodePays]])","v":"   "}]
[null,null,null,null,null,null,null,null,null,null,null,null,null,null,null,null,null,null,null,null,null,null,null,null,null,null,null,null,null,null,{"$f":"IF(PARAMETRES!$B$3=\"SANS\",SUMIFS(Honoraire[TotalHonoraireHT],Honoraire[ClientId],Personne[[#This Row],[PersonneId]]),SUMIFS(Honoraire[TotalHT],Honoraire[ClientId],Personne[[#This Row],[PersonneId]]))","v":0},{"$f":"Personne[[#This Row],[Facture (HT)]]+ROW()/100000","v":1.269E-2},{"$f":"_xlfn.CONCAT(Personne[[#This Row],[Adresse]],\" \",Personne[[#This Row],[CodePostal]],\" \",Personne[[#This Row],[Ville]],\" \",Personne[[#This Row],[CodePays]])","v":"   "}]
[null,null,null,null,null,null,null,null,null,null,null,null,null,null,null,null,null,null,null,null,null,null,null,null,null,null,null,null,null,null,{"$f":"IF(PARAMETRES!$B$3=\"SANS\",SUMIFS(Honoraire[TotalHonoraireHT],Honoraire[ClientId],Personne[[#This Row],[PersonneId]]),SUMIFS(Honoraire[TotalHT],Honoraire[ClientId],Personne[[#This Row],[PersonneId]]))","v":0},{"$f":"Personne[[#This Row],[Facture (HT)]]+ROW()/100000","v":1.2710000000000001E-2},{"$f":"_xlfn.CONCAT(Personne[[#This Row],[Adresse]],\" \",Personne[[#This Row],[CodePostal]],\" \",Personne[[#This Row],[Ville]],\" \",Personne[[#This Row],[CodePays]])","v":"   "}]
[null,null,null,null,null,null,null,null,null,null,null,null,null,null,null,null,null,null,null,null,null,null,null,null,null,null,null,null,null,null,{"$f":"IF(PARAMETRES!$B$3=\"SANS\",SUMIFS(Honoraire[TotalHonoraireHT],Honoraire[ClientId],Personne[[#This Row],[PersonneId]]),SUMIFS(Honoraire[TotalHT],Honoraire[ClientId],Personne[[#This Row],[PersonneId]]))","v":0},{"$f":"Personne[[#This Row],[Facture (HT)]]+ROW()/100000","v":1.274E-2},{"$f":"_xlfn.CONCAT(Personne[[#This Row],[Adresse]],\" \",Personne[[#This Row],[CodePostal]],\" \",Personne[[#This Row],[Ville]],\" \",Personne[[#This Row],[CodePays]])","v":"   "}]
[null,null,null,null,null,null,null,null,null,null,null,null,null,null,null,null,null,null,null,null,null,null,null,null,null,null,null,null,null,null,{"$f":"IF(PARAMETRES!$B$3=\"SANS\",SUMIFS(Honoraire[TotalHonoraireHT],Honoraire[ClientId],Personne[[#This Row],[PersonneId]]),SUMIFS(Honoraire[TotalHT],Honoraire[ClientId],Personne[[#This Row],[PersonneId]]))","v":0},{"$f":"Personne[[#This Row],[Facture (HT)]]+ROW()/100000","v":1.277E-2},{"$f":"_xlfn.CONCAT(Personne[[#This Row],[Adresse]],\" \",Personne[[#This Row],[CodePostal]],\" \",Personne[[#This Row],[Ville]],\" \",Personne[[#This Row],[CodePays]])","v":"   "}]
[null,null,null,null,null,null,null,null,null,null,null,null,null,null,null,null,null,null,null,null,null,null,null,null,null,null,null,null,null,null,{"$f":"IF(PARAMETRES!$B$3=\"SANS\",SUMIFS(Honoraire[TotalHonoraireHT],Honoraire[ClientId],Personne[[#This Row],[PersonneId]]),SUMIFS(Honoraire[TotalHT],Honoraire[ClientId],Personne[[#This Row],[PersonneId]]))","v":0},{"$f":"Personne[[#This Row],[Facture (HT)]]+ROW()/100000","v":1.278E-2},{"$f":"_xlfn.CONCAT(Personne[[#This Row],[Adresse]],\" \",Personne[[#This Row],[CodePostal]],\" \",Personne[[#This Row],[Ville]],\" \",Personne[[#This Row],[CodePays]])","v":"   "}]
[null,null,null,null,null,null,null,null,null,null,null,null,null,null,null,null,null,null,null,null,null,null,null,null,null,null,null,null,null,null,{"$f":"IF(PARAMETRES!$B$3=\"SANS\",SUMIFS(Honoraire[TotalHonoraireHT],Honoraire[ClientId],Personne[[#This Row],[PersonneId]]),SUMIFS(Honoraire[TotalHT],Honoraire[ClientId],Personne[[#This Row],[PersonneId]]))","v":0},{"$f":"Personne[[#This Row],[Facture (HT)]]+ROW()/100000","v":1.281E-2},{"$f":"_xlfn.CONCAT(Personne[[#This Row],[Adresse]],\" \",Personne[[#This Row],[CodePostal]],\" \",Personne[[#This Row],[Ville]],\" \",Personne[[#This Row],[CodePays]])","v":"   "}]
[null,null,null,null,null,null,null,null,null,null,null,null,null,null,null,null,null,null,null,null,null,null,null,null,null,null,null,null,null,null,{"$f":"IF(PARAMETRES!$B$3=\"SANS\",SUMIFS(Honoraire[TotalHonoraireHT],Honoraire[ClientId],Personne[[#This Row],[PersonneId]]),SUMIFS(Honoraire[TotalHT],Honoraire[ClientId],Personne[[#This Row],[PersonneId]]))","v":0},{"$f":"Personne[[#This Row],[Facture (HT)]]+ROW()/100000","v":1.282E-2},{"$f":"_xlfn.CONCAT(Personne[[#This Row],[Adresse]],\" \",Personne[[#This Row],[CodePostal]],\" \",Personne[[#This Row],[Ville]],\" \",Personne[[#This Row],[CodePays]])","v":"   "}]
[null,null,null,null,null,null,null,null,null,null,null,null,null,null,null,null,null,null,null,null,null,null,null,null,null,null,null,null,null,null,{"$f":"IF(PARAMETRES!$B$3=\"SANS\",SUMIFS(Honoraire[TotalHonoraireHT],Honoraire[ClientId],Personne[[#This Row],[PersonneId]]),SUMIFS(Honoraire[TotalHT],Honoraire[ClientId],Personne[[#This Row],[PersonneId]]))","v":0},{"$f":"Personne[[#This Row],[Facture (HT)]]+ROW()/100000","v":1.286E-2},{"$f":"_xlfn.CONCAT(Personne[[#This Row],[Adresse]],\" \",Personne[[#This Row],[CodePostal]],\" \",Personne[[#This Row],[Ville]],\" \",Personne[[#This Row],[CodePays]])","v":"   "}]
[null,null,null,null,null,null,null,null,null,null,null,null,null,null,null,null,null,null,null,null,null,null,null,null,null,null,null,null,null,null,{"$f":"IF(PARAMETRES!$B$3=\"SANS\",SUMIFS(Honoraire[TotalHonoraireHT],Honoraire[ClientId],Personne[[#This Row],[PersonneId]]),SUMIFS(Honoraire[TotalHT],Honoraire[ClientId],Personne[[#This Row],[PersonneId]]))","v":0},{"$f":"Personne[[#This Row],[Facture (HT)]]+ROW()/100000","v":1.2869999999999999E-2},{"$f":"_xlfn.CONCAT(Personne[[#This Row],[Adresse]],\" \",Personne[[#This Row],[CodePostal]],\" \",Personne[[#This Row],[Ville]],\" \",Personne[[#This Row],[CodePays]])","v":"   "}]
[null,null,null,null,null,null,null,null,null,null,null,null,null,null,null,null,null,null,null,null,null,null,null,null,null,null,null,null,null,null,{"$f":"IF(PARAMETRES!$B$3=\"SANS\",SUMIFS(Honoraire[TotalHonoraireHT],Honoraire[ClientId],Personne[[#This Row],[PersonneId]]),SUMIFS(Honoraire[TotalHT],Honoraire[ClientId],Personne[[#This Row],[PersonneId]]))","v":0},{"$f":"Personne[[#This Row],[Facture (HT)]]+ROW()/100000","v":1.29E-2},{"$f":"_xlfn.CONCAT(Personne[[#This Row],[Adresse]],\" \",Personne[[#This Row],[CodePostal]],\" \",Personne[[#This Row],[Ville]],\" \",Personne[[#This Row],[CodePays]])","v":"   "}]
[null,null,null,null,null,null,null,null,null,null,null,null,null,null,null,null,null,null,null,null,null,null,null,null,null,null,null,null,null,null,{"$f":"IF(PARAMETRES!$B$3=\"SANS\",SUMIFS(Honoraire[TotalHonoraireHT],Honoraire[ClientId],Personne[[#This Row],[PersonneId]]),SUMIFS(Honoraire[TotalHT],Honoraire[ClientId],Personne[[#This Row],[PersonneId]]))","v":0},{"$f":"Personne[[#This Row],[Facture (HT)]]+ROW()/100000","v":1.291E-2},{"$f":"_xlfn.CONCAT(Personne[[#This Row],[Adresse]],\" \",Personne[[#This Row],[CodePostal]],\" \",Personne[[#This Row],[Ville]],\" \",Personne[[#This Row],[CodePays]])","v":"   "}]
[null,null,null,null,null,null,null,null,null,null,null,null,null,null,null,null,null,null,null,null,null,null,null,null,null,null,null,null,null,null,{"$f":"IF(PARAMETRES!$B$3=\"SANS\",SUMIFS(Honoraire[TotalHonoraireHT],Honoraire[ClientId],Personne[[#This Row],[PersonneId]]),SUMIFS(Honoraire[TotalHT],Honoraire[ClientId],Personne[[#This Row],[PersonneId]]))","v":0},{"$f":"Personne[[#This Row],[Facture (HT)]]+ROW()/100000","v":1.294E-2},{"$f":"_xlfn.CONCAT(Personne[[#This Row],[Adresse]],\" \",Personne[[#This Row],[CodePostal]],\" \",Personne[[#This Row],[Ville]],\" \",Personne[[#This Row],[CodePays]])","v":"   "}]
[null,null,null,null,null,null,null,null,null,null,null,null,null,null,null,null,null,null,null,null,null,null,null,null,null,null,null,null,null,null,{"$f":"IF(PARAMETRES!$B$3=\"SANS\",SUMIFS(Honoraire[TotalHonoraireHT],Honoraire[ClientId],Personne[[#This Row],[PersonneId]]),SUMIFS(Honoraire[TotalHT],Honoraire[ClientId],Personne[[#This Row],[PersonneId]]))","v":0},{"$f":"Personne[[#This Row],[Facture (HT)]]+ROW()/100000","v":1.2959999999999999E-2},{"$f":"_xlfn.CONCAT(Personne[[#This Row],[Adresse]],\" \",Personne[[#This Row],[CodePostal]],\" \",Personne[[#This Row],[Ville]],\" \",Personne[[#This Row],[CodePays]])","v":"   "}]
[null,null,null,null,null,null,null,null,null,null,null,null,null,null,null,null,null,null,null,null,null,null,null,null,null,null,null,null,null,null,{"$f":"IF(PARAMETRES!$B$3=\"SANS\",SUMIFS(Honoraire[TotalHonoraireHT],Honoraire[ClientId],Personne[[#This Row],[PersonneId]]),SUMIFS(Honoraire[TotalHT],Honoraire[ClientId],Personne[[#This Row],[PersonneId]]))","v":0},{"$f":"Personne[[#This Row],[Facture (HT)]]+ROW()/100000","v":1.299E-2},{"$f":"_xlfn.CONCAT(Personne[[#This Row],[Adresse]],\" \",Personne[[#This Row],[CodePostal]],\" \",Personne[[#This Row],[Ville]],\" \",Personne[[#This Row],[CodePays]])","v":"   "}]
[null,null,null,null,null,null,null,null,null,null,null,null,null,null,null,null,null,null,null,null,null,null,null,null,null,null,null,null,null,null,{"$f":"IF(PARAMETRES!$B$3=\"SANS\",SUMIFS(Honoraire[TotalHonoraireHT],Honoraire[ClientId],Personne[[#This Row],[PersonneId]]),SUMIFS(Honoraire[TotalHT],Honoraire[ClientId],Personne[[#This Row],[PersonneId]]))","v":0},{"$f":"Personne[[#This Row],[Facture (HT)]]+ROW()/100000","v":1.2999999999999999E-2},{"$f":"_xlfn.CONCAT(Personne[[#This Row],[Adresse]],\" \",Personne[[#This Row],[CodePostal]],\" \",Personne[[#This Row],[Ville]],\" \",Personne[[#This Row],[CodePays]])","v":"   "}]
[null,null,null,null,null,null,null,null,null,null,null,null,null,null,null,null,null,null,null,null,null,null,null,null,null,null,null,null,null,null,{"$f":"IF(PARAMETRES!$B$3=\"SANS\",SUMIFS(Honoraire[TotalHonoraireHT],Honoraire[ClientId],Personne[[#This Row],[PersonneId]]),SUMIFS(Honoraire[TotalHT],Honoraire[ClientId],Personne[[#This Row],[PersonneId]]))","v":0},{"$f":"Personne[[#This Row],[Facture (HT)]]+ROW()/100000","v":1.303E-2},{"$f":"_xlfn.CONCAT(Personne[[#This Row],[Adresse]],\" \",Personne[[#This Row],[CodePostal]],\" \",Personne[[#This Row],[Ville]],\" \",Personne[[#This Row],[CodePays]])","v":"   "}]
[null,null,null,null,null,null,null,null,null,null,null,null,null,null,null,null,null,null,null,null,null,null,null,null,null,null,null,null,null,null,{"$f":"IF(PARAMETRES!$B$3=\"SANS\",SUMIFS(Honoraire[TotalHonoraireHT],Honoraire[ClientId],Personne[[#This Row],[PersonneId]]),SUMIFS(Honoraire[TotalHT],Honoraire[ClientId],Personne[[#This Row],[PersonneId]]))","v":0},{"$f":"Personne[[#This Row],[Facture (HT)]]+ROW()/100000","v":1.304E-2},{"$f":"_xlfn.CONCAT(Personne[[#This Row],[Adresse]],\" \",Personne[[#This Row],[CodePostal]],\" \",Personne[[#This Row],[Ville]],\" \",Personne[[#This Row],[CodePays]])","v":"   "}]
[null,null,null,null,null,null,null,null,null,null,null,null,null,null,null,null,null,null,null,null,null,null,null,null,null,null,null,null,null,null,{"$f":"IF(PARAMETRES!$B$3=\"SANS\",SUMIFS(Honoraire[TotalHonoraireHT],Honoraire[ClientId],Personne[[#This Row],[PersonneId]]),SUMIFS(Honoraire[TotalHT],Honoraire[ClientId],Personne[[#This Row],[PersonneId]]))","v":0},{"$f":"Personne[[#This Row],[Facture (HT)]]+ROW()/100000","v":1.307E-2},{"$f":"_xlfn.CONCAT(Personne[[#This Row],[Adresse]],\" \",Personne[[#This Row],[CodePostal]],\" \",Personne[[#This Row],[Ville]],\" \",Personne[[#This Row],[CodePays]])","v":"   "}]
[null,null,null,null,null,null,null,null,null,null,null,null,null,null,null,null,null,null,null,null,null,null,null,null,null,null,null,null,null,null,{"$f":"IF(PARAMETRES!$B$3=\"SANS\",SUMIFS(Honoraire[TotalHonoraireHT],Honoraire[ClientId],Personne[[#This Row],[PersonneId]]),SUMIFS(Honoraire[TotalHT],Honoraire[ClientId],Personne[[#This Row],[PersonneId]]))","v":0},{"$f":"Personne[[#This Row],[Facture (HT)]]+ROW()/100000","v":1.308E-2},{"$f":"_xlfn.CONCAT(Personne[[#This Row],[Adresse]],\" \",Personne[[#This Row],[CodePostal]],\" \",Personne[[#This Row],[Ville]],\" \",Personne[[#This Row],[CodePays]])","v":"   "}]
[null,null,null,null,null,null,null,null,null,null,null,null,null,null,null,null,null,null,null,null,null,null,null,null,null,null,null,null,null,null,{"$f":"IF(PARAMETRES!$B$3=\"SANS\",SUMIFS(Honoraire[TotalHonoraireHT],Honoraire[ClientId],Personne[[#This Row],[PersonneId]]),SUMIFS(Honoraire[TotalHT],Honoraire[ClientId],Personne[[#This Row],[PersonneId]]))","v":0},{"$f":"Personne[[#This Row],[Facture (HT)]]+ROW()/100000","v":1.312E-2},{"$f":"_xlfn.CONCAT(Personne[[#This Row],[Adresse]],\" \",Personne[[#This Row],[CodePostal]],\" \",Personne[[#This Row],[Ville]],\" \",Personne[[#This Row],[CodePays]])","v":"   "}]
[null,null,null,null,null,null,null,null,null,null,null,null,null,null,null,null,null,null,null,null,null,null,null,null,null,null,null,null,null,null,{"$f":"IF(PARAMETRES!$B$3=\"SANS\",SUMIFS(Honoraire[TotalHonoraireHT],Honoraire[ClientId],Personne[[#This Row],[PersonneId]]),SUMIFS(Honoraire[TotalHT],Honoraire[ClientId],Personne[[#This Row],[PersonneId]]))","v":0},{"$f":"Personne[[#This Row],[Facture (HT)]]+ROW()/100000","v":1.3129999999999999E-2},{"$f":"_xlfn.CONCAT(Personne[[#This Row],[Adresse]],\" \",Personne[[#This Row],[CodePostal]],\" \",Personne[[#This Row],[Ville]],\" \",Personne[[#This Row],[CodePays]])","v":"   "}]
[null,null,null,null,null,null,null,null,null,null,null,null,null,null,null,null,null,null,null,null,null,null,null,null,null,null,null,null,null,null,{"$f":"IF(PARAMETRES!$B$3=\"SANS\",SUMIFS(Honoraire[TotalHonoraireHT],Honoraire[ClientId],Personne[[#This Row],[PersonneId]]),SUMIFS(Honoraire[TotalHT],Honoraire[ClientId],Personne[[#This Row],[PersonneId]]))","v":0},{"$f":"Personne[[#This Row],[Facture (HT)]]+ROW()/100000","v":1.316E-2},{"$f":"_xlfn.CONCAT(Personne[[#This Row],[Adresse]],\" \",Personne[[#This Row],[CodePostal]],\" \",Personne[[#This Row],[Ville]],\" \",Personne[[#This Row],[CodePays]])","v":"   "}]
[null,null,null,null,null,null,null,null,null,null,null,null,null,null,null,null,null,null,null,null,null,null,null,null,null,null,null,null,null,null,{"$f":"IF(PARAMETRES!$B$3=\"SANS\",SUMIFS(Honoraire[TotalHonoraireHT],Honoraire[ClientId],Personne[[#This Row],[PersonneId]]),SUMIFS(Honoraire[TotalHT],Honoraire[ClientId],Personne[[#This Row],[PersonneId]]))","v":0},{"$f":"Personne[[#This Row],[Facture (HT)]]+ROW()/100000","v":1.3169999999999999E-2},{"$f":"_xlfn.CONCAT(Personne[[#This Row],[Adresse]],\" \",Personne[[#This Row],[CodePostal]],\" \",Personne[[#This Row],[Ville]],\" \",Personne[[#This Row],[CodePays]])","v":"   "}]
[null,null,null,null,null,null,null,null,null,null,null,null,null,null,null,null,null,null,null,null,null,null,null,null,null,null,null,null,null,null,{"$f":"IF(PARAMETRES!$B$3=\"SANS\",SUMIFS(Honoraire[TotalHonoraireHT],Honoraire[ClientId],Personne[[#This Row],[PersonneId]]),SUMIFS(Honoraire[TotalHT],Honoraire[ClientId],Personne[[#This Row],[PersonneId]]))","v":0},{"$f":"Personne[[#This Row],[Facture (HT)]]+ROW()/100000","v":1.321E-2},{"$f":"_xlfn.CONCAT(Personne[[#This Row],[Adresse]],\" \",Personne[[#This Row],[CodePostal]],\" \",Personne[[#This Row],[Ville]],\" \",Personne[[#This Row],[CodePays]])","v":"   "}]
[null,null,null,null,null,null,null,null,null,null,null,null,null,null,null,null,null,null,null,null,null,null,null,null,null,null,null,null,null,null,{"$f":"IF(PARAMETRES!$B$3=\"SANS\",SUMIFS(Honoraire[TotalHonoraireHT],Honoraire[ClientId],Personne[[#This Row],[PersonneId]]),SUMIFS(Honoraire[TotalHT],Honoraire[ClientId],Personne[[#This Row],[PersonneId]]))","v":0},{"$f":"Personne[[#This Row],[Facture (HT)]]+ROW()/100000","v":1.3220000000000001E-2},{"$f":"_xlfn.CONCAT(Personne[[#This Row],[Adresse]],\" \",Personne[[#This Row],[CodePostal]],\" \",Personne[[#This Row],[Ville]],\" \",Personne[[#This Row],[CodePays]])","v":"   "}]
[null,null,null,null,null,null,null,null,null,null,null,null,null,null,null,null,null,null,null,null,null,null,null,null,null,null,null,null,null,null,{"$f":"IF(PARAMETRES!$B$3=\"SANS\",SUMIFS(Honoraire[TotalHonoraireHT],Honoraire[ClientId],Personne[[#This Row],[PersonneId]]),SUMIFS(Honoraire[TotalHT],Honoraire[ClientId],Personne[[#This Row],[PersonneId]]))","v":0},{"$f":"Personne[[#This Row],[Facture (HT)]]+ROW()/100000","v":1.325E-2},{"$f":"_xlfn.CONCAT(Personne[[#This Row],[Adresse]],\" \",Personne[[#This Row],[CodePostal]],\" \",Personne[[#This Row],[Ville]],\" \",Personne[[#This Row],[CodePays]])","v":"   "}]
[null,null,null,null,null,null,null,null,null,null,null,null,null,null,null,null,null,null,null,null,null,null,null,null,null,null,null,null,null,null,{"$f":"IF(PARAMETRES!$B$3=\"SANS\",SUMIFS(Honoraire[TotalHonoraireHT],Honoraire[ClientId],Personne[[#This Row],[PersonneId]]),SUMIFS(Honoraire[TotalHT],Honoraire[ClientId],Personne[[#This Row],[PersonneId]]))","v":0},{"$f":"Personne[[#This Row],[Facture (HT)]]+ROW()/100000","v":1.3259999999999999E-2},{"$f":"_xlfn.CONCAT(Personne[[#This Row],[Adresse]],\" \",Personne[[#This Row],[CodePostal]],\" \",Personne[[#This Row],[Ville]],\" \",Personne[[#This Row],[CodePays]])","v":"   "}]
[null,null,null,null,null,null,null,null,null,null,null,null,null,null,null,null,null,null,null,null,null,null,null,null,null,null,null,null,null,null,{"$f":"IF(PARAMETRES!$B$3=\"SANS\",SUMIFS(Honoraire[TotalHonoraireHT],Honoraire[ClientId],Personne[[#This Row],[PersonneId]]),SUMIFS(Honoraire[TotalHT],Honoraire[ClientId],Personne[[#This Row],[PersonneId]]))","v":0},{"$f":"Personne[[#This Row],[Facture (HT)]]+ROW()/100000","v":1.329E-2},{"$f":"_xlfn.CONCAT(Personne[[#This Row],[Adresse]],\" \",Personne[[#This Row],[CodePostal]],\" \",Personne[[#This Row],[Ville]],\" \",Personne[[#This Row],[CodePays]])","v":"   "}]
[null,null,null,null,null,null,null,null,null,null,null,null,null,null,null,null,null,null,null,null,null,null,null,null,null,null,null,null,null,null,{"$f":"IF(PARAMETRES!$B$3=\"SANS\",SUMIFS(Honoraire[TotalHonoraireHT],Honoraire[ClientId],Personne[[#This Row],[PersonneId]]),SUMIFS(Honoraire[TotalHT],Honoraire[ClientId],Personne[[#This Row],[PersonneId]]))","v":0},{"$f":"Personne[[#This Row],[Facture (HT)]]+ROW()/100000","v":1.3299999999999999E-2},{"$f":"_xlfn.CONCAT(Personne[[#This Row],[Adresse]],\" \",Personne[[#This Row],[CodePostal]],\" \",Personne[[#This Row],[Ville]],\" \",Personne[[#This Row],[CodePays]])","v":"   "}]
[null,null,null,null,null,null,null,null,null,null,null,null,null,null,null,null,null,null,null,null,null,null,null,null,null,null,null,null,null,null,{"$f":"IF(PARAMETRES!$B$3=\"SANS\",SUMIFS(Honoraire[TotalHonoraireHT],Honoraire[ClientId],Personne[[#This Row],[PersonneId]]),SUMIFS(Honoraire[TotalHT],Honoraire[ClientId],Personne[[#This Row],[PersonneId]]))","v":0},{"$f":"Personne[[#This Row],[Facture (HT)]]+ROW()/100000","v":1.3339999999999999E-2},{"$f":"_xlfn.CONCAT(Personne[[#This Row],[Adresse]],\" \",Personne[[#This Row],[CodePostal]],\" \",Personne[[#This Row],[Ville]],\" \",Personne[[#This Row],[CodePays]])","v":"   "}]
[null,null,null,null,null,null,null,null,null,null,null,null,null,null,null,null,null,null,null,null,null,null,null,null,null,null,null,null,null,null,{"$f":"IF(PARAMETRES!$B$3=\"SANS\",SUMIFS(Honoraire[TotalHonoraireHT],Honoraire[ClientId],Personne[[#This Row],[PersonneId]]),SUMIFS(Honoraire[TotalHT],Honoraire[ClientId],Personne[[#This Row],[PersonneId]]))","v":0},{"$f":"Personne[[#This Row],[Facture (HT)]]+ROW()/100000","v":1.3350000000000001E-2},{"$f":"_xlfn.CONCAT(Personne[[#This Row],[Adresse]],\" \",Personne[[#This Row],[CodePostal]],\" \",Personne[[#This Row],[Ville]],\" \",Personne[[#This Row],[CodePays]])","v":"   "}]
[null,null,null,null,null,null,null,null,null,null,null,null,null,null,null,null,null,null,null,null,null,null,null,null,null,null,null,null,null,null,{"$f":"IF(PARAMETRES!$B$3=\"SANS\",SUMIFS(Honoraire[TotalHonoraireHT],Honoraire[ClientId],Personne[[#This Row],[PersonneId]]),SUMIFS(Honoraire[TotalHT],Honoraire[ClientId],Personne[[#This Row],[PersonneId]]))","v":0},{"$f":"Personne[[#This Row],[Facture (HT)]]+ROW()/100000","v":1.338E-2},{"$f":"_xlfn.CONCAT(Personne[[#This Row],[Adresse]],\" \",Personne[[#This Row],[CodePostal]],\" \",Personne[[#This Row],[Ville]],\" \",Personne[[#This Row],[CodePays]])","v":"   "}]
[null,null,null,null,null,null,null,null,null,null,null,null,null,null,null,null,null,null,null,null,null,null,null,null,null,null,null,null,null,null,{"$f":"IF(PARAMETRES!$B$3=\"SANS\",SUMIFS(Honoraire[TotalHonoraireHT],Honoraire[ClientId],Personne[[#This Row],[PersonneId]]),SUMIFS(Honoraire[TotalHT],Honoraire[ClientId],Personne[[#This Row],[PersonneId]]))","v":0},{"$f":"Personne[[#This Row],[Facture (HT)]]+ROW()/100000","v":1.3390000000000001E-2},{"$f":"_xlfn.CONCAT(Personne[[#This Row],[Adresse]],\" \",Personne[[#This Row],[CodePostal]],\" \",Personne[[#This Row],[Ville]],\" \",Personne[[#This Row],[CodePays]])","v":"   "}]
[null,null,null,null,null,null,null,null,null,null,null,null,null,null,null,null,null,null,null,null,null,null,null,null,null,null,null,null,null,null,{"$f":"IF(PARAMETRES!$B$3=\"SANS\",SUMIFS(Honoraire[TotalHonoraireHT],Honoraire[ClientId],Personne[[#This Row],[PersonneId]]),SUMIFS(Honoraire[TotalHT],Honoraire[ClientId],Personne[[#This Row],[PersonneId]]))","v":0},{"$f":"Personne[[#This Row],[Facture (HT)]]+ROW()/100000","v":1.342E-2},{"$f":"_xlfn.CONCAT(Personne[[#This Row],[Adresse]],\" \",Personne[[#This Row],[CodePostal]],\" \",Personne[[#This Row],[Ville]],\" \",Personne[[#This Row],[CodePays]])","v":"   "}]
[null,null,null,null,null,null,null,null,null,null,null,null,null,null,null,null,null,null,null,null,null,null,null,null,null,null,null,null,null,null,{"$f":"IF(PARAMETRES!$B$3=\"SANS\",SUMIFS(Honoraire[TotalHonoraireHT],Honoraire[ClientId],Personne[[#This Row],[PersonneId]]),SUMIFS(Honoraire[TotalHT],Honoraire[ClientId],Personne[[#This Row],[PersonneId]]))","v":0},{"$f":"Personne[[#This Row],[Facture (HT)]]+ROW()/100000","v":1.3429999999999999E-2},{"$f":"_xlfn.CONCAT(Personne[[#This Row],[Adresse]],\" \",Personne[[#This Row],[CodePostal]],\" \",Personne[[#This Row],[Ville]],\" \",Personne[[#This Row],[CodePays]])","v":"   "}]
[null,null,null,null,null,null,null,null,null,null,null,null,null,null,null,null,null,null,null,null,null,null,null,null,null,null,null,null,null,null,{"$f":"IF(PARAMETRES!$B$3=\"SANS\",SUMIFS(Honoraire[TotalHonoraireHT],Honoraire[ClientId],Personne[[#This Row],[PersonneId]]),SUMIFS(Honoraire[TotalHT],Honoraire[ClientId],Personne[[#This Row],[PersonneId]]))","v":0},{"$f":"Personne[[#This Row],[Facture (HT)]]+ROW()/100000","v":1.3469999999999999E-2},{"$f":"_xlfn.CONCAT(Personne[[#This Row],[Adresse]],\" \",Personne[[#This Row],[CodePostal]],\" \",Personne[[#This Row],[Ville]],\" \",Personne[[#This Row],[CodePays]])","v":"   "}]
[null,null,null,null,null,null,null,null,null,null,null,null,null,null,null,null,null,null,null,null,null,null,null,null,null,null,null,null,null,null,{"$f":"IF(PARAMETRES!$B$3=\"SANS\",SUMIFS(Honoraire[TotalHonoraireHT],Honoraire[ClientId],Personne[[#This Row],[PersonneId]]),SUMIFS(Honoraire[TotalHT],Honoraire[ClientId],Personne[[#This Row],[PersonneId]]))","v":0},{"$f":"Personne[[#This Row],[Facture (HT)]]+ROW()/100000","v":1.3480000000000001E-2},{"$f":"_xlfn.CONCAT(Personne[[#This Row],[Adresse]],\" \",Personne[[#This Row],[CodePostal]],\" \",Personne[[#This Row],[Ville]],\" \",Personne[[#This Row],[CodePays]])","v":"   "}]
[null,null,null,null,null,null,null,null,null,null,null,null,null,null,null,null,null,null,null,null,null,null,null,null,null,null,null,null,null,null,{"$f":"IF(PARAMETRES!$B$3=\"SANS\",SUMIFS(Honoraire[TotalHonoraireHT],Honoraire[ClientId],Personne[[#This Row],[PersonneId]]),SUMIFS(Honoraire[TotalHT],Honoraire[ClientId],Personne[[#This Row],[PersonneId]]))","v":0},{"$f":"Personne[[#This Row],[Facture (HT)]]+ROW()/100000","v":1.3509999999999999E-2},{"$f":"_xlfn.CONCAT(Personne[[#This Row],[Adresse]],\" \",Personne[[#This Row],[CodePostal]],\" \",Personne[[#This Row],[Ville]],\" \",Personne[[#This Row],[CodePays]])","v":"   "}]
[null,null,null,null,null,null,null,null,null,null,null,null,null,null,null,null,null,null,null,null,null,null,null,null,null,null,null,null,null,null,{"$f":"IF(PARAMETRES!$B$3=\"SANS\",SUMIFS(Honoraire[TotalHonoraireHT],Honoraire[ClientId],Personne[[#This Row],[PersonneId]]),SUMIFS(Honoraire[TotalHT],Honoraire[ClientId],Personne[[#This Row],[PersonneId]]))","v":0},{"$f":"Personne[[#This Row],[Facture (HT)]]+ROW()/100000","v":1.3520000000000001E-2},{"$f":"_xlfn.CONCAT(Personne[[#This Row],[Adresse]],\" \",Personne[[#This Row],[CodePostal]],\" \",Personne[[#This Row],[Ville]],\" \",Personne[[#This Row],[CodePays]])","v":"   "}]
[null,null,null,null,null,null,null,null,null,null,null,null,null,null,null,null,null,null,null,null,null,null,null,null,null,null,null,null,null,null,{"$f":"IF(PARAMETRES!$B$3=\"SANS\",SUMIFS(Honoraire[TotalHonoraireHT],Honoraire[ClientId],Personne[[#This Row],[PersonneId]]),SUMIFS(Honoraire[TotalHT],Honoraire[ClientId],Personne[[#This Row],[PersonneId]]))","v":0},{"$f":"Personne[[#This Row],[Facture (HT)]]+ROW()/100000","v":1.355E-2},{"$f":"_xlfn.CONCAT(Personne[[#This Row],[Adresse]],\" \",Personne[[#This Row],[CodePostal]],\" \",Personne[[#This Row],[Ville]],\" \",Personne[[#This Row],[CodePays]])","v":"   "}]
[null,null,null,null,null,null,null,null,null,null,null,null,null,null,null,null,null,null,null,null,null,null,null,null,null,null,null,null,null,null,{"$f":"IF(PARAMETRES!$B$3=\"SANS\",SUMIFS(Honoraire[TotalHonoraireHT],Honoraire[ClientId],Personne[[#This Row],[PersonneId]]),SUMIFS(Honoraire[TotalHT],Honoraire[ClientId],Personne[[#This Row],[PersonneId]]))","v":0},{"$f":"Personne[[#This Row],[Facture (HT)]]+ROW()/100000","v":1.3559999999999999E-2},{"$f":"_xlfn.CONCAT(Personne[[#This Row],[Adresse]],\" \",Personne[[#This Row],[CodePostal]],\" \",Personne[[#This Row],[Ville]],\" \",Personne[[#This Row],[CodePays]])","v":"   "}]
[null,null,null,null,null,null,null,null,null,null,null,null,null,null,null,null,null,null,null,null,null,null,null,null,null,null,null,null,null,null,{"$f":"IF(PARAMETRES!$B$3=\"SANS\",SUMIFS(Honoraire[TotalHonoraireHT],Honoraire[ClientId],Personne[[#This Row],[PersonneId]]),SUMIFS(Honoraire[TotalHT],Honoraire[ClientId],Personne[[#This Row],[PersonneId]]))","v":0},{"$f":"Personne[[#This Row],[Facture (HT)]]+ROW()/100000","v":1.3599999999999999E-2},{"$f":"_xlfn.CONCAT(Personne[[#This Row],[Adresse]],\" \",Personne[[#This Row],[CodePostal]],\" \",Personne[[#This Row],[Ville]],\" \",Personne[[#This Row],[CodePays]])","v":"   "}]
[null,null,null,null,null,null,null,null,null,null,null,null,null,null,null,null,null,null,null,null,null,null,null,null,null,null,null,null,null,null,{"$f":"IF(PARAMETRES!$B$3=\"SANS\",SUMIFS(Honoraire[TotalHonoraireHT],Honoraire[ClientId],Personne[[#This Row],[PersonneId]]),SUMIFS(Honoraire[TotalHT],Honoraire[ClientId],Personne[[#This Row],[PersonneId]]))","v":0},{"$f":"Personne[[#This Row],[Facture (HT)]]+ROW()/100000","v":1.3610000000000001E-2},{"$f":"_xlfn.CONCAT(Personne[[#This Row],[Adresse]],\" \",Personne[[#This Row],[CodePostal]],\" \",Personne[[#This Row],[Ville]],\" \",Personne[[#This Row],[CodePays]])","v":"   "}]
[null,null,null,null,null,null,null,null,null,null,null,null,null,null,null,null,null,null,null,null,null,null,null,null,null,null,null,null,null,null,{"$f":"IF(PARAMETRES!$B$3=\"SANS\",SUMIFS(Honoraire[TotalHonoraireHT],Honoraire[ClientId],Personne[[#This Row],[PersonneId]]),SUMIFS(Honoraire[TotalHT],Honoraire[ClientId],Personne[[#This Row],[PersonneId]]))","v":0},{"$f":"Personne[[#This Row],[Facture (HT)]]+ROW()/100000","v":1.3639999999999999E-2},{"$f":"_xlfn.CONCAT(Personne[[#This Row],[Adresse]],\" \",Personne[[#This Row],[CodePostal]],\" \",Personne[[#This Row],[Ville]],\" \",Personne[[#This Row],[CodePays]])","v":"   "}]
[null,null,null,null,null,null,null,null,null,null,null,null,null,null,null,null,null,null,null,null,null,null,null,null,null,null,null,null,null,null,{"$f":"IF(PARAMETRES!$B$3=\"SANS\",SUMIFS(Honoraire[TotalHonoraireHT],Honoraire[ClientId],Personne[[#This Row],[PersonneId]]),SUMIFS(Honoraire[TotalHT],Honoraire[ClientId],Personne[[#This Row],[PersonneId]]))","v":0},{"$f":"Personne[[#This Row],[Facture (HT)]]+ROW()/100000","v":1.3650000000000001E-2},{"$f":"_xlfn.CONCAT(Personne[[#This Row],[Adresse]],\" \",Personne[[#This Row],[CodePostal]],\" \",Personne[[#This Row],[Ville]],\" \",Personne[[#This Row],[CodePays]])","v":"   "}]
[null,null,null,null,null,null,null,null,null,null,null,null,null,null,null,null,null,null,null,null,null,null,null,null,null,null,null,null,null,null,{"$f":"IF(PARAMETRES!$B$3=\"SANS\",SUMIFS(Honoraire[TotalHonoraireHT],Honoraire[ClientId],Personne[[#This Row],[PersonneId]]),SUMIFS(Honoraire[TotalHT],Honoraire[ClientId],Personne[[#This Row],[PersonneId]]))","v":0},{"$f":"Personne[[#This Row],[Facture (HT)]]+ROW()/100000","v":1.3690000000000001E-2},{"$f":"_xlfn.CONCAT(Personne[[#This Row],[Adresse]],\" \",Personne[[#This Row],[CodePostal]],\" \",Personne[[#This Row],[Ville]],\" \",Personne[[#This Row],[CodePays]])","v":"   "}]
[null,null,null,null,null,null,null,null,null,null,null,null,null,null,null,null,null,null,null,null,null,null,null,null,null,null,null,null,null,null,{"$f":"IF(PARAMETRES!$B$3=\"SANS\",SUMIFS(Honoraire[TotalHonoraireHT],Honoraire[ClientId],Personne[[#This Row],[PersonneId]]),SUMIFS(Honoraire[TotalHT],Honoraire[ClientId],Personne[[#This Row],[PersonneId]]))","v":0},{"$f":"Personne[[#This Row],[Facture (HT)]]+ROW()/100000","v":1.37E-2},{"$f":"_xlfn.CONCAT(Personne[[#This Row],[Adresse]],\" \",Personne[[#This Row],[CodePostal]],\" \",Personne[[#This Row],[Ville]],\" \",Personne[[#This Row],[CodePays]])","v":"   "}]
[null,null,null,null,null,null,null,null,null,null,null,null,null,null,null,null,null,null,null,null,null,null,null,null,null,null,null,null,null,null,{"$f":"IF(PARAMETRES!$B$3=\"SANS\",SUMIFS(Honoraire[TotalHonoraireHT],Honoraire[ClientId],Personne[[#This Row],[PersonneId]]),SUMIFS(Honoraire[TotalHT],Honoraire[ClientId],Personne[[#This Row],[PersonneId]]))","v":0},{"$f":"Personne[[#This Row],[Facture (HT)]]+ROW()/100000","v":1.3729999999999999E-2},{"$f":"_xlfn.CONCAT(Personne[[#This Row],[Adresse]],\" \",Personne[[#This Row],[CodePostal]],\" \",Personne[[#This Row],[Ville]],\" \",Personne[[#This Row],[CodePays]])","v":"   "}]
[null,null,null,null,null,null,null,null,null,null,null,null,null,null,null,null,null,null,null,null,null,null,null,null,null,null,null,null,null,null,{"$f":"IF(PARAMETRES!$B$3=\"SANS\",SUMIFS(Honoraire[TotalHonoraireHT],Honoraire[ClientId],Personne[[#This Row],[PersonneId]]),SUMIFS(Honoraire[TotalHT],Honoraire[ClientId],Personne[[#This Row],[PersonneId]]))","v":0},{"$f":"Personne[[#This Row],[Facture (HT)]]+ROW()/100000","v":1.374E-2},{"$f":"_xlfn.CONCAT(Personne[[#This Row],[Adresse]],\" \",Personne[[#This Row],[CodePostal]],\" \",Personne[[#This Row],[Ville]],\" \",Personne[[#This Row],[CodePays]])","v":"   "}]
[null,null,null,null,null,null,null,null,null,null,null,null,null,null,null,null,null,null,null,null,null,null,null,null,null,null,null,null,null,null,{"$f":"IF(PARAMETRES!$B$3=\"SANS\",SUMIFS(Honoraire[TotalHonoraireHT],Honoraire[ClientId],Personne[[#This Row],[PersonneId]]),SUMIFS(Honoraire[TotalHT],Honoraire[ClientId],Personne[[#This Row],[PersonneId]]))","v":0},{"$f":"Personne[[#This Row],[Facture (HT)]]+ROW()/100000","v":1.3769999999999999E-2},{"$f":"_xlfn.CONCAT(Personne[[#This Row],[Adresse]],\" \",Personne[[#This Row],[CodePostal]],\" \",Personne[[#This Row],[Ville]],\" \",Personne[[#This Row],[CodePays]])","v":"   "}]
[null,null,null,null,null,null,null,null,null,null,null,null,null,null,null,null,null,null,null,null,null,null,null,null,null,null,null,null,null,null,{"$f":"IF(PARAMETRES!$B$3=\"SANS\",SUMIFS(Honoraire[TotalHonoraireHT],Honoraire[ClientId],Personne[[#This Row],[PersonneId]]),SUMIFS(Honoraire[TotalHT],Honoraire[ClientId],Personne[[#This Row],[PersonneId]]))","v":0},{"$f":"Personne[[#This Row],[Facture (HT)]]+ROW()/100000","v":1.379E-2},{"$f":"_xlfn.CONCAT(Personne[[#This Row],[Adresse]],\" \",Personne[[#This Row],[CodePostal]],\" \",Personne[[#This Row],[Ville]],\" \",Personne[[#This Row],[CodePays]])","v":"   "}]
[null,null,null,null,null,null,null,null,null,null,null,null,null,null,null,null,null,null,null,null,null,null,null,null,null,null,null,null,null,null,{"$f":"IF(PARAMETRES!$B$3=\"SANS\",SUMIFS(Honoraire[TotalHonoraireHT],Honoraire[ClientId],Personne[[#This Row],[PersonneId]]),SUMIFS(Honoraire[TotalHT],Honoraire[ClientId],Personne[[#This Row],[PersonneId]]))","v":0},{"$f":"Personne[[#This Row],[Facture (HT)]]+ROW()/100000","v":1.3820000000000001E-2},{"$f":"_xlfn.CONCAT(Personne[[#This Row],[Adresse]],\" \",Personne[[#This Row],[CodePostal]],\" \",Personne[[#This Row],[Ville]],\" \",Personne[[#This Row],[CodePays]])","v":"   "}]
[null,null,null,null,null,null,null,null,null,null,null,null,null,null,null,null,null,null,null,null,null,null,null,null,null,null,null,null,null,null,{"$f":"IF(PARAMETRES!$B$3=\"SANS\",SUMIFS(Honoraire[TotalHonoraireHT],Honoraire[ClientId],Personne[[#This Row],[PersonneId]]),SUMIFS(Honoraire[TotalHT],Honoraire[ClientId],Personne[[#This Row],[PersonneId]]))","v":0},{"$f":"Personne[[#This Row],[Facture (HT)]]+ROW()/100000","v":1.383E-2},{"$f":"_xlfn.CONCAT(Personne[[#This Row],[Adresse]],\" \",Personne[[#This Row],[CodePostal]],\" \",Personne[[#This Row],[Ville]],\" \",Personne[[#This Row],[CodePays]])","v":"   "}]
[null,null,null,null,null,null,null,null,null,null,null,null,null,null,null,null,null,null,null,null,null,null,null,null,null,null,null,null,null,null,{"$f":"IF(PARAMETRES!$B$3=\"SANS\",SUMIFS(Honoraire[TotalHonoraireHT],Honoraire[ClientId],Personne[[#This Row],[PersonneId]]),SUMIFS(Honoraire[TotalHT],Honoraire[ClientId],Personne[[#This Row],[PersonneId]]))","v":0},{"$f":"Personne[[#This Row],[Facture (HT)]]+ROW()/100000","v":1.3860000000000001E-2},{"$f":"_xlfn.CONCAT(Personne[[#This Row],[Adresse]],\" \",Personne[[#This Row],[CodePostal]],\" \",Personne[[#This Row],[Ville]],\" \",Personne[[#This Row],[CodePays]])","v":"   "}]
[null,null,null,null,null,null,null,null,null,null,null,null,null,null,null,null,null,null,null,null,null,null,null,null,null,null,null,null,null,null,{"$f":"IF(PARAMETRES!$B$3=\"SANS\",SUMIFS(Honoraire[TotalHonoraireHT],Honoraire[ClientId],Personne[[#This Row],[PersonneId]]),SUMIFS(Honoraire[TotalHT],Honoraire[ClientId],Personne[[#This Row],[PersonneId]]))","v":0},{"$f":"Personne[[#This Row],[Facture (HT)]]+ROW()/100000","v":1.387E-2},{"$f":"_xlfn.CONCAT(Personne[[#This Row],[Adresse]],\" \",Personne[[#This Row],[CodePostal]],\" \",Personne[[#This Row],[Ville]],\" \",Personne[[#This Row],[CodePays]])","v":"   "}]
[null,null,null,null,null,null,null,null,null,null,null,null,null,null,null,null,null,null,null,null,null,null,null,null,null,null,null,null,null,null,{"$f":"IF(PARAMETRES!$B$3=\"SANS\",SUMIFS(Honoraire[TotalHonoraireHT],Honoraire[ClientId],Personne[[#This Row],[PersonneId]]),SUMIFS(Honoraire[TotalHT],Honoraire[ClientId],Personne[[#This Row],[PersonneId]]))","v":0},{"$f":"Personne[[#This Row],[Facture (HT)]]+ROW()/100000","v":1.3899999999999999E-2},{"$f":"_xlfn.CONCAT(Personne[[#This Row],[Adresse]],\" \",Personne[[#This Row],[CodePostal]],\" \",Personne[[#This Row],[Ville]],\" \",Personne[[#This Row],[CodePays]])","v":"   "}]
[null,null,null,null,null,null,null,null,null,null,null,null,null,null,null,null,null,null,null,null,null,null,null,null,null,null,null,null,null,null,{"$f":"IF(PARAMETRES!$B$3=\"SANS\",SUMIFS(Honoraire[TotalHonoraireHT],Honoraire[ClientId],Personne[[#This Row],[PersonneId]]),SUMIFS(Honoraire[TotalHT],Honoraire[ClientId],Personne[[#This Row],[PersonneId]]))","v":0},{"$f":"Personne[[#This Row],[Facture (HT)]]+ROW()/100000","v":1.391E-2},{"$f":"_xlfn.CONCAT(Personne[[#This Row],[Adresse]],\" \",Personne[[#This Row],[CodePostal]],\" \",Personne[[#This Row],[Ville]],\" \",Personne[[#This Row],[CodePays]])","v":"   "}]
[null,null,null,null,null,null,null,null,null,null,null,null,null,null,null,null,null,null,null,null,null,null,null,null,null,null,null,null,null,null,{"$f":"IF(PARAMETRES!$B$3=\"SANS\",SUMIFS(Honoraire[TotalHonoraireHT],Honoraire[ClientId],Personne[[#This Row],[PersonneId]]),SUMIFS(Honoraire[TotalHT],Honoraire[ClientId],Personne[[#This Row],[PersonneId]]))","v":0},{"$f":"Personne[[#This Row],[Facture (HT)]]+ROW()/100000","v":1.3950000000000001E-2},{"$f":"_xlfn.CONCAT(Personne[[#This Row],[Adresse]],\" \",Personne[[#This Row],[CodePostal]],\" \",Personne[[#This Row],[Ville]],\" \",Personne[[#This Row],[CodePays]])","v":"   "}]
[null,null,null,null,null,null,null,null,null,null,null,null,null,null,null,null,null,null,null,null,null,null,null,null,null,null,null,null,null,null,{"$f":"IF(PARAMETRES!$B$3=\"SANS\",SUMIFS(Honoraire[TotalHonoraireHT],Honoraire[ClientId],Personne[[#This Row],[PersonneId]]),SUMIFS(Honoraire[TotalHT],Honoraire[ClientId],Personne[[#This Row],[PersonneId]]))","v":0},{"$f":"Personne[[#This Row],[Facture (HT)]]+ROW()/100000","v":1.396E-2},{"$f":"_xlfn.CONCAT(Personne[[#This Row],[Adresse]],\" \",Personne[[#This Row],[CodePostal]],\" \",Personne[[#This Row],[Ville]],\" \",Personne[[#This Row],[CodePays]])","v":"   "}]
[null,null,null,null,null,null,null,null,null,null,null,null,null,null,null,null,null,null,null,null,null,null,null,null,null,null,null,null,null,null,{"$f":"IF(PARAMETRES!$B$3=\"SANS\",SUMIFS(Honoraire[TotalHonoraireHT],Honoraire[ClientId],Personne[[#This Row],[PersonneId]]),SUMIFS(Honoraire[TotalHT],Honoraire[ClientId],Personne[[#This Row],[PersonneId]]))","v":0},{"$f":"Personne[[#This Row],[Facture (HT)]]+ROW()/100000","v":1.3990000000000001E-2},{"$f":"_xlfn.CONCAT(Personne[[#This Row],[Adresse]],\" \",Personne[[#This Row],[CodePostal]],\" \",Personne[[#This Row],[Ville]],\" \",Personne[[#This Row],[CodePays]])","v":"   "}]
[null,null,null,null,null,null,null,null,null,null,null,null,null,null,null,null,null,null,null,null,null,null,null,null,null,null,null,null,null,null,{"$f":"IF(PARAMETRES!$B$3=\"SANS\",SUMIFS(Honoraire[TotalHonoraireHT],Honoraire[ClientId],Personne[[#This Row],[PersonneId]]),SUMIFS(Honoraire[TotalHT],Honoraire[ClientId],Personne[[#This Row],[PersonneId]]))","v":0},{"$f":"Personne[[#This Row],[Facture (HT)]]+ROW()/100000","v":1.4E-2},{"$f":"_xlfn.CONCAT(Personne[[#This Row],[Adresse]],\" \",Personne[[#This Row],[CodePostal]],\" \",Personne[[#This Row],[Ville]],\" \",Personne[[#This Row],[CodePays]])","v":"   "}]
[null,null,null,null,null,null,null,null,null,null,null,null,null,null,null,null,null,null,null,null,null,null,null,null,null,null,null,null,null,null,{"$f":"IF(PARAMETRES!$B$3=\"SANS\",SUMIFS(Honoraire[TotalHonoraireHT],Honoraire[ClientId],Personne[[#This Row],[PersonneId]]),SUMIFS(Honoraire[TotalHT],Honoraire[ClientId],Personne[[#This Row],[PersonneId]]))","v":0},{"$f":"Personne[[#This Row],[Facture (HT)]]+ROW()/100000","v":1.404E-2},{"$f":"_xlfn.CONCAT(Personne[[#This Row],[Adresse]],\" \",Personne[[#This Row],[CodePostal]],\" \",Personne[[#This Row],[Ville]],\" \",Personne[[#This Row],[CodePays]])","v":"   "}]
[null,null,null,null,null,null,null,null,null,null,null,null,null,null,null,null,null,null,null,null,null,null,null,null,null,null,null,null,null,null,{"$f":"IF(PARAMETRES!$B$3=\"SANS\",SUMIFS(Honoraire[TotalHonoraireHT],Honoraire[ClientId],Personne[[#This Row],[PersonneId]]),SUMIFS(Honoraire[TotalHT],Honoraire[ClientId],Personne[[#This Row],[PersonneId]]))","v":0},{"$f":"Personne[[#This Row],[Facture (HT)]]+ROW()/100000","v":1.405E-2},{"$f":"_xlfn.CONCAT(Personne[[#This Row],[Adresse]],\" \",Personne[[#This Row],[CodePostal]],\" \",Personne[[#This Row],[Ville]],\" \",Personne[[#This Row],[CodePays]])","v":"   "}]
[null,null,null,null,null,null,null,null,null,null,null,null,null,null,null,null,null,null,null,null,null,null,null,null,null,null,null,null,null,null,{"$f":"IF(PARAMETRES!$B$3=\"SANS\",SUMIFS(Honoraire[TotalHonoraireHT],Honoraire[ClientId],Personne[[#This Row],[PersonneId]]),SUMIFS(Honoraire[TotalHT],Honoraire[ClientId],Personne[[#This Row],[PersonneId]]))","v":0},{"$f":"Personne[[#This Row],[Facture (HT)]]+ROW()/100000","v":1.4080000000000001E-2},{"$f":"_xlfn.CONCAT(Personne[[#This Row],[Adresse]],\" \",Personne[[#This Row],[CodePostal]],\" \",Personne[[#This Row],[Ville]],\" \",Personne[[#This Row],[CodePays]])","v":"   "}]
[null,null,null,null,null,null,null,null,null,null,null,null,null,null,null,null,null,null,null,null,null,null,null,null,null,null,null,null,null,null,{"$f":"IF(PARAMETRES!$B$3=\"SANS\",SUMIFS(Honoraire[TotalHonoraireHT],Honoraire[ClientId],Personne[[#This Row],[PersonneId]]),SUMIFS(Honoraire[TotalHT],Honoraire[ClientId],Personne[[#This Row],[PersonneId]]))","v":0},{"$f":"Personne[[#This Row],[Facture (HT)]]+ROW()/100000","v":1.409E-2},{"$f":"_xlfn.CONCAT(Personne[[#This Row],[Adresse]],\" \",Personne[[#This Row],[CodePostal]],\" \",Personne[[#This Row],[Ville]],\" \",Personne[[#This Row],[CodePays]])","v":"   "}]
[null,null,null,null,null,null,null,null,null,null,null,null,null,null,null,null,null,null,null,null,null,null,null,null,null,null,null,null,null,null,{"$f":"IF(PARAMETRES!$B$3=\"SANS\",SUMIFS(Honoraire[TotalHonoraireHT],Honoraire[ClientId],Personne[[#This Row],[PersonneId]]),SUMIFS(Honoraire[TotalHT],Honoraire[ClientId],Personne[[#This Row],[PersonneId]]))","v":0},{"$f":"Personne[[#This Row],[Facture (HT)]]+ROW()/100000","v":1.4120000000000001E-2},{"$f":"_xlfn.CONCAT(Personne[[#This Row],[Adresse]],\" \",Personne[[#This Row],[CodePostal]],\" \",Personne[[#This Row],[Ville]],\" \",Personne[[#This Row],[CodePays]])","v":"   "}]
[null,null,null,null,null,null,null,null,null,null,null,null,null,null,null,null,null,null,null,null,null,null,null,null,null,null,null,null,null,null,{"$f":"IF(PARAMETRES!$B$3=\"SANS\",SUMIFS(Honoraire[TotalHonoraireHT],Honoraire[ClientId],Personne[[#This Row],[PersonneId]]),SUMIFS(Honoraire[TotalHT],Honoraire[ClientId],Personne[[#This Row],[PersonneId]]))","v":0},{"$f":"Personne[[#This Row],[Facture (HT)]]+ROW()/100000","v":1.413E-2},{"$f":"_xlfn.CONCAT(Personne[[#This Row],[Adresse]],\" \",Personne[[#This Row],[CodePostal]],\" \",Personne[[#This Row],[Ville]],\" \",Personne[[#This Row],[CodePays]])","v":"   "}]
[null,null,null,null,null,null,null,null,null,null,null,null,null,null,null,null,null,null,null,null,null,null,null,null,null,null,null,null,null,null,{"$f":"IF(PARAMETRES!$B$3=\"SANS\",SUMIFS(Honoraire[TotalHonoraireHT],Honoraire[ClientId],Personne[[#This Row],[PersonneId]]),SUMIFS(Honoraire[TotalHT],Honoraire[ClientId],Personne[[#This Row],[PersonneId]]))","v":0},{"$f":"Personne[[#This Row],[Facture (HT)]]+ROW()/100000","v":1.4160000000000001E-2},{"$f":"_xlfn.CONCAT(Personne[[#This Row],[Adresse]],\" \",Personne[[#This Row],[CodePostal]],\" \",Personne[[#This Row],[Ville]],\" \",Personne[[#This Row],[CodePays]])","v":"   "}]
[null,null,null,null,null,null,null,null,null,null,null,null,null,null,null,null,null,null,null,null,null,null,null,null,null,null,null,null,null,null,{"$f":"IF(PARAMETRES!$B$3=\"SANS\",SUMIFS(Honoraire[TotalHonoraireHT],Honoraire[ClientId],Personne[[#This Row],[PersonneId]]),SUMIFS(Honoraire[TotalHT],Honoraire[ClientId],Personne[[#This Row],[PersonneId]]))","v":0},{"$f":"Personne[[#This Row],[Facture (HT)]]+ROW()/100000","v":1.418E-2},{"$f":"_xlfn.CONCAT(Personne[[#This Row],[Adresse]],\" \",Personne[[#This Row],[CodePostal]],\" \",Personne[[#This Row],[Ville]],\" \",Personne[[#This Row],[CodePays]])","v":"   "}]
[null,null,null,null,null,null,null,null,null,null,null,null,null,null,null,null,null,null,null,null,null,null,null,null,null,null,null,null,null,null,{"$f":"IF(PARAMETRES!$B$3=\"SANS\",SUMIFS(Honoraire[TotalHonoraireHT],Honoraire[ClientId],Personne[[#This Row],[PersonneId]]),SUMIFS(Honoraire[TotalHT],Honoraire[ClientId],Personne[[#This Row],[PersonneId]]))","v":0},{"$f":"Personne[[#This Row],[Facture (HT)]]+ROW()/100000","v":1.421E-2},{"$f":"_xlfn.CONCAT(Personne[[#This Row],[Adresse]],\" \",Personne[[#This Row],[CodePostal]],\" \",Personne[[#This Row],[Ville]],\" \",Personne[[#This Row],[CodePays]])","v":"   "}]
[null,null,null,null,null,null,null,null,null,null,null,null,null,null,null,null,null,null,null,null,null,null,null,null,null,null,null,null,null,null,{"$f":"IF(PARAMETRES!$B$3=\"SANS\",SUMIFS(Honoraire[TotalHonoraireHT],Honoraire[ClientId],Personne[[#This Row],[PersonneId]]),SUMIFS(Honoraire[TotalHT],Honoraire[ClientId],Personne[[#This Row],[PersonneId]]))","v":0},{"$f":"Personne[[#This Row],[Facture (HT)]]+ROW()/100000","v":1.422E-2},{"$f":"_xlfn.CONCAT(Personne[[#This Row],[Adresse]],\" \",Personne[[#This Row],[CodePostal]],\" \",Personne[[#This Row],[Ville]],\" \",Personne[[#This Row],[CodePays]])","v":"   "}]
[null,null,null,null,null,null,null,null,null,null,null,null,null,null,null,null,null,null,null,null,null,null,null,null,null,null,null,null,null,null,{"$f":"IF(PARAMETRES!$B$3=\"SANS\",SUMIFS(Honoraire[TotalHonoraireHT],Honoraire[ClientId],Personne[[#This Row],[PersonneId]]),SUMIFS(Honoraire[TotalHT],Honoraire[ClientId],Personne[[#This Row],[PersonneId]]))","v":0},{"$f":"Personne[[#This Row],[Facture (HT)]]+ROW()/100000","v":1.4250000000000001E-2},{"$f":"_xlfn.CONCAT(Personne[[#This Row],[Adresse]],\" \",Personne[[#This Row],[CodePostal]],\" \",Personne[[#This Row],[Ville]],\" \",Personne[[#This Row],[CodePays]])","v":"   "}]
[null,null,null,null,null,null,null,null,null,null,null,null,null,null,null,null,null,null,null,null,null,null,null,null,null,null,null,null,null,null,{"$f":"IF(PARAMETRES!$B$3=\"SANS\",SUMIFS(Honoraire[TotalHonoraireHT],Honoraire[ClientId],Personne[[#This Row],[PersonneId]]),SUMIFS(Honoraire[TotalHT],Honoraire[ClientId],Personne[[#This Row],[PersonneId]]))","v":0},{"$f":"Personne[[#This Row],[Facture (HT)]]+ROW()/100000","v":1.426E-2},{"$f":"_xlfn.CONCAT(Personne[[#This Row],[Adresse]],\" \",Personne[[#This Row],[CodePostal]],\" \",Personne[[#This Row],[Ville]],\" \",Personne[[#This Row],[CodePays]])","v":"   "}]
[null,null,null,null,null,null,null,null,null,null,null,null,null,null,null,null,null,null,null,null,null,null,null,null,null,null,null,null,null,null,{"$f":"IF(PARAMETRES!$B$3=\"SANS\",SUMIFS(Honoraire[TotalHonoraireHT],Honoraire[ClientId],Personne[[#This Row],[PersonneId]]),SUMIFS(Honoraire[TotalHT],Honoraire[ClientId],Personne[[#This Row],[PersonneId]]))","v":0},{"$f":"Personne[[#This Row],[Facture (HT)]]+ROW()/100000","v":1.43E-2},{"$f":"_xlfn.CONCAT(Personne[[#This Row],[Adresse]],\" \",Personne[[#This Row],[CodePostal]],\" \",Personne[[#This Row],[Ville]],\" \",Personne[[#This Row],[CodePays]])","v":"   "}]
[null,null,null,null,null,null,null,null,null,null,null,null,null,null,null,null,null,null,null,null,null,null,null,null,null,null,null,null,null,null,{"$f":"IF(PARAMETRES!$B$3=\"SANS\",SUMIFS(Honoraire[TotalHonoraireHT],Honoraire[ClientId],Personne[[#This Row],[PersonneId]]),SUMIFS(Honoraire[TotalHT],Honoraire[ClientId],Personne[[#This Row],[PersonneId]]))","v":0},{"$f":"Personne[[#This Row],[Facture (HT)]]+ROW()/100000","v":1.431E-2},{"$f":"_xlfn.CONCAT(Personne[[#This Row],[Adresse]],\" \",Personne[[#This Row],[CodePostal]],\" \",Personne[[#This Row],[Ville]],\" \",Personne[[#This Row],[CodePays]])","v":"   "}]
[null,null,null,null,null,null,null,null,null,null,null,null,null,null,null,null,null,null,null,null,null,null,null,null,null,null,null,null,null,null,{"$f":"IF(PARAMETRES!$B$3=\"SANS\",SUMIFS(Honoraire[TotalHonoraireHT],Honoraire[ClientId],Personne[[#This Row],[PersonneId]]),SUMIFS(Honoraire[TotalHT],Honoraire[ClientId],Personne[[#This Row],[PersonneId]]))","v":0},{"$f":"Personne[[#This Row],[Facture (HT)]]+ROW()/100000","v":1.434E-2},{"$f":"_xlfn.CONCAT(Personne[[#This Row],[Adresse]],\" \",Personne[[#This Row],[CodePostal]],\" \",Personne[[#This Row],[Ville]],\" \",Personne[[#This Row],[CodePays]])","v":"   "}]
[null,null,null,null,null,null,null,null,null,null,null,null,null,null,null,null,null,null,null,null,null,null,null,null,null,null,null,null,null,null,{"$f":"IF(PARAMETRES!$B$3=\"SANS\",SUMIFS(Honoraire[TotalHonoraireHT],Honoraire[ClientId],Personne[[#This Row],[PersonneId]]),SUMIFS(Honoraire[TotalHT],Honoraire[ClientId],Personne[[#This Row],[PersonneId]]))","v":0},{"$f":"Personne[[#This Row],[Facture (HT)]]+ROW()/100000","v":1.435E-2},{"$f":"_xlfn.CONCAT(Personne[[#This Row],[Adresse]],\" \",Personne[[#This Row],[CodePostal]],\" \",Personne[[#This Row],[Ville]],\" \",Personne[[#This Row],[CodePays]])","v":"   "}]
[null,null,null,null,null,null,null,null,null,null,null,null,null,null,null,null,null,null,null,null,null,null,null,null,null,null,null,null,null,null,{"$f":"IF(PARAMETRES!$B$3=\"SANS\",SUMIFS(Honoraire[TotalHonoraireHT],Honoraire[ClientId],Personne[[#This Row],[PersonneId]]),SUMIFS(Honoraire[TotalHT],Honoraire[ClientId],Personne[[#This Row],[PersonneId]]))","v":0},{"$f":"Personne[[#This Row],[Facture (HT)]]+ROW()/100000","v":1.438E-2},{"$f":"_xlfn.CONCAT(Personne[[#This Row],[Adresse]],\" \",Personne[[#This Row],[CodePostal]],\" \",Personne[[#This Row],[Ville]],\" \",Personne[[#This Row],[CodePays]])","v":"   "}]
[null,null,null,null,null,null,null,null,null,null,null,null,null,null,null,null,null,null,null,null,null,null,null,null,null,null,null,null,null,null,{"$f":"IF(PARAMETRES!$B$3=\"SANS\",SUMIFS(Honoraire[TotalHonoraireHT],Honoraire[ClientId],Personne[[#This Row],[PersonneId]]),SUMIFS(Honoraire[TotalHT],Honoraire[ClientId],Personne[[#This Row],[PersonneId]]))","v":0},{"$f":"Personne[[#This Row],[Facture (HT)]]+ROW()/100000","v":1.4409999999999999E-2},{"$f":"_xlfn.CONCAT(Personne[[#This Row],[Adresse]],\" \",Personne[[#This Row],[CodePostal]],\" \",Personne[[#This Row],[Ville]],\" \",Personne[[#This Row],[CodePays]])","v":"   "}]
[null,null,null,null,null,null,null,null,null,null,null,null,null,null,null,null,null,null,null,null,null,null,null,null,null,null,null,null,null,null,{"$f":"IF(PARAMETRES!$B$3=\"SANS\",SUMIFS(Honoraire[TotalHonoraireHT],Honoraire[ClientId],Personne[[#This Row],[PersonneId]]),SUMIFS(Honoraire[TotalHT],Honoraire[ClientId],Personne[[#This Row],[PersonneId]]))","v":0},{"$f":"Personne[[#This Row],[Facture (HT)]]+ROW()/100000","v":1.443E-2},{"$f":"_xlfn.CONCAT(Personne[[#This Row],[Adresse]],\" \",Personne[[#This Row],[CodePostal]],\" \",Personne[[#This Row],[Ville]],\" \",Personne[[#This Row],[CodePays]])","v":"   "}]
[null,null,null,null,null,null,null,null,null,null,null,null,null,null,null,null,null,null,null,null,null,null,null,null,null,null,null,null,null,null,{"$f":"IF(PARAMETRES!$B$3=\"SANS\",SUMIFS(Honoraire[TotalHonoraireHT],Honoraire[ClientId],Personne[[#This Row],[PersonneId]]),SUMIFS(Honoraire[TotalHT],Honoraire[ClientId],Personne[[#This Row],[PersonneId]]))","v":0},{"$f":"Personne[[#This Row],[Facture (HT)]]+ROW()/100000","v":1.444E-2},{"$f":"_xlfn.CONCAT(Personne[[#This Row],[Adresse]],\" \",Personne[[#This Row],[CodePostal]],\" \",Personne[[#This Row],[Ville]],\" \",Personne[[#This Row],[CodePays]])","v":"   "}]
[null,null,null,null,null,null,null,null,null,null,null,null,null,null,null,null,null,null,null,null,null,null,null,null,null,null,null,null,null,null,{"$f":"IF(PARAMETRES!$B$3=\"SANS\",SUMIFS(Honoraire[TotalHonoraireHT],Honoraire[ClientId],Personne[[#This Row],[PersonneId]]),SUMIFS(Honoraire[TotalHT],Honoraire[ClientId],Personne[[#This Row],[PersonneId]]))","v":0},{"$f":"Personne[[#This Row],[Facture (HT)]]+ROW()/100000","v":1.447E-2},{"$f":"_xlfn.CONCAT(Personne[[#This Row],[Adresse]],\" \",Personne[[#This Row],[CodePostal]],\" \",Personne[[#This Row],[Ville]],\" \",Personne[[#This Row],[CodePays]])","v":"   "}]
[null,null,null,null,null,null,null,null,null,null,null,null,null,null,null,null,null,null,null,null,null,null,null,null,null,null,null,null,null,null,{"$f":"IF(PARAMETRES!$B$3=\"SANS\",SUMIFS(Honoraire[TotalHonoraireHT],Honoraire[ClientId],Personne[[#This Row],[PersonneId]]),SUMIFS(Honoraire[TotalHT],Honoraire[ClientId],Personne[[#This Row],[PersonneId]]))","v":0},{"$f":"Personne[[#This Row],[Facture (HT)]]+ROW()/100000","v":1.448E-2},{"$f":"_xlfn.CONCAT(Personne[[#This Row],[Adresse]],\" \",Personne[[#This Row],[CodePostal]],\" \",Personne[[#This Row],[Ville]],\" \",Personne[[#This Row],[CodePays]])","v":"   "}]
[null,null,null,null,null,null,null,null,null,null,null,null,null,null,null,null,null,null,null,null,null,null,null,null,null,null,null,null,null,null,{"$f":"IF(PARAMETRES!$B$3=\"SANS\",SUMIFS(Honoraire[TotalHonoraireHT],Honoraire[ClientId],Personne[[#This Row],[PersonneId]]),SUMIFS(Honoraire[TotalHT],Honoraire[ClientId],Personne[[#This Row],[PersonneId]]))","v":0},{"$f":"Personne[[#This Row],[Facture (HT)]]+ROW()/100000","v":1.451E-2},{"$f":"_xlfn.CONCAT(Personne[[#This Row],[Adresse]],\" \",Personne[[#This Row],[CodePostal]],\" \",Personne[[#This Row],[Ville]],\" \",Personne[[#This Row],[CodePays]])","v":"   "}]
[null,null,null,null,null,null,null,null,null,null,null,null,null,null,null,null,null,null,null,null,null,null,null,null,null,null,null,null,null,null,{"$f":"IF(PARAMETRES!$B$3=\"SANS\",SUMIFS(Honoraire[TotalHonoraireHT],Honoraire[ClientId],Personne[[#This Row],[PersonneId]]),SUMIFS(Honoraire[TotalHT],Honoraire[ClientId],Personne[[#This Row],[PersonneId]]))","v":0},{"$f":"Personne[[#This Row],[Facture (HT)]]+ROW()/100000","v":1.453E-2},{"$f":"_xlfn.CONCAT(Personne[[#This Row],[Adresse]],\" \",Personne[[#This Row],[CodePostal]],\" \",Personne[[#This Row],[Ville]],\" \",Personne[[#This Row],[CodePays]])","v":"   "}]
[null,null,null,null,null,null,null,null,null,null,null,null,null,null,null,null,null,null,null,null,null,null,null,null,null,null,null,null,null,null,{"$f":"IF(PARAMETRES!$B$3=\"SANS\",SUMIFS(Honoraire[TotalHonoraireHT],Honoraire[ClientId],Personne[[#This Row],[PersonneId]]),SUMIFS(Honoraire[TotalHT],Honoraire[ClientId],Personne[[#This Row],[PersonneId]]))","v":0},{"$f":"Personne[[#This Row],[Facture (HT)]]+ROW()/100000","v":1.456E-2},{"$f":"_xlfn.CONCAT(Personne[[#This Row],[Adresse]],\" \",Personne[[#This Row],[CodePostal]],\" \",Personne[[#This Row],[Ville]],\" \",Personne[[#This Row],[CodePays]])","v":"   "}]
[null,null,null,null,null,null,null,null,null,null,null,null,null,null,null,null,null,null,null,null,null,null,null,null,null,null,null,null,null,null,{"$f":"IF(PARAMETRES!$B$3=\"SANS\",SUMIFS(Honoraire[TotalHonoraireHT],Honoraire[ClientId],Personne[[#This Row],[PersonneId]]),SUMIFS(Honoraire[TotalHT],Honoraire[ClientId],Personne[[#This Row],[PersonneId]]))","v":0},{"$f":"Personne[[#This Row],[Facture (HT)]]+ROW()/100000","v":1.457E-2},{"$f":"_xlfn.CONCAT(Personne[[#This Row],[Adresse]],\" \",Personne[[#This Row],[CodePostal]],\" \",Personne[[#This Row],[Ville]],\" \",Personne[[#This Row],[CodePays]])","v":"   "}]
[null,null,null,null,null,null,null,null,null,null,null,null,null,null,null,null,null,null,null,null,null,null,null,null,null,null,null,null,null,null,{"$f":"IF(PARAMETRES!$B$3=\"SANS\",SUMIFS(Honoraire[TotalHonoraireHT],Honoraire[ClientId],Personne[[#This Row],[PersonneId]]),SUMIFS(Honoraire[TotalHT],Honoraire[ClientId],Personne[[#This Row],[PersonneId]]))","v":0},{"$f":"Personne[[#This Row],[Facture (HT)]]+ROW()/100000","v":1.46E-2},{"$f":"_xlfn.CONCAT(Personne[[#This Row],[Adresse]],\" \",Personne[[#This Row],[CodePostal]],\" \",Personne[[#This Row],[Ville]],\" \",Personne[[#This Row],[CodePays]])","v":"   "}]
[null,null,null,null,null,null,null,null,null,null,null,null,null,null,null,null,null,null,null,null,null,null,null,null,null,null,null,null,null,null,{"$f":"IF(PARAMETRES!$B$3=\"SANS\",SUMIFS(Honoraire[TotalHonoraireHT],Honoraire[ClientId],Personne[[#This Row],[PersonneId]]),SUMIFS(Honoraire[TotalHT],Honoraire[ClientId],Personne[[#This Row],[PersonneId]]))","v":0},{"$f":"Personne[[#This Row],[Facture (HT)]]+ROW()/100000","v":1.461E-2},{"$f":"_xlfn.CONCAT(Personne[[#This Row],[Adresse]],\" \",Personne[[#This Row],[CodePostal]],\" \",Personne[[#This Row],[Ville]],\" \",Personne[[#This Row],[CodePays]])","v":"   "}]
[null,null,null,null,null,null,null,null,null,null,null,null,null,null,null,null,null,null,null,null,null,null,null,null,null,null,null,null,null,null,{"$f":"IF(PARAMETRES!$B$3=\"SANS\",SUMIFS(Honoraire[TotalHonoraireHT],Honoraire[ClientId],Personne[[#This Row],[PersonneId]]),SUMIFS(Honoraire[TotalHT],Honoraire[ClientId],Personne[[#This Row],[PersonneId]]))","v":0},{"$f":"Personne[[#This Row],[Facture (HT)]]+ROW()/100000","v":1.465E-2},{"$f":"_xlfn.CONCAT(Personne[[#This Row],[Adresse]],\" \",Personne[[#This Row],[CodePostal]],\" \",Personne[[#This Row],[Ville]],\" \",Personne[[#This Row],[CodePays]])","v":"   "}]
[null,null,null,null,null,null,null,null,null,null,null,null,null,null,null,null,null,null,null,null,null,null,null,null,null,null,null,null,null,null,{"$f":"IF(PARAMETRES!$B$3=\"SANS\",SUMIFS(Honoraire[TotalHonoraireHT],Honoraire[ClientId],Personne[[#This Row],[PersonneId]]),SUMIFS(Honoraire[TotalHT],Honoraire[ClientId],Personne[[#This Row],[PersonneId]]))","v":0},{"$f":"Personne[[#This Row],[Facture (HT)]]+ROW()/100000","v":1.4659999999999999E-2},{"$f":"_xlfn.CONCAT(Personne[[#This Row],[Adresse]],\" \",Personne[[#This Row],[CodePostal]],\" \",Personne[[#This Row],[Ville]],\" \",Personne[[#This Row],[CodePays]])","v":"   "}]
[null,null,null,null,null,null,null,null,null,null,null,null,null,null,null,null,null,null,null,null,null,null,null,null,null,null,null,null,null,null,{"$f":"IF(PARAMETRES!$B$3=\"SANS\",SUMIFS(Honoraire[TotalHonoraireHT],Honoraire[ClientId],Personne[[#This Row],[PersonneId]]),SUMIFS(Honoraire[TotalHT],Honoraire[ClientId],Personne[[#This Row],[PersonneId]]))","v":0},{"$f":"Personne[[#This Row],[Facture (HT)]]+ROW()/100000","v":1.469E-2},{"$f":"_xlfn.CONCAT(Personne[[#This Row],[Adresse]],\" \",Personne[[#This Row],[CodePostal]],\" \",Personne[[#This Row],[Ville]],\" \",Personne[[#This Row],[CodePays]])","v":"   "}]
[null,null,null,null,null,null,null,null,null,null,null,null,null,null,null,null,null,null,null,null,null,null,null,null,null,null,null,null,null,null,{"$f":"IF(PARAMETRES!$B$3=\"SANS\",SUMIFS(Honoraire[TotalHonoraireHT],Honoraire[ClientId],Personne[[#This Row],[PersonneId]]),SUMIFS(Honoraire[TotalHT],Honoraire[ClientId],Personne[[#This Row],[PersonneId]]))","v":0},{"$f":"Personne[[#This Row],[Facture (HT)]]+ROW()/100000","v":1.47E-2},{"$f":"_xlfn.CONCAT(Personne[[#This Row],[Adresse]],\" \",Personne[[#This Row],[CodePostal]],\" \",Personne[[#This Row],[Ville]],\" \",Personne[[#This Row],[CodePays]])","v":"   "}]
[null,null,null,null,null,null,null,null,null,null,null,null,null,null,null,null,null,null,null,null,null,null,null,null,null,null,null,null,null,null,{"$f":"IF(PARAMETRES!$B$3=\"SANS\",SUMIFS(Honoraire[TotalHonoraireHT],Honoraire[ClientId],Personne[[#This Row],[PersonneId]]),SUMIFS(Honoraire[TotalHT],Honoraire[ClientId],Personne[[#This Row],[PersonneId]]))","v":0},{"$f":"Personne[[#This Row],[Facture (HT)]]+ROW()/100000","v":1.473E-2},{"$f":"_xlfn.CONCAT(Personne[[#This Row],[Adresse]],\" \",Personne[[#This Row],[CodePostal]],\" \",Personne[[#This Row],[Ville]],\" \",Personne[[#This Row],[CodePays]])","v":"   "}]
[null,null,null,null,null,null,null,null,null,null,null,null,null,null,null,null,null,null,null,null,null,null,null,null,null,null,null,null,null,null,{"$f":"IF(PARAMETRES!$B$3=\"SANS\",SUMIFS(Honoraire[TotalHonoraireHT],Honoraire[ClientId],Personne[[#This Row],[PersonneId]]),SUMIFS(Honoraire[TotalHT],Honoraire[ClientId],Personne[[#This Row],[PersonneId]]))","v":0},{"$f":"Personne[[#This Row],[Facture (HT)]]+ROW()/100000","v":1.4760000000000001E-2},{"$f":"_xlfn.CONCAT(Personne[[#This Row],[Adresse]],\" \",Personne[[#This Row],[CodePostal]],\" \",Personne[[#This Row],[Ville]],\" \",Personne[[#This Row],[CodePays]])","v":"   "}]
[null,null,null,null,null,null,null,null,null,null,null,null,null,null,null,null,null,null,null,null,null,null,null,null,null,null,null,null,null,null,{"$f":"IF(PARAMETRES!$B$3=\"SANS\",SUMIFS(Honoraire[TotalHonoraireHT],Honoraire[ClientId],Personne[[#This Row],[PersonneId]]),SUMIFS(Honoraire[TotalHT],Honoraire[ClientId],Personne[[#This Row],[PersonneId]]))","v":0},{"$f":"Personne[[#This Row],[Facture (HT)]]+ROW()/100000","v":1.478E-2},{"$f":"_xlfn.CONCAT(Personne[[#This Row],[Adresse]],\" \",Personne[[#This Row],[CodePostal]],\" \",Personne[[#This Row],[Ville]],\" \",Personne[[#This Row],[CodePays]])","v":"   "}]
[null,null,null,null,null,null,null,null,null,null,null,null,null,null,null,null,null,null,null,null,null,null,null,null,null,null,null,null,null,null,{"$f":"IF(PARAMETRES!$B$3=\"SANS\",SUMIFS(Honoraire[TotalHonoraireHT],Honoraire[ClientId],Personne[[#This Row],[PersonneId]]),SUMIFS(Honoraire[TotalHT],Honoraire[ClientId],Personne[[#This Row],[PersonneId]]))","v":0},{"$f":"Personne[[#This Row],[Facture (HT)]]+ROW()/100000","v":1.4789999999999999E-2},{"$f":"_xlfn.CONCAT(Personne[[#This Row],[Adresse]],\" \",Personne[[#This Row],[CodePostal]],\" \",Personne[[#This Row],[Ville]],\" \",Personne[[#This Row],[CodePays]])","v":"   "}]
[null,null,null,null,null,null,null,null,null,null,null,null,null,null,null,null,null,null,null,null,null,null,null,null,null,null,null,null,null,null,{"$f":"IF(PARAMETRES!$B$3=\"SANS\",SUMIFS(Honoraire[TotalHonoraireHT],Honoraire[ClientId],Personne[[#This Row],[PersonneId]]),SUMIFS(Honoraire[TotalHT],Honoraire[ClientId],Personne[[#This Row],[PersonneId]]))","v":0},{"$f":"Personne[[#This Row],[Facture (HT)]]+ROW()/100000","v":1.482E-2},{"$f":"_xlfn.CONCAT(Personne[[#This Row],[Adresse]],\" \",Personne[[#This Row],[CodePostal]],\" \",Personne[[#This Row],[Ville]],\" \",Personne[[#This Row],[CodePays]])","v":"   "}]
[null,null,null,null,null,null,null,null,null,null,null,null,null,null,null,null,null,null,null,null,null,null,null,null,null,null,null,null,null,null,{"$f":"IF(PARAMETRES!$B$3=\"SANS\",SUMIFS(Honoraire[TotalHonoraireHT],Honoraire[ClientId],Personne[[#This Row],[PersonneId]]),SUMIFS(Honoraire[TotalHT],Honoraire[ClientId],Personne[[#This Row],[PersonneId]]))","v":0},{"$f":"Personne[[#This Row],[Facture (HT)]]+ROW()/100000","v":1.4829999999999999E-2},{"$f":"_xlfn.CONCAT(Personne[[#This Row],[Adresse]],\" \",Personne[[#This Row],[CodePostal]],\" \",Personne[[#This Row],[Ville]],\" \",Personne[[#This Row],[CodePays]])","v":"   "}]
[null,null,null,null,null,null,null,null,null,null,null,null,null,null,null,null,null,null,null,null,null,null,null,null,null,null,null,null,null,null,{"$f":"IF(PARAMETRES!$B$3=\"SANS\",SUMIFS(Honoraire[TotalHonoraireHT],Honoraire[ClientId],Personne[[#This Row],[PersonneId]]),SUMIFS(Honoraire[TotalHT],Honoraire[ClientId],Personne[[#This Row],[PersonneId]]))","v":0},{"$f":"Personne[[#This Row],[Facture (HT)]]+ROW()/100000","v":1.486E-2},{"$f":"_xlfn.CONCAT(Personne[[#This Row],[Adresse]],\" \",Personne[[#This Row],[CodePostal]],\" \",Personne[[#This Row],[Ville]],\" \",Personne[[#This Row],[CodePays]])","v":"   "}]
[null,null,null,null,null,null,null,null,null,null,null,null,null,null,null,null,null,null,null,null,null,null,null,null,null,null,null,null,null,null,{"$f":"IF(PARAMETRES!$B$3=\"SANS\",SUMIFS(Honoraire[TotalHonoraireHT],Honoraire[ClientId],Personne[[#This Row],[PersonneId]]),SUMIFS(Honoraire[TotalHT],Honoraire[ClientId],Personne[[#This Row],[PersonneId]]))","v":0},{"$f":"Personne[[#This Row],[Facture (HT)]]+ROW()/100000","v":1.4880000000000001E-2},{"$f":"_xlfn.CONCAT(Personne[[#This Row],[Adresse]],\" \",Personne[[#This Row],[CodePostal]],\" \",Personne[[#This Row],[Ville]],\" \",Personne[[#This Row],[CodePays]])","v":"   "}]
[null,null,null,null,null,null,null,null,null,null,null,null,null,null,null,null,null,null,null,null,null,null,null,null,null,null,null,null,null,null,{"$f":"IF(PARAMETRES!$B$3=\"SANS\",SUMIFS(Honoraire[TotalHonoraireHT],Honoraire[ClientId],Personne[[#This Row],[PersonneId]]),SUMIFS(Honoraire[TotalHT],Honoraire[ClientId],Personne[[#This Row],[PersonneId]]))","v":0},{"$f":"Personne[[#This Row],[Facture (HT)]]+ROW()/100000","v":1.491E-2},{"$f":"_xlfn.CONCAT(Personne[[#This Row],[Adresse]],\" \",Personne[[#This Row],[CodePostal]],\" \",Personne[[#This Row],[Ville]],\" \",Personne[[#This Row],[CodePays]])","v":"   "}]
[null,null,null,null,null,null,null,null,null,null,null,null,null,null,null,null,null,null,null,null,null,null,null,null,null,null,null,null,null,null,{"$f":"IF(PARAMETRES!$B$3=\"SANS\",SUMIFS(Honoraire[TotalHonoraireHT],Honoraire[ClientId],Personne[[#This Row],[PersonneId]]),SUMIFS(Honoraire[TotalHT],Honoraire[ClientId],Personne[[#This Row],[PersonneId]]))","v":0},{"$f":"Personne[[#This Row],[Facture (HT)]]+ROW()/100000","v":1.4919999999999999E-2},{"$f":"_xlfn.CONCAT(Personne[[#This Row],[Adresse]],\" \",Personne[[#This Row],[CodePostal]],\" \",Personne[[#This Row],[Ville]],\" \",Personne[[#This Row],[CodePays]])","v":"   "}]
[null,null,null,null,null,null,null,null,null,null,null,null,null,null,null,null,null,null,null,null,null,null,null,null,null,null,null,null,null,null,{"$f":"IF(PARAMETRES!$B$3=\"SANS\",SUMIFS(Honoraire[TotalHonoraireHT],Honoraire[ClientId],Personne[[#This Row],[PersonneId]]),SUMIFS(Honoraire[TotalHT],Honoraire[ClientId],Personne[[#This Row],[PersonneId]]))","v":0},{"$f":"Personne[[#This Row],[Facture (HT)]]+ROW()/100000","v":1.495E-2},{"$f":"_xlfn.CONCAT(Personne[[#This Row],[Adresse]],\" \",Personne[[#This Row],[CodePostal]],\" \",Personne[[#This Row],[Ville]],\" \",Personne[[#This Row],[CodePays]])","v":"   "}]
[null,null,null,null,null,null,null,null,null,null,null,null,null,null,null,null,null,null,null,null,null,null,null,null,null,null,null,null,null,null,{"$f":"IF(PARAMETRES!$B$3=\"SANS\",SUMIFS(Honoraire[TotalHonoraireHT],Honoraire[ClientId],Personne[[#This Row],[PersonneId]]),SUMIFS(Honoraire[TotalHT],Honoraire[ClientId],Personne[[#This Row],[PersonneId]]))","v":0},{"$f":"Personne[[#This Row],[Facture (HT)]]+ROW()/100000","v":1.4959999999999999E-2},{"$f":"_xlfn.CONCAT(Personne[[#This Row],[Adresse]],\" \",Personne[[#This Row],[CodePostal]],\" \",Personne[[#This Row],[Ville]],\" \",Personne[[#This Row],[CodePays]])","v":"   "}]
[null,null,null,null,null,null,null,null,null,null,null,null,null,null,null,null,null,null,null,null,null,null,null,null,null,null,null,null,null,null,{"$f":"IF(PARAMETRES!$B$3=\"SANS\",SUMIFS(Honoraire[TotalHonoraireHT],Honoraire[ClientId],Personne[[#This Row],[PersonneId]]),SUMIFS(Honoraire[TotalHT],Honoraire[ClientId],Personne[[#This Row],[PersonneId]]))","v":0},{"$f":"Personne[[#This Row],[Facture (HT)]]+ROW()/100000","v":1.499E-2},{"$f":"_xlfn.CONCAT(Personne[[#This Row],[Adresse]],\" \",Personne[[#This Row],[CodePostal]],\" \",Personne[[#This Row],[Ville]],\" \",Personne[[#This Row],[CodePays]])","v":"   "}]
[null,null,null,null,null,null,null,null,null,null,null,null,null,null,null,null,null,null,null,null,null,null,null,null,null,null,null,null,null,null,{"$f":"IF(PARAMETRES!$B$3=\"SANS\",SUMIFS(Honoraire[TotalHonoraireHT],Honoraire[ClientId],Personne[[#This Row],[PersonneId]]),SUMIFS(Honoraire[TotalHT],Honoraire[ClientId],Personne[[#This Row],[PersonneId]]))","v":0},{"$f":"Personne[[#This Row],[Facture (HT)]]+ROW()/100000","v":1.5010000000000001E-2},{"$f":"_xlfn.CONCAT(Personne[[#This Row],[Adresse]],\" \",Personne[[#This Row],[CodePostal]],\" \",Personne[[#This Row],[Ville]],\" \",Personne[[#This Row],[CodePays]])","v":"   "}]
[null,null,null,null,null,null,null,null,null,null,null,null,null,null,null,null,null,null,null,null,null,null,null,null,null,null,null,null,null,null,{"$f":"IF(PARAMETRES!$B$3=\"SANS\",SUMIFS(Honoraire[TotalHonoraireHT],Honoraire[ClientId],Personne[[#This Row],[PersonneId]]),SUMIFS(Honoraire[TotalHT],Honoraire[ClientId],Personne[[#This Row],[PersonneId]]))","v":0},{"$f":"Personne[[#This Row],[Facture (HT)]]+ROW()/100000","v":1.504E-2},{"$f":"_xlfn.CONCAT(Personne[[#This Row],[Adresse]],\" \",Personne[[#This Row],[CodePostal]],\" \",Personne[[#This Row],[Ville]],\" \",Personne[[#This Row],[CodePays]])","v":"   "}]
[null,null,null,null,null,null,null,null,null,null,null,null,null,null,null,null,null,null,null,null,null,null,null,null,null,null,null,null,null,null,{"$f":"IF(PARAMETRES!$B$3=\"SANS\",SUMIFS(Honoraire[TotalHonoraireHT],Honoraire[ClientId],Personne[[#This Row],[PersonneId]]),SUMIFS(Honoraire[TotalHT],Honoraire[ClientId],Personne[[#This Row],[PersonneId]]))","v":0},{"$f":"Personne[[#This Row],[Facture (HT)]]+ROW()/100000","v":1.5049999999999999E-2},{"$f":"_xlfn.CONCAT(Personne[[#This Row],[Adresse]],\" \",Personne[[#This Row],[CodePostal]],\" \",Personne[[#This Row],[Ville]],\" \",Personne[[#This Row],[CodePays]])","v":"   "}]
[null,null,null,null,null,null,null,null,null,null,null,null,null,null,null,null,null,null,null,null,null,null,null,null,null,null,null,null,null,null,{"$f":"IF(PARAMETRES!$B$3=\"SANS\",SUMIFS(Honoraire[TotalHonoraireHT],Honoraire[ClientId],Personne[[#This Row],[PersonneId]]),SUMIFS(Honoraire[TotalHT],Honoraire[ClientId],Personne[[#This Row],[PersonneId]]))","v":0},{"$f":"Personne[[#This Row],[Facture (HT)]]+ROW()/100000","v":1.508E-2},{"$f":"_xlfn.CONCAT(Personne[[#This Row],[Adresse]],\" \",Personne[[#This Row],[CodePostal]],\" \",Personne[[#This Row],[Ville]],\" \",Personne[[#This Row],[CodePays]])","v":"   "}]
[null,null,null,null,null,null,null,null,null,null,null,null,null,null,null,null,null,null,null,null,null,null,null,null,null,null,null,null,null,null,{"$f":"IF(PARAMETRES!$B$3=\"SANS\",SUMIFS(Honoraire[TotalHonoraireHT],Honoraire[ClientId],Personne[[#This Row],[PersonneId]]),SUMIFS(Honoraire[TotalHT],Honoraire[ClientId],Personne[[#This Row],[PersonneId]]))","v":0},{"$f":"Personne[[#This Row],[Facture (HT)]]+ROW()/100000","v":1.511E-2},{"$f":"_xlfn.CONCAT(Personne[[#This Row],[Adresse]],\" \",Personne[[#This Row],[CodePostal]],\" \",Personne[[#This Row],[Ville]],\" \",Personne[[#This Row],[CodePays]])","v":"   "}]
[null,null,null,null,null,null,null,null,null,null,null,null,null,null,null,null,null,null,null,null,null,null,null,null,null,null,null,null,null,null,{"$f":"IF(PARAMETRES!$B$3=\"SANS\",SUMIFS(Honoraire[TotalHonoraireHT],Honoraire[ClientId],Personne[[#This Row],[PersonneId]]),SUMIFS(Honoraire[TotalHT],Honoraire[ClientId],Personne[[#This Row],[PersonneId]]))","v":0},{"$f":"Personne[[#This Row],[Facture (HT)]]+ROW()/100000","v":1.5129999999999999E-2},{"$f":"_xlfn.CONCAT(Personne[[#This Row],[Adresse]],\" \",Personne[[#This Row],[CodePostal]],\" \",Personne[[#This Row],[Ville]],\" \",Personne[[#This Row],[CodePays]])","v":"   "}]
[null,null,null,null,null,null,null,null,null,null,null,null,null,null,null,null,null,null,null,null,null,null,null,null,null,null,null,null,null,null,{"$f":"IF(PARAMETRES!$B$3=\"SANS\",SUMIFS(Honoraire[TotalHonoraireHT],Honoraire[ClientId],Personne[[#This Row],[PersonneId]]),SUMIFS(Honoraire[TotalHT],Honoraire[ClientId],Personne[[#This Row],[PersonneId]]))","v":0},{"$f":"Personne[[#This Row],[Facture (HT)]]+ROW()/100000","v":1.5140000000000001E-2},{"$f":"_xlfn.CONCAT(Personne[[#This Row],[Adresse]],\" \",Personne[[#This Row],[CodePostal]],\" \",Personne[[#This Row],[Ville]],\" \",Personne[[#This Row],[CodePays]])","v":"   "}]
[null,null,null,null,null,null,null,null,null,null,null,null,null,null,null,null,null,null,null,null,null,null,null,null,null,null,null,null,null,null,{"$f":"IF(PARAMETRES!$B$3=\"SANS\",SUMIFS(Honoraire[TotalHonoraireHT],Honoraire[ClientId],Personne[[#This Row],[PersonneId]]),SUMIFS(Honoraire[TotalHT],Honoraire[ClientId],Personne[[#This Row],[PersonneId]]))","v":0},{"$f":"Personne[[#This Row],[Facture (HT)]]+ROW()/100000","v":1.5169999999999999E-2},{"$f":"_xlfn.CONCAT(Personne[[#This Row],[Adresse]],\" \",Personne[[#This Row],[CodePostal]],\" \",Personne[[#This Row],[Ville]],\" \",Personne[[#This Row],[CodePays]])","v":"   "}]
[null,null,null,null,null,null,null,null,null,null,null,null,null,null,null,null,null,null,null,null,null,null,null,null,null,null,null,null,null,null,{"$f":"IF(PARAMETRES!$B$3=\"SANS\",SUMIFS(Honoraire[TotalHonoraireHT],Honoraire[ClientId],Personne[[#This Row],[PersonneId]]),SUMIFS(Honoraire[TotalHT],Honoraire[ClientId],Personne[[#This Row],[PersonneId]]))","v":0},{"$f":"Personne[[#This Row],[Facture (HT)]]+ROW()/100000","v":1.5180000000000001E-2},{"$f":"_xlfn.CONCAT(Personne[[#This Row],[Adresse]],\" \",Personne[[#This Row],[CodePostal]],\" \",Personne[[#This Row],[Ville]],\" \",Personne[[#This Row],[CodePays]])","v":"   "}]
[null,null,null,null,null,null,null,null,null,null,null,null,null,null,null,null,null,null,null,null,null,null,null,null,null,null,null,null,null,null,{"$f":"IF(PARAMETRES!$B$3=\"SANS\",SUMIFS(Honoraire[TotalHonoraireHT],Honoraire[ClientId],Personne[[#This Row],[PersonneId]]),SUMIFS(Honoraire[TotalHT],Honoraire[ClientId],Personne[[#This Row],[PersonneId]]))","v":0},{"$f":"Personne[[#This Row],[Facture (HT)]]+ROW()/100000","v":1.521E-2},{"$f":"_xlfn.CONCAT(Personne[[#This Row],[Adresse]],\" \",Personne[[#This Row],[CodePostal]],\" \",Personne[[#This Row],[Ville]],\" \",Personne[[#This Row],[CodePays]])","v":"   "}]
[null,null,null,null,null,null,null,null,null,null,null,null,null,null,null,null,null,null,null,null,null,null,null,null,null,null,null,null,null,null,{"$f":"IF(PARAMETRES!$B$3=\"SANS\",SUMIFS(Honoraire[TotalHonoraireHT],Honoraire[ClientId],Personne[[#This Row],[PersonneId]]),SUMIFS(Honoraire[TotalHT],Honoraire[ClientId],Personne[[#This Row],[PersonneId]]))","v":0},{"$f":"Personne[[#This Row],[Facture (HT)]]+ROW()/100000","v":1.524E-2},{"$f":"_xlfn.CONCAT(Personne[[#This Row],[Adresse]],\" \",Personne[[#This Row],[CodePostal]],\" \",Personne[[#This Row],[Ville]],\" \",Personne[[#This Row],[CodePays]])","v":"   "}]
[null,null,null,null,null,null,null,null,null,null,null,null,null,null,null,null,null,null,null,null,null,null,null,null,null,null,null,null,null,null,{"$f":"IF(PARAMETRES!$B$3=\"SANS\",SUMIFS(Honoraire[TotalHonoraireHT],Honoraire[ClientId],Personne[[#This Row],[PersonneId]]),SUMIFS(Honoraire[TotalHT],Honoraire[ClientId],Personne[[#This Row],[PersonneId]]))","v":0},{"$f":"Personne[[#This Row],[Facture (HT)]]+ROW()/100000","v":1.5259999999999999E-2},{"$f":"_xlfn.CONCAT(Personne[[#This Row],[Adresse]],\" \",Personne[[#This Row],[CodePostal]],\" \",Personne[[#This Row],[Ville]],\" \",Personne[[#This Row],[CodePays]])","v":"   "}]
[null,null,null,null,null,null,null,null,null,null,null,null,null,null,null,null,null,null,null,null,null,null,null,null,null,null,null,null,null,null,{"$f":"IF(PARAMETRES!$B$3=\"SANS\",SUMIFS(Honoraire[TotalHonoraireHT],Honoraire[ClientId],Personne[[#This Row],[PersonneId]]),SUMIFS(Honoraire[TotalHT],Honoraire[ClientId],Personne[[#This Row],[PersonneId]]))","v":0},{"$f":"Personne[[#This Row],[Facture (HT)]]+ROW()/100000","v":1.5270000000000001E-2},{"$f":"_xlfn.CONCAT(Personne[[#This Row],[Adresse]],\" \",Personne[[#This Row],[CodePostal]],\" \",Personne[[#This Row],[Ville]],\" \",Personne[[#This Row],[CodePays]])","v":"   "}]
[null,null,null,null,null,null,null,null,null,null,null,null,null,null,null,null,null,null,null,null,null,null,null,null,null,null,null,null,null,null,{"$f":"IF(PARAMETRES!$B$3=\"SANS\",SUMIFS(Honoraire[TotalHonoraireHT],Honoraire[ClientId],Personne[[#This Row],[PersonneId]]),SUMIFS(Honoraire[TotalHT],Honoraire[ClientId],Personne[[#This Row],[PersonneId]]))","v":0},{"$f":"Personne[[#This Row],[Facture (HT)]]+ROW()/100000","v":1.5299999999999999E-2},{"$f":"_xlfn.CONCAT(Personne[[#This Row],[Adresse]],\" \",Personne[[#This Row],[CodePostal]],\" \",Personne[[#This Row],[Ville]],\" \",Personne[[#This Row],[CodePays]])","v":"   "}]
[null,null,null,null,null,null,null,null,null,null,null,null,null,null,null,null,null,null,null,null,null,null,null,null,null,null,null,null,null,null,{"$f":"IF(PARAMETRES!$B$3=\"SANS\",SUMIFS(Honoraire[TotalHonoraireHT],Honoraire[ClientId],Personne[[#This Row],[PersonneId]]),SUMIFS(Honoraire[TotalHT],Honoraire[ClientId],Personne[[#This Row],[PersonneId]]))","v":0},{"$f":"Personne[[#This Row],[Facture (HT)]]+ROW()/100000","v":1.5310000000000001E-2},{"$f":"_xlfn.CONCAT(Personne[[#This Row],[Adresse]],\" \",Personne[[#This Row],[CodePostal]],\" \",Personne[[#This Row],[Ville]],\" \",Personne[[#This Row],[CodePays]])","v":"   "}]
[null,null,null,null,null,null,null,null,null,null,null,null,null,null,null,null,null,null,null,null,null,null,null,null,null,null,null,null,null,null,{"$f":"IF(PARAMETRES!$B$3=\"SANS\",SUMIFS(Honoraire[TotalHonoraireHT],Honoraire[ClientId],Personne[[#This Row],[PersonneId]]),SUMIFS(Honoraire[TotalHT],Honoraire[ClientId],Personne[[#This Row],[PersonneId]]))","v":0},{"$f":"Personne[[#This Row],[Facture (HT)]]+ROW()/100000","v":1.5339999999999999E-2},{"$f":"_xlfn.CONCAT(Personne[[#This Row],[Adresse]],\" \",Personne[[#This Row],[CodePostal]],\" \",Personne[[#This Row],[Ville]],\" \",Personne[[#This Row],[CodePays]])","v":"   "}]
[null,null,null,null,null,null,null,null,null,null,null,null,null,null,null,null,null,null,null,null,null,null,null,null,null,null,null,null,null,null,{"$f":"IF(PARAMETRES!$B$3=\"SANS\",SUMIFS(Honoraire[TotalHonoraireHT],Honoraire[ClientId],Personne[[#This Row],[PersonneId]]),SUMIFS(Honoraire[TotalHT],Honoraire[ClientId],Personne[[#This Row],[PersonneId]]))","v":0},{"$f":"Personne[[#This Row],[Facture (HT)]]+ROW()/100000","v":1.536E-2},{"$f":"_xlfn.CONCAT(Personne[[#This Row],[Adresse]],\" \",Personne[[#This Row],[CodePostal]],\" \",Personne[[#This Row],[Ville]],\" \",Personne[[#This Row],[CodePays]])","v":"   "}]
[null,null,null,null,null,null,null,null,null,null,null,null,null,null,null,null,null,null,null,null,null,null,null,null,null,null,null,null,null,null,{"$f":"IF(PARAMETRES!$B$3=\"SANS\",SUMIFS(Honoraire[TotalHonoraireHT],Honoraire[ClientId],Personne[[#This Row],[PersonneId]]),SUMIFS(Honoraire[TotalHT],Honoraire[ClientId],Personne[[#This Row],[PersonneId]]))","v":0},{"$f":"Personne[[#This Row],[Facture (HT)]]+ROW()/100000","v":1.5389999999999999E-2},{"$f":"_xlfn.CONCAT(Personne[[#This Row],[Adresse]],\" \",Personne[[#This Row],[CodePostal]],\" \",Personne[[#This Row],[Ville]],\" \",Personne[[#This Row],[CodePays]])","v":"   "}]
[null,null,null,null,null,null,null,null,null,null,null,null,null,null,null,null,null,null,null,null,null,null,null,null,null,null,null,null,null,null,{"$f":"IF(PARAMETRES!$B$3=\"SANS\",SUMIFS(Honoraire[TotalHonoraireHT],Honoraire[ClientId],Personne[[#This Row],[PersonneId]]),SUMIFS(Honoraire[TotalHT],Honoraire[ClientId],Personne[[#This Row],[PersonneId]]))","v":0},{"$f":"Personne[[#This Row],[Facture (HT)]]+ROW()/100000","v":1.54E-2},{"$f":"_xlfn.CONCAT(Personne[[#This Row],[Adresse]],\" \",Personne[[#This Row],[CodePostal]],\" \",Personne[[#This Row],[Ville]],\" \",Personne[[#This Row],[CodePays]])","v":"   "}]
[null,null,null,null,null,null,null,null,null,null,null,null,null,null,null,null,null,null,null,null,null,null,null,null,null,null,null,null,null,null,{"$f":"IF(PARAMETRES!$B$3=\"SANS\",SUMIFS(Honoraire[TotalHonoraireHT],Honoraire[ClientId],Personne[[#This Row],[PersonneId]]),SUMIFS(Honoraire[TotalHT],Honoraire[ClientId],Personne[[#This Row],[PersonneId]]))","v":0},{"$f":"Personne[[#This Row],[Facture (HT)]]+ROW()/100000","v":1.5429999999999999E-2},{"$f":"_xlfn.CONCAT(Personne[[#This Row],[Adresse]],\" \",Personne[[#This Row],[CodePostal]],\" \",Personne[[#This Row],[Ville]],\" \",Personne[[#This Row],[CodePays]])","v":"   "}]
[null,null,null,null,null,null,null,null,null,null,null,null,null,null,null,null,null,null,null,null,null,null,null,null,null,null,null,null,null,null,{"$f":"IF(PARAMETRES!$B$3=\"SANS\",SUMIFS(Honoraire[TotalHonoraireHT],Honoraire[ClientId],Personne[[#This Row],[PersonneId]]),SUMIFS(Honoraire[TotalHT],Honoraire[ClientId],Personne[[#This Row],[PersonneId]]))","v":0},{"$f":"Personne[[#This Row],[Facture (HT)]]+ROW()/100000","v":1.5440000000000001E-2},{"$f":"_xlfn.CONCAT(Personne[[#This Row],[Adresse]],\" \",Personne[[#This Row],[CodePostal]],\" \",Personne[[#This Row],[Ville]],\" \",Personne[[#This Row],[CodePays]])","v":"   "}]
[null,null,null,null,null,null,null,null,null,null,null,null,null,null,null,null,null,null,null,null,null,null,null,null,null,null,null,null,null,null,{"$f":"IF(PARAMETRES!$B$3=\"SANS\",SUMIFS(Honoraire[TotalHonoraireHT],Honoraire[ClientId],Personne[[#This Row],[PersonneId]]),SUMIFS(Honoraire[TotalHT],Honoraire[ClientId],Personne[[#This Row],[PersonneId]]))","v":0},{"$f":"Personne[[#This Row],[Facture (HT)]]+ROW()/100000","v":1.5480000000000001E-2},{"$f":"_xlfn.CONCAT(Personne[[#This Row],[Adresse]],\" \",Personne[[#This Row],[CodePostal]],\" \",Personne[[#This Row],[Ville]],\" \",Personne[[#This Row],[CodePays]])","v":"   "}]
[null,null,null,null,null,null,null,null,null,null,null,null,null,null,null,null,null,null,null,null,null,null,null,null,null,null,null,null,null,null,{"$f":"IF(PARAMETRES!$B$3=\"SANS\",SUMIFS(Honoraire[TotalHonoraireHT],Honoraire[ClientId],Personne[[#This Row],[PersonneId]]),SUMIFS(Honoraire[TotalHT],Honoraire[ClientId],Personne[[#This Row],[PersonneId]]))","v":0},{"$f":"Personne[[#This Row],[Facture (HT)]]+ROW()/100000","v":1.549E-2},{"$f":"_xlfn.CONCAT(Personne[[#This Row],[Adresse]],\" \",Personne[[#This Row],[CodePostal]],\" \",Personne[[#This Row],[Ville]],\" \",Personne[[#This Row],[CodePays]])","v":"   "}]
[null,null,null,null,null,null,null,null,null,null,null,null,null,null,null,null,null,null,null,null,null,null,null,null,null,null,null,null,null,null,{"$f":"IF(PARAMETRES!$B$3=\"SANS\",SUMIFS(Honoraire[TotalHonoraireHT],Honoraire[ClientId],Personne[[#This Row],[PersonneId]]),SUMIFS(Honoraire[TotalHT],Honoraire[ClientId],Personne[[#This Row],[PersonneId]]))","v":0},{"$f":"Personne[[#This Row],[Facture (HT)]]+ROW()/100000","v":1.5520000000000001E-2},{"$f":"_xlfn.CONCAT(Personne[[#This Row],[Adresse]],\" \",Personne[[#This Row],[CodePostal]],\" \",Personne[[#This Row],[Ville]],\" \",Personne[[#This Row],[CodePays]])","v":"   "}]
[null,null,null,null,null,null,null,null,null,null,null,null,null,null,null,null,null,null,null,null,null,null,null,null,null,null,null,null,null,null,{"$f":"IF(PARAMETRES!$B$3=\"SANS\",SUMIFS(Honoraire[TotalHonoraireHT],Honoraire[ClientId],Personne[[#This Row],[PersonneId]]),SUMIFS(Honoraire[TotalHT],Honoraire[ClientId],Personne[[#This Row],[PersonneId]]))","v":0},{"$f":"Personne[[#This Row],[Facture (HT)]]+ROW()/100000","v":1.553E-2},{"$f":"_xlfn.CONCAT(Personne[[#This Row],[Adresse]],\" \",Personne[[#This Row],[CodePostal]],\" \",Personne[[#This Row],[Ville]],\" \",Personne[[#This Row],[CodePays]])","v":"   "}]
[null,null,null,null,null,null,null,null,null,null,null,null,null,null,null,null,null,null,null,null,null,null,null,null,null,null,null,null,null,null,{"$f":"IF(PARAMETRES!$B$3=\"SANS\",SUMIFS(Honoraire[TotalHonoraireHT],Honoraire[ClientId],Personne[[#This Row],[PersonneId]]),SUMIFS(Honoraire[TotalHT],Honoraire[ClientId],Personne[[#This Row],[PersonneId]]))","v":0},{"$f":"Personne[[#This Row],[Facture (HT)]]+ROW()/100000","v":1.5559999999999999E-2},{"$f":"_xlfn.CONCAT(Personne[[#This Row],[Adresse]],\" \",Personne[[#This Row],[CodePostal]],\" \",Personne[[#This Row],[Ville]],\" \",Personne[[#This Row],[CodePays]])","v":"   "}]
[null,null,null,null,null,null,null,null,null,null,null,null,null,null,null,null,null,null,null,null,null,null,null,null,null,null,null,null,null,null,{"$f":"IF(PARAMETRES!$B$3=\"SANS\",SUMIFS(Honoraire[TotalHonoraireHT],Honoraire[ClientId],Personne[[#This Row],[PersonneId]]),SUMIFS(Honoraire[TotalHT],Honoraire[ClientId],Personne[[#This Row],[PersonneId]]))","v":0},{"$f":"Personne[[#This Row],[Facture (HT)]]+ROW()/100000","v":1.559E-2},{"$f":"_xlfn.CONCAT(Personne[[#This Row],[Adresse]],\" \",Personne[[#This Row],[CodePostal]],\" \",Personne[[#This Row],[Ville]],\" \",Personne[[#This Row],[CodePays]])","v":"   "}]
[null,null,null,null,null,null,null,null,null,null,null,null,null,null,null,null,null,null,null,null,null,null,null,null,null,null,null,null,null,null,{"$f":"IF(PARAMETRES!$B$3=\"SANS\",SUMIFS(Honoraire[TotalHonoraireHT],Honoraire[ClientId],Personne[[#This Row],[PersonneId]]),SUMIFS(Honoraire[TotalHT],Honoraire[ClientId],Personne[[#This Row],[PersonneId]]))","v":0},{"$f":"Personne[[#This Row],[Facture (HT)]]+ROW()/100000","v":1.5610000000000001E-2},{"$f":"_xlfn.CONCAT(Personne[[#This Row],[Adresse]],\" \",Personne[[#This Row],[CodePostal]],\" \",Personne[[#This Row],[Ville]],\" \",Personne[[#This Row],[CodePays]])","v":"   "}]
[null,null,null,null,null,null,null,null,null,null,null,null,null,null,null,null,null,null,null,null,null,null,null,null,null,null,null,null,null,null,{"$f":"IF(PARAMETRES!$B$3=\"SANS\",SUMIFS(Honoraire[TotalHonoraireHT],Honoraire[ClientId],Personne[[#This Row],[PersonneId]]),SUMIFS(Honoraire[TotalHT],Honoraire[ClientId],Personne[[#This Row],[PersonneId]]))","v":0},{"$f":"Personne[[#This Row],[Facture (HT)]]+ROW()/100000","v":1.562E-2},{"$f":"_xlfn.CONCAT(Personne[[#This Row],[Adresse]],\" \",Personne[[#This Row],[CodePostal]],\" \",Personne[[#This Row],[Ville]],\" \",Personne[[#This Row],[CodePays]])","v":"   "}]
[null,null,null,null,null,null,null,null,null,null,null,null,null,null,null,null,null,null,null,null,null,null,null,null,null,null,null,null,null,null,{"$f":"IF(PARAMETRES!$B$3=\"SANS\",SUMIFS(Honoraire[TotalHonoraireHT],Honoraire[ClientId],Personne[[#This Row],[PersonneId]]),SUMIFS(Honoraire[TotalHT],Honoraire[ClientId],Personne[[#This Row],[PersonneId]]))","v":0},{"$f":"Personne[[#This Row],[Facture (HT)]]+ROW()/100000","v":1.5650000000000001E-2},{"$f":"_xlfn.CONCAT(Personne[[#This Row],[Adresse]],\" \",Personne[[#This Row],[CodePostal]],\" \",Personne[[#This Row],[Ville]],\" \",Personne[[#This Row],[CodePays]])","v":"   "}]
[null,null,null,null,null,null,null,null,null,null,null,null,null,null,null,null,null,null,null,null,null,null,null,null,null,null,null,null,null,null,{"$f":"IF(PARAMETRES!$B$3=\"SANS\",SUMIFS(Honoraire[TotalHonoraireHT],Honoraire[ClientId],Personne[[#This Row],[PersonneId]]),SUMIFS(Honoraire[TotalHT],Honoraire[ClientId],Personne[[#This Row],[PersonneId]]))","v":0},{"$f":"Personne[[#This Row],[Facture (HT)]]+ROW()/100000","v":1.566E-2},{"$f":"_xlfn.CONCAT(Personne[[#This Row],[Adresse]],\" \",Personne[[#This Row],[CodePostal]],\" \",Personne[[#This Row],[Ville]],\" \",Personne[[#This Row],[CodePays]])","v":"   "}]
[null,null,null,null,null,null,null,null,null,null,null,null,null,null,null,null,null,null,null,null,null,null,null,null,null,null,null,null,null,null,{"$f":"IF(PARAMETRES!$B$3=\"SANS\",SUMIFS(Honoraire[TotalHonoraireHT],Honoraire[ClientId],Personne[[#This Row],[PersonneId]]),SUMIFS(Honoraire[TotalHT],Honoraire[ClientId],Personne[[#This Row],[PersonneId]]))","v":0},{"$f":"Personne[[#This Row],[Facture (HT)]]+ROW()/100000","v":1.5689999999999999E-2},{"$f":"_xlfn.CONCAT(Personne[[#This Row],[Adresse]],\" \",Personne[[#This Row],[CodePostal]],\" \",Personne[[#This Row],[Ville]],\" \",Personne[[#This Row],[CodePays]])","v":"   "}]
[null,null,null,null,null,null,null,null,null,null,null,null,null,null,null,null,null,null,null,null,null,null,null,null,null,null,null,null,null,null,{"$f":"IF(PARAMETRES!$B$3=\"SANS\",SUMIFS(Honoraire[TotalHonoraireHT],Honoraire[ClientId],Personne[[#This Row],[PersonneId]]),SUMIFS(Honoraire[TotalHT],Honoraire[ClientId],Personne[[#This Row],[PersonneId]]))","v":0},{"$f":"Personne[[#This Row],[Facture (HT)]]+ROW()/100000","v":1.5709999999999998E-2},{"$f":"_xlfn.CONCAT(Personne[[#This Row],[Adresse]],\" \",Personne[[#This Row],[CodePostal]],\" \",Personne[[#This Row],[Ville]],\" \",Personne[[#This Row],[CodePays]])","v":"   "}]
[null,null,null,null,null,null,null,null,null,null,null,null,null,null,null,null,null,null,null,null,null,null,null,null,null,null,null,null,null,null,{"$f":"IF(PARAMETRES!$B$3=\"SANS\",SUMIFS(Honoraire[TotalHonoraireHT],Honoraire[ClientId],Personne[[#This Row],[PersonneId]]),SUMIFS(Honoraire[TotalHT],Honoraire[ClientId],Personne[[#This Row],[PersonneId]]))","v":0},{"$f":"Personne[[#This Row],[Facture (HT)]]+ROW()/100000","v":1.5740000000000001E-2},{"$f":"_xlfn.CONCAT(Personne[[#This Row],[Adresse]],\" \",Personne[[#This Row],[CodePostal]],\" \",Personne[[#This Row],[Ville]],\" \",Personne[[#This Row],[CodePays]])","v":"   "}]
[null,null,null,null,null,null,null,null,null,null,null,null,null,null,null,null,null,null,null,null,null,null,null,null,null,null,null,null,null,null,{"$f":"IF(PARAMETRES!$B$3=\"SANS\",SUMIFS(Honoraire[TotalHonoraireHT],Honoraire[ClientId],Personne[[#This Row],[PersonneId]]),SUMIFS(Honoraire[TotalHT],Honoraire[ClientId],Personne[[#This Row],[PersonneId]]))","v":0},{"$f":"Personne[[#This Row],[Facture (HT)]]+ROW()/100000","v":1.575E-2},{"$f":"_xlfn.CONCAT(Personne[[#This Row],[Adresse]],\" \",Personne[[#This Row],[CodePostal]],\" \",Personne[[#This Row],[Ville]],\" \",Personne[[#This Row],[CodePays]])","v":"   "}]
[null,null,null,null,null,null,null,null,null,null,null,null,null,null,null,null,null,null,null,null,null,null,null,null,null,null,null,null,null,null,{"$f":"IF(PARAMETRES!$B$3=\"SANS\",SUMIFS(Honoraire[TotalHonoraireHT],Honoraire[ClientId],Personne[[#This Row],[PersonneId]]),SUMIFS(Honoraire[TotalHT],Honoraire[ClientId],Personne[[#This Row],[PersonneId]]))","v":0},{"$f":"Personne[[#This Row],[Facture (HT)]]+ROW()/100000","v":1.5779999999999999E-2},{"$f":"_xlfn.CONCAT(Personne[[#This Row],[Adresse]],\" \",Personne[[#This Row],[CodePostal]],\" \",Personne[[#This Row],[Ville]],\" \",Personne[[#This Row],[CodePays]])","v":"   "}]
[null,null,null,null,null,null,null,null,null,null,null,null,null,null,null,null,null,null,null,null,null,null,null,null,null,null,null,null,null,null,{"$f":"IF(PARAMETRES!$B$3=\"SANS\",SUMIFS(Honoraire[TotalHonoraireHT],Honoraire[ClientId],Personne[[#This Row],[PersonneId]]),SUMIFS(Honoraire[TotalHT],Honoraire[ClientId],Personne[[#This Row],[PersonneId]]))","v":0},{"$f":"Personne[[#This Row],[Facture (HT)]]+ROW()/100000","v":1.5789999999999998E-2},{"$f":"_xlfn.CONCAT(Personne[[#This Row],[Adresse]],\" \",Personne[[#This Row],[CodePostal]],\" \",Personne[[#This Row],[Ville]],\" \",Personne[[#This Row],[CodePays]])","v":"   "}]
[null,null,null,null,null,null,null,null,null,null,null,null,null,null,null,null,null,null,null,null,null,null,null,null,null,null,null,null,null,null,{"$f":"IF(PARAMETRES!$B$3=\"SANS\",SUMIFS(Honoraire[TotalHonoraireHT],Honoraire[ClientId],Personne[[#This Row],[PersonneId]]),SUMIFS(Honoraire[TotalHT],Honoraire[ClientId],Personne[[#This Row],[PersonneId]]))","v":0},{"$f":"Personne[[#This Row],[Facture (HT)]]+ROW()/100000","v":1.5810000000000001E-2},{"$f":"_xlfn.CONCAT(Personne[[#This Row],[Adresse]],\" \",Personne[[#This Row],[CodePostal]],\" \",Personne[[#This Row],[Ville]],\" \",Personne[[#This Row],[CodePays]])","v":"   "}]
[null,null,null,null,null,null,null,null,null,null,null,null,null,null,null,null,null,null,null,null,null,null,null,null,null,null,null,null,null,null,{"$f":"IF(PARAMETRES!$B$3=\"SANS\",SUMIFS(Honoraire[TotalHonoraireHT],Honoraire[ClientId],Personne[[#This Row],[PersonneId]]),SUMIFS(Honoraire[TotalHT],Honoraire[ClientId],Personne[[#This Row],[PersonneId]]))","v":0},{"$f":"Personne[[#This Row],[Facture (HT)]]+ROW()/100000","v":1.584E-2},{"$f":"_xlfn.CONCAT(Personne[[#This Row],[Adresse]],\" \",Personne[[#This Row],[CodePostal]],\" \",Personne[[#This Row],[Ville]],\" \",Personne[[#This Row],[CodePays]])","v":"   "}]
[null,null,null,null,null,null,null,null,null,null,null,null,null,null,null,null,null,null,null,null,null,null,null,null,null,null,null,null,null,null,{"$f":"IF(PARAMETRES!$B$3=\"SANS\",SUMIFS(Honoraire[TotalHonoraireHT],Honoraire[ClientId],Personne[[#This Row],[PersonneId]]),SUMIFS(Honoraire[TotalHT],Honoraire[ClientId],Personne[[#This Row],[PersonneId]]))","v":0},{"$f":"Personne[[#This Row],[Facture (HT)]]+ROW()/100000","v":1.5869999999999999E-2},{"$f":"_xlfn.CONCAT(Personne[[#This Row],[Adresse]],\" \",Personne[[#This Row],[CodePostal]],\" \",Personne[[#This Row],[Ville]],\" \",Personne[[#This Row],[CodePays]])","v":"   "}]
[null,null,null,null,null,null,null,null,null,null,null,null,null,null,null,null,null,null,null,null,null,null,null,null,null,null,null,null,null,null,{"$f":"IF(PARAMETRES!$B$3=\"SANS\",SUMIFS(Honoraire[TotalHonoraireHT],Honoraire[ClientId],Personne[[#This Row],[PersonneId]]),SUMIFS(Honoraire[TotalHT],Honoraire[ClientId],Personne[[#This Row],[PersonneId]]))","v":0},{"$f":"Personne[[#This Row],[Facture (HT)]]+ROW()/100000","v":1.5879999999999998E-2},{"$f":"_xlfn.CONCAT(Personne[[#This Row],[Adresse]],\" \",Personne[[#This Row],[CodePostal]],\" \",Personne[[#This Row],[Ville]],\" \",Personne[[#This Row],[CodePays]])","v":"   "}]
[null,null,null,null,null,null,null,null,null,null,null,null,null,null,null,null,null,null,null,null,null,null,null,null,null,null,null,null,null,null,{"$f":"IF(PARAMETRES!$B$3=\"SANS\",SUMIFS(Honoraire[TotalHonoraireHT],Honoraire[ClientId],Personne[[#This Row],[PersonneId]]),SUMIFS(Honoraire[TotalHT],Honoraire[ClientId],Personne[[#This Row],[PersonneId]]))","v":0},{"$f":"Personne[[#This Row],[Facture (HT)]]+ROW()/100000","v":1.5910000000000001E-2},{"$f":"_xlfn.CONCAT(Personne[[#This Row],[Adresse]],\" \",Personne[[#This Row],[CodePostal]],\" \",Personne[[#This Row],[Ville]],\" \",Personne[[#This Row],[CodePays]])","v":"   "}]
[null,null,null,null,null,null,null,null,null,null,null,null,null,null,null,null,null,null,null,null,null,null,null,null,null,null,null,null,null,null,{"$f":"IF(PARAMETRES!$B$3=\"SANS\",SUMIFS(Honoraire[TotalHonoraireHT],Honoraire[ClientId],Personne[[#This Row],[PersonneId]]),SUMIFS(Honoraire[TotalHT],Honoraire[ClientId],Personne[[#This Row],[PersonneId]]))","v":0},{"$f":"Personne[[#This Row],[Facture (HT)]]+ROW()/100000","v":1.5939999999999999E-2},{"$f":"_xlfn.CONCAT(Personne[[#This Row],[Adresse]],\" \",Personne[[#This Row],[CodePostal]],\" \",Personne[[#This Row],[Ville]],\" \",Personne[[#This Row],[CodePays]])","v":"   "}]
[null,null,null,null,null,null,null,null,null,null,null,null,null,null,null,null,null,null,null,null,null,null,null,null,null,null,null,null,null,null,{"$f":"IF(PARAMETRES!$B$3=\"SANS\",SUMIFS(Honoraire[TotalHonoraireHT],Honoraire[ClientId],Personne[[#This Row],[PersonneId]]),SUMIFS(Honoraire[TotalHT],Honoraire[ClientId],Personne[[#This Row],[PersonneId]]))","v":0},{"$f":"Personne[[#This Row],[Facture (HT)]]+ROW()/100000","v":1.5959999999999998E-2},{"$f":"_xlfn.CONCAT(Personne[[#This Row],[Adresse]],\" \",Personne[[#This Row],[CodePostal]],\" \",Personne[[#This Row],[Ville]],\" \",Personne[[#This Row],[CodePays]])","v":"   "}]
[null,null,null,null,null,null,null,null,null,null,null,null,null,null,null,null,null,null,null,null,null,null,null,null,null,null,null,null,null,null,{"$f":"IF(PARAMETRES!$B$3=\"SANS\",SUMIFS(Honoraire[TotalHonoraireHT],Honoraire[ClientId],Personne[[#This Row],[PersonneId]]),SUMIFS(Honoraire[TotalHT],Honoraire[ClientId],Personne[[#This Row],[PersonneId]]))","v":0},{"$f":"Personne[[#This Row],[Facture (HT)]]+ROW()/100000","v":1.5970000000000002E-2},{"$f":"_xlfn.CONCAT(Personne[[#This Row],[Adresse]],\" \",Personne[[#This Row],[CodePostal]],\" \",Personne[[#This Row],[Ville]],\" \",Personne[[#This Row],[CodePays]])","v":"   "}]
[null,null,null,null,null,null,null,null,null,null,null,null,null,null,null,null,null,null,null,null,null,null,null,null,null,null,null,null,null,null,{"$f":"IF(PARAMETRES!$B$3=\"SANS\",SUMIFS(Honoraire[TotalHonoraireHT],Honoraire[ClientId],Personne[[#This Row],[PersonneId]]),SUMIFS(Honoraire[TotalHT],Honoraire[ClientId],Personne[[#This Row],[PersonneId]]))","v":0},{"$f":"Personne[[#This Row],[Facture (HT)]]+ROW()/100000","v":1.6E-2},{"$f":"_xlfn.CONCAT(Personne[[#This Row],[Adresse]],\" \",Personne[[#This Row],[CodePostal]],\" \",Personne[[#This Row],[Ville]],\" \",Personne[[#This Row],[CodePays]])","v":"   "}]
[null,null,null,null,null,null,null,null,null,null,null,null,null,null,null,null,null,null,null,null,null,null,null,null,null,null,null,null,null,null,{"$f":"IF(PARAMETRES!$B$3=\"SANS\",SUMIFS(Honoraire[TotalHonoraireHT],Honoraire[ClientId],Personne[[#This Row],[PersonneId]]),SUMIFS(Honoraire[TotalHT],Honoraire[ClientId],Personne[[#This Row],[PersonneId]]))","v":0},{"$f":"Personne[[#This Row],[Facture (HT)]]+ROW()/100000","v":1.601E-2},{"$f":"_xlfn.CONCAT(Personne[[#This Row],[Adresse]],\" \",Personne[[#This Row],[CodePostal]],\" \",Personne[[#This Row],[Ville]],\" \",Personne[[#This Row],[CodePays]])","v":"   "}]
[null,null,null,null,null,null,null,null,null,null,null,null,null,null,null,null,null,null,null,null,null,null,null,null,null,null,null,null,null,null,{"$f":"IF(PARAMETRES!$B$3=\"SANS\",SUMIFS(Honoraire[TotalHonoraireHT],Honoraire[ClientId],Personne[[#This Row],[PersonneId]]),SUMIFS(Honoraire[TotalHT],Honoraire[ClientId],Personne[[#This Row],[PersonneId]]))","v":0},{"$f":"Personne[[#This Row],[Facture (HT)]]+ROW()/100000","v":1.6039999999999999E-2},{"$f":"_xlfn.CONCAT(Personne[[#This Row],[Adresse]],\" \",Personne[[#This Row],[CodePostal]],\" \",Personne[[#This Row],[Ville]],\" \",Personne[[#This Row],[CodePays]])","v":"   "}]
[null,null,null,null,null,null,null,null,null,null,null,null,null,null,null,null,null,null,null,null,null,null,null,null,null,null,null,null,null,null,{"$f":"IF(PARAMETRES!$B$3=\"SANS\",SUMIFS(Honoraire[TotalHonoraireHT],Honoraire[ClientId],Personne[[#This Row],[PersonneId]]),SUMIFS(Honoraire[TotalHT],Honoraire[ClientId],Personne[[#This Row],[PersonneId]]))","v":0},{"$f":"Personne[[#This Row],[Facture (HT)]]+ROW()/100000","v":1.6060000000000001E-2},{"$f":"_xlfn.CONCAT(Personne[[#This Row],[Adresse]],\" \",Personne[[#This Row],[CodePostal]],\" \",Personne[[#This Row],[Ville]],\" \",Personne[[#This Row],[CodePays]])","v":"   "}]
[null,null,null,null,null,null,null,null,null,null,null,null,null,null,null,null,null,null,null,null,null,null,null,null,null,null,null,null,null,null,{"$f":"IF(PARAMETRES!$B$3=\"SANS\",SUMIFS(Honoraire[TotalHonoraireHT],Honoraire[ClientId],Personne[[#This Row],[PersonneId]]),SUMIFS(Honoraire[TotalHT],Honoraire[ClientId],Personne[[#This Row],[PersonneId]]))","v":0},{"$f":"Personne[[#This Row],[Facture (HT)]]+ROW()/100000","v":1.609E-2},{"$f":"_xlfn.CONCAT(Personne[[#This Row],[Adresse]],\" \",Personne[[#This Row],[CodePostal]],\" \",Personne[[#This Row],[Ville]],\" \",Personne[[#This Row],[CodePays]])","v":"   "}]
[null,null,null,null,null,null,null,null,null,null,null,null,null,null,null,null,null,null,null,null,null,null,null,null,null,null,null,null,null,null,{"$f":"IF(PARAMETRES!$B$3=\"SANS\",SUMIFS(Honoraire[TotalHonoraireHT],Honoraire[ClientId],Personne[[#This Row],[PersonneId]]),SUMIFS(Honoraire[TotalHT],Honoraire[ClientId],Personne[[#This Row],[PersonneId]]))","v":0},{"$f":"Personne[[#This Row],[Facture (HT)]]+ROW()/100000","v":1.61E-2},{"$f":"_xlfn.CONCAT(Personne[[#This Row],[Adresse]],\" \",Personne[[#This Row],[CodePostal]],\" \",Personne[[#This Row],[Ville]],\" \",Personne[[#This Row],[CodePays]])","v":"   "}]
[null,null,null,null,null,null,null,null,null,null,null,null,null,null,null,null,null,null,null,null,null,null,null,null,null,null,null,null,null,null,{"$f":"IF(PARAMETRES!$B$3=\"SANS\",SUMIFS(Honoraire[TotalHonoraireHT],Honoraire[ClientId],Personne[[#This Row],[PersonneId]]),SUMIFS(Honoraire[TotalHT],Honoraire[ClientId],Personne[[#This Row],[PersonneId]]))","v":0},{"$f":"Personne[[#This Row],[Facture (HT)]]+ROW()/100000","v":1.6129999999999999E-2},{"$f":"_xlfn.CONCAT(Personne[[#This Row],[Adresse]],\" \",Personne[[#This Row],[CodePostal]],\" \",Personne[[#This Row],[Ville]],\" \",Personne[[#This Row],[CodePays]])","v":"   "}]
[null,null,null,null,null,null,null,null,null,null,null,null,null,null,null,null,null,null,null,null,null,null,null,null,null,null,null,null,null,null,{"$f":"IF(PARAMETRES!$B$3=\"SANS\",SUMIFS(Honoraire[TotalHonoraireHT],Honoraire[ClientId],Personne[[#This Row],[PersonneId]]),SUMIFS(Honoraire[TotalHT],Honoraire[ClientId],Personne[[#This Row],[PersonneId]]))","v":0},{"$f":"Personne[[#This Row],[Facture (HT)]]+ROW()/100000","v":1.6140000000000002E-2},{"$f":"_xlfn.CONCAT(Personne[[#This Row],[Adresse]],\" \",Personne[[#This Row],[CodePostal]],\" \",Personne[[#This Row],[Ville]],\" \",Personne[[#This Row],[CodePays]])","v":"   "}]
[null,null,null,null,null,null,null,null,null,null,null,null,null,null,null,null,null,null,null,null,null,null,null,null,null,null,null,null,null,null,{"$f":"IF(PARAMETRES!$B$3=\"SANS\",SUMIFS(Honoraire[TotalHonoraireHT],Honoraire[ClientId],Personne[[#This Row],[PersonneId]]),SUMIFS(Honoraire[TotalHT],Honoraire[ClientId],Personne[[#This Row],[PersonneId]]))","v":0},{"$f":"Personne[[#This Row],[Facture (HT)]]+ROW()/100000","v":1.6160000000000001E-2},{"$f":"_xlfn.CONCAT(Personne[[#This Row],[Adresse]],\" \",Personne[[#This Row],[CodePostal]],\" \",Personne[[#This Row],[Ville]],\" \",Personne[[#This Row],[CodePays]])","v":"   "}]
[null,null,null,null,null,null,null,null,null,null,null,null,null,null,null,null,null,null,null,null,null,null,null,null,null,null,null,null,null,null,{"$f":"IF(PARAMETRES!$B$3=\"SANS\",SUMIFS(Honoraire[TotalHonoraireHT],Honoraire[ClientId],Personne[[#This Row],[PersonneId]]),SUMIFS(Honoraire[TotalHT],Honoraire[ClientId],Personne[[#This Row],[PersonneId]]))","v":0},{"$f":"Personne[[#This Row],[Facture (HT)]]+ROW()/100000","v":1.619E-2},{"$f":"_xlfn.CONCAT(Personne[[#This Row],[Adresse]],\" \",Personne[[#This Row],[CodePostal]],\" \",Personne[[#This Row],[Ville]],\" \",Personne[[#This Row],[CodePays]])","v":"   "}]
[null,null,null,null,null,null,null,null,null,null,null,null,null,null,null,null,null,null,null,null,null,null,null,null,null,null,null,null,null,null,{"$f":"IF(PARAMETRES!$B$3=\"SANS\",SUMIFS(Honoraire[TotalHonoraireHT],Honoraire[ClientId],Personne[[#This Row],[PersonneId]]),SUMIFS(Honoraire[TotalHT],Honoraire[ClientId],Personne[[#This Row],[PersonneId]]))","v":0},{"$f":"Personne[[#This Row],[Facture (HT)]]+ROW()/100000","v":1.6219999999999998E-2},{"$f":"_xlfn.CONCAT(Personne[[#This Row],[Adresse]],\" \",Personne[[#This Row],[CodePostal]],\" \",Personne[[#This Row],[Ville]],\" \",Personne[[#This Row],[CodePays]])","v":"   "}]
[null,null,null,null,null,null,null,null,null,null,null,null,null,null,null,null,null,null,null,null,null,null,null,null,null,null,null,null,null,null,{"$f":"IF(PARAMETRES!$B$3=\"SANS\",SUMIFS(Honoraire[TotalHonoraireHT],Honoraire[ClientId],Personne[[#This Row],[PersonneId]]),SUMIFS(Honoraire[TotalHT],Honoraire[ClientId],Personne[[#This Row],[PersonneId]]))","v":0},{"$f":"Personne[[#This Row],[Facture (HT)]]+ROW()/100000","v":1.6230000000000001E-2},{"$f":"_xlfn.CONCAT(Personne[[#This Row],[Adresse]],\" \",Personne[[#This Row],[CodePostal]],\" \",Personne[[#This Row],[Ville]],\" \",Personne[[#This Row],[CodePays]])","v":"   "}]
[null,null,null,null,null,null,null,null,null,null,null,null,null,null,null,null,null,null,null,null,null,null,null,null,null,null,null,null,null,null,{"$f":"IF(PARAMETRES!$B$3=\"SANS\",SUMIFS(Honoraire[TotalHonoraireHT],Honoraire[ClientId],Personne[[#This Row],[PersonneId]]),SUMIFS(Honoraire[TotalHT],Honoraire[ClientId],Personne[[#This Row],[PersonneId]]))","v":0},{"$f":"Personne[[#This Row],[Facture (HT)]]+ROW()/100000","v":1.626E-2},{"$f":"_xlfn.CONCAT(Personne[[#This Row],[Adresse]],\" \",Personne[[#This Row],[CodePostal]],\" \",Personne[[#This Row],[Ville]],\" \",Personne[[#This Row],[CodePays]])","v":"   "}]
[null,null,null,null,null,null,null,null,null,null,null,null,null,null,null,null,null,null,null,null,null,null,null,null,null,null,null,null,null,null,{"$f":"IF(PARAMETRES!$B$3=\"SANS\",SUMIFS(Honoraire[TotalHonoraireHT],Honoraire[ClientId],Personne[[#This Row],[PersonneId]]),SUMIFS(Honoraire[TotalHT],Honoraire[ClientId],Personne[[#This Row],[PersonneId]]))","v":0},{"$f":"Personne[[#This Row],[Facture (HT)]]+ROW()/100000","v":1.627E-2},{"$f":"_xlfn.CONCAT(Personne[[#This Row],[Adresse]],\" \",Personne[[#This Row],[CodePostal]],\" \",Personne[[#This Row],[Ville]],\" \",Personne[[#This Row],[CodePays]])","v":"   "}]
[null,null,null,null,null,null,null,null,null,null,null,null,null,null,null,null,null,null,null,null,null,null,null,null,null,null,null,null,null,null,{"$f":"IF(PARAMETRES!$B$3=\"SANS\",SUMIFS(Honoraire[TotalHonoraireHT],Honoraire[ClientId],Personne[[#This Row],[PersonneId]]),SUMIFS(Honoraire[TotalHT],Honoraire[ClientId],Personne[[#This Row],[PersonneId]]))","v":0},{"$f":"Personne[[#This Row],[Facture (HT)]]+ROW()/100000","v":1.6289999999999999E-2},{"$f":"_xlfn.CONCAT(Personne[[#This Row],[Adresse]],\" \",Personne[[#This Row],[CodePostal]],\" \",Personne[[#This Row],[Ville]],\" \",Personne[[#This Row],[CodePays]])","v":"   "}]
[null,null,null,null,null,null,null,null,null,null,null,null,null,null,null,null,null,null,null,null,null,null,null,null,null,null,null,null,null,null,{"$f":"IF(PARAMETRES!$B$3=\"SANS\",SUMIFS(Honoraire[TotalHonoraireHT],Honoraire[ClientId],Personne[[#This Row],[PersonneId]]),SUMIFS(Honoraire[TotalHT],Honoraire[ClientId],Personne[[#This Row],[PersonneId]]))","v":0},{"$f":"Personne[[#This Row],[Facture (HT)]]+ROW()/100000","v":1.6320000000000001E-2},{"$f":"_xlfn.CONCAT(Personne[[#This Row],[Adresse]],\" \",Personne[[#This Row],[CodePostal]],\" \",Personne[[#This Row],[Ville]],\" \",Personne[[#This Row],[CodePays]])","v":"   "}]
[null,null,null,null,null,null,null,null,null,null,null,null,null,null,null,null,null,null,null,null,null,null,null,null,null,null,null,null,null,null,{"$f":"IF(PARAMETRES!$B$3=\"SANS\",SUMIFS(Honoraire[TotalHonoraireHT],Honoraire[ClientId],Personne[[#This Row],[PersonneId]]),SUMIFS(Honoraire[TotalHT],Honoraire[ClientId],Personne[[#This Row],[PersonneId]]))","v":0},{"$f":"Personne[[#This Row],[Facture (HT)]]+ROW()/100000","v":1.635E-2},{"$f":"_xlfn.CONCAT(Personne[[#This Row],[Adresse]],\" \",Personne[[#This Row],[CodePostal]],\" \",Personne[[#This Row],[Ville]],\" \",Personne[[#This Row],[CodePays]])","v":"   "}]
[null,null,null,null,null,null,null,null,null,null,null,null,null,null,null,null,null,null,null,null,null,null,null,null,null,null,null,null,null,null,{"$f":"IF(PARAMETRES!$B$3=\"SANS\",SUMIFS(Honoraire[TotalHonoraireHT],Honoraire[ClientId],Personne[[#This Row],[PersonneId]]),SUMIFS(Honoraire[TotalHT],Honoraire[ClientId],Personne[[#This Row],[PersonneId]]))","v":0},{"$f":"Personne[[#This Row],[Facture (HT)]]+ROW()/100000","v":1.636E-2},{"$f":"_xlfn.CONCAT(Personne[[#This Row],[Adresse]],\" \",Personne[[#This Row],[CodePostal]],\" \",Personne[[#This Row],[Ville]],\" \",Personne[[#This Row],[CodePays]])","v":"   "}]
[null,null,null,null,null,null,null,null,null,null,null,null,null,null,null,null,null,null,null,null,null,null,null,null,null,null,null,null,null,null,{"$f":"IF(PARAMETRES!$B$3=\"SANS\",SUMIFS(Honoraire[TotalHonoraireHT],Honoraire[ClientId],Personne[[#This Row],[PersonneId]]),SUMIFS(Honoraire[TotalHT],Honoraire[ClientId],Personne[[#This Row],[PersonneId]]))","v":0},{"$f":"Personne[[#This Row],[Facture (HT)]]+ROW()/100000","v":1.6389999999999998E-2},{"$f":"_xlfn.CONCAT(Personne[[#This Row],[Adresse]],\" \",Personne[[#This Row],[CodePostal]],\" \",Personne[[#This Row],[Ville]],\" \",Personne[[#This Row],[CodePays]])","v":"   "}]
[null,null,null,null,null,null,null,null,null,null,null,null,null,null,null,null,null,null,null,null,null,null,null,null,null,null,null,null,null,null,{"$f":"IF(PARAMETRES!$B$3=\"SANS\",SUMIFS(Honoraire[TotalHonoraireHT],Honoraire[ClientId],Personne[[#This Row],[PersonneId]]),SUMIFS(Honoraire[TotalHT],Honoraire[ClientId],Personne[[#This Row],[PersonneId]]))","v":0},{"$f":"Personne[[#This Row],[Facture (HT)]]+ROW()/100000","v":1.6410000000000001E-2},{"$f":"_xlfn.CONCAT(Personne[[#This Row],[Adresse]],\" \",Personne[[#This Row],[CodePostal]],\" \",Personne[[#This Row],[Ville]],\" \",Personne[[#This Row],[CodePays]])","v":"   "}]
[null,null,null,null,null,null,null,null,null,null,null,null,null,null,null,null,null,null,null,null,null,null,null,null,null,null,null,null,null,null,{"$f":"IF(PARAMETRES!$B$3=\"SANS\",SUMIFS(Honoraire[TotalHonoraireHT],Honoraire[ClientId],Personne[[#This Row],[PersonneId]]),SUMIFS(Honoraire[TotalHT],Honoraire[ClientId],Personne[[#This Row],[PersonneId]]))","v":0},{"$f":"Personne[[#This Row],[Facture (HT)]]+ROW()/100000","v":1.644E-2},{"$f":"_xlfn.CONCAT(Personne[[#This Row],[Adresse]],\" \",Personne[[#This Row],[CodePostal]],\" \",Personne[[#This Row],[Ville]],\" \",Personne[[#This Row],[CodePays]])","v":"   "}]
[null,null,null,null,null,null,null,null,null,null,null,null,null,null,null,null,null,null,null,null,null,null,null,null,null,null,null,null,null,null,{"$f":"IF(PARAMETRES!$B$3=\"SANS\",SUMIFS(Honoraire[TotalHonoraireHT],Honoraire[ClientId],Personne[[#This Row],[PersonneId]]),SUMIFS(Honoraire[TotalHT],Honoraire[ClientId],Personne[[#This Row],[PersonneId]]))","v":0},{"$f":"Personne[[#This Row],[Facture (HT)]]+ROW()/100000","v":1.6449999999999999E-2},{"$f":"_xlfn.CONCAT(Personne[[#This Row],[Adresse]],\" \",Personne[[#This Row],[CodePostal]],\" \",Personne[[#This Row],[Ville]],\" \",Personne[[#This Row],[CodePays]])","v":"   "}]
[null,null,null,null,null,null,null,null,null,null,null,null,null,null,null,null,null,null,null,null,null,null,null,null,null,null,null,null,null,null,{"$f":"IF(PARAMETRES!$B$3=\"SANS\",SUMIFS(Honoraire[TotalHonoraireHT],Honoraire[ClientId],Personne[[#This Row],[PersonneId]]),SUMIFS(Honoraire[TotalHT],Honoraire[ClientId],Personne[[#This Row],[PersonneId]]))","v":0},{"$f":"Personne[[#This Row],[Facture (HT)]]+ROW()/100000","v":1.6480000000000002E-2},{"$f":"_xlfn.CONCAT(Personne[[#This Row],[Adresse]],\" \",Personne[[#This Row],[CodePostal]],\" \",Personne[[#This Row],[Ville]],\" \",Personne[[#This Row],[CodePays]])","v":"   "}]
[null,null,null,null,null,null,null,null,null,null,null,null,null,null,null,null,null,null,null,null,null,null,null,null,null,null,null,null,null,null,{"$f":"IF(PARAMETRES!$B$3=\"SANS\",SUMIFS(Honoraire[TotalHonoraireHT],Honoraire[ClientId],Personne[[#This Row],[PersonneId]]),SUMIFS(Honoraire[TotalHT],Honoraire[ClientId],Personne[[#This Row],[PersonneId]]))","v":0},{"$f":"Personne[[#This Row],[Facture (HT)]]+ROW()/100000","v":1.6490000000000001E-2},{"$f":"_xlfn.CONCAT(Personne[[#This Row],[Adresse]],\" \",Personne[[#This Row],[CodePostal]],\" \",Personne[[#This Row],[Ville]],\" \",Personne[[#This Row],[CodePays]])","v":"   "}]
[null,null,null,null,null,null,null,null,null,null,null,null,null,null,null,null,null,null,null,null,null,null,null,null,null,null,null,null,null,null,{"$f":"IF(PARAMETRES!$B$3=\"SANS\",SUMIFS(Honoraire[TotalHonoraireHT],Honoraire[ClientId],Personne[[#This Row],[PersonneId]]),SUMIFS(Honoraire[TotalHT],Honoraire[ClientId],Personne[[#This Row],[PersonneId]]))","v":0},{"$f":"Personne[[#This Row],[Facture (HT)]]+ROW()/100000","v":1.651E-2},{"$f":"_xlfn.CONCAT(Personne[[#This Row],[Adresse]],\" \",Personne[[#This Row],[CodePostal]],\" \",Personne[[#This Row],[Ville]],\" \",Personne[[#This Row],[CodePays]])","v":"   "}]
[null,null,null,null,null,null,null,null,null,null,null,null,null,null,null,null,null,null,null,null,null,null,null,null,null,null,null,null,null,null,{"$f":"IF(PARAMETRES!$B$3=\"SANS\",SUMIFS(Honoraire[TotalHonoraireHT],Honoraire[ClientId],Personne[[#This Row],[PersonneId]]),SUMIFS(Honoraire[TotalHT],Honoraire[ClientId],Personne[[#This Row],[PersonneId]]))","v":0},{"$f":"Personne[[#This Row],[Facture (HT)]]+ROW()/100000","v":1.6539999999999999E-2},{"$f":"_xlfn.CONCAT(Personne[[#This Row],[Adresse]],\" \",Personne[[#This Row],[CodePostal]],\" \",Personne[[#This Row],[Ville]],\" \",Personne[[#This Row],[CodePays]])","v":"   "}]
[null,null,null,null,null,null,null,null,null,null,null,null,null,null,null,null,null,null,null,null,null,null,null,null,null,null,null,null,null,null,{"$f":"IF(PARAMETRES!$B$3=\"SANS\",SUMIFS(Honoraire[TotalHonoraireHT],Honoraire[ClientId],Personne[[#This Row],[PersonneId]]),SUMIFS(Honoraire[TotalHT],Honoraire[ClientId],Personne[[#This Row],[PersonneId]]))","v":0},{"$f":"Personne[[#This Row],[Facture (HT)]]+ROW()/100000","v":1.6570000000000001E-2},{"$f":"_xlfn.CONCAT(Personne[[#This Row],[Adresse]],\" \",Personne[[#This Row],[CodePostal]],\" \",Personne[[#This Row],[Ville]],\" \",Personne[[#This Row],[CodePays]])","v":"   "}]
[null,null,null,null,null,null,null,null,null,null,null,null,null,null,null,null,null,null,null,null,null,null,null,null,null,null,null,null,null,null,{"$f":"IF(PARAMETRES!$B$3=\"SANS\",SUMIFS(Honoraire[TotalHonoraireHT],Honoraire[ClientId],Personne[[#This Row],[PersonneId]]),SUMIFS(Honoraire[TotalHT],Honoraire[ClientId],Personne[[#This Row],[PersonneId]]))","v":0},{"$f":"Personne[[#This Row],[Facture (HT)]]+ROW()/100000","v":1.6580000000000001E-2},{"$f":"_xlfn.CONCAT(Personne[[#This Row],[Adresse]],\" \",Personne[[#This Row],[CodePostal]],\" \",Personne[[#This Row],[Ville]],\" \",Personne[[#This Row],[CodePays]])","v":"   "}]
[null,null,null,null,null,null,null,null,null,null,null,null,null,null,null,null,null,null,null,null,null,null,null,null,null,null,null,null,null,null,{"$f":"IF(PARAMETRES!$B$3=\"SANS\",SUMIFS(Honoraire[TotalHonoraireHT],Honoraire[ClientId],Personne[[#This Row],[PersonneId]]),SUMIFS(Honoraire[TotalHT],Honoraire[ClientId],Personne[[#This Row],[PersonneId]]))","v":0},{"$f":"Personne[[#This Row],[Facture (HT)]]+ROW()/100000","v":1.661E-2},{"$f":"_xlfn.CONCAT(Personne[[#This Row],[Adresse]],\" \",Personne[[#This Row],[CodePostal]],\" \",Personne[[#This Row],[Ville]],\" \",Personne[[#This Row],[CodePays]])","v":"   "}]
[null,null,null,null,null,null,null,null,null,null,null,null,null,null,null,null,null,null,null,null,null,null,null,null,null,null,null,null,null,null,{"$f":"IF(PARAMETRES!$B$3=\"SANS\",SUMIFS(Honoraire[TotalHonoraireHT],Honoraire[ClientId],Personne[[#This Row],[PersonneId]]),SUMIFS(Honoraire[TotalHT],Honoraire[ClientId],Personne[[#This Row],[PersonneId]]))","v":0},{"$f":"Personne[[#This Row],[Facture (HT)]]+ROW()/100000","v":1.6619999999999999E-2},{"$f":"_xlfn.CONCAT(Personne[[#This Row],[Adresse]],\" \",Personne[[#This Row],[CodePostal]],\" \",Personne[[#This Row],[Ville]],\" \",Personne[[#This Row],[CodePays]])","v":"   "}]
[null,null,null,null,null,null,null,null,null,null,null,null,null,null,null,null,null,null,null,null,null,null,null,null,null,null,null,null,null,null,{"$f":"IF(PARAMETRES!$B$3=\"SANS\",SUMIFS(Honoraire[TotalHonoraireHT],Honoraire[ClientId],Personne[[#This Row],[PersonneId]]),SUMIFS(Honoraire[TotalHT],Honoraire[ClientId],Personne[[#This Row],[PersonneId]]))","v":0},{"$f":"Personne[[#This Row],[Facture (HT)]]+ROW()/100000","v":1.6639999999999999E-2},{"$f":"_xlfn.CONCAT(Personne[[#This Row],[Adresse]],\" \",Personne[[#This Row],[CodePostal]],\" \",Personne[[#This Row],[Ville]],\" \",Personne[[#This Row],[CodePays]])","v":"   "}]
[null,null,null,null,null,null,null,null,null,null,null,null,null,null,null,null,null,null,null,null,null,null,null,null,null,null,null,null,null,null,{"$f":"IF(PARAMETRES!$B$3=\"SANS\",SUMIFS(Honoraire[TotalHonoraireHT],Honoraire[ClientId],Personne[[#This Row],[PersonneId]]),SUMIFS(Honoraire[TotalHT],Honoraire[ClientId],Personne[[#This Row],[PersonneId]]))","v":0},{"$f":"Personne[[#This Row],[Facture (HT)]]+ROW()/100000","v":1.6670000000000001E-2},{"$f":"_xlfn.CONCAT(Personne[[#This Row],[Adresse]],\" \",Personne[[#This Row],[CodePostal]],\" \",Personne[[#This Row],[Ville]],\" \",Personne[[#This Row],[CodePays]])","v":"   "}]
[null,null,null,null,null,null,null,null,null,null,null,null,null,null,null,null,null,null,null,null,null,null,null,null,null,null,null,null,null,null,{"$f":"IF(PARAMETRES!$B$3=\"SANS\",SUMIFS(Honoraire[TotalHonoraireHT],Honoraire[ClientId],Personne[[#This Row],[PersonneId]]),SUMIFS(Honoraire[TotalHT],Honoraire[ClientId],Personne[[#This Row],[PersonneId]]))","v":0},{"$f":"Personne[[#This Row],[Facture (HT)]]+ROW()/100000","v":1.67E-2},{"$f":"_xlfn.CONCAT(Personne[[#This Row],[Adresse]],\" \",Personne[[#This Row],[CodePostal]],\" \",Personne[[#This Row],[Ville]],\" \",Personne[[#This Row],[CodePays]])","v":"   "}]
[null,null,null,null,null,null,null,null,null,null,null,null,null,null,null,null,null,null,null,null,null,null,null,null,null,null,null,null,null,null,{"$f":"IF(PARAMETRES!$B$3=\"SANS\",SUMIFS(Honoraire[TotalHonoraireHT],Honoraire[ClientId],Personne[[#This Row],[PersonneId]]),SUMIFS(Honoraire[TotalHT],Honoraire[ClientId],Personne[[#This Row],[PersonneId]]))","v":0},{"$f":"Personne[[#This Row],[Facture (HT)]]+ROW()/100000","v":1.6709999999999999E-2},{"$f":"_xlfn.CONCAT(Personne[[#This Row],[Adresse]],\" \",Personne[[#This Row],[CodePostal]],\" \",Personne[[#This Row],[Ville]],\" \",Personne[[#This Row],[CodePays]])","v":"   "}]
[null,null,null,null,null,null,null,null,null,null,null,null,null,null,null,null,null,null,null,null,null,null,null,null,null,null,null,null,null,null,{"$f":"IF(PARAMETRES!$B$3=\"SANS\",SUMIFS(Honoraire[TotalHonoraireHT],Honoraire[ClientId],Personne[[#This Row],[PersonneId]]),SUMIFS(Honoraire[TotalHT],Honoraire[ClientId],Personne[[#This Row],[PersonneId]]))","v":0},{"$f":"Personne[[#This Row],[Facture (HT)]]+ROW()/100000","v":1.6740000000000001E-2},{"$f":"_xlfn.CONCAT(Personne[[#This Row],[Adresse]],\" \",Personne[[#This Row],[CodePostal]],\" \",Personne[[#This Row],[Ville]],\" \",Personne[[#This Row],[CodePays]])","v":"   "}]
[null,null,null,null,null,null,null,null,null,null,null,null,null,null,null,null,null,null,null,null,null,null,null,null,null,null,null,null,null,null,{"$f":"IF(PARAMETRES!$B$3=\"SANS\",SUMIFS(Honoraire[TotalHonoraireHT],Honoraire[ClientId],Personne[[#This Row],[PersonneId]]),SUMIFS(Honoraire[TotalHT],Honoraire[ClientId],Personne[[#This Row],[PersonneId]]))","v":0},{"$f":"Personne[[#This Row],[Facture (HT)]]+ROW()/100000","v":1.677E-2},{"$f":"_xlfn.CONCAT(Personne[[#This Row],[Adresse]],\" \",Personne[[#This Row],[CodePostal]],\" \",Personne[[#This Row],[Ville]],\" \",Personne[[#This Row],[CodePays]])","v":"   "}]
[null,null,null,null,null,null,null,null,null,null,null,null,null,null,null,null,null,null,null,null,null,null,null,null,null,null,null,null,null,null,{"$f":"IF(PARAMETRES!$B$3=\"SANS\",SUMIFS(Honoraire[TotalHonoraireHT],Honoraire[ClientId],Personne[[#This Row],[PersonneId]]),SUMIFS(Honoraire[TotalHT],Honoraire[ClientId],Personne[[#This Row],[PersonneId]]))","v":0},{"$f":"Personne[[#This Row],[Facture (HT)]]+ROW()/100000","v":1.6789999999999999E-2},{"$f":"_xlfn.CONCAT(Personne[[#This Row],[Adresse]],\" \",Personne[[#This Row],[CodePostal]],\" \",Personne[[#This Row],[Ville]],\" \",Personne[[#This Row],[CodePays]])","v":"   "}]
[null,null,null,null,null,null,null,null,null,null,null,null,null,null,null,null,null,null,null,null,null,null,null,null,null,null,null,null,null,null,{"$f":"IF(PARAMETRES!$B$3=\"SANS\",SUMIFS(Honoraire[TotalHonoraireHT],Honoraire[ClientId],Personne[[#This Row],[PersonneId]]),SUMIFS(Honoraire[TotalHT],Honoraire[ClientId],Personne[[#This Row],[PersonneId]]))","v":0},{"$f":"Personne[[#This Row],[Facture (HT)]]+ROW()/100000","v":1.6799999999999999E-2},{"$f":"_xlfn.CONCAT(Personne[[#This Row],[Adresse]],\" \",Personne[[#This Row],[CodePostal]],\" \",Personne[[#This Row],[Ville]],\" \",Personne[[#This Row],[CodePays]])","v":"   "}]
[null,null,null,null,null,null,null,null,null,null,null,null,null,null,null,null,null,null,null,null,null,null,null,null,null,null,null,null,null,null,{"$f":"IF(PARAMETRES!$B$3=\"SANS\",SUMIFS(Honoraire[TotalHonoraireHT],Honoraire[ClientId],Personne[[#This Row],[PersonneId]]),SUMIFS(Honoraire[TotalHT],Honoraire[ClientId],Personne[[#This Row],[PersonneId]]))","v":0},{"$f":"Personne[[#This Row],[Facture (HT)]]+ROW()/100000","v":1.6830000000000001E-2},{"$f":"_xlfn.CONCAT(Personne[[#This Row],[Adresse]],\" \",Personne[[#This Row],[CodePostal]],\" \",Personne[[#This Row],[Ville]],\" \",Personne[[#This Row],[CodePays]])","v":"   "}]
[null,null,null,null,null,null,null,null,null,null,null,null,null,null,null,null,null,null,null,null,null,null,null,null,null,null,null,null,null,null,{"$f":"IF(PARAMETRES!$B$3=\"SANS\",SUMIFS(Honoraire[TotalHonoraireHT],Honoraire[ClientId],Personne[[#This Row],[PersonneId]]),SUMIFS(Honoraire[TotalHT],Honoraire[ClientId],Personne[[#This Row],[PersonneId]]))","v":0},{"$f":"Personne[[#This Row],[Facture (HT)]]+ROW()/100000","v":1.6840000000000001E-2},{"$f":"_xlfn.CONCAT(Personne[[#This Row],[Adresse]],\" \",Personne[[#This Row],[CodePostal]],\" \",Personne[[#This Row],[Ville]],\" \",Personne[[#This Row],[CodePays]])","v":"   "}]
[null,null,null,null,null,null,null,null,null,null,null,null,null,null,null,null,null,null,null,null,null,null,null,null,null,null,null,null,null,null,{"$f":"IF(PARAMETRES!$B$3=\"SANS\",SUMIFS(Honoraire[TotalHonoraireHT],Honoraire[ClientId],Personne[[#This Row],[PersonneId]]),SUMIFS(Honoraire[TotalHT],Honoraire[ClientId],Personne[[#This Row],[PersonneId]]))","v":0},{"$f":"Personne[[#This Row],[Facture (HT)]]+ROW()/100000","v":1.687E-2},{"$f":"_xlfn.CONCAT(Personne[[#This Row],[Adresse]],\" \",Personne[[#This Row],[CodePostal]],\" \",Personne[[#This Row],[Ville]],\" \",Personne[[#This Row],[CodePays]])","v":"   "}]
[null,null,null,null,null,null,null,null,null,null,null,null,null,null,null,null,null,null,null,null,null,null,null,null,null,null,null,null,null,null,{"$f":"IF(PARAMETRES!$B$3=\"SANS\",SUMIFS(Honoraire[TotalHonoraireHT],Honoraire[ClientId],Personne[[#This Row],[PersonneId]]),SUMIFS(Honoraire[TotalHT],Honoraire[ClientId],Personne[[#This Row],[PersonneId]]))","v":0},{"$f":"Personne[[#This Row],[Facture (HT)]]+ROW()/100000","v":1.6889999999999999E-2},{"$f":"_xlfn.CONCAT(Personne[[#This Row],[Adresse]],\" \",Personne[[#This Row],[CodePostal]],\" \",Personne[[#This Row],[Ville]],\" \",Personne[[#This Row],[CodePays]])","v":"   "}]
[null,null,null,null,null,null,null,null,null,null,null,null,null,null,null,null,null,null,null,null,null,null,null,null,null,null,null,null,null,null,{"$f":"IF(PARAMETRES!$B$3=\"SANS\",SUMIFS(Honoraire[TotalHonoraireHT],Honoraire[ClientId],Personne[[#This Row],[PersonneId]]),SUMIFS(Honoraire[TotalHT],Honoraire[ClientId],Personne[[#This Row],[PersonneId]]))","v":0},{"$f":"Personne[[#This Row],[Facture (HT)]]+ROW()/100000","v":1.6920000000000001E-2},{"$f":"_xlfn.CONCAT(Personne[[#This Row],[Adresse]],\" \",Personne[[#This Row],[CodePostal]],\" \",Personne[[#This Row],[Ville]],\" \",Personne[[#This Row],[CodePays]])","v":"   "}]
[null,null,null,null,null,null,null,null,null,null,null,null,null,null,null,null,null,null,null,null,null,null,null,null,null,null,null,null,null,null,{"$f":"IF(PARAMETRES!$B$3=\"SANS\",SUMIFS(Honoraire[TotalHonoraireHT],Honoraire[ClientId],Personne[[#This Row],[PersonneId]]),SUMIFS(Honoraire[TotalHT],Honoraire[ClientId],Personne[[#This Row],[PersonneId]]))","v":0},{"$f":"Personne[[#This Row],[Facture (HT)]]+ROW()/100000","v":1.6930000000000001E-2},{"$f":"_xlfn.CONCAT(Personne[[#This Row],[Adresse]],\" \",Personne[[#This Row],[CodePostal]],\" \",Personne[[#This Row],[Ville]],\" \",Personne[[#This Row],[CodePays]])","v":"   "}]
[null,null,null,null,null,null,null,null,null,null,null,null,null,null,null,null,null,null,null,null,null,null,null,null,null,null,null,null,null,null,{"$f":"IF(PARAMETRES!$B$3=\"SANS\",SUMIFS(Honoraire[TotalHonoraireHT],Honoraire[ClientId],Personne[[#This Row],[PersonneId]]),SUMIFS(Honoraire[TotalHT],Honoraire[ClientId],Personne[[#This Row],[PersonneId]]))","v":0},{"$f":"Personne[[#This Row],[Facture (HT)]]+ROW()/100000","v":1.6959999999999999E-2},{"$f":"_xlfn.CONCAT(Personne[[#This Row],[Adresse]],\" \",Personne[[#This Row],[CodePostal]],\" \",Personne[[#This Row],[Ville]],\" \",Personne[[#This Row],[CodePays]])","v":"   "}]
[null,null,null,null,null,null,null,null,null,null,null,null,null,null,null,null,null,null,null,null,null,null,null,null,null,null,null,null,null,null,{"$f":"IF(PARAMETRES!$B$3=\"SANS\",SUMIFS(Honoraire[TotalHonoraireHT],Honoraire[ClientId],Personne[[#This Row],[PersonneId]]),SUMIFS(Honoraire[TotalHT],Honoraire[ClientId],Personne[[#This Row],[PersonneId]]))","v":0},{"$f":"Personne[[#This Row],[Facture (HT)]]+ROW()/100000","v":1.6969999999999999E-2},{"$f":"_xlfn.CONCAT(Personne[[#This Row],[Adresse]],\" \",Personne[[#This Row],[CodePostal]],\" \",Personne[[#This Row],[Ville]],\" \",Personne[[#This Row],[CodePays]])","v":"   "}]
[null,null,null,null,null,null,null,null,null,null,null,null,null,null,null,null,null,null,null,null,null,null,null,null,null,null,null,null,null,null,{"$f":"IF(PARAMETRES!$B$3=\"SANS\",SUMIFS(Honoraire[TotalHonoraireHT],Honoraire[ClientId],Personne[[#This Row],[PersonneId]]),SUMIFS(Honoraire[TotalHT],Honoraire[ClientId],Personne[[#This Row],[PersonneId]]))","v":0},{"$f":"Personne[[#This Row],[Facture (HT)]]+ROW()/100000","v":1.6990000000000002E-2},{"$f":"_xlfn.CONCAT(Personne[[#This Row],[Adresse]],\" \",Personne[[#This Row],[CodePostal]],\" \",Personne[[#This Row],[Ville]],\" \",Personne[[#This Row],[CodePays]])","v":"   "}]
[null,null,null,null,null,null,null,null,null,null,null,null,null,null,null,null,null,null,null,null,null,null,null,null,null,null,null,null,null,null,{"$f":"IF(PARAMETRES!$B$3=\"SANS\",SUMIFS(Honoraire[TotalHonoraireHT],Honoraire[ClientId],Personne[[#This Row],[PersonneId]]),SUMIFS(Honoraire[TotalHT],Honoraire[ClientId],Personne[[#This Row],[PersonneId]]))","v":0},{"$f":"Personne[[#This Row],[Facture (HT)]]+ROW()/100000","v":1.702E-2},{"$f":"_xlfn.CONCAT(Personne[[#This Row],[Adresse]],\" \",Personne[[#This Row],[CodePostal]],\" \",Personne[[#This Row],[Ville]],\" \",Personne[[#This Row],[CodePays]])","v":"   "}]
[null,null,null,null,null,null,null,null,null,null,null,null,null,null,null,null,null,null,null,null,null,null,null,null,null,null,null,null,null,null,{"$f":"IF(PARAMETRES!$B$3=\"SANS\",SUMIFS(Honoraire[TotalHonoraireHT],Honoraire[ClientId],Personne[[#This Row],[PersonneId]]),SUMIFS(Honoraire[TotalHT],Honoraire[ClientId],Personne[[#This Row],[PersonneId]]))","v":0},{"$f":"Personne[[#This Row],[Facture (HT)]]+ROW()/100000","v":1.7049999999999999E-2},{"$f":"_xlfn.CONCAT(Personne[[#This Row],[Adresse]],\" \",Personne[[#This Row],[CodePostal]],\" \",Personne[[#This Row],[Ville]],\" \",Personne[[#This Row],[CodePays]])","v":"   "}]
[null,null,null,null,null,null,null,null,null,null,null,null,null,null,null,null,null,null,null,null,null,null,null,null,null,null,null,null,null,null,{"$f":"IF(PARAMETRES!$B$3=\"SANS\",SUMIFS(Honoraire[TotalHonoraireHT],Honoraire[ClientId],Personne[[#This Row],[PersonneId]]),SUMIFS(Honoraire[TotalHT],Honoraire[ClientId],Personne[[#This Row],[PersonneId]]))","v":0},{"$f":"Personne[[#This Row],[Facture (HT)]]+ROW()/100000","v":1.7059999999999999E-2},{"$f":"_xlfn.CONCAT(Personne[[#This Row],[Adresse]],\" \",Personne[[#This Row],[CodePostal]],\" \",Personne[[#This Row],[Ville]],\" \",Personne[[#This Row],[CodePays]])","v":"   "}]
[null,null,null,null,null,null,null,null,null,null,null,null,null,null,null,null,null,null,null,null,null,null,null,null,null,null,null,null,null,null,{"$f":"IF(PARAMETRES!$B$3=\"SANS\",SUMIFS(Honoraire[TotalHonoraireHT],Honoraire[ClientId],Personne[[#This Row],[PersonneId]]),SUMIFS(Honoraire[TotalHT],Honoraire[ClientId],Personne[[#This Row],[PersonneId]]))","v":0},{"$f":"Personne[[#This Row],[Facture (HT)]]+ROW()/100000","v":1.7090000000000001E-2},{"$f":"_xlfn.CONCAT(Personne[[#This Row],[Adresse]],\" \",Personne[[#This Row],[CodePostal]],\" \",Personne[[#This Row],[Ville]],\" \",Personne[[#This Row],[CodePays]])","v":"   "}]
[null,null,null,null,null,null,null,null,null,null,null,null,null,null,null,null,null,null,null,null,null,null,null,null,null,null,null,null,null,null,{"$f":"IF(PARAMETRES!$B$3=\"SANS\",SUMIFS(Honoraire[TotalHonoraireHT],Honoraire[ClientId],Personne[[#This Row],[PersonneId]]),SUMIFS(Honoraire[TotalHT],Honoraire[ClientId],Personne[[#This Row],[PersonneId]]))","v":0},{"$f":"Personne[[#This Row],[Facture (HT)]]+ROW()/100000","v":1.7100000000000001E-2},{"$f":"_xlfn.CONCAT(Personne[[#This Row],[Adresse]],\" \",Personne[[#This Row],[CodePostal]],\" \",Personne[[#This Row],[Ville]],\" \",Personne[[#This Row],[CodePays]])","v":"   "}]
[null,null,null,null,null,null,null,null,null,null,null,null,null,null,null,null,null,null,null,null,null,null,null,null,null,null,null,null,null,null,{"$f":"IF(PARAMETRES!$B$3=\"SANS\",SUMIFS(Honoraire[TotalHonoraireHT],Honoraire[ClientId],Personne[[#This Row],[PersonneId]]),SUMIFS(Honoraire[TotalHT],Honoraire[ClientId],Personne[[#This Row],[PersonneId]]))","v":0},{"$f":"Personne[[#This Row],[Facture (HT)]]+ROW()/100000","v":1.7139999999999999E-2},{"$f":"_xlfn.CONCAT(Personne[[#This Row],[Adresse]],\" \",Personne[[#This Row],[CodePostal]],\" \",Personne[[#This Row],[Ville]],\" \",Personne[[#This Row],[CodePays]])","v":"   "}]
[null,null,null,null,null,null,null,null,null,null,null,null,null,null,null,null,null,null,null,null,null,null,null,null,null,null,null,null,null,null,{"$f":"IF(PARAMETRES!$B$3=\"SANS\",SUMIFS(Honoraire[TotalHonoraireHT],Honoraire[ClientId],Personne[[#This Row],[PersonneId]]),SUMIFS(Honoraire[TotalHT],Honoraire[ClientId],Personne[[#This Row],[PersonneId]]))","v":0},{"$f":"Personne[[#This Row],[Facture (HT)]]+ROW()/100000","v":1.7149999999999999E-2},{"$f":"_xlfn.CONCAT(Personne[[#This Row],[Adresse]],\" \",Personne[[#This Row],[CodePostal]],\" \",Personne[[#This Row],[Ville]],\" \",Personne[[#This Row],[CodePays]])","v":"   "}]
[null,null,null,null,null,null,null,null,null,null,null,null,null,null,null,null,null,null,null,null,null,null,null,null,null,null,null,null,null,null,{"$f":"IF(PARAMETRES!$B$3=\"SANS\",SUMIFS(Honoraire[TotalHonoraireHT],Honoraire[ClientId],Personne[[#This Row],[PersonneId]]),SUMIFS(Honoraire[TotalHT],Honoraire[ClientId],Personne[[#This Row],[PersonneId]]))","v":0},{"$f":"Personne[[#This Row],[Facture (HT)]]+ROW()/100000","v":1.7180000000000001E-2},{"$f":"_xlfn.CONCAT(Personne[[#This Row],[Adresse]],\" \",Personne[[#This Row],[CodePostal]],\" \",Personne[[#This Row],[Ville]],\" \",Personne[[#This Row],[CodePays]])","v":"   "}]
[null,null,null,null,null,null,null,null,null,null,null,null,null,null,null,null,null,null,null,null,null,null,null,null,null,null,null,null,null,null,{"$f":"IF(PARAMETRES!$B$3=\"SANS\",SUMIFS(Honoraire[TotalHonoraireHT],Honoraire[ClientId],Personne[[#This Row],[PersonneId]]),SUMIFS(Honoraire[TotalHT],Honoraire[ClientId],Personne[[#This Row],[PersonneId]]))","v":0},{"$f":"Personne[[#This Row],[Facture (HT)]]+ROW()/100000","v":1.719E-2},{"$f":"_xlfn.CONCAT(Personne[[#This Row],[Adresse]],\" \",Personne[[#This Row],[CodePostal]],\" \",Personne[[#This Row],[Ville]],\" \",Personne[[#This Row],[CodePays]])","v":"   "}]
[null,null,null,null,null,null,null,null,null,null,null,null,null,null,null,null,null,null,null,null,null,null,null,null,null,null,null,null,null,null,{"$f":"IF(PARAMETRES!$B$3=\"SANS\",SUMIFS(Honoraire[TotalHonoraireHT],Honoraire[ClientId],Personne[[#This Row],[PersonneId]]),SUMIFS(Honoraire[TotalHT],Honoraire[ClientId],Personne[[#This Row],[PersonneId]]))","v":0},{"$f":"Personne[[#This Row],[Facture (HT)]]+ROW()/100000","v":1.7219999999999999E-2},{"$f":"_xlfn.CONCAT(Personne[[#This Row],[Adresse]],\" \",Personne[[#This Row],[CodePostal]],\" \",Personne[[#This Row],[Ville]],\" \",Personne[[#This Row],[CodePays]])","v":"   "}]
[null,null,null,null,null,null,null,null,null,null,null,null,null,null,null,null,null,null,null,null,null,null,null,null,null,null,null,null,null,null,{"$f":"IF(PARAMETRES!$B$3=\"SANS\",SUMIFS(Honoraire[TotalHonoraireHT],Honoraire[ClientId],Personne[[#This Row],[PersonneId]]),SUMIFS(Honoraire[TotalHT],Honoraire[ClientId],Personne[[#This Row],[PersonneId]]))","v":0},{"$f":"Personne[[#This Row],[Facture (HT)]]+ROW()/100000","v":1.7239999999999998E-2},{"$f":"_xlfn.CONCAT(Personne[[#This Row],[Adresse]],\" \",Personne[[#This Row],[CodePostal]],\" \",Personne[[#This Row],[Ville]],\" \",Personne[[#This Row],[CodePays]])","v":"   "}]
[null,null,null,null,null,null,null,null,null,null,null,null,null,null,null,null,null,null,null,null,null,null,null,null,null,null,null,null,null,null,{"$f":"IF(PARAMETRES!$B$3=\"SANS\",SUMIFS(Honoraire[TotalHonoraireHT],Honoraire[ClientId],Personne[[#This Row],[PersonneId]]),SUMIFS(Honoraire[TotalHT],Honoraire[ClientId],Personne[[#This Row],[PersonneId]]))","v":0},{"$f":"Personne[[#This Row],[Facture (HT)]]+ROW()/100000","v":1.7270000000000001E-2},{"$f":"_xlfn.CONCAT(Personne[[#This Row],[Adresse]],\" \",Personne[[#This Row],[CodePostal]],\" \",Personne[[#This Row],[Ville]],\" \",Personne[[#This Row],[CodePays]])","v":"   "}]
[null,null,null,null,null,null,null,null,null,null,null,null,null,null,null,null,null,null,null,null,null,null,null,null,null,null,null,null,null,null,{"$f":"IF(PARAMETRES!$B$3=\"SANS\",SUMIFS(Honoraire[TotalHonoraireHT],Honoraire[ClientId],Personne[[#This Row],[PersonneId]]),SUMIFS(Honoraire[TotalHT],Honoraire[ClientId],Personne[[#This Row],[PersonneId]]))","v":0},{"$f":"Personne[[#This Row],[Facture (HT)]]+ROW()/100000","v":1.728E-2},{"$f":"_xlfn.CONCAT(Personne[[#This Row],[Adresse]],\" \",Personne[[#This Row],[CodePostal]],\" \",Personne[[#This Row],[Ville]],\" \",Personne[[#This Row],[CodePays]])","v":"   "}]
[null,null,null,null,null,null,null,null,null,null,null,null,null,null,null,null,null,null,null,null,null,null,null,null,null,null,null,null,null,null,{"$f":"IF(PARAMETRES!$B$3=\"SANS\",SUMIFS(Honoraire[TotalHonoraireHT],Honoraire[ClientId],Personne[[#This Row],[PersonneId]]),SUMIFS(Honoraire[TotalHT],Honoraire[ClientId],Personne[[#This Row],[PersonneId]]))","v":0},{"$f":"Personne[[#This Row],[Facture (HT)]]+ROW()/100000","v":1.7309999999999999E-2},{"$f":"_xlfn.CONCAT(Personne[[#This Row],[Adresse]],\" \",Personne[[#This Row],[CodePostal]],\" \",Personne[[#This Row],[Ville]],\" \",Personne[[#This Row],[CodePays]])","v":"   "}]
[null,null,null,null,null,null,null,null,null,null,null,null,null,null,null,null,null,null,null,null,null,null,null,null,null,null,null,null,null,null,{"$f":"IF(PARAMETRES!$B$3=\"SANS\",SUMIFS(Honoraire[TotalHonoraireHT],Honoraire[ClientId],Personne[[#This Row],[PersonneId]]),SUMIFS(Honoraire[TotalHT],Honoraire[ClientId],Personne[[#This Row],[PersonneId]]))","v":0},{"$f":"Personne[[#This Row],[Facture (HT)]]+ROW()/100000","v":1.7319999999999999E-2},{"$f":"_xlfn.CONCAT(Personne[[#This Row],[Adresse]],\" \",Personne[[#This Row],[CodePostal]],\" \",Personne[[#This Row],[Ville]],\" \",Personne[[#This Row],[CodePays]])","v":"   "}]
[null,null,null,null,null,null,null,null,null,null,null,null,null,null,null,null,null,null,null,null,null,null,null,null,null,null,null,null,null,null,{"$f":"IF(PARAMETRES!$B$3=\"SANS\",SUMIFS(Honoraire[TotalHonoraireHT],Honoraire[ClientId],Personne[[#This Row],[PersonneId]]),SUMIFS(Honoraire[TotalHT],Honoraire[ClientId],Personne[[#This Row],[PersonneId]]))","v":0},{"$f":"Personne[[#This Row],[Facture (HT)]]+ROW()/100000","v":1.7340000000000001E-2},{"$f":"_xlfn.CONCAT(Personne[[#This Row],[Adresse]],\" \",Personne[[#This Row],[CodePostal]],\" \",Personne[[#This Row],[Ville]],\" \",Personne[[#This Row],[CodePays]])","v":"   "}]
[null,null,null,null,null,null,null,null,null,null,null,null,null,null,null,null,null,null,null,null,null,null,null,null,null,null,null,null,null,null,{"$f":"IF(PARAMETRES!$B$3=\"SANS\",SUMIFS(Honoraire[TotalHonoraireHT],Honoraire[ClientId],Personne[[#This Row],[PersonneId]]),SUMIFS(Honoraire[TotalHT],Honoraire[ClientId],Personne[[#This Row],[PersonneId]]))","v":0},{"$f":"Personne[[#This Row],[Facture (HT)]]+ROW()/100000","v":1.737E-2},{"$f":"_xlfn.CONCAT(Personne[[#This Row],[Adresse]],\" \",Personne[[#This Row],[CodePostal]],\" \",Personne[[#This Row],[Ville]],\" \",Personne[[#This Row],[CodePays]])","v":"   "}]
[null,null,null,null,null,null,null,null,null,null,null,null,null,null,null,null,null,null,null,null,null,null,null,null,null,null,null,null,null,null,{"$f":"IF(PARAMETRES!$B$3=\"SANS\",SUMIFS(Honoraire[TotalHonoraireHT],Honoraire[ClientId],Personne[[#This Row],[PersonneId]]),SUMIFS(Honoraire[TotalHT],Honoraire[ClientId],Personne[[#This Row],[PersonneId]]))","v":0},{"$f":"Personne[[#This Row],[Facture (HT)]]+ROW()/100000","v":1.7399999999999999E-2},{"$f":"_xlfn.CONCAT(Personne[[#This Row],[Adresse]],\" \",Personne[[#This Row],[CodePostal]],\" \",Personne[[#This Row],[Ville]],\" \",Personne[[#This Row],[CodePays]])","v":"   "}]
[null,null,null,null,null,null,null,null,null,null,null,null,null,null,null,null,null,null,null,null,null,null,null,null,null,null,null,null,null,null,{"$f":"IF(PARAMETRES!$B$3=\"SANS\",SUMIFS(Honoraire[TotalHonoraireHT],Honoraire[ClientId],Personne[[#This Row],[PersonneId]]),SUMIFS(Honoraire[TotalHT],Honoraire[ClientId],Personne[[#This Row],[PersonneId]]))","v":0},{"$f":"Personne[[#This Row],[Facture (HT)]]+ROW()/100000","v":1.7409999999999998E-2},{"$f":"_xlfn.CONCAT(Personne[[#This Row],[Adresse]],\" \",Personne[[#This Row],[CodePostal]],\" \",Personne[[#This Row],[Ville]],\" \",Personne[[#This Row],[CodePays]])","v":"   "}]
[null,null,null,null,null,null,null,null,null,null,null,null,null,null,null,null,null,null,null,null,null,null,null,null,null,null,null,null,null,null,{"$f":"IF(PARAMETRES!$B$3=\"SANS\",SUMIFS(Honoraire[TotalHonoraireHT],Honoraire[ClientId],Personne[[#This Row],[PersonneId]]),SUMIFS(Honoraire[TotalHT],Honoraire[ClientId],Personne[[#This Row],[PersonneId]]))","v":0},{"$f":"Personne[[#This Row],[Facture (HT)]]+ROW()/100000","v":1.7440000000000001E-2},{"$f":"_xlfn.CONCAT(Personne[[#This Row],[Adresse]],\" \",Personne[[#This Row],[CodePostal]],\" \",Personne[[#This Row],[Ville]],\" \",Personne[[#This Row],[CodePays]])","v":"   "}]
[null,null,null,null,null,null,null,null,null,null,null,null,null,null,null,null,null,null,null,null,null,null,null,null,null,null,null,null,null,null,{"$f":"IF(PARAMETRES!$B$3=\"SANS\",SUMIFS(Honoraire[TotalHonoraireHT],Honoraire[ClientId],Personne[[#This Row],[PersonneId]]),SUMIFS(Honoraire[TotalHT],Honoraire[ClientId],Personne[[#This Row],[PersonneId]]))","v":0},{"$f":"Personne[[#This Row],[Facture (HT)]]+ROW()/100000","v":1.745E-2},{"$f":"_xlfn.CONCAT(Personne[[#This Row],[Adresse]],\" \",Personne[[#This Row],[CodePostal]],\" \",Personne[[#This Row],[Ville]],\" \",Personne[[#This Row],[CodePays]])","v":"   "}]
[null,null,null,null,null,null,null,null,null,null,null,null,null,null,null,null,null,null,null,null,null,null,null,null,null,null,null,null,null,null,{"$f":"IF(PARAMETRES!$B$3=\"SANS\",SUMIFS(Honoraire[TotalHonoraireHT],Honoraire[ClientId],Personne[[#This Row],[PersonneId]]),SUMIFS(Honoraire[TotalHT],Honoraire[ClientId],Personne[[#This Row],[PersonneId]]))","v":0},{"$f":"Personne[[#This Row],[Facture (HT)]]+ROW()/100000","v":1.7489999999999999E-2},{"$f":"_xlfn.CONCAT(Personne[[#This Row],[Adresse]],\" \",Personne[[#This Row],[CodePostal]],\" \",Personne[[#This Row],[Ville]],\" \",Personne[[#This Row],[CodePays]])","v":"   "}]
[null,null,null,null,null,null,null,null,null,null,null,null,null,null,null,null,null,null,null,null,null,null,null,null,null,null,null,null,null,null,{"$f":"IF(PARAMETRES!$B$3=\"SANS\",SUMIFS(Honoraire[TotalHonoraireHT],Honoraire[ClientId],Personne[[#This Row],[PersonneId]]),SUMIFS(Honoraire[TotalHT],Honoraire[ClientId],Personne[[#This Row],[PersonneId]]))","v":0},{"$f":"Personne[[#This Row],[Facture (HT)]]+ROW()/100000","v":1.7500000000000002E-2},{"$f":"_xlfn.CONCAT(Personne[[#This Row],[Adresse]],\" \",Personne[[#This Row],[CodePostal]],\" \",Personne[[#This Row],[Ville]],\" \",Personne[[#This Row],[CodePays]])","v":"   "}]
[null,null,null,null,null,null,null,null,null,null,null,null,null,null,null,null,null,null,null,null,null,null,null,null,null,null,null,null,null,null,{"$f":"IF(PARAMETRES!$B$3=\"SANS\",SUMIFS(Honoraire[TotalHonoraireHT],Honoraire[ClientId],Personne[[#This Row],[PersonneId]]),SUMIFS(Honoraire[TotalHT],Honoraire[ClientId],Personne[[#This Row],[PersonneId]]))","v":0},{"$f":"Personne[[#This Row],[Facture (HT)]]+ROW()/100000","v":1.753E-2},{"$f":"_xlfn.CONCAT(Personne[[#This Row],[Adresse]],\" \",Personne[[#This Row],[CodePostal]],\" \",Personne[[#This Row],[Ville]],\" \",Personne[[#This Row],[CodePays]])","v":"   "}]
[null,null,null,null,null,null,null,null,null,null,null,null,null,null,null,null,null,null,null,null,null,null,null,null,null,null,null,null,null,null,{"$f":"IF(PARAMETRES!$B$3=\"SANS\",SUMIFS(Honoraire[TotalHonoraireHT],Honoraire[ClientId],Personne[[#This Row],[PersonneId]]),SUMIFS(Honoraire[TotalHT],Honoraire[ClientId],Personne[[#This Row],[PersonneId]]))","v":0},{"$f":"Personne[[#This Row],[Facture (HT)]]+ROW()/100000","v":1.754E-2},{"$f":"_xlfn.CONCAT(Personne[[#This Row],[Adresse]],\" \",Personne[[#This Row],[CodePostal]],\" \",Personne[[#This Row],[Ville]],\" \",Personne[[#This Row],[CodePays]])","v":"   "}]
[null,null,null,null,null,null,null,null,null,null,null,null,null,null,null,null,null,null,null,null,null,null,null,null,null,null,null,null,null,null,{"$f":"IF(PARAMETRES!$B$3=\"SANS\",SUMIFS(Honoraire[TotalHonoraireHT],Honoraire[ClientId],Personne[[#This Row],[PersonneId]]),SUMIFS(Honoraire[TotalHT],Honoraire[ClientId],Personne[[#This Row],[PersonneId]]))","v":0},{"$f":"Personne[[#This Row],[Facture (HT)]]+ROW()/100000","v":1.7569999999999999E-2},{"$f":"_xlfn.CONCAT(Personne[[#This Row],[Adresse]],\" \",Personne[[#This Row],[CodePostal]],\" \",Personne[[#This Row],[Ville]],\" \",Personne[[#This Row],[CodePays]])","v":"   "}]
[null,null,null,null,null,null,null,null,null,null,null,null,null,null,null,null,null,null,null,null,null,null,null,null,null,null,null,null,null,null,{"$f":"IF(PARAMETRES!$B$3=\"SANS\",SUMIFS(Honoraire[TotalHonoraireHT],Honoraire[ClientId],Personne[[#This Row],[PersonneId]]),SUMIFS(Honoraire[TotalHT],Honoraire[ClientId],Personne[[#This Row],[PersonneId]]))","v":0},{"$f":"Personne[[#This Row],[Facture (HT)]]+ROW()/100000","v":1.7590000000000001E-2},{"$f":"_xlfn.CONCAT(Personne[[#This Row],[Adresse]],\" \",Personne[[#This Row],[CodePostal]],\" \",Personne[[#This Row],[Ville]],\" \",Personne[[#This Row],[CodePays]])","v":"   "}]
[null,null,null,null,null,null,null,null,null,null,null,null,null,null,null,null,null,null,null,null,null,null,null,null,null,null,null,null,null,null,{"$f":"IF(PARAMETRES!$B$3=\"SANS\",SUMIFS(Honoraire[TotalHonoraireHT],Honoraire[ClientId],Personne[[#This Row],[PersonneId]]),SUMIFS(Honoraire[TotalHT],Honoraire[ClientId],Personne[[#This Row],[PersonneId]]))","v":0},{"$f":"Personne[[#This Row],[Facture (HT)]]+ROW()/100000","v":1.762E-2},{"$f":"_xlfn.CONCAT(Personne[[#This Row],[Adresse]],\" \",Personne[[#This Row],[CodePostal]],\" \",Personne[[#This Row],[Ville]],\" \",Personne[[#This Row],[CodePays]])","v":"   "}]
[null,null,null,null,null,null,null,null,null,null,null,null,null,null,null,null,null,null,null,null,null,null,null,null,null,null,null,null,null,null,{"$f":"IF(PARAMETRES!$B$3=\"SANS\",SUMIFS(Honoraire[TotalHonoraireHT],Honoraire[ClientId],Personne[[#This Row],[PersonneId]]),SUMIFS(Honoraire[TotalHT],Honoraire[ClientId],Personne[[#This Row],[PersonneId]]))","v":0},{"$f":"Personne[[#This Row],[Facture (HT)]]+ROW()/100000","v":1.763E-2},{"$f":"_xlfn.CONCAT(Personne[[#This Row],[Adresse]],\" \",Personne[[#This Row],[CodePostal]],\" \",Personne[[#This Row],[Ville]],\" \",Personne[[#This Row],[CodePays]])","v":"   "}]
[null,null,null,null,null,null,null,null,null,null,null,null,null,null,null,null,null,null,null,null,null,null,null,null,null,null,null,null,null,null,{"$f":"IF(PARAMETRES!$B$3=\"SANS\",SUMIFS(Honoraire[TotalHonoraireHT],Honoraire[ClientId],Personne[[#This Row],[PersonneId]]),SUMIFS(Honoraire[TotalHT],Honoraire[ClientId],Personne[[#This Row],[PersonneId]]))","v":0},{"$f":"Personne[[#This Row],[Facture (HT)]]+ROW()/100000","v":1.7659999999999999E-2},{"$f":"_xlfn.CONCAT(Personne[[#This Row],[Adresse]],\" \",Personne[[#This Row],[CodePostal]],\" \",Personne[[#This Row],[Ville]],\" \",Personne[[#This Row],[CodePays]])","v":"   "}]
[null,null,null,null,null,null,null,null,null,null,null,null,null,null,null,null,null,null,null,null,null,null,null,null,null,null,null,null,null,null,{"$f":"IF(PARAMETRES!$B$3=\"SANS\",SUMIFS(Honoraire[TotalHonoraireHT],Honoraire[ClientId],Personne[[#This Row],[PersonneId]]),SUMIFS(Honoraire[TotalHT],Honoraire[ClientId],Personne[[#This Row],[PersonneId]]))","v":0},{"$f":"Personne[[#This Row],[Facture (HT)]]+ROW()/100000","v":1.7670000000000002E-2},{"$f":"_xlfn.CONCAT(Personne[[#This Row],[Adresse]],\" \",Personne[[#This Row],[CodePostal]],\" \",Personne[[#This Row],[Ville]],\" \",Personne[[#This Row],[CodePays]])","v":"   "}]
[null,null,null,null,null,null,null,null,null,null,null,null,null,null,null,null,null,null,null,null,null,null,null,null,null,null,null,null,null,null,{"$f":"IF(PARAMETRES!$B$3=\"SANS\",SUMIFS(Honoraire[TotalHonoraireHT],Honoraire[ClientId],Personne[[#This Row],[PersonneId]]),SUMIFS(Honoraire[TotalHT],Honoraire[ClientId],Personne[[#This Row],[PersonneId]]))","v":0},{"$f":"Personne[[#This Row],[Facture (HT)]]+ROW()/100000","v":1.77E-2},{"$f":"_xlfn.CONCAT(Personne[[#This Row],[Adresse]],\" \",Personne[[#This Row],[CodePostal]],\" \",Personne[[#This Row],[Ville]],\" \",Personne[[#This Row],[CodePays]])","v":"   "}]
[null,null,null,null,null,null,null,null,null,null,null,null,null,null,null,null,null,null,null,null,null,null,null,null,null,null,null,null,null,null,{"$f":"IF(PARAMETRES!$B$3=\"SANS\",SUMIFS(Honoraire[TotalHonoraireHT],Honoraire[ClientId],Personne[[#This Row],[PersonneId]]),SUMIFS(Honoraire[TotalHT],Honoraire[ClientId],Personne[[#This Row],[PersonneId]]))","v":0},{"$f":"Personne[[#This Row],[Facture (HT)]]+ROW()/100000","v":1.771E-2},{"$f":"_xlfn.CONCAT(Personne[[#This Row],[Adresse]],\" \",Personne[[#This Row],[CodePostal]],\" \",Personne[[#This Row],[Ville]],\" \",Personne[[#This Row],[CodePays]])","v":"   "}]
[null,null,null,null,null,null,null,null,null,null,null,null,null,null,null,null,null,null,null,null,null,null,null,null,null,null,null,null,null,null,{"$f":"IF(PARAMETRES!$B$3=\"SANS\",SUMIFS(Honoraire[TotalHonoraireHT],Honoraire[ClientId],Personne[[#This Row],[PersonneId]]),SUMIFS(Honoraire[TotalHT],Honoraire[ClientId],Personne[[#This Row],[PersonneId]]))","v":0},{"$f":"Personne[[#This Row],[Facture (HT)]]+ROW()/100000","v":1.7749999999999998E-2},{"$f":"_xlfn.CONCAT(Personne[[#This Row],[Adresse]],\" \",Personne[[#This Row],[CodePostal]],\" \",Personne[[#This Row],[Ville]],\" \",Personne[[#This Row],[CodePays]])","v":"   "}]
[null,null,null,null,null,null,null,null,null,null,null,null,null,null,null,null,null,null,null,null,null,null,null,null,null,null,null,null,null,null,{"$f":"IF(PARAMETRES!$B$3=\"SANS\",SUMIFS(Honoraire[TotalHonoraireHT],Honoraire[ClientId],Personne[[#This Row],[PersonneId]]),SUMIFS(Honoraire[TotalHT],Honoraire[ClientId],Personne[[#This Row],[PersonneId]]))","v":0},{"$f":"Personne[[#This Row],[Facture (HT)]]+ROW()/100000","v":1.7760000000000001E-2},{"$f":"_xlfn.CONCAT(Personne[[#This Row],[Adresse]],\" \",Personne[[#This Row],[CodePostal]],\" \",Personne[[#This Row],[Ville]],\" \",Personne[[#This Row],[CodePays]])","v":"   "}]
[null,null,null,null,null,null,null,null,null,null,null,null,null,null,null,null,null,null,null,null,null,null,null,null,null,null,null,null,null,null,{"$f":"IF(PARAMETRES!$B$3=\"SANS\",SUMIFS(Honoraire[TotalHonoraireHT],Honoraire[ClientId],Personne[[#This Row],[PersonneId]]),SUMIFS(Honoraire[TotalHT],Honoraire[ClientId],Personne[[#This Row],[PersonneId]]))","v":0},{"$f":"Personne[[#This Row],[Facture (HT)]]+ROW()/100000","v":1.779E-2},{"$f":"_xlfn.CONCAT(Personne[[#This Row],[Adresse]],\" \",Personne[[#This Row],[CodePostal]],\" \",Personne[[#This Row],[Ville]],\" \",Personne[[#This Row],[CodePays]])","v":"   "}]
[null,null,null,null,null,null,null,null,null,null,null,null,null,null,null,null,null,null,null,null,null,null,null,null,null,null,null,null,null,null,{"$f":"IF(PARAMETRES!$B$3=\"SANS\",SUMIFS(Honoraire[TotalHonoraireHT],Honoraire[ClientId],Personne[[#This Row],[PersonneId]]),SUMIFS(Honoraire[TotalHT],Honoraire[ClientId],Personne[[#This Row],[PersonneId]]))","v":0},{"$f":"Personne[[#This Row],[Facture (HT)]]+ROW()/100000","v":1.78E-2},{"$f":"_xlfn.CONCAT(Personne[[#This Row],[Adresse]],\" \",Personne[[#This Row],[CodePostal]],\" \",Personne[[#This Row],[Ville]],\" \",Personne[[#This Row],[CodePays]])","v":"   "}]
[null,null,null,null,null,null,null,null,null,null,null,null,null,null,null,null,null,null,null,null,null,null,null,null,null,null,null,null,null,null,{"$f":"IF(PARAMETRES!$B$3=\"SANS\",SUMIFS(Honoraire[TotalHonoraireHT],Honoraire[ClientId],Personne[[#This Row],[PersonneId]]),SUMIFS(Honoraire[TotalHT],Honoraire[ClientId],Personne[[#This Row],[PersonneId]]))","v":0},{"$f":"Personne[[#This Row],[Facture (HT)]]+ROW()/100000","v":1.7840000000000002E-2},{"$f":"_xlfn.CONCAT(Personne[[#This Row],[Adresse]],\" \",Personne[[#This Row],[CodePostal]],\" \",Personne[[#This Row],[Ville]],\" \",Personne[[#This Row],[CodePays]])","v":"   "}]
[null,null,null,null,null,null,null,null,null,null,null,null,null,null,null,null,null,null,null,null,null,null,null,null,null,null,null,null,null,null,{"$f":"IF(PARAMETRES!$B$3=\"SANS\",SUMIFS(Honoraire[TotalHonoraireHT],Honoraire[ClientId],Personne[[#This Row],[PersonneId]]),SUMIFS(Honoraire[TotalHT],Honoraire[ClientId],Personne[[#This Row],[PersonneId]]))","v":0},{"$f":"Personne[[#This Row],[Facture (HT)]]+ROW()/100000","v":1.7850000000000001E-2},{"$f":"_xlfn.CONCAT(Personne[[#This Row],[Adresse]],\" \",Personne[[#This Row],[CodePostal]],\" \",Personne[[#This Row],[Ville]],\" \",Personne[[#This Row],[CodePays]])","v":"   "}]
[null,null,null,null,null,null,null,null,null,null,null,null,null,null,null,null,null,null,null,null,null,null,null,null,null,null,null,null,null,null,{"$f":"IF(PARAMETRES!$B$3=\"SANS\",SUMIFS(Honoraire[TotalHonoraireHT],Honoraire[ClientId],Personne[[#This Row],[PersonneId]]),SUMIFS(Honoraire[TotalHT],Honoraire[ClientId],Personne[[#This Row],[PersonneId]]))","v":0},{"$f":"Personne[[#This Row],[Facture (HT)]]+ROW()/100000","v":1.788E-2},{"$f":"_xlfn.CONCAT(Personne[[#This Row],[Adresse]],\" \",Personne[[#This Row],[CodePostal]],\" \",Personne[[#This Row],[Ville]],\" \",Personne[[#This Row],[CodePays]])","v":"   "}]
[null,null,null,null,null,null,null,null,null,null,null,null,null,null,null,null,null,null,null,null,null,null,null,null,null,null,null,null,null,null,{"$f":"IF(PARAMETRES!$B$3=\"SANS\",SUMIFS(Honoraire[TotalHonoraireHT],Honoraire[ClientId],Personne[[#This Row],[PersonneId]]),SUMIFS(Honoraire[TotalHT],Honoraire[ClientId],Personne[[#This Row],[PersonneId]]))","v":0},{"$f":"Personne[[#This Row],[Facture (HT)]]+ROW()/100000","v":1.789E-2},{"$f":"_xlfn.CONCAT(Personne[[#This Row],[Adresse]],\" \",Personne[[#This Row],[CodePostal]],\" \",Personne[[#This Row],[Ville]],\" \",Personne[[#This Row],[CodePays]])","v":"   "}]
[null,null,null,null,null,null,null,null,null,null,null,null,null,null,null,null,null,null,null,null,null,null,null,null,null,null,null,null,null,null,{"$f":"IF(PARAMETRES!$B$3=\"SANS\",SUMIFS(Honoraire[TotalHonoraireHT],Honoraire[ClientId],Personne[[#This Row],[PersonneId]]),SUMIFS(Honoraire[TotalHT],Honoraire[ClientId],Personne[[#This Row],[PersonneId]]))","v":0},{"$f":"Personne[[#This Row],[Facture (HT)]]+ROW()/100000","v":1.7919999999999998E-2},{"$f":"_xlfn.CONCAT(Personne[[#This Row],[Adresse]],\" \",Personne[[#This Row],[CodePostal]],\" \",Personne[[#This Row],[Ville]],\" \",Personne[[#This Row],[CodePays]])","v":"   "}]
[null,null,null,null,null,null,null,null,null,null,null,null,null,null,null,null,null,null,null,null,null,null,null,null,null,null,null,null,null,null,{"$f":"IF(PARAMETRES!$B$3=\"SANS\",SUMIFS(Honoraire[TotalHonoraireHT],Honoraire[ClientId],Personne[[#This Row],[PersonneId]]),SUMIFS(Honoraire[TotalHT],Honoraire[ClientId],Personne[[#This Row],[PersonneId]]))","v":0},{"$f":"Personne[[#This Row],[Facture (HT)]]+ROW()/100000","v":1.7930000000000001E-2},{"$f":"_xlfn.CONCAT(Personne[[#This Row],[Adresse]],\" \",Personne[[#This Row],[CodePostal]],\" \",Personne[[#This Row],[Ville]],\" \",Personne[[#This Row],[CodePays]])","v":"   "}]
[null,null,null,null,null,null,null,null,null,null,null,null,null,null,null,null,null,null,null,null,null,null,null,null,null,null,null,null,null,null,{"$f":"IF(PARAMETRES!$B$3=\"SANS\",SUMIFS(Honoraire[TotalHonoraireHT],Honoraire[ClientId],Personne[[#This Row],[PersonneId]]),SUMIFS(Honoraire[TotalHT],Honoraire[ClientId],Personne[[#This Row],[PersonneId]]))","v":0},{"$f":"Personne[[#This Row],[Facture (HT)]]+ROW()/100000","v":1.797E-2},{"$f":"_xlfn.CONCAT(Personne[[#This Row],[Adresse]],\" \",Personne[[#This Row],[CodePostal]],\" \",Personne[[#This Row],[Ville]],\" \",Personne[[#This Row],[CodePays]])","v":"   "}]
[null,null,null,null,null,null,null,null,null,null,null,null,null,null,null,null,null,null,null,null,null,null,null,null,null,null,null,null,null,null,{"$f":"IF(PARAMETRES!$B$3=\"SANS\",SUMIFS(Honoraire[TotalHonoraireHT],Honoraire[ClientId],Personne[[#This Row],[PersonneId]]),SUMIFS(Honoraire[TotalHT],Honoraire[ClientId],Personne[[#This Row],[PersonneId]]))","v":0},{"$f":"Personne[[#This Row],[Facture (HT)]]+ROW()/100000","v":1.7979999999999999E-2},{"$f":"_xlfn.CONCAT(Personne[[#This Row],[Adresse]],\" \",Personne[[#This Row],[CodePostal]],\" \",Personne[[#This Row],[Ville]],\" \",Personne[[#This Row],[CodePays]])","v":"   "}]
[null,null,null,null,null,null,null,null,null,null,null,null,null,null,null,null,null,null,null,null,null,null,null,null,null,null,null,null,null,null,{"$f":"IF(PARAMETRES!$B$3=\"SANS\",SUMIFS(Honoraire[TotalHonoraireHT],Honoraire[ClientId],Personne[[#This Row],[PersonneId]]),SUMIFS(Honoraire[TotalHT],Honoraire[ClientId],Personne[[#This Row],[PersonneId]]))","v":0},{"$f":"Personne[[#This Row],[Facture (HT)]]+ROW()/100000","v":1.8010000000000002E-2},{"$f":"_xlfn.CONCAT(Personne[[#This Row],[Adresse]],\" \",Personne[[#This Row],[CodePostal]],\" \",Personne[[#This Row],[Ville]],\" \",Personne[[#This Row],[CodePays]])","v":"   "}]
[null,null,null,null,null,null,null,null,null,null,null,null,null,null,null,null,null,null,null,null,null,null,null,null,null,null,null,null,null,null,{"$f":"IF(PARAMETRES!$B$3=\"SANS\",SUMIFS(Honoraire[TotalHonoraireHT],Honoraire[ClientId],Personne[[#This Row],[PersonneId]]),SUMIFS(Honoraire[TotalHT],Honoraire[ClientId],Personne[[#This Row],[PersonneId]]))","v":0},{"$f":"Personne[[#This Row],[Facture (HT)]]+ROW()/100000","v":1.8020000000000001E-2},{"$f":"_xlfn.CONCAT(Personne[[#This Row],[Adresse]],\" \",Personne[[#This Row],[CodePostal]],\" \",Personne[[#This Row],[Ville]],\" \",Personne[[#This Row],[CodePays]])","v":"   "}]
[null,null,null,null,null,null,null,null,null,null,null,null,null,null,null,null,null,null,null,null,null,null,null,null,null,null,null,null,null,null,{"$f":"IF(PARAMETRES!$B$3=\"SANS\",SUMIFS(Honoraire[TotalHonoraireHT],Honoraire[ClientId],Personne[[#This Row],[PersonneId]]),SUMIFS(Honoraire[TotalHT],Honoraire[ClientId],Personne[[#This Row],[PersonneId]]))","v":0},{"$f":"Personne[[#This Row],[Facture (HT)]]+ROW()/100000","v":1.805E-2},{"$f":"_xlfn.CONCAT(Personne[[#This Row],[Adresse]],\" \",Personne[[#This Row],[CodePostal]],\" \",Personne[[#This Row],[Ville]],\" \",Personne[[#This Row],[CodePays]])","v":"   "}]
[null,null,null,null,null,null,null,null,null,null,null,null,null,null,null,null,null,null,null,null,null,null,null,null,null,null,null,null,null,null,{"$f":"IF(PARAMETRES!$B$3=\"SANS\",SUMIFS(Honoraire[TotalHonoraireHT],Honoraire[ClientId],Personne[[#This Row],[PersonneId]]),SUMIFS(Honoraire[TotalHT],Honoraire[ClientId],Personne[[#This Row],[PersonneId]]))","v":0},{"$f":"Personne[[#This Row],[Facture (HT)]]+ROW()/100000","v":1.806E-2},{"$f":"_xlfn.CONCAT(Personne[[#This Row],[Adresse]],\" \",Personne[[#This Row],[CodePostal]],\" \",Personne[[#This Row],[Ville]],\" \",Personne[[#This Row],[CodePays]])","v":"   "}]
[null,null,null,null,null,null,null,null,null,null,null,null,null,null,null,null,null,null,null,null,null,null,null,null,null,null,null,null,null,null,{"$f":"IF(PARAMETRES!$B$3=\"SANS\",SUMIFS(Honoraire[TotalHonoraireHT],Honoraire[ClientId],Personne[[#This Row],[PersonneId]]),SUMIFS(Honoraire[TotalHT],Honoraire[ClientId],Personne[[#This Row],[PersonneId]]))","v":0},{"$f":"Personne[[#This Row],[Facture (HT)]]+ROW()/100000","v":1.8100000000000002E-2},{"$f":"_xlfn.CONCAT(Personne[[#This Row],[Adresse]],\" \",Personne[[#This Row],[CodePostal]],\" \",Personne[[#This Row],[Ville]],\" \",Personne[[#This Row],[CodePays]])","v":"   "}]
[null,null,null,null,null,null,null,null,null,null,null,null,null,null,null,null,null,null,null,null,null,null,null,null,null,null,null,null,null,null,{"$f":"IF(PARAMETRES!$B$3=\"SANS\",SUMIFS(Honoraire[TotalHonoraireHT],Honoraire[ClientId],Personne[[#This Row],[PersonneId]]),SUMIFS(Honoraire[TotalHT],Honoraire[ClientId],Personne[[#This Row],[PersonneId]]))","v":0},{"$f":"Personne[[#This Row],[Facture (HT)]]+ROW()/100000","v":1.8110000000000001E-2},{"$f":"_xlfn.CONCAT(Personne[[#This Row],[Adresse]],\" \",Personne[[#This Row],[CodePostal]],\" \",Personne[[#This Row],[Ville]],\" \",Personne[[#This Row],[CodePays]])","v":"   "}]
[null,null,null,null,null,null,null,null,null,null,null,null,null,null,null,null,null,null,null,null,null,null,null,null,null,null,null,null,null,null,{"$f":"IF(PARAMETRES!$B$3=\"SANS\",SUMIFS(Honoraire[TotalHonoraireHT],Honoraire[ClientId],Personne[[#This Row],[PersonneId]]),SUMIFS(Honoraire[TotalHT],Honoraire[ClientId],Personne[[#This Row],[PersonneId]]))","v":0},{"$f":"Personne[[#This Row],[Facture (HT)]]+ROW()/100000","v":1.814E-2},{"$f":"_xlfn.CONCAT(Personne[[#This Row],[Adresse]],\" \",Personne[[#This Row],[CodePostal]],\" \",Personne[[#This Row],[Ville]],\" \",Personne[[#This Row],[CodePays]])","v":"   "}]
[null,null,null,null,null,null,null,null,null,null,null,null,null,null,null,null,null,null,null,null,null,null,null,null,null,null,null,null,null,null,{"$f":"IF(PARAMETRES!$B$3=\"SANS\",SUMIFS(Honoraire[TotalHonoraireHT],Honoraire[ClientId],Personne[[#This Row],[PersonneId]]),SUMIFS(Honoraire[TotalHT],Honoraire[ClientId],Personne[[#This Row],[PersonneId]]))","v":0},{"$f":"Personne[[#This Row],[Facture (HT)]]+ROW()/100000","v":1.8149999999999999E-2},{"$f":"_xlfn.CONCAT(Personne[[#This Row],[Adresse]],\" \",Personne[[#This Row],[CodePostal]],\" \",Personne[[#This Row],[Ville]],\" \",Personne[[#This Row],[CodePays]])","v":"   "}]
[null,null,null,null,null,null,null,null,null,null,null,null,null,null,null,null,null,null,null,null,null,null,null,null,null,null,null,null,null,null,{"$f":"IF(PARAMETRES!$B$3=\"SANS\",SUMIFS(Honoraire[TotalHonoraireHT],Honoraire[ClientId],Personne[[#This Row],[PersonneId]]),SUMIFS(Honoraire[TotalHT],Honoraire[ClientId],Personne[[#This Row],[PersonneId]]))","v":0},{"$f":"Personne[[#This Row],[Facture (HT)]]+ROW()/100000","v":1.8190000000000001E-2},{"$f":"_xlfn.CONCAT(Personne[[#This Row],[Adresse]],\" \",Personne[[#This Row],[CodePostal]],\" \",Personne[[#This Row],[Ville]],\" \",Personne[[#This Row],[CodePays]])","v":"   "}]
[null,null,null,null,null,null,null,null,null,null,null,null,null,null,null,null,null,null,null,null,null,null,null,null,null,null,null,null,null,null,{"$f":"IF(PARAMETRES!$B$3=\"SANS\",SUMIFS(Honoraire[TotalHonoraireHT],Honoraire[ClientId],Personne[[#This Row],[PersonneId]]),SUMIFS(Honoraire[TotalHT],Honoraire[ClientId],Personne[[#This Row],[PersonneId]]))","v":0},{"$f":"Personne[[#This Row],[Facture (HT)]]+ROW()/100000","v":1.8200000000000001E-2},{"$f":"_xlfn.CONCAT(Personne[[#This Row],[Adresse]],\" \",Personne[[#This Row],[CodePostal]],\" \",Personne[[#This Row],[Ville]],\" \",Personne[[#This Row],[CodePays]])","v":"   "}]
[null,null,null,null,null,null,null,null,null,null,null,null,null,null,null,null,null,null,null,null,null,null,null,null,null,null,null,null,null,null,{"$f":"IF(PARAMETRES!$B$3=\"SANS\",SUMIFS(Honoraire[TotalHonoraireHT],Honoraire[ClientId],Personne[[#This Row],[PersonneId]]),SUMIFS(Honoraire[TotalHT],Honoraire[ClientId],Personne[[#This Row],[PersonneId]]))","v":0},{"$f":"Personne[[#This Row],[Facture (HT)]]+ROW()/100000","v":1.823E-2},{"$f":"_xlfn.CONCAT(Personne[[#This Row],[Adresse]],\" \",Personne[[#This Row],[CodePostal]],\" \",Personne[[#This Row],[Ville]],\" \",Personne[[#This Row],[CodePays]])","v":"   "}]
[null,null,null,null,null,null,null,null,null,null,null,null,null,null,null,null,null,null,null,null,null,null,null,null,null,null,null,null,null,null,{"$f":"IF(PARAMETRES!$B$3=\"SANS\",SUMIFS(Honoraire[TotalHonoraireHT],Honoraire[ClientId],Personne[[#This Row],[PersonneId]]),SUMIFS(Honoraire[TotalHT],Honoraire[ClientId],Personne[[#This Row],[PersonneId]]))","v":0},{"$f":"Personne[[#This Row],[Facture (HT)]]+ROW()/100000","v":1.8239999999999999E-2},{"$f":"_xlfn.CONCAT(Personne[[#This Row],[Adresse]],\" \",Personne[[#This Row],[CodePostal]],\" \",Personne[[#This Row],[Ville]],\" \",Personne[[#This Row],[CodePays]])","v":"   "}]
[null,null,null,null,null,null,null,null,null,null,null,null,null,null,null,null,null,null,null,null,null,null,null,null,null,null,null,null,null,null,{"$f":"IF(PARAMETRES!$B$3=\"SANS\",SUMIFS(Honoraire[TotalHonoraireHT],Honoraire[ClientId],Personne[[#This Row],[PersonneId]]),SUMIFS(Honoraire[TotalHT],Honoraire[ClientId],Personne[[#This Row],[PersonneId]]))","v":0},{"$f":"Personne[[#This Row],[Facture (HT)]]+ROW()/100000","v":1.8270000000000002E-2},{"$f":"_xlfn.CONCAT(Personne[[#This Row],[Adresse]],\" \",Personne[[#This Row],[CodePostal]],\" \",Personne[[#This Row],[Ville]],\" \",Personne[[#This Row],[CodePays]])","v":"   "}]
[null,null,null,null,null,null,null,null,null,null,null,null,null,null,null,null,null,null,null,null,null,null,null,null,null,null,null,null,null,null,{"$f":"IF(PARAMETRES!$B$3=\"SANS\",SUMIFS(Honoraire[TotalHonoraireHT],Honoraire[ClientId],Personne[[#This Row],[PersonneId]]),SUMIFS(Honoraire[TotalHT],Honoraire[ClientId],Personne[[#This Row],[PersonneId]]))","v":0},{"$f":"Personne[[#This Row],[Facture (HT)]]+ROW()/100000","v":1.8280000000000001E-2},{"$f":"_xlfn.CONCAT(Personne[[#This Row],[Adresse]],\" \",Personne[[#This Row],[CodePostal]],\" \",Personne[[#This Row],[Ville]],\" \",Personne[[#This Row],[CodePays]])","v":"   "}]
[null,null,null,null,null,null,null,null,null,null,null,null,null,null,null,null,null,null,null,null,null,null,null,null,null,null,null,null,null,null,{"$f":"IF(PARAMETRES!$B$3=\"SANS\",SUMIFS(Honoraire[TotalHonoraireHT],Honoraire[ClientId],Personne[[#This Row],[PersonneId]]),SUMIFS(Honoraire[TotalHT],Honoraire[ClientId],Personne[[#This Row],[PersonneId]]))","v":0},{"$f":"Personne[[#This Row],[Facture (HT)]]+ROW()/100000","v":1.8319999999999999E-2},{"$f":"_xlfn.CONCAT(Personne[[#This Row],[Adresse]],\" \",Personne[[#This Row],[CodePostal]],\" \",Personne[[#This Row],[Ville]],\" \",Personne[[#This Row],[CodePays]])","v":"   "}]
[null,null,null,null,null,null,null,null,null,null,null,null,null,null,null,null,null,null,null,null,null,null,null,null,null,null,null,null,null,null,{"$f":"IF(PARAMETRES!$B$3=\"SANS\",SUMIFS(Honoraire[TotalHonoraireHT],Honoraire[ClientId],Personne[[#This Row],[PersonneId]]),SUMIFS(Honoraire[TotalHT],Honoraire[ClientId],Personne[[#This Row],[PersonneId]]))","v":0},{"$f":"Personne[[#This Row],[Facture (HT)]]+ROW()/100000","v":1.8329999999999999E-2},{"$f":"_xlfn.CONCAT(Personne[[#This Row],[Adresse]],\" \",Personne[[#This Row],[CodePostal]],\" \",Personne[[#This Row],[Ville]],\" \",Personne[[#This Row],[CodePays]])","v":"   "}]
[null,null,null,null,null,null,null,null,null,null,null,null,null,null,null,null,null,null,null,null,null,null,null,null,null,null,null,null,null,null,{"$f":"IF(PARAMETRES!$B$3=\"SANS\",SUMIFS(Honoraire[TotalHonoraireHT],Honoraire[ClientId],Personne[[#This Row],[PersonneId]]),SUMIFS(Honoraire[TotalHT],Honoraire[ClientId],Personne[[#This Row],[PersonneId]]))","v":0},{"$f":"Personne[[#This Row],[Facture (HT)]]+ROW()/100000","v":1.8360000000000001E-2},{"$f":"_xlfn.CONCAT(Personne[[#This Row],[Adresse]],\" \",Personne[[#This Row],[CodePostal]],\" \",Personne[[#This Row],[Ville]],\" \",Personne[[#This Row],[CodePays]])","v":"   "}]
[null,null,null,null,null,null,null,null,null,null,null,null,null,null,null,null,null,null,null,null,null,null,null,null,null,null,null,null,null,null,{"$f":"IF(PARAMETRES!$B$3=\"SANS\",SUMIFS(Honoraire[TotalHonoraireHT],Honoraire[ClientId],Personne[[#This Row],[PersonneId]]),SUMIFS(Honoraire[TotalHT],Honoraire[ClientId],Personne[[#This Row],[PersonneId]]))","v":0},{"$f":"Personne[[#This Row],[Facture (HT)]]+ROW()/100000","v":1.8370000000000001E-2},{"$f":"_xlfn.CONCAT(Personne[[#This Row],[Adresse]],\" \",Personne[[#This Row],[CodePostal]],\" \",Personne[[#This Row],[Ville]],\" \",Personne[[#This Row],[CodePays]])","v":"   "}]
[null,null,null,null,null,null,null,null,null,null,null,null,null,null,null,null,null,null,null,null,null,null,null,null,null,null,null,null,null,null,{"$f":"IF(PARAMETRES!$B$3=\"SANS\",SUMIFS(Honoraire[TotalHonoraireHT],Honoraire[ClientId],Personne[[#This Row],[PersonneId]]),SUMIFS(Honoraire[TotalHT],Honoraire[ClientId],Personne[[#This Row],[PersonneId]]))","v":0},{"$f":"Personne[[#This Row],[Facture (HT)]]+ROW()/100000","v":1.84E-2},{"$f":"_xlfn.CONCAT(Personne[[#This Row],[Adresse]],\" \",Personne[[#This Row],[CodePostal]],\" \",Personne[[#This Row],[Ville]],\" \",Personne[[#This Row],[CodePays]])","v":"   "}]
[null,null,null,null,null,null,null,null,null,null,null,null,null,null,null,null,null,null,null,null,null,null,null,null,null,null,null,null,null,null,{"$f":"IF(PARAMETRES!$B$3=\"SANS\",SUMIFS(Honoraire[TotalHonoraireHT],Honoraire[ClientId],Personne[[#This Row],[PersonneId]]),SUMIFS(Honoraire[TotalHT],Honoraire[ClientId],Personne[[#This Row],[PersonneId]]))","v":0},{"$f":"Personne[[#This Row],[Facture (HT)]]+ROW()/100000","v":1.8419999999999999E-2},{"$f":"_xlfn.CONCAT(Personne[[#This Row],[Adresse]],\" \",Personne[[#This Row],[CodePostal]],\" \",Personne[[#This Row],[Ville]],\" \",Personne[[#This Row],[CodePays]])","v":"   "}]
[null,null,null,null,null,null,null,null,null,null,null,null,null,null,null,null,null,null,null,null,null,null,null,null,null,null,null,null,null,null,{"$f":"IF(PARAMETRES!$B$3=\"SANS\",SUMIFS(Honoraire[TotalHonoraireHT],Honoraire[ClientId],Personne[[#This Row],[PersonneId]]),SUMIFS(Honoraire[TotalHT],Honoraire[ClientId],Personne[[#This Row],[PersonneId]]))","v":0},{"$f":"Personne[[#This Row],[Facture (HT)]]+ROW()/100000","v":1.8450000000000001E-2},{"$f":"_xlfn.CONCAT(Personne[[#This Row],[Adresse]],\" \",Personne[[#This Row],[CodePostal]],\" \",Personne[[#This Row],[Ville]],\" \",Personne[[#This Row],[CodePays]])","v":"   "}]
[null,null,null,null,null,null,null,null,null,null,null,null,null,null,null,null,null,null,null,null,null,null,null,null,null,null,null,null,null,null,{"$f":"IF(PARAMETRES!$B$3=\"SANS\",SUMIFS(Honoraire[TotalHonoraireHT],Honoraire[ClientId],Personne[[#This Row],[PersonneId]]),SUMIFS(Honoraire[TotalHT],Honoraire[ClientId],Personne[[#This Row],[PersonneId]]))","v":0},{"$f":"Personne[[#This Row],[Facture (HT)]]+ROW()/100000","v":1.8460000000000001E-2},{"$f":"_xlfn.CONCAT(Personne[[#This Row],[Adresse]],\" \",Personne[[#This Row],[CodePostal]],\" \",Personne[[#This Row],[Ville]],\" \",Personne[[#This Row],[CodePays]])","v":"   "}]
[null,null,null,null,null,null,null,null,null,null,null,null,null,null,null,null,null,null,null,null,null,null,null,null,null,null,null,null,null,null,{"$f":"IF(PARAMETRES!$B$3=\"SANS\",SUMIFS(Honoraire[TotalHonoraireHT],Honoraire[ClientId],Personne[[#This Row],[PersonneId]]),SUMIFS(Honoraire[TotalHT],Honoraire[ClientId],Personne[[#This Row],[PersonneId]]))","v":0},{"$f":"Personne[[#This Row],[Facture (HT)]]+ROW()/100000","v":1.8489999999999999E-2},{"$f":"_xlfn.CONCAT(Personne[[#This Row],[Adresse]],\" \",Personne[[#This Row],[CodePostal]],\" \",Personne[[#This Row],[Ville]],\" \",Personne[[#This Row],[CodePays]])","v":"   "}]
[null,null,null,null,null,null,null,null,null,null,null,null,null,null,null,null,null,null,null,null,null,null,null,null,null,null,null,null,null,null,{"$f":"IF(PARAMETRES!$B$3=\"SANS\",SUMIFS(Honoraire[TotalHonoraireHT],Honoraire[ClientId],Personne[[#This Row],[PersonneId]]),SUMIFS(Honoraire[TotalHT],Honoraire[ClientId],Personne[[#This Row],[PersonneId]]))","v":0},{"$f":"Personne[[#This Row],[Facture (HT)]]+ROW()/100000","v":1.8499999999999999E-2},{"$f":"_xlfn.CONCAT(Personne[[#This Row],[Adresse]],\" \",Personne[[#This Row],[CodePostal]],\" \",Personne[[#This Row],[Ville]],\" \",Personne[[#This Row],[CodePays]])","v":"   "}]
[null,null,null,null,null,null,null,null,null,null,null,null,null,null,null,null,null,null,null,null,null,null,null,null,null,null,null,null,null,null,{"$f":"IF(PARAMETRES!$B$3=\"SANS\",SUMIFS(Honoraire[TotalHonoraireHT],Honoraire[ClientId],Personne[[#This Row],[PersonneId]]),SUMIFS(Honoraire[TotalHT],Honoraire[ClientId],Personne[[#This Row],[PersonneId]]))","v":0},{"$f":"Personne[[#This Row],[Facture (HT)]]+ROW()/100000","v":1.8530000000000001E-2},{"$f":"_xlfn.CONCAT(Personne[[#This Row],[Adresse]],\" \",Personne[[#This Row],[CodePostal]],\" \",Personne[[#This Row],[Ville]],\" \",Personne[[#This Row],[CodePays]])","v":"   "}]
[null,null,null,null,null,null,null,null,null,null,null,null,null,null,null,null,null,null,null,null,null,null,null,null,null,null,null,null,null,null,{"$f":"IF(PARAMETRES!$B$3=\"SANS\",SUMIFS(Honoraire[TotalHonoraireHT],Honoraire[ClientId],Personne[[#This Row],[PersonneId]]),SUMIFS(Honoraire[TotalHT],Honoraire[ClientId],Personne[[#This Row],[PersonneId]]))","v":0},{"$f":"Personne[[#This Row],[Facture (HT)]]+ROW()/100000","v":1.8540000000000001E-2},{"$f":"_xlfn.CONCAT(Personne[[#This Row],[Adresse]],\" \",Personne[[#This Row],[CodePostal]],\" \",Personne[[#This Row],[Ville]],\" \",Personne[[#This Row],[CodePays]])","v":"   "}]
[null,null,null,null,null,null,null,null,null,null,null,null,null,null,null,null,null,null,null,null,null,null,null,null,null,null,null,null,null,null,{"$f":"IF(PARAMETRES!$B$3=\"SANS\",SUMIFS(Honoraire[TotalHonoraireHT],Honoraire[ClientId],Personne[[#This Row],[PersonneId]]),SUMIFS(Honoraire[TotalHT],Honoraire[ClientId],Personne[[#This Row],[PersonneId]]))","v":0},{"$f":"Personne[[#This Row],[Facture (HT)]]+ROW()/100000","v":1.8579999999999999E-2},{"$f":"_xlfn.CONCAT(Personne[[#This Row],[Adresse]],\" \",Personne[[#This Row],[CodePostal]],\" \",Personne[[#This Row],[Ville]],\" \",Personne[[#This Row],[CodePays]])","v":"   "}]
[null,null,null,null,null,null,null,null,null,null,null,null,null,null,null,null,null,null,null,null,null,null,null,null,null,null,null,null,null,null,{"$f":"IF(PARAMETRES!$B$3=\"SANS\",SUMIFS(Honoraire[TotalHonoraireHT],Honoraire[ClientId],Personne[[#This Row],[PersonneId]]),SUMIFS(Honoraire[TotalHT],Honoraire[ClientId],Personne[[#This Row],[PersonneId]]))","v":0},{"$f":"Personne[[#This Row],[Facture (HT)]]+ROW()/100000","v":1.8589999999999999E-2},{"$f":"_xlfn.CONCAT(Personne[[#This Row],[Adresse]],\" \",Personne[[#This Row],[CodePostal]],\" \",Personne[[#This Row],[Ville]],\" \",Personne[[#This Row],[CodePays]])","v":"   "}]
[null,null,null,null,null,null,null,null,null,null,null,null,null,null,null,null,null,null,null,null,null,null,null,null,null,null,null,null,null,null,{"$f":"IF(PARAMETRES!$B$3=\"SANS\",SUMIFS(Honoraire[TotalHonoraireHT],Honoraire[ClientId],Personne[[#This Row],[PersonneId]]),SUMIFS(Honoraire[TotalHT],Honoraire[ClientId],Personne[[#This Row],[PersonneId]]))","v":0},{"$f":"Personne[[#This Row],[Facture (HT)]]+ROW()/100000","v":1.8620000000000001E-2},{"$f":"_xlfn.CONCAT(Personne[[#This Row],[Adresse]],\" \",Personne[[#This Row],[CodePostal]],\" \",Personne[[#This Row],[Ville]],\" \",Personne[[#This Row],[CodePays]])","v":"   "}]
[null,null,null,null,null,null,null,null,null,null,null,null,null,null,null,null,null,null,null,null,null,null,null,null,null,null,null,null,null,null,{"$f":"IF(PARAMETRES!$B$3=\"SANS\",SUMIFS(Honoraire[TotalHonoraireHT],Honoraire[ClientId],Personne[[#This Row],[PersonneId]]),SUMIFS(Honoraire[TotalHT],Honoraire[ClientId],Personne[[#This Row],[PersonneId]]))","v":0},{"$f":"Personne[[#This Row],[Facture (HT)]]+ROW()/100000","v":1.8630000000000001E-2},{"$f":"_xlfn.CONCAT(Personne[[#This Row],[Adresse]],\" \",Personne[[#This Row],[CodePostal]],\" \",Personne[[#This Row],[Ville]],\" \",Personne[[#This Row],[CodePays]])","v":"   "}]
[null,null,null,null,null,null,null,null,null,null,null,null,null,null,null,null,null,null,null,null,null,null,null,null,null,null,null,null,null,null,{"$f":"IF(PARAMETRES!$B$3=\"SANS\",SUMIFS(Honoraire[TotalHonoraireHT],Honoraire[ClientId],Personne[[#This Row],[PersonneId]]),SUMIFS(Honoraire[TotalHT],Honoraire[ClientId],Personne[[#This Row],[PersonneId]]))","v":0},{"$f":"Personne[[#This Row],[Facture (HT)]]+ROW()/100000","v":1.8669999999999999E-2},{"$f":"_xlfn.CONCAT(Personne[[#This Row],[Adresse]],\" \",Personne[[#This Row],[CodePostal]],\" \",Personne[[#This Row],[Ville]],\" \",Personne[[#This Row],[CodePays]])","v":"   "}]
[null,null,null,null,null,null,null,null,null,null,null,null,null,null,null,null,null,null,null,null,null,null,null,null,null,null,null,null,null,null,{"$f":"IF(PARAMETRES!$B$3=\"SANS\",SUMIFS(Honoraire[TotalHonoraireHT],Honoraire[ClientId],Personne[[#This Row],[PersonneId]]),SUMIFS(Honoraire[TotalHT],Honoraire[ClientId],Personne[[#This Row],[PersonneId]]))","v":0},{"$f":"Personne[[#This Row],[Facture (HT)]]+ROW()/100000","v":1.8679999999999999E-2},{"$f":"_xlfn.CONCAT(Personne[[#This Row],[Adresse]],\" \",Personne[[#This Row],[CodePostal]],\" \",Personne[[#This Row],[Ville]],\" \",Personne[[#This Row],[CodePays]])","v":"   "}]
[null,null,null,null,null,null,null,null,null,null,null,null,null,null,null,null,null,null,null,null,null,null,null,null,null,null,null,null,null,null,{"$f":"IF(PARAMETRES!$B$3=\"SANS\",SUMIFS(Honoraire[TotalHonoraireHT],Honoraire[ClientId],Personne[[#This Row],[PersonneId]]),SUMIFS(Honoraire[TotalHT],Honoraire[ClientId],Personne[[#This Row],[PersonneId]]))","v":0},{"$f":"Personne[[#This Row],[Facture (HT)]]+ROW()/100000","v":1.8710000000000001E-2},{"$f":"_xlfn.CONCAT(Personne[[#This Row],[Adresse]],\" \",Personne[[#This Row],[CodePostal]],\" \",Personne[[#This Row],[Ville]],\" \",Personne[[#This Row],[CodePays]])","v":"   "}]
[null,null,null,null,null,null,null,null,null,null,null,null,null,null,null,null,null,null,null,null,null,null,null,null,null,null,null,null,null,null,{"$f":"IF(PARAMETRES!$B$3=\"SANS\",SUMIFS(Honoraire[TotalHonoraireHT],Honoraire[ClientId],Personne[[#This Row],[PersonneId]]),SUMIFS(Honoraire[TotalHT],Honoraire[ClientId],Personne[[#This Row],[PersonneId]]))","v":0},{"$f":"Personne[[#This Row],[Facture (HT)]]+ROW()/100000","v":1.8720000000000001E-2},{"$f":"_xlfn.CONCAT(Personne[[#This Row],[Adresse]],\" \",Personne[[#This Row],[CodePostal]],\" \",Personne[[#This Row],[Ville]],\" \",Personne[[#This Row],[CodePays]])","v":"   "}]
[null,null,null,null,null,null,null,null,null,null,null,null,null,null,null,null,null,null,null,null,null,null,null,null,null,null,null,null,null,null,{"$f":"IF(PARAMETRES!$B$3=\"SANS\",SUMIFS(Honoraire[TotalHonoraireHT],Honoraire[ClientId],Personne[[#This Row],[PersonneId]]),SUMIFS(Honoraire[TotalHT],Honoraire[ClientId],Personne[[#This Row],[PersonneId]]))","v":0},{"$f":"Personne[[#This Row],[Facture (HT)]]+ROW()/100000","v":1.8749999999999999E-2},{"$f":"_xlfn.CONCAT(Personne[[#This Row],[Adresse]],\" \",Personne[[#This Row],[CodePostal]],\" \",Personne[[#This Row],[Ville]],\" \",Personne[[#This Row],[CodePays]])","v":"   "}]
[null,null,null,null,null,null,null,null,null,null,null,null,null,null,null,null,null,null,null,null,null,null,null,null,null,null,null,null,null,null,{"$f":"IF(PARAMETRES!$B$3=\"SANS\",SUMIFS(Honoraire[TotalHonoraireHT],Honoraire[ClientId],Personne[[#This Row],[PersonneId]]),SUMIFS(Honoraire[TotalHT],Honoraire[ClientId],Personne[[#This Row],[PersonneId]]))","v":0},{"$f":"Personne[[#This Row],[Facture (HT)]]+ROW()/100000","v":1.8759999999999999E-2},{"$f":"_xlfn.CONCAT(Personne[[#This Row],[Adresse]],\" \",Personne[[#This Row],[CodePostal]],\" \",Personne[[#This Row],[Ville]],\" \",Personne[[#This Row],[CodePays]])","v":"   "}]
[null,null,null,null,null,null,null,null,null,null,null,null,null,null,null,null,null,null,null,null,null,null,null,null,null,null,null,null,null,null,{"$f":"IF(PARAMETRES!$B$3=\"SANS\",SUMIFS(Honoraire[TotalHonoraireHT],Honoraire[ClientId],Personne[[#This Row],[PersonneId]]),SUMIFS(Honoraire[TotalHT],Honoraire[ClientId],Personne[[#This Row],[PersonneId]]))","v":0},{"$f":"Personne[[#This Row],[Facture (HT)]]+ROW()/100000","v":1.8790000000000001E-2},{"$f":"_xlfn.CONCAT(Personne[[#This Row],[Adresse]],\" \",Personne[[#This Row],[CodePostal]],\" \",Personne[[#This Row],[Ville]],\" \",Personne[[#This Row],[CodePays]])","v":"   "}]
[null,null,null,null,null,null,null,null,null,null,null,null,null,null,null,null,null,null,null,null,null,null,null,null,null,null,null,null,null,null,{"$f":"IF(PARAMETRES!$B$3=\"SANS\",SUMIFS(Honoraire[TotalHonoraireHT],Honoraire[ClientId],Personne[[#This Row],[PersonneId]]),SUMIFS(Honoraire[TotalHT],Honoraire[ClientId],Personne[[#This Row],[PersonneId]]))","v":0},{"$f":"Personne[[#This Row],[Facture (HT)]]+ROW()/100000","v":1.881E-2},{"$f":"_xlfn.CONCAT(Personne[[#This Row],[Adresse]],\" \",Personne[[#This Row],[CodePostal]],\" \",Personne[[#This Row],[Ville]],\" \",Personne[[#This Row],[CodePays]])","v":"   "}]
[null,null,null,null,null,null,null,null,null,null,null,null,null,null,null,null,null,null,null,null,null,null,null,null,null,null,null,null,null,null,{"$f":"IF(PARAMETRES!$B$3=\"SANS\",SUMIFS(Honoraire[TotalHonoraireHT],Honoraire[ClientId],Personne[[#This Row],[PersonneId]]),SUMIFS(Honoraire[TotalHT],Honoraire[ClientId],Personne[[#This Row],[PersonneId]]))","v":0},{"$f":"Personne[[#This Row],[Facture (HT)]]+ROW()/100000","v":1.8839999999999999E-2},{"$f":"_xlfn.CONCAT(Personne[[#This Row],[Adresse]],\" \",Personne[[#This Row],[CodePostal]],\" \",Personne[[#This Row],[Ville]],\" \",Personne[[#This Row],[CodePays]])","v":"   "}]
[null,null,null,null,null,null,null,null,null,null,null,null,null,null,null,null,null,null,null,null,null,null,null,null,null,null,null,null,null,null,{"$f":"IF(PARAMETRES!$B$3=\"SANS\",SUMIFS(Honoraire[TotalHonoraireHT],Honoraire[ClientId],Personne[[#This Row],[PersonneId]]),SUMIFS(Honoraire[TotalHT],Honoraire[ClientId],Personne[[#This Row],[PersonneId]]))","v":0},{"$f":"Personne[[#This Row],[Facture (HT)]]+ROW()/100000","v":1.8849999999999999E-2},{"$f":"_xlfn.CONCAT(Personne[[#This Row],[Adresse]],\" \",Personne[[#This Row],[CodePostal]],\" \",Personne[[#This Row],[Ville]],\" \",Personne[[#This Row],[CodePays]])","v":"   "}]
[null,null,null,null,null,null,null,null,null,null,null,null,null,null,null,null,null,null,null,null,null,null,null,null,null,null,null,null,null,null,{"$f":"IF(PARAMETRES!$B$3=\"SANS\",SUMIFS(Honoraire[TotalHonoraireHT],Honoraire[ClientId],Personne[[#This Row],[PersonneId]]),SUMIFS(Honoraire[TotalHT],Honoraire[ClientId],Personne[[#This Row],[PersonneId]]))","v":0},{"$f":"Personne[[#This Row],[Facture (HT)]]+ROW()/100000","v":1.8880000000000001E-2},{"$f":"_xlfn.CONCAT(Personne[[#This Row],[Adresse]],\" \",Personne[[#This Row],[CodePostal]],\" \",Personne[[#This Row],[Ville]],\" \",Personne[[#This Row],[CodePays]])","v":"   "}]
[null,null,null,null,null,null,null,null,null,null,null,null,null,null,null,null,null,null,null,null,null,null,null,null,null,null,null,null,null,null,{"$f":"IF(PARAMETRES!$B$3=\"SANS\",SUMIFS(Honoraire[TotalHonoraireHT],Honoraire[ClientId],Personne[[#This Row],[PersonneId]]),SUMIFS(Honoraire[TotalHT],Honoraire[ClientId],Personne[[#This Row],[PersonneId]]))","v":0},{"$f":"Personne[[#This Row],[Facture (HT)]]+ROW()/100000","v":1.8890000000000001E-2},{"$f":"_xlfn.CONCAT(Personne[[#This Row],[Adresse]],\" \",Personne[[#This Row],[CodePostal]],\" \",Personne[[#This Row],[Ville]],\" \",Personne[[#This Row],[CodePays]])","v":"   "}]
[null,null,null,null,null,null,null,null,null,null,null,null,null,null,null,null,null,null,null,null,null,null,null,null,null,null,null,null,null,null,{"$f":"IF(PARAMETRES!$B$3=\"SANS\",SUMIFS(Honoraire[TotalHonoraireHT],Honoraire[ClientId],Personne[[#This Row],[PersonneId]]),SUMIFS(Honoraire[TotalHT],Honoraire[ClientId],Personne[[#This Row],[PersonneId]]))","v":0},{"$f":"Personne[[#This Row],[Facture (HT)]]+ROW()/100000","v":1.8929999999999999E-2},{"$f":"_xlfn.CONCAT(Personne[[#This Row],[Adresse]],\" \",Personne[[#This Row],[CodePostal]],\" \",Personne[[#This Row],[Ville]],\" \",Personne[[#This Row],[CodePays]])","v":"   "}]
[null,null,null,null,null,null,null,null,null,null,null,null,null,null,null,null,null,null,null,null,null,null,null,null,null,null,null,null,null,null,{"$f":"IF(PARAMETRES!$B$3=\"SANS\",SUMIFS(Honoraire[TotalHonoraireHT],Honoraire[ClientId],Personne[[#This Row],[PersonneId]]),SUMIFS(Honoraire[TotalHT],Honoraire[ClientId],Personne[[#This Row],[PersonneId]]))","v":0},{"$f":"Personne[[#This Row],[Facture (HT)]]+ROW()/100000","v":1.8939999999999999E-2},{"$f":"_xlfn.CONCAT(Personne[[#This Row],[Adresse]],\" \",Personne[[#This Row],[CodePostal]],\" \",Personne[[#This Row],[Ville]],\" \",Personne[[#This Row],[CodePays]])","v":"   "}]
[null,null,null,null,null,null,null,null,null,null,null,null,null,null,null,null,null,null,null,null,null,null,null,null,null,null,null,null,null,null,{"$f":"IF(PARAMETRES!$B$3=\"SANS\",SUMIFS(Honoraire[TotalHonoraireHT],Honoraire[ClientId],Personne[[#This Row],[PersonneId]]),SUMIFS(Honoraire[TotalHT],Honoraire[ClientId],Personne[[#This Row],[PersonneId]]))","v":0},{"$f":"Personne[[#This Row],[Facture (HT)]]+ROW()/100000","v":1.8970000000000001E-2},{"$f":"_xlfn.CONCAT(Personne[[#This Row],[Adresse]],\" \",Personne[[#This Row],[CodePostal]],\" \",Personne[[#This Row],[Ville]],\" \",Personne[[#This Row],[CodePays]])","v":"   "}]
[null,null,null,null,null,null,null,null,null,null,null,null,null,null,null,null,null,null,null,null,null,null,null,null,null,null,null,null,null,null,{"$f":"IF(PARAMETRES!$B$3=\"SANS\",SUMIFS(Honoraire[TotalHonoraireHT],Honoraire[ClientId],Personne[[#This Row],[PersonneId]]),SUMIFS(Honoraire[TotalHT],Honoraire[ClientId],Personne[[#This Row],[PersonneId]]))","v":0},{"$f":"Personne[[#This Row],[Facture (HT)]]+ROW()/100000","v":1.898E-2},{"$f":"_xlfn.CONCAT(Personne[[#This Row],[Adresse]],\" \",Personne[[#This Row],[CodePostal]],\" \",Personne[[#This Row],[Ville]],\" \",Personne[[#This Row],[CodePays]])","v":"   "}]
[null,null,null,null,null,null,null,null,null,null,null,null,null,null,null,null,null,null,null,null,null,null,null,null,null,null,null,null,null,null,{"$f":"IF(PARAMETRES!$B$3=\"SANS\",SUMIFS(Honoraire[TotalHonoraireHT],Honoraire[ClientId],Personne[[#This Row],[PersonneId]]),SUMIFS(Honoraire[TotalHT],Honoraire[ClientId],Personne[[#This Row],[PersonneId]]))","v":0},{"$f":"Personne[[#This Row],[Facture (HT)]]+ROW()/100000","v":1.9009999999999999E-2},{"$f":"_xlfn.CONCAT(Personne[[#This Row],[Adresse]],\" \",Personne[[#This Row],[CodePostal]],\" \",Personne[[#This Row],[Ville]],\" \",Personne[[#This Row],[CodePays]])","v":"   "}]
[null,null,null,null,null,null,null,null,null,null,null,null,null,null,null,null,null,null,null,null,null,null,null,null,null,null,null,null,null,null,{"$f":"IF(PARAMETRES!$B$3=\"SANS\",SUMIFS(Honoraire[TotalHonoraireHT],Honoraire[ClientId],Personne[[#This Row],[PersonneId]]),SUMIFS(Honoraire[TotalHT],Honoraire[ClientId],Personne[[#This Row],[PersonneId]]))","v":0},{"$f":"Personne[[#This Row],[Facture (HT)]]+ROW()/100000","v":1.9040000000000001E-2},{"$f":"_xlfn.CONCAT(Personne[[#This Row],[Adresse]],\" \",Personne[[#This Row],[CodePostal]],\" \",Personne[[#This Row],[Ville]],\" \",Personne[[#This Row],[CodePays]])","v":"   "}]
[null,null,null,null,null,null,null,null,null,null,null,null,null,null,null,null,null,null,null,null,null,null,null,null,null,null,null,null,null,null,{"$f":"IF(PARAMETRES!$B$3=\"SANS\",SUMIFS(Honoraire[TotalHonoraireHT],Honoraire[ClientId],Personne[[#This Row],[PersonneId]]),SUMIFS(Honoraire[TotalHT],Honoraire[ClientId],Personne[[#This Row],[PersonneId]]))","v":0},{"$f":"Personne[[#This Row],[Facture (HT)]]+ROW()/100000","v":1.9060000000000001E-2},{"$f":"_xlfn.CONCAT(Personne[[#This Row],[Adresse]],\" \",Personne[[#This Row],[CodePostal]],\" \",Personne[[#This Row],[Ville]],\" \",Personne[[#This Row],[CodePays]])","v":"   "}]
[null,null,null,null,null,null,null,null,null,null,null,null,null,null,null,null,null,null,null,null,null,null,null,null,null,null,null,null,null,null,{"$f":"IF(PARAMETRES!$B$3=\"SANS\",SUMIFS(Honoraire[TotalHonoraireHT],Honoraire[ClientId],Personne[[#This Row],[PersonneId]]),SUMIFS(Honoraire[TotalHT],Honoraire[ClientId],Personne[[#This Row],[PersonneId]]))","v":0},{"$f":"Personne[[#This Row],[Facture (HT)]]+ROW()/100000","v":1.907E-2},{"$f":"_xlfn.CONCAT(Personne[[#This Row],[Adresse]],\" \",Personne[[#This Row],[CodePostal]],\" \",Personne[[#This Row],[Ville]],\" \",Personne[[#This Row],[CodePays]])","v":"   "}]
[null,null,null,null,null,null,null,null,null,null,null,null,null,null,null,null,null,null,null,null,null,null,null,null,null,null,null,null,null,null,{"$f":"IF(PARAMETRES!$B$3=\"SANS\",SUMIFS(Honoraire[TotalHonoraireHT],Honoraire[ClientId],Personne[[#This Row],[PersonneId]]),SUMIFS(Honoraire[TotalHT],Honoraire[ClientId],Personne[[#This Row],[PersonneId]]))","v":0},{"$f":"Personne[[#This Row],[Facture (HT)]]+ROW()/100000","v":1.9099999999999999E-2},{"$f":"_xlfn.CONCAT(Personne[[#This Row],[Adresse]],\" \",Personne[[#This Row],[CodePostal]],\" \",Personne[[#This Row],[Ville]],\" \",Personne[[#This Row],[CodePays]])","v":"   "}]
[null,null,null,null,null,null,null,null,null,null,null,null,null,null,null,null,null,null,null,null,null,null,null,null,null,null,null,null,null,null,{"$f":"IF(PARAMETRES!$B$3=\"SANS\",SUMIFS(Honoraire[TotalHonoraireHT],Honoraire[ClientId],Personne[[#This Row],[PersonneId]]),SUMIFS(Honoraire[TotalHT],Honoraire[ClientId],Personne[[#This Row],[PersonneId]]))","v":0},{"$f":"Personne[[#This Row],[Facture (HT)]]+ROW()/100000","v":1.9109999999999999E-2},{"$f":"_xlfn.CONCAT(Personne[[#This Row],[Adresse]],\" \",Personne[[#This Row],[CodePostal]],\" \",Personne[[#This Row],[Ville]],\" \",Personne[[#This Row],[CodePays]])","v":"   "}]
[null,null,null,null,null,null,null,null,null,null,null,null,null,null,null,null,null,null,null,null,null,null,null,null,null,null,null,null,null,null,{"$f":"IF(PARAMETRES!$B$3=\"SANS\",SUMIFS(Honoraire[TotalHonoraireHT],Honoraire[ClientId],Personne[[#This Row],[PersonneId]]),SUMIFS(Honoraire[TotalHT],Honoraire[ClientId],Personne[[#This Row],[PersonneId]]))","v":0},{"$f":"Personne[[#This Row],[Facture (HT)]]+ROW()/100000","v":1.9140000000000001E-2},{"$f":"_xlfn.CONCAT(Personne[[#This Row],[Adresse]],\" \",Personne[[#This Row],[CodePostal]],\" \",Personne[[#This Row],[Ville]],\" \",Personne[[#This Row],[CodePays]])","v":"   "}]
[null,null,null,null,null,null,null,null,null,null,null,null,null,null,null,null,null,null,null,null,null,null,null,null,null,null,null,null,null,null,{"$f":"IF(PARAMETRES!$B$3=\"SANS\",SUMIFS(Honoraire[TotalHonoraireHT],Honoraire[ClientId],Personne[[#This Row],[PersonneId]]),SUMIFS(Honoraire[TotalHT],Honoraire[ClientId],Personne[[#This Row],[PersonneId]]))","v":0},{"$f":"Personne[[#This Row],[Facture (HT)]]+ROW()/100000","v":1.916E-2},{"$f":"_xlfn.CONCAT(Personne[[#This Row],[Adresse]],\" \",Personne[[#This Row],[CodePostal]],\" \",Personne[[#This Row],[Ville]],\" \",Personne[[#This Row],[CodePays]])","v":"   "}]
[null,null,null,null,null,null,null,null,null,null,null,null,null,null,null,null,null,null,null,null,null,null,null,null,null,null,null,null,null,null,{"$f":"IF(PARAMETRES!$B$3=\"SANS\",SUMIFS(Honoraire[TotalHonoraireHT],Honoraire[ClientId],Personne[[#This Row],[PersonneId]]),SUMIFS(Honoraire[TotalHT],Honoraire[ClientId],Personne[[#This Row],[PersonneId]]))","v":0},{"$f":"Personne[[#This Row],[Facture (HT)]]+ROW()/100000","v":1.9189999999999999E-2},{"$f":"_xlfn.CONCAT(Personne[[#This Row],[Adresse]],\" \",Personne[[#This Row],[CodePostal]],\" \",Personne[[#This Row],[Ville]],\" \",Personne[[#This Row],[CodePays]])","v":"   "}]
[null,null,null,null,null,null,null,null,null,null,null,null,null,null,null,null,null,null,null,null,null,null,null,null,null,null,null,null,null,null,{"$f":"IF(PARAMETRES!$B$3=\"SANS\",SUMIFS(Honoraire[TotalHonoraireHT],Honoraire[ClientId],Personne[[#This Row],[PersonneId]]),SUMIFS(Honoraire[TotalHT],Honoraire[ClientId],Personne[[#This Row],[PersonneId]]))","v":0},{"$f":"Personne[[#This Row],[Facture (HT)]]+ROW()/100000","v":1.9199999999999998E-2},{"$f":"_xlfn.CONCAT(Personne[[#This Row],[Adresse]],\" \",Personne[[#This Row],[CodePostal]],\" \",Personne[[#This Row],[Ville]],\" \",Personne[[#This Row],[CodePays]])","v":"   "}]
[null,null,null,null,null,null,null,null,null,null,null,null,null,null,null,null,null,null,null,null,null,null,null,null,null,null,null,null,null,null,{"$f":"IF(PARAMETRES!$B$3=\"SANS\",SUMIFS(Honoraire[TotalHonoraireHT],Honoraire[ClientId],Personne[[#This Row],[PersonneId]]),SUMIFS(Honoraire[TotalHT],Honoraire[ClientId],Personne[[#This Row],[PersonneId]]))","v":0},{"$f":"Personne[[#This Row],[Facture (HT)]]+ROW()/100000","v":1.9230000000000001E-2},{"$f":"_xlfn.CONCAT(Personne[[#This Row],[Adresse]],\" \",Personne[[#This Row],[CodePostal]],\" \",Personne[[#This Row],[Ville]],\" \",Personne[[#This Row],[CodePays]])","v":"   "}]
[null,null,null,null,null,null,null,null,null,null,null,null,null,null,null,null,null,null,null,null,null,null,null,null,null,null,null,null,null,null,{"$f":"IF(PARAMETRES!$B$3=\"SANS\",SUMIFS(Honoraire[TotalHonoraireHT],Honoraire[ClientId],Personne[[#This Row],[PersonneId]]),SUMIFS(Honoraire[TotalHT],Honoraire[ClientId],Personne[[#This Row],[PersonneId]]))","v":0},{"$f":"Personne[[#This Row],[Facture (HT)]]+ROW()/100000","v":1.924E-2},{"$f":"_xlfn.CONCAT(Personne[[#This Row],[Adresse]],\" \",Personne[[#This Row],[CodePostal]],\" \",Personne[[#This Row],[Ville]],\" \",Personne[[#This Row],[CodePays]])","v":"   "}]
[null,null,null,null,null,null,null,null,null,null,null,null,null,null,null,null,null,null,null,null,null,null,null,null,null,null,null,null,null,null,{"$f":"IF(PARAMETRES!$B$3=\"SANS\",SUMIFS(Honoraire[TotalHonoraireHT],Honoraire[ClientId],Personne[[#This Row],[PersonneId]]),SUMIFS(Honoraire[TotalHT],Honoraire[ClientId],Personne[[#This Row],[PersonneId]]))","v":0},{"$f":"Personne[[#This Row],[Facture (HT)]]+ROW()/100000","v":1.9279999999999999E-2},{"$f":"_xlfn.CONCAT(Personne[[#This Row],[Adresse]],\" \",Personne[[#This Row],[CodePostal]],\" \",Personne[[#This Row],[Ville]],\" \",Personne[[#This Row],[CodePays]])","v":"   "}]
[null,null,null,null,null,null,null,null,null,null,null,null,null,null,null,null,null,null,null,null,null,null,null,null,null,null,null,null,null,null,{"$f":"IF(PARAMETRES!$B$3=\"SANS\",SUMIFS(Honoraire[TotalHonoraireHT],Honoraire[ClientId],Personne[[#This Row],[PersonneId]]),SUMIFS(Honoraire[TotalHT],Honoraire[ClientId],Personne[[#This Row],[PersonneId]]))","v":0},{"$f":"Personne[[#This Row],[Facture (HT)]]+ROW()/100000","v":1.9290000000000002E-2},{"$f":"_xlfn.CONCAT(Personne[[#This Row],[Adresse]],\" \",Personne[[#This Row],[CodePostal]],\" \",Personne[[#This Row],[Ville]],\" \",Personne[[#This Row],[CodePays]])","v":"   "}]
[null,null,null,null,null,null,null,null,null,null,null,null,null,null,null,null,null,null,null,null,null,null,null,null,null,null,null,null,null,null,{"$f":"IF(PARAMETRES!$B$3=\"SANS\",SUMIFS(Honoraire[TotalHonoraireHT],Honoraire[ClientId],Personne[[#This Row],[PersonneId]]),SUMIFS(Honoraire[TotalHT],Honoraire[ClientId],Personne[[#This Row],[PersonneId]]))","v":0},{"$f":"Personne[[#This Row],[Facture (HT)]]+ROW()/100000","v":1.932E-2},{"$f":"_xlfn.CONCAT(Personne[[#This Row],[Adresse]],\" \",Personne[[#This Row],[CodePostal]],\" \",Personne[[#This Row],[Ville]],\" \",Personne[[#This Row],[CodePays]])","v":"   "}]
[null,null,null,null,null,null,null,null,null,null,null,null,null,null,null,null,null,null,null,null,null,null,null,null,null,null,null,null,null,null,{"$f":"IF(PARAMETRES!$B$3=\"SANS\",SUMIFS(Honoraire[TotalHonoraireHT],Honoraire[ClientId],Personne[[#This Row],[PersonneId]]),SUMIFS(Honoraire[TotalHT],Honoraire[ClientId],Personne[[#This Row],[PersonneId]]))","v":0},{"$f":"Personne[[#This Row],[Facture (HT)]]+ROW()/100000","v":1.933E-2},{"$f":"_xlfn.CONCAT(Personne[[#This Row],[Adresse]],\" \",Personne[[#This Row],[CodePostal]],\" \",Personne[[#This Row],[Ville]],\" \",Personne[[#This Row],[CodePays]])","v":"   "}]
[null,null,null,null,null,null,null,null,null,null,null,null,null,null,null,null,null,null,null,null,null,null,null,null,null,null,null,null,null,null,{"$f":"IF(PARAMETRES!$B$3=\"SANS\",SUMIFS(Honoraire[TotalHonoraireHT],Honoraire[ClientId],Personne[[#This Row],[PersonneId]]),SUMIFS(Honoraire[TotalHT],Honoraire[ClientId],Personne[[#This Row],[PersonneId]]))","v":0},{"$f":"Personne[[#This Row],[Facture (HT)]]+ROW()/100000","v":1.9359999999999999E-2},{"$f":"_xlfn.CONCAT(Personne[[#This Row],[Adresse]],\" \",Personne[[#This Row],[CodePostal]],\" \",Personne[[#This Row],[Ville]],\" \",Personne[[#This Row],[CodePays]])","v":"   "}]
[null,null,null,null,null,null,null,null,null,null,null,null,null,null,null,null,null,null,null,null,null,null,null,null,null,null,null,null,null,null,{"$f":"IF(PARAMETRES!$B$3=\"SANS\",SUMIFS(Honoraire[TotalHonoraireHT],Honoraire[ClientId],Personne[[#This Row],[PersonneId]]),SUMIFS(Honoraire[TotalHT],Honoraire[ClientId],Personne[[#This Row],[PersonneId]]))","v":0},{"$f":"Personne[[#This Row],[Facture (HT)]]+ROW()/100000","v":1.9390000000000001E-2},{"$f":"_xlfn.CONCAT(Personne[[#This Row],[Adresse]],\" \",Personne[[#This Row],[CodePostal]],\" \",Personne[[#This Row],[Ville]],\" \",Personne[[#This Row],[CodePays]])","v":"   "}]
[null,null,null,null,null,null,null,null,null,null,null,null,null,null,null,null,null,null,null,null,null,null,null,null,null,null,null,null,null,null,{"$f":"IF(PARAMETRES!$B$3=\"SANS\",SUMIFS(Honoraire[TotalHonoraireHT],Honoraire[ClientId],Personne[[#This Row],[PersonneId]]),SUMIFS(Honoraire[TotalHT],Honoraire[ClientId],Personne[[#This Row],[PersonneId]]))","v":0},{"$f":"Personne[[#This Row],[Facture (HT)]]+ROW()/100000","v":1.941E-2},{"$f":"_xlfn.CONCAT(Personne[[#This Row],[Adresse]],\" \",Personne[[#This Row],[CodePostal]],\" \",Personne[[#This Row],[Ville]],\" \",Personne[[#This Row],[CodePays]])","v":"   "}]
[null,null,null,null,null,null,null,null,null,null,null,null,null,null,null,null,null,null,null,null,null,null,null,null,null,null,null,null,null,null,{"$f":"IF(PARAMETRES!$B$3=\"SANS\",SUMIFS(Honoraire[TotalHonoraireHT],Honoraire[ClientId],Personne[[#This Row],[PersonneId]]),SUMIFS(Honoraire[TotalHT],Honoraire[ClientId],Personne[[#This Row],[PersonneId]]))","v":0},{"$f":"Personne[[#This Row],[Facture (HT)]]+ROW()/100000","v":1.942E-2},{"$f":"_xlfn.CONCAT(Personne[[#This Row],[Adresse]],\" \",Personne[[#This Row],[CodePostal]],\" \",Personne[[#This Row],[Ville]],\" \",Personne[[#This Row],[CodePays]])","v":"   "}]
[null,null,null,null,null,null,null,null,null,null,null,null,null,null,null,null,null,null,null,null,null,null,null,null,null,null,null,null,null,null,{"$f":"IF(PARAMETRES!$B$3=\"SANS\",SUMIFS(Honoraire[TotalHonoraireHT],Honoraire[ClientId],Personne[[#This Row],[PersonneId]]),SUMIFS(Honoraire[TotalHT],Honoraire[ClientId],Personne[[#This Row],[PersonneId]]))","v":0},{"$f":"Personne[[#This Row],[Facture (HT)]]+ROW()/100000","v":1.9449999999999999E-2},{"$f":"_xlfn.CONCAT(Personne[[#This Row],[Adresse]],\" \",Personne[[#This Row],[CodePostal]],\" \",Personne[[#This Row],[Ville]],\" \",Personne[[#This Row],[CodePays]])","v":"   "}]
[null,null,null,null,null,null,null,null,null,null,null,null,null,null,null,null,null,null,null,null,null,null,null,null,null,null,null,null,null,null,{"$f":"IF(PARAMETRES!$B$3=\"SANS\",SUMIFS(Honoraire[TotalHonoraireHT],Honoraire[ClientId],Personne[[#This Row],[PersonneId]]),SUMIFS(Honoraire[TotalHT],Honoraire[ClientId],Personne[[#This Row],[PersonneId]]))","v":0},{"$f":"Personne[[#This Row],[Facture (HT)]]+ROW()/100000","v":1.9460000000000002E-2},{"$f":"_xlfn.CONCAT(Personne[[#This Row],[Adresse]],\" \",Personne[[#This Row],[CodePostal]],\" \",Personne[[#This Row],[Ville]],\" \",Personne[[#This Row],[CodePays]])","v":"   "}]
[null,null,null,null,null,null,null,null,null,null,null,null,null,null,null,null,null,null,null,null,null,null,null,null,null,null,null,null,null,null,{"$f":"IF(PARAMETRES!$B$3=\"SANS\",SUMIFS(Honoraire[TotalHonoraireHT],Honoraire[ClientId],Personne[[#This Row],[PersonneId]]),SUMIFS(Honoraire[TotalHT],Honoraire[ClientId],Personne[[#This Row],[PersonneId]]))","v":0},{"$f":"Personne[[#This Row],[Facture (HT)]]+ROW()/100000","v":1.949E-2},{"$f":"_xlfn.CONCAT(Personne[[#This Row],[Adresse]],\" \",Personne[[#This Row],[CodePostal]],\" \",Personne[[#This Row],[Ville]],\" \",Personne[[#This Row],[CodePays]])","v":"   "}]
[null,null,null,null,null,null,null,null,null,null,null,null,null,null,null,null,null,null,null,null,null,null,null,null,null,null,null,null,null,null,{"$f":"IF(PARAMETRES!$B$3=\"SANS\",SUMIFS(Honoraire[TotalHonoraireHT],Honoraire[ClientId],Personne[[#This Row],[PersonneId]]),SUMIFS(Honoraire[TotalHT],Honoraire[ClientId],Personne[[#This Row],[PersonneId]]))","v":0},{"$f":"Personne[[#This Row],[Facture (HT)]]+ROW()/100000","v":1.951E-2},{"$f":"_xlfn.CONCAT(Personne[[#This Row],[Adresse]],\" \",Personne[[#This Row],[CodePostal]],\" \",Personne[[#This Row],[Ville]],\" \",Personne[[#This Row],[CodePays]])","v":"   "}]
[null,null,null,null,null,null,null,null,null,null,null,null,null,null,null,null,null,null,null,null,null,null,null,null,null,null,null,null,null,null,{"$f":"IF(PARAMETRES!$B$3=\"SANS\",SUMIFS(Honoraire[TotalHonoraireHT],Honoraire[ClientId],Personne[[#This Row],[PersonneId]]),SUMIFS(Honoraire[TotalHT],Honoraire[ClientId],Personne[[#This Row],[PersonneId]]))","v":0},{"$f":"Personne[[#This Row],[Facture (HT)]]+ROW()/100000","v":1.9539999999999998E-2},{"$f":"_xlfn.CONCAT(Personne[[#This Row],[Adresse]],\" \",Personne[[#This Row],[CodePostal]],\" \",Personne[[#This Row],[Ville]],\" \",Personne[[#This Row],[CodePays]])","v":"   "}]
[null,null,null,null,null,null,null,null,null,null,null,null,null,null,null,null,null,null,null,null,null,null,null,null,null,null,null,null,null,null,{"$f":"IF(PARAMETRES!$B$3=\"SANS\",SUMIFS(Honoraire[TotalHonoraireHT],Honoraire[ClientId],Personne[[#This Row],[PersonneId]]),SUMIFS(Honoraire[TotalHT],Honoraire[ClientId],Personne[[#This Row],[PersonneId]]))","v":0},{"$f":"Personne[[#This Row],[Facture (HT)]]+ROW()/100000","v":1.9550000000000001E-2},{"$f":"_xlfn.CONCAT(Personne[[#This Row],[Adresse]],\" \",Personne[[#This Row],[CodePostal]],\" \",Personne[[#This Row],[Ville]],\" \",Personne[[#This Row],[CodePays]])","v":"   "}]
[null,null,null,null,null,null,null,null,null,null,null,null,null,null,null,null,null,null,null,null,null,null,null,null,null,null,null,null,null,null,{"$f":"IF(PARAMETRES!$B$3=\"SANS\",SUMIFS(Honoraire[TotalHonoraireHT],Honoraire[ClientId],Personne[[#This Row],[PersonneId]]),SUMIFS(Honoraire[TotalHT],Honoraire[ClientId],Personne[[#This Row],[PersonneId]]))","v":0},{"$f":"Personne[[#This Row],[Facture (HT)]]+ROW()/100000","v":1.958E-2},{"$f":"_xlfn.CONCAT(Personne[[#This Row],[Adresse]],\" \",Personne[[#This Row],[CodePostal]],\" \",Personne[[#This Row],[Ville]],\" \",Personne[[#This Row],[CodePays]])","v":"   "}]
[null,null,null,null,null,null,null,null,null,null,null,null,null,null,null,null,null,null,null,null,null,null,null,null,null,null,null,null,null,null,{"$f":"IF(PARAMETRES!$B$3=\"SANS\",SUMIFS(Honoraire[TotalHonoraireHT],Honoraire[ClientId],Personne[[#This Row],[PersonneId]]),SUMIFS(Honoraire[TotalHT],Honoraire[ClientId],Personne[[#This Row],[PersonneId]]))","v":0},{"$f":"Personne[[#This Row],[Facture (HT)]]+ROW()/100000","v":1.959E-2},{"$f":"_xlfn.CONCAT(Personne[[#This Row],[Adresse]],\" \",Personne[[#This Row],[CodePostal]],\" \",Personne[[#This Row],[Ville]],\" \",Personne[[#This Row],[CodePays]])","v":"   "}]
[null,null,null,null,null,null,null,null,null,null,null,null,null,null,null,null,null,null,null,null,null,null,null,null,null,null,null,null,null,null,{"$f":"IF(PARAMETRES!$B$3=\"SANS\",SUMIFS(Honoraire[TotalHonoraireHT],Honoraire[ClientId],Personne[[#This Row],[PersonneId]]),SUMIFS(Honoraire[TotalHT],Honoraire[ClientId],Personne[[#This Row],[PersonneId]]))","v":0},{"$f":"Personne[[#This Row],[Facture (HT)]]+ROW()/100000","v":1.9619999999999999E-2},{"$f":"_xlfn.CONCAT(Personne[[#This Row],[Adresse]],\" \",Personne[[#This Row],[CodePostal]],\" \",Personne[[#This Row],[Ville]],\" \",Personne[[#This Row],[CodePays]])","v":"   "}]
[null,null,null,null,null,null,null,null,null,null,null,null,null,null,null,null,null,null,null,null,null,null,null,null,null,null,null,null,null,null,{"$f":"IF(PARAMETRES!$B$3=\"SANS\",SUMIFS(Honoraire[TotalHonoraireHT],Honoraire[ClientId],Personne[[#This Row],[PersonneId]]),SUMIFS(Honoraire[TotalHT],Honoraire[ClientId],Personne[[#This Row],[PersonneId]]))","v":0},{"$f":"Personne[[#This Row],[Facture (HT)]]+ROW()/100000","v":1.9640000000000001E-2},{"$f":"_xlfn.CONCAT(Personne[[#This Row],[Adresse]],\" \",Personne[[#This Row],[CodePostal]],\" \",Personne[[#This Row],[Ville]],\" \",Personne[[#This Row],[CodePays]])","v":"   "}]
[null,null,null,null,null,null,null,null,null,null,null,null,null,null,null,null,null,null,null,null,null,null,null,null,null,null,null,null,null,null,{"$f":"IF(PARAMETRES!$B$3=\"SANS\",SUMIFS(Honoraire[TotalHonoraireHT],Honoraire[ClientId],Personne[[#This Row],[PersonneId]]),SUMIFS(Honoraire[TotalHT],Honoraire[ClientId],Personne[[#This Row],[PersonneId]]))","v":0},{"$f":"Personne[[#This Row],[Facture (HT)]]+ROW()/100000","v":1.967E-2},{"$f":"_xlfn.CONCAT(Personne[[#This Row],[Adresse]],\" \",Personne[[#This Row],[CodePostal]],\" \",Personne[[#This Row],[Ville]],\" \",Personne[[#This Row],[CodePays]])","v":"   "}]
[null,null,null,null,null,null,null,null,null,null,null,null,null,null,null,null,null,null,null,null,null,null,null,null,null,null,null,null,null,null,{"$f":"IF(PARAMETRES!$B$3=\"SANS\",SUMIFS(Honoraire[TotalHonoraireHT],Honoraire[ClientId],Personne[[#This Row],[PersonneId]]),SUMIFS(Honoraire[TotalHT],Honoraire[ClientId],Personne[[#This Row],[PersonneId]]))","v":0},{"$f":"Personne[[#This Row],[Facture (HT)]]+ROW()/100000","v":1.968E-2},{"$f":"_xlfn.CONCAT(Personne[[#This Row],[Adresse]],\" \",Personne[[#This Row],[CodePostal]],\" \",Personne[[#This Row],[Ville]],\" \",Personne[[#This Row],[CodePays]])","v":"   "}]
[null,null,null,null,null,null,null,null,null,null,null,null,null,null,null,null,null,null,null,null,null,null,null,null,null,null,null,null,null,null,{"$f":"IF(PARAMETRES!$B$3=\"SANS\",SUMIFS(Honoraire[TotalHonoraireHT],Honoraire[ClientId],Personne[[#This Row],[PersonneId]]),SUMIFS(Honoraire[TotalHT],Honoraire[ClientId],Personne[[#This Row],[PersonneId]]))","v":0},{"$f":"Personne[[#This Row],[Facture (HT)]]+ROW()/100000","v":1.9709999999999998E-2},{"$f":"_xlfn.CONCAT(Personne[[#This Row],[Adresse]],\" \",Personne[[#This Row],[CodePostal]],\" \",Personne[[#This Row],[Ville]],\" \",Personne[[#This Row],[CodePays]])","v":"   "}]
[null,null,null,null,null,null,null,null,null,null,null,null,null,null,null,null,null,null,null,null,null,null,null,null,null,null,null,null,null,null,{"$f":"IF(PARAMETRES!$B$3=\"SANS\",SUMIFS(Honoraire[TotalHonoraireHT],Honoraire[ClientId],Personne[[#This Row],[PersonneId]]),SUMIFS(Honoraire[TotalHT],Honoraire[ClientId],Personne[[#This Row],[PersonneId]]))","v":0},{"$f":"Personne[[#This Row],[Facture (HT)]]+ROW()/100000","v":1.9740000000000001E-2},{"$f":"_xlfn.CONCAT(Personne[[#This Row],[Adresse]],\" \",Personne[[#This Row],[CodePostal]],\" \",Personne[[#This Row],[Ville]],\" \",Personne[[#This Row],[CodePays]])","v":"   "}]
[null,null,null,null,null,null,null,null,null,null,null,null,null,null,null,null,null,null,null,null,null,null,null,null,null,null,null,null,null,null,{"$f":"IF(PARAMETRES!$B$3=\"SANS\",SUMIFS(Honoraire[TotalHonoraireHT],Honoraire[ClientId],Personne[[#This Row],[PersonneId]]),SUMIFS(Honoraire[TotalHT],Honoraire[ClientId],Personne[[#This Row],[PersonneId]]))","v":0},{"$f":"Personne[[#This Row],[Facture (HT)]]+ROW()/100000","v":1.976E-2},{"$f":"_xlfn.CONCAT(Personne[[#This Row],[Adresse]],\" \",Personne[[#This Row],[CodePostal]],\" \",Personne[[#This Row],[Ville]],\" \",Personne[[#This Row],[CodePays]])","v":"   "}]
[null,null,null,null,null,null,null,null,null,null,null,null,null,null,null,null,null,null,null,null,null,null,null,null,null,null,null,null,null,null,{"$f":"IF(PARAMETRES!$B$3=\"SANS\",SUMIFS(Honoraire[TotalHonoraireHT],Honoraire[ClientId],Personne[[#This Row],[PersonneId]]),SUMIFS(Honoraire[TotalHT],Honoraire[ClientId],Personne[[#This Row],[PersonneId]]))","v":0},{"$f":"Personne[[#This Row],[Facture (HT)]]+ROW()/100000","v":1.9769999999999999E-2},{"$f":"_xlfn.CONCAT(Personne[[#This Row],[Adresse]],\" \",Personne[[#This Row],[CodePostal]],\" \",Personne[[#This Row],[Ville]],\" \",Personne[[#This Row],[CodePays]])","v":"   "}]
[null,null,null,null,null,null,null,null,null,null,null,null,null,null,null,null,null,null,null,null,null,null,null,null,null,null,null,null,null,null,{"$f":"IF(PARAMETRES!$B$3=\"SANS\",SUMIFS(Honoraire[TotalHonoraireHT],Honoraire[ClientId],Personne[[#This Row],[PersonneId]]),SUMIFS(Honoraire[TotalHT],Honoraire[ClientId],Personne[[#This Row],[PersonneId]]))","v":0},{"$f":"Personne[[#This Row],[Facture (HT)]]+ROW()/100000","v":1.9800000000000002E-2},{"$f":"_xlfn.CONCAT(Personne[[#This Row],[Adresse]],\" \",Personne[[#This Row],[CodePostal]],\" \",Personne[[#This Row],[Ville]],\" \",Personne[[#This Row],[CodePays]])","v":"   "}]
[null,null,null,null,null,null,null,null,null,null,null,null,null,null,null,null,null,null,null,null,null,null,null,null,null,null,null,null,null,null,{"$f":"IF(PARAMETRES!$B$3=\"SANS\",SUMIFS(Honoraire[TotalHonoraireHT],Honoraire[ClientId],Personne[[#This Row],[PersonneId]]),SUMIFS(Honoraire[TotalHT],Honoraire[ClientId],Personne[[#This Row],[PersonneId]]))","v":0},{"$f":"Personne[[#This Row],[Facture (HT)]]+ROW()/100000","v":1.9810000000000001E-2},{"$f":"_xlfn.CONCAT(Personne[[#This Row],[Adresse]],\" \",Personne[[#This Row],[CodePostal]],\" \",Personne[[#This Row],[Ville]],\" \",Personne[[#This Row],[CodePays]])","v":"   "}]
[null,null,null,null,null,null,null,null,null,null,null,null,null,null,null,null,null,null,null,null,null,null,null,null,null,null,null,null,null,null,{"$f":"IF(PARAMETRES!$B$3=\"SANS\",SUMIFS(Honoraire[TotalHonoraireHT],Honoraire[ClientId],Personne[[#This Row],[PersonneId]]),SUMIFS(Honoraire[TotalHT],Honoraire[ClientId],Personne[[#This Row],[PersonneId]]))","v":0},{"$f":"Personne[[#This Row],[Facture (HT)]]+ROW()/100000","v":1.984E-2},{"$f":"_xlfn.CONCAT(Personne[[#This Row],[Adresse]],\" \",Personne[[#This Row],[CodePostal]],\" \",Personne[[#This Row],[Ville]],\" \",Personne[[#This Row],[CodePays]])","v":"   "}]
[null,null,null,null,null,null,null,null,null,null,null,null,null,null,null,null,null,null,null,null,null,null,null,null,null,null,null,null,null,null,{"$f":"IF(PARAMETRES!$B$3=\"SANS\",SUMIFS(Honoraire[TotalHonoraireHT],Honoraire[ClientId],Personne[[#This Row],[PersonneId]]),SUMIFS(Honoraire[TotalHT],Honoraire[ClientId],Personne[[#This Row],[PersonneId]]))","v":0},{"$f":"Personne[[#This Row],[Facture (HT)]]+ROW()/100000","v":1.9869999999999999E-2},{"$f":"_xlfn.CONCAT(Personne[[#This Row],[Adresse]],\" \",Personne[[#This Row],[CodePostal]],\" \",Personne[[#This Row],[Ville]],\" \",Personne[[#This Row],[CodePays]])","v":"   "}]
[null,null,null,null,null,null,null,null,null,null,null,null,null,null,null,null,null,null,null,null,null,null,null,null,null,null,null,null,null,null,{"$f":"IF(PARAMETRES!$B$3=\"SANS\",SUMIFS(Honoraire[TotalHonoraireHT],Honoraire[ClientId],Personne[[#This Row],[PersonneId]]),SUMIFS(Honoraire[TotalHT],Honoraire[ClientId],Personne[[#This Row],[PersonneId]]))","v":0},{"$f":"Personne[[#This Row],[Facture (HT)]]+ROW()/100000","v":1.9890000000000001E-2},{"$f":"_xlfn.CONCAT(Personne[[#This Row],[Adresse]],\" \",Personne[[#This Row],[CodePostal]],\" \",Personne[[#This Row],[Ville]],\" \",Personne[[#This Row],[CodePays]])","v":"   "}]
[null,null,null,null,null,null,null,null,null,null,null,null,null,null,null,null,null,null,null,null,null,null,null,null,null,null,null,null,null,null,{"$f":"IF(PARAMETRES!$B$3=\"SANS\",SUMIFS(Honoraire[TotalHonoraireHT],Honoraire[ClientId],Personne[[#This Row],[PersonneId]]),SUMIFS(Honoraire[TotalHT],Honoraire[ClientId],Personne[[#This Row],[PersonneId]]))","v":0},{"$f":"Personne[[#This Row],[Facture (HT)]]+ROW()/100000","v":1.9900000000000001E-2},{"$f":"_xlfn.CONCAT(Personne[[#This Row],[Adresse]],\" \",Personne[[#This Row],[CodePostal]],\" \",Personne[[#This Row],[Ville]],\" \",Personne[[#This Row],[CodePays]])","v":"   "}]
[null,null,null,null,null,null,null,null,null,null,null,null,null,null,null,null,null,null,null,null,null,null,null,null,null,null,null,null,null,null,{"$f":"IF(PARAMETRES!$B$3=\"SANS\",SUMIFS(Honoraire[TotalHonoraireHT],Honoraire[ClientId],Personne[[#This Row],[PersonneId]]),SUMIFS(Honoraire[TotalHT],Honoraire[ClientId],Personne[[#This Row],[PersonneId]]))","v":0},{"$f":"Personne[[#This Row],[Facture (HT)]]+ROW()/100000","v":1.993E-2},{"$f":"_xlfn.CONCAT(Personne[[#This Row],[Adresse]],\" \",Personne[[#This Row],[CodePostal]],\" \",Personne[[#This Row],[Ville]],\" \",Personne[[#This Row],[CodePays]])","v":"   "}]
[null,null,null,null,null,null,null,null,null,null,null,null,null,null,null,null,null,null,null,null,null,null,null,null,null,null,null,null,null,null,{"$f":"IF(PARAMETRES!$B$3=\"SANS\",SUMIFS(Honoraire[TotalHonoraireHT],Honoraire[ClientId],Personne[[#This Row],[PersonneId]]),SUMIFS(Honoraire[TotalHT],Honoraire[ClientId],Personne[[#This Row],[PersonneId]]))","v":0},{"$f":"Personne[[#This Row],[Facture (HT)]]+ROW()/100000","v":1.9939999999999999E-2},{"$f":"_xlfn.CONCAT(Personne[[#This Row],[Adresse]],\" \",Personne[[#This Row],[CodePostal]],\" \",Personne[[#This Row],[Ville]],\" \",Personne[[#This Row],[CodePays]])","v":"   "}]
[null,null,null,null,null,null,null,null,null,null,null,null,null,null,null,null,null,null,null,null,null,null,null,null,null,null,null,null,null,null,{"$f":"IF(PARAMETRES!$B$3=\"SANS\",SUMIFS(Honoraire[TotalHonoraireHT],Honoraire[ClientId],Personne[[#This Row],[PersonneId]]),SUMIFS(Honoraire[TotalHT],Honoraire[ClientId],Personne[[#This Row],[PersonneId]]))","v":0},{"$f":"Personne[[#This Row],[Facture (HT)]]+ROW()/100000","v":1.9970000000000002E-2},{"$f":"_xlfn.CONCAT(Personne[[#This Row],[Adresse]],\" \",Personne[[#This Row],[CodePostal]],\" \",Personne[[#This Row],[Ville]],\" \",Personne[[#This Row],[CodePays]])","v":"   "}]
[null,null,null,null,null,null,null,null,null,null,null,null,null,null,null,null,null,null,null,null,null,null,null,null,null,null,null,null,null,null,{"$f":"IF(PARAMETRES!$B$3=\"SANS\",SUMIFS(Honoraire[TotalHonoraireHT],Honoraire[ClientId],Personne[[#This Row],[PersonneId]]),SUMIFS(Honoraire[TotalHT],Honoraire[ClientId],Personne[[#This Row],[PersonneId]]))","v":0},{"$f":"Personne[[#This Row],[Facture (HT)]]+ROW()/100000","v":1.9990000000000001E-2},{"$f":"_xlfn.CONCAT(Personne[[#This Row],[Adresse]],\" \",Personne[[#This Row],[CodePostal]],\" \",Personne[[#This Row],[Ville]],\" \",Personne[[#This Row],[CodePays]])","v":"   "}]
[null,null,null,null,null,null,null,null,null,null,null,null,null,null,null,null,null,null,null,null,null,null,null,null,null,null,null,null,null,null,{"$f":"IF(PARAMETRES!$B$3=\"SANS\",SUMIFS(Honoraire[TotalHonoraireHT],Honoraire[ClientId],Personne[[#This Row],[PersonneId]]),SUMIFS(Honoraire[TotalHT],Honoraire[ClientId],Personne[[#This Row],[PersonneId]]))","v":0},{"$f":"Personne[[#This Row],[Facture (HT)]]+ROW()/100000","v":2.002E-2},{"$f":"_xlfn.CONCAT(Personne[[#This Row],[Adresse]],\" \",Personne[[#This Row],[CodePostal]],\" \",Personne[[#This Row],[Ville]],\" \",Personne[[#This Row],[CodePays]])","v":"   "}]
[null,null,null,null,null,null,null,null,null,null,null,null,null,null,null,null,null,null,null,null,null,null,null,null,null,null,null,null,null,null,{"$f":"IF(PARAMETRES!$B$3=\"SANS\",SUMIFS(Honoraire[TotalHonoraireHT],Honoraire[ClientId],Personne[[#This Row],[PersonneId]]),SUMIFS(Honoraire[TotalHT],Honoraire[ClientId],Personne[[#This Row],[PersonneId]]))","v":0},{"$f":"Personne[[#This Row],[Facture (HT)]]+ROW()/100000","v":2.0029999999999999E-2},{"$f":"_xlfn.CONCAT(Personne[[#This Row],[Adresse]],\" \",Personne[[#This Row],[CodePostal]],\" \",Personne[[#This Row],[Ville]],\" \",Personne[[#This Row],[CodePays]])","v":"   "}]
[null,null,null,null,null,null,null,null,null,null,null,null,null,null,null,null,null,null,null,null,null,null,null,null,null,null,null,null,null,null,{"$f":"IF(PARAMETRES!$B$3=\"SANS\",SUMIFS(Honoraire[TotalHonoraireHT],Honoraire[ClientId],Personne[[#This Row],[PersonneId]]),SUMIFS(Honoraire[TotalHT],Honoraire[ClientId],Personne[[#This Row],[PersonneId]]))","v":0},{"$f":"Personne[[#This Row],[Facture (HT)]]+ROW()/100000","v":2.0060000000000001E-2},{"$f":"_xlfn.CONCAT(Personne[[#This Row],[Adresse]],\" \",Personne[[#This Row],[CodePostal]],\" \",Personne[[#This Row],[Ville]],\" \",Personne[[#This Row],[CodePays]])","v":"   "}]
[null,null,null,null,null,null,null,null,null,null,null,null,null,null,null,null,null,null,null,null,null,null,null,null,null,null,null,null,null,null,{"$f":"IF(PARAMETRES!$B$3=\"SANS\",SUMIFS(Honoraire[TotalHonoraireHT],Honoraire[ClientId],Personne[[#This Row],[PersonneId]]),SUMIFS(Honoraire[TotalHT],Honoraire[ClientId],Personne[[#This Row],[PersonneId]]))","v":0},{"$f":"Personne[[#This Row],[Facture (HT)]]+ROW()/100000","v":2.0070000000000001E-2},{"$f":"_xlfn.CONCAT(Personne[[#This Row],[Adresse]],\" \",Personne[[#This Row],[CodePostal]],\" \",Personne[[#This Row],[Ville]],\" \",Personne[[#This Row],[CodePays]])","v":"   "}]
[null,null,null,null,null,null,null,null,null,null,null,null,null,null,null,null,null,null,null,null,null,null,null,null,null,null,null,null,null,null,{"$f":"IF(PARAMETRES!$B$3=\"SANS\",SUMIFS(Honoraire[TotalHonoraireHT],Honoraire[ClientId],Personne[[#This Row],[PersonneId]]),SUMIFS(Honoraire[TotalHT],Honoraire[ClientId],Personne[[#This Row],[PersonneId]]))","v":0},{"$f":"Personne[[#This Row],[Facture (HT)]]+ROW()/100000","v":2.0109999999999999E-2},{"$f":"_xlfn.CONCAT(Personne[[#This Row],[Adresse]],\" \",Personne[[#This Row],[CodePostal]],\" \",Personne[[#This Row],[Ville]],\" \",Personne[[#This Row],[CodePays]])","v":"   "}]
[null,null,null,null,null,null,null,null,null,null,null,null,null,null,null,null,null,null,null,null,null,null,null,null,null,null,null,null,null,null,{"$f":"IF(PARAMETRES!$B$3=\"SANS\",SUMIFS(Honoraire[TotalHonoraireHT],Honoraire[ClientId],Personne[[#This Row],[PersonneId]]),SUMIFS(Honoraire[TotalHT],Honoraire[ClientId],Personne[[#This Row],[PersonneId]]))","v":0},{"$f":"Personne[[#This Row],[Facture (HT)]]+ROW()/100000","v":2.0119999999999999E-2},{"$f":"_xlfn.CONCAT(Personne[[#This Row],[Adresse]],\" \",Personne[[#This Row],[CodePostal]],\" \",Personne[[#This Row],[Ville]],\" \",Personne[[#This Row],[CodePays]])","v":"   "}]
[null,null,null,null,null,null,null,null,null,null,null,null,null,null,null,null,null,null,null,null,null,null,null,null,null,null,null,null,null,null,{"$f":"IF(PARAMETRES!$B$3=\"SANS\",SUMIFS(Honoraire[TotalHonoraireHT],Honoraire[ClientId],Personne[[#This Row],[PersonneId]]),SUMIFS(Honoraire[TotalHT],Honoraire[ClientId],Personne[[#This Row],[PersonneId]]))","v":0},{"$f":"Personne[[#This Row],[Facture (HT)]]+ROW()/100000","v":2.0150000000000001E-2},{"$f":"_xlfn.CONCAT(Personne[[#This Row],[Adresse]],\" \",Personne[[#This Row],[CodePostal]],\" \",Personne[[#This Row],[Ville]],\" \",Personne[[#This Row],[CodePays]])","v":"   "}]
[null,null,null,null,null,null,null,null,null,null,null,null,null,null,null,null,null,null,null,null,null,null,null,null,null,null,null,null,null,null,{"$f":"IF(PARAMETRES!$B$3=\"SANS\",SUMIFS(Honoraire[TotalHonoraireHT],Honoraire[ClientId],Personne[[#This Row],[PersonneId]]),SUMIFS(Honoraire[TotalHT],Honoraire[ClientId],Personne[[#This Row],[PersonneId]]))","v":0},{"$f":"Personne[[#This Row],[Facture (HT)]]+ROW()/100000","v":2.0160000000000001E-2},{"$f":"_xlfn.CONCAT(Personne[[#This Row],[Adresse]],\" \",Personne[[#This Row],[CodePostal]],\" \",Personne[[#This Row],[Ville]],\" \",Personne[[#This Row],[CodePays]])","v":"   "}]
[null,null,null,null,null,null,null,null,null,null,null,null,null,null,null,null,null,null,null,null,null,null,null,null,null,null,null,null,null,null,{"$f":"IF(PARAMETRES!$B$3=\"SANS\",SUMIFS(Honoraire[TotalHonoraireHT],Honoraire[ClientId],Personne[[#This Row],[PersonneId]]),SUMIFS(Honoraire[TotalHT],Honoraire[ClientId],Personne[[#This Row],[PersonneId]]))","v":0},{"$f":"Personne[[#This Row],[Facture (HT)]]+ROW()/100000","v":2.019E-2},{"$f":"_xlfn.CONCAT(Personne[[#This Row],[Adresse]],\" \",Personne[[#This Row],[CodePostal]],\" \",Personne[[#This Row],[Ville]],\" \",Personne[[#This Row],[CodePays]])","v":"   "}]
[null,null,null,null,null,null,null,null,null,null,null,null,null,null,null,null,null,null,null,null,null,null,null,null,null,null,null,null,null,null,{"$f":"IF(PARAMETRES!$B$3=\"SANS\",SUMIFS(Honoraire[TotalHonoraireHT],Honoraire[ClientId],Personne[[#This Row],[PersonneId]]),SUMIFS(Honoraire[TotalHT],Honoraire[ClientId],Personne[[#This Row],[PersonneId]]))","v":0},{"$f":"Personne[[#This Row],[Facture (HT)]]+ROW()/100000","v":2.0219999999999998E-2},{"$f":"_xlfn.CONCAT(Personne[[#This Row],[Adresse]],\" \",Personne[[#This Row],[CodePostal]],\" \",Personne[[#This Row],[Ville]],\" \",Personne[[#This Row],[CodePays]])","v":"   "}]
[null,null,null,null,null,null,null,null,null,null,null,null,null,null,null,null,null,null,null,null,null,null,null,null,null,null,null,null,null,null,{"$f":"IF(PARAMETRES!$B$3=\"SANS\",SUMIFS(Honoraire[TotalHonoraireHT],Honoraire[ClientId],Personne[[#This Row],[PersonneId]]),SUMIFS(Honoraire[TotalHT],Honoraire[ClientId],Personne[[#This Row],[PersonneId]]))","v":0},{"$f":"Personne[[#This Row],[Facture (HT)]]+ROW()/100000","v":2.0240000000000001E-2},{"$f":"_xlfn.CONCAT(Personne[[#This Row],[Adresse]],\" \",Personne[[#This Row],[CodePostal]],\" \",Personne[[#This Row],[Ville]],\" \",Personne[[#This Row],[CodePays]])","v":"   "}]
[null,null,null,null,null,null,null,null,null,null,null,null,null,null,null,null,null,null,null,null,null,null,null,null,null,null,null,null,null,null,{"$f":"IF(PARAMETRES!$B$3=\"SANS\",SUMIFS(Honoraire[TotalHonoraireHT],Honoraire[ClientId],Personne[[#This Row],[PersonneId]]),SUMIFS(Honoraire[TotalHT],Honoraire[ClientId],Personne[[#This Row],[PersonneId]]))","v":0},{"$f":"Personne[[#This Row],[Facture (HT)]]+ROW()/100000","v":2.0250000000000001E-2},{"$f":"_xlfn.CONCAT(Personne[[#This Row],[Adresse]],\" \",Personne[[#This Row],[CodePostal]],\" \",Personne[[#This Row],[Ville]],\" \",Personne[[#This Row],[CodePays]])","v":"   "}]
[null,null,null,null,null,null,null,null,null,null,null,null,null,null,null,null,null,null,null,null,null,null,null,null,null,null,null,null,null,null,{"$f":"IF(PARAMETRES!$B$3=\"SANS\",SUMIFS(Honoraire[TotalHonoraireHT],Honoraire[ClientId],Personne[[#This Row],[PersonneId]]),SUMIFS(Honoraire[TotalHT],Honoraire[ClientId],Personne[[#This Row],[PersonneId]]))","v":0},{"$f":"Personne[[#This Row],[Facture (HT)]]+ROW()/100000","v":2.0279999999999999E-2},{"$f":"_xlfn.CONCAT(Personne[[#This Row],[Adresse]],\" \",Personne[[#This Row],[CodePostal]],\" \",Personne[[#This Row],[Ville]],\" \",Personne[[#This Row],[CodePays]])","v":"   "}]
[null,null,null,null,null,null,null,null,null,null,null,null,null,null,null,null,null,null,null,null,null,null,null,null,null,null,null,null,null,null,{"$f":"IF(PARAMETRES!$B$3=\"SANS\",SUMIFS(Honoraire[TotalHonoraireHT],Honoraire[ClientId],Personne[[#This Row],[PersonneId]]),SUMIFS(Honoraire[TotalHT],Honoraire[ClientId],Personne[[#This Row],[PersonneId]]))","v":0},{"$f":"Personne[[#This Row],[Facture (HT)]]+ROW()/100000","v":2.0289999999999999E-2},{"$f":"_xlfn.CONCAT(Personne[[#This Row],[Adresse]],\" \",Personne[[#This Row],[CodePostal]],\" \",Personne[[#This Row],[Ville]],\" \",Personne[[#This Row],[CodePays]])","v":"   "}]
[null,null,null,null,null,null,null,null,null,null,null,null,null,null,null,null,null,null,null,null,null,null,null,null,null,null,null,null,null,null,{"$f":"IF(PARAMETRES!$B$3=\"SANS\",SUMIFS(Honoraire[TotalHonoraireHT],Honoraire[ClientId],Personne[[#This Row],[PersonneId]]),SUMIFS(Honoraire[TotalHT],Honoraire[ClientId],Personne[[#This Row],[PersonneId]]))","v":0},{"$f":"Personne[[#This Row],[Facture (HT)]]+ROW()/100000","v":2.0320000000000001E-2},{"$f":"_xlfn.CONCAT(Personne[[#This Row],[Adresse]],\" \",Personne[[#This Row],[CodePostal]],\" \",Personne[[#This Row],[Ville]],\" \",Personne[[#This Row],[CodePays]])","v":"   "}]
[null,null,null,null,null,null,null,null,null,null,null,null,null,null,null,null,null,null,null,null,null,null,null,null,null,null,null,null,null,null,{"$f":"IF(PARAMETRES!$B$3=\"SANS\",SUMIFS(Honoraire[TotalHonoraireHT],Honoraire[ClientId],Personne[[#This Row],[PersonneId]]),SUMIFS(Honoraire[TotalHT],Honoraire[ClientId],Personne[[#This Row],[PersonneId]]))","v":0},{"$f":"Personne[[#This Row],[Facture (HT)]]+ROW()/100000","v":2.034E-2},{"$f":"_xlfn.CONCAT(Personne[[#This Row],[Adresse]],\" \",Personne[[#This Row],[CodePostal]],\" \",Personne[[#This Row],[Ville]],\" \",Personne[[#This Row],[CodePays]])","v":"   "}]
[null,null,null,null,null,null,null,null,null,null,null,null,null,null,null,null,null,null,null,null,null,null,null,null,null,null,null,null,null,null,{"$f":"IF(PARAMETRES!$B$3=\"SANS\",SUMIFS(Honoraire[TotalHonoraireHT],Honoraire[ClientId],Personne[[#This Row],[PersonneId]]),SUMIFS(Honoraire[TotalHT],Honoraire[ClientId],Personne[[#This Row],[PersonneId]]))","v":0},{"$f":"Personne[[#This Row],[Facture (HT)]]+ROW()/100000","v":2.0369999999999999E-2},{"$f":"_xlfn.CONCAT(Personne[[#This Row],[Adresse]],\" \",Personne[[#This Row],[CodePostal]],\" \",Personne[[#This Row],[Ville]],\" \",Personne[[#This Row],[CodePays]])","v":"   "}]
[null,null,null,null,null,null,null,null,null,null,null,null,null,null,null,null,null,null,null,null,null,null,null,null,null,null,null,null,null,null,{"$f":"IF(PARAMETRES!$B$3=\"SANS\",SUMIFS(Honoraire[TotalHonoraireHT],Honoraire[ClientId],Personne[[#This Row],[PersonneId]]),SUMIFS(Honoraire[TotalHT],Honoraire[ClientId],Personne[[#This Row],[PersonneId]]))","v":0},{"$f":"Personne[[#This Row],[Facture (HT)]]+ROW()/100000","v":2.0379999999999999E-2},{"$f":"_xlfn.CONCAT(Personne[[#This Row],[Adresse]],\" \",Personne[[#This Row],[CodePostal]],\" \",Personne[[#This Row],[Ville]],\" \",Personne[[#This Row],[CodePays]])","v":"   "}]
[null,null,null,null,null,null,null,null,null,null,null,null,null,null,null,null,null,null,null,null,null,null,null,null,null,null,null,null,null,null,{"$f":"IF(PARAMETRES!$B$3=\"SANS\",SUMIFS(Honoraire[TotalHonoraireHT],Honoraire[ClientId],Personne[[#This Row],[PersonneId]]),SUMIFS(Honoraire[TotalHT],Honoraire[ClientId],Personne[[#This Row],[PersonneId]]))","v":0},{"$f":"Personne[[#This Row],[Facture (HT)]]+ROW()/100000","v":2.0410000000000001E-2},{"$f":"_xlfn.CONCAT(Personne[[#This Row],[Adresse]],\" \",Personne[[#This Row],[CodePostal]],\" \",Personne[[#This Row],[Ville]],\" \",Personne[[#This Row],[CodePays]])","v":"   "}]
[null,null,null,null,null,null,null,null,null,null,null,null,null,null,null,null,null,null,null,null,null,null,null,null,null,null,null,null,null,null,{"$f":"IF(PARAMETRES!$B$3=\"SANS\",SUMIFS(Honoraire[TotalHonoraireHT],Honoraire[ClientId],Personne[[#This Row],[PersonneId]]),SUMIFS(Honoraire[TotalHT],Honoraire[ClientId],Personne[[#This Row],[PersonneId]]))","v":0},{"$f":"Personne[[#This Row],[Facture (HT)]]+ROW()/100000","v":2.0420000000000001E-2},{"$f":"_xlfn.CONCAT(Personne[[#This Row],[Adresse]],\" \",Personne[[#This Row],[CodePostal]],\" \",Personne[[#This Row],[Ville]],\" \",Personne[[#This Row],[CodePays]])","v":"   "}]
[null,null,null,null,null,null,null,null,null,null,null,null,null,null,null,null,null,null,null,null,null,null,null,null,null,null,null,null,null,null,{"$f":"IF(PARAMETRES!$B$3=\"SANS\",SUMIFS(Honoraire[TotalHonoraireHT],Honoraire[ClientId],Personne[[#This Row],[PersonneId]]),SUMIFS(Honoraire[TotalHT],Honoraire[ClientId],Personne[[#This Row],[PersonneId]]))","v":0},{"$f":"Personne[[#This Row],[Facture (HT)]]+ROW()/100000","v":2.044E-2},{"$f":"_xlfn.CONCAT(Personne[[#This Row],[Adresse]],\" \",Personne[[#This Row],[CodePostal]],\" \",Personne[[#This Row],[Ville]],\" \",Personne[[#This Row],[CodePays]])","v":"   "}]
[null,null,null,null,null,null,null,null,null,null,null,null,null,null,null,null,null,null,null,null,null,null,null,null,null,null,null,null,null,null,{"$f":"IF(PARAMETRES!$B$3=\"SANS\",SUMIFS(Honoraire[TotalHonoraireHT],Honoraire[ClientId],Personne[[#This Row],[PersonneId]]),SUMIFS(Honoraire[TotalHT],Honoraire[ClientId],Personne[[#This Row],[PersonneId]]))","v":0},{"$f":"Personne[[#This Row],[Facture (HT)]]+ROW()/100000","v":2.0469999999999999E-2},{"$f":"_xlfn.CONCAT(Personne[[#This Row],[Adresse]],\" \",Personne[[#This Row],[CodePostal]],\" \",Personne[[#This Row],[Ville]],\" \",Personne[[#This Row],[CodePays]])","v":"   "}]
[null,null,null,null,null,null,null,null,null,null,null,null,null,null,null,null,null,null,null,null,null,null,null,null,null,null,null,null,null,null,{"$f":"IF(PARAMETRES!$B$3=\"SANS\",SUMIFS(Honoraire[TotalHonoraireHT],Honoraire[ClientId],Personne[[#This Row],[PersonneId]]),SUMIFS(Honoraire[TotalHT],Honoraire[ClientId],Personne[[#This Row],[PersonneId]]))","v":0},{"$f":"Personne[[#This Row],[Facture (HT)]]+ROW()/100000","v":2.0500000000000001E-2},{"$f":"_xlfn.CONCAT(Personne[[#This Row],[Adresse]],\" \",Personne[[#This Row],[CodePostal]],\" \",Personne[[#This Row],[Ville]],\" \",Personne[[#This Row],[CodePays]])","v":"   "}]
[null,null,null,null,null,null,null,null,null,null,null,null,null,null,null,null,null,null,null,null,null,null,null,null,null,null,null,null,null,null,{"$f":"IF(PARAMETRES!$B$3=\"SANS\",SUMIFS(Honoraire[TotalHonoraireHT],Honoraire[ClientId],Personne[[#This Row],[PersonneId]]),SUMIFS(Honoraire[TotalHT],Honoraire[ClientId],Personne[[#This Row],[PersonneId]]))","v":0},{"$f":"Personne[[#This Row],[Facture (HT)]]+ROW()/100000","v":2.051E-2},{"$f":"_xlfn.CONCAT(Personne[[#This Row],[Adresse]],\" \",Personne[[#This Row],[CodePostal]],\" \",Personne[[#This Row],[Ville]],\" \",Personne[[#This Row],[CodePays]])","v":"   "}]
[null,null,null,null,null,null,null,null,null,null,null,null,null,null,null,null,null,null,null,null,null,null,null,null,null,null,null,null,null,null,{"$f":"IF(PARAMETRES!$B$3=\"SANS\",SUMIFS(Honoraire[TotalHonoraireHT],Honoraire[ClientId],Personne[[#This Row],[PersonneId]]),SUMIFS(Honoraire[TotalHT],Honoraire[ClientId],Personne[[#This Row],[PersonneId]]))","v":0},{"$f":"Personne[[#This Row],[Facture (HT)]]+ROW()/100000","v":2.0539999999999999E-2},{"$f":"_xlfn.CONCAT(Personne[[#This Row],[Adresse]],\" \",Personne[[#This Row],[CodePostal]],\" \",Personne[[#This Row],[Ville]],\" \",Personne[[#This Row],[CodePays]])","v":"   "}]
[null,null,null,null,null,null,null,null,null,null,null,null,null,null,null,null,null,null,null,null,null,null,null,null,null,null,null,null,null,null,{"$f":"IF(PARAMETRES!$B$3=\"SANS\",SUMIFS(Honoraire[TotalHonoraireHT],Honoraire[ClientId],Personne[[#This Row],[PersonneId]]),SUMIFS(Honoraire[TotalHT],Honoraire[ClientId],Personne[[#This Row],[PersonneId]]))","v":0},{"$f":"Personne[[#This Row],[Facture (HT)]]+ROW()/100000","v":2.0570000000000001E-2},{"$f":"_xlfn.CONCAT(Personne[[#This Row],[Adresse]],\" \",Personne[[#This Row],[CodePostal]],\" \",Personne[[#This Row],[Ville]],\" \",Personne[[#This Row],[CodePays]])","v":"   "}]
[null,null,null,null,null,null,null,null,null,null,null,null,null,null,null,null,null,null,null,null,null,null,null,null,null,null,null,null,null,null,{"$f":"IF(PARAMETRES!$B$3=\"SANS\",SUMIFS(Honoraire[TotalHonoraireHT],Honoraire[ClientId],Personne[[#This Row],[PersonneId]]),SUMIFS(Honoraire[TotalHT],Honoraire[ClientId],Personne[[#This Row],[PersonneId]]))","v":0},{"$f":"Personne[[#This Row],[Facture (HT)]]+ROW()/100000","v":2.0590000000000001E-2},{"$f":"_xlfn.CONCAT(Personne[[#This Row],[Adresse]],\" \",Personne[[#This Row],[CodePostal]],\" \",Personne[[#This Row],[Ville]],\" \",Personne[[#This Row],[CodePays]])","v":"   "}]
[null,null,null,null,null,null,null,null,null,null,null,null,null,null,null,null,null,null,null,null,null,null,null,null,null,null,null,null,null,null,{"$f":"IF(PARAMETRES!$B$3=\"SANS\",SUMIFS(Honoraire[TotalHonoraireHT],Honoraire[ClientId],Personne[[#This Row],[PersonneId]]),SUMIFS(Honoraire[TotalHT],Honoraire[ClientId],Personne[[#This Row],[PersonneId]]))","v":0},{"$f":"Personne[[#This Row],[Facture (HT)]]+ROW()/100000","v":2.06E-2},{"$f":"_xlfn.CONCAT(Personne[[#This Row],[Adresse]],\" \",Personne[[#This Row],[CodePostal]],\" \",Personne[[#This Row],[Ville]],\" \",Personne[[#This Row],[CodePays]])","v":"   "}]
[null,null,null,null,null,null,null,null,null,null,null,null,null,null,null,null,null,null,null,null,null,null,null,null,null,null,null,null,null,null,{"$f":"IF(PARAMETRES!$B$3=\"SANS\",SUMIFS(Honoraire[TotalHonoraireHT],Honoraire[ClientId],Personne[[#This Row],[PersonneId]]),SUMIFS(Honoraire[TotalHT],Honoraire[ClientId],Personne[[#This Row],[PersonneId]]))","v":0},{"$f":"Personne[[#This Row],[Facture (HT)]]+ROW()/100000","v":2.0629999999999999E-2},{"$f":"_xlfn.CONCAT(Personne[[#This Row],[Adresse]],\" \",Personne[[#This Row],[CodePostal]],\" \",Personne[[#This Row],[Ville]],\" \",Personne[[#This Row],[CodePays]])","v":"   "}]
[null,null,null,null,null,null,null,null,null,null,null,null,null,null,null,null,null,null,null,null,null,null,null,null,null,null,null,null,null,null,{"$f":"IF(PARAMETRES!$B$3=\"SANS\",SUMIFS(Honoraire[TotalHonoraireHT],Honoraire[ClientId],Personne[[#This Row],[PersonneId]]),SUMIFS(Honoraire[TotalHT],Honoraire[ClientId],Personne[[#This Row],[PersonneId]]))","v":0},{"$f":"Personne[[#This Row],[Facture (HT)]]+ROW()/100000","v":2.0639999999999999E-2},{"$f":"_xlfn.CONCAT(Personne[[#This Row],[Adresse]],\" \",Personne[[#This Row],[CodePostal]],\" \",Personne[[#This Row],[Ville]],\" \",Personne[[#This Row],[CodePays]])","v":"   "}]
[null,null,null,null,null,null,null,null,null,null,null,null,null,null,null,null,null,null,null,null,null,null,null,null,null,null,null,null,null,null,{"$f":"IF(PARAMETRES!$B$3=\"SANS\",SUMIFS(Honoraire[TotalHonoraireHT],Honoraire[ClientId],Personne[[#This Row],[PersonneId]]),SUMIFS(Honoraire[TotalHT],Honoraire[ClientId],Personne[[#This Row],[PersonneId]]))","v":0},{"$f":"Personne[[#This Row],[Facture (HT)]]+ROW()/100000","v":2.0670000000000001E-2},{"$f":"_xlfn.CONCAT(Personne[[#This Row],[Adresse]],\" \",Personne[[#This Row],[CodePostal]],\" \",Personne[[#This Row],[Ville]],\" \",Personne[[#This Row],[CodePays]])","v":"   "}]
[null,null,null,null,null,null,null,null,null,null,null,null,null,null,null,null,null,null,null,null,null,null,null,null,null,null,null,null,null,null,{"$f":"IF(PARAMETRES!$B$3=\"SANS\",SUMIFS(Honoraire[TotalHonoraireHT],Honoraire[ClientId],Personne[[#This Row],[PersonneId]]),SUMIFS(Honoraire[TotalHT],Honoraire[ClientId],Personne[[#This Row],[PersonneId]]))","v":0},{"$f":"Personne[[#This Row],[Facture (HT)]]+ROW()/100000","v":2.069E-2},{"$f":"_xlfn.CONCAT(Personne[[#This Row],[Adresse]],\" \",Personne[[#This Row],[CodePostal]],\" \",Personne[[#This Row],[Ville]],\" \",Personne[[#This Row],[CodePays]])","v":"   "}]
[null,null,null,null,null,null,null,null,null,null,null,null,null,null,null,null,null,null,null,null,null,null,null,null,null,null,null,null,null,null,{"$f":"IF(PARAMETRES!$B$3=\"SANS\",SUMIFS(Honoraire[TotalHonoraireHT],Honoraire[ClientId],Personne[[#This Row],[PersonneId]]),SUMIFS(Honoraire[TotalHT],Honoraire[ClientId],Personne[[#This Row],[PersonneId]]))","v":0},{"$f":"Personne[[#This Row],[Facture (HT)]]+ROW()/100000","v":2.0719999999999999E-2},{"$f":"_xlfn.CONCAT(Personne[[#This Row],[Adresse]],\" \",Personne[[#This Row],[CodePostal]],\" \",Personne[[#This Row],[Ville]],\" \",Personne[[#This Row],[CodePays]])","v":"   "}]
[null,null,null,null,null,null,null,null,null,null,null,null,null,null,null,null,null,null,null,null,null,null,null,null,null,null,null,null,null,null,{"$f":"IF(PARAMETRES!$B$3=\"SANS\",SUMIFS(Honoraire[TotalHonoraireHT],Honoraire[ClientId],Personne[[#This Row],[PersonneId]]),SUMIFS(Honoraire[TotalHT],Honoraire[ClientId],Personne[[#This Row],[PersonneId]]))","v":0},{"$f":"Personne[[#This Row],[Facture (HT)]]+ROW()/100000","v":2.0729999999999998E-2},{"$f":"_xlfn.CONCAT(Personne[[#This Row],[Adresse]],\" \",Personne[[#This Row],[CodePostal]],\" \",Personne[[#This Row],[Ville]],\" \",Personne[[#This Row],[CodePays]])","v":"   "}]
[null,null,null,null,null,null,null,null,null,null,null,null,null,null,null,null,null,null,null,null,null,null,null,null,null,null,null,null,null,null,{"$f":"IF(PARAMETRES!$B$3=\"SANS\",SUMIFS(Honoraire[TotalHonoraireHT],Honoraire[ClientId],Personne[[#This Row],[PersonneId]]),SUMIFS(Honoraire[TotalHT],Honoraire[ClientId],Personne[[#This Row],[PersonneId]]))","v":0},{"$f":"Personne[[#This Row],[Facture (HT)]]+ROW()/100000","v":2.0760000000000001E-2},{"$f":"_xlfn.CONCAT(Personne[[#This Row],[Adresse]],\" \",Personne[[#This Row],[CodePostal]],\" \",Personne[[#This Row],[Ville]],\" \",Personne[[#This Row],[CodePays]])","v":"   "}]
[null,null,null,null,null,null,null,null,null,null,null,null,null,null,null,null,null,null,null,null,null,null,null,null,null,null,null,null,null,null,{"$f":"IF(PARAMETRES!$B$3=\"SANS\",SUMIFS(Honoraire[TotalHonoraireHT],Honoraire[ClientId],Personne[[#This Row],[PersonneId]]),SUMIFS(Honoraire[TotalHT],Honoraire[ClientId],Personne[[#This Row],[PersonneId]]))","v":0},{"$f":"Personne[[#This Row],[Facture (HT)]]+ROW()/100000","v":2.077E-2},{"$f":"_xlfn.CONCAT(Personne[[#This Row],[Adresse]],\" \",Personne[[#This Row],[CodePostal]],\" \",Personne[[#This Row],[Ville]],\" \",Personne[[#This Row],[CodePays]])","v":"   "}]
[null,null,null,null,null,null,null,null,null,null,null,null,null,null,null,null,null,null,null,null,null,null,null,null,null,null,null,null,null,null,{"$f":"IF(PARAMETRES!$B$3=\"SANS\",SUMIFS(Honoraire[TotalHonoraireHT],Honoraire[ClientId],Personne[[#This Row],[PersonneId]]),SUMIFS(Honoraire[TotalHT],Honoraire[ClientId],Personne[[#This Row],[PersonneId]]))","v":0},{"$f":"Personne[[#This Row],[Facture (HT)]]+ROW()/100000","v":2.0789999999999999E-2},{"$f":"_xlfn.CONCAT(Personne[[#This Row],[Adresse]],\" \",Personne[[#This Row],[CodePostal]],\" \",Personne[[#This Row],[Ville]],\" \",Personne[[#This Row],[CodePays]])","v":"   "}]
[null,null,null,null,null,null,null,null,null,null,null,null,null,null,null,null,null,null,null,null,null,null,null,null,null,null,null,null,null,null,{"$f":"IF(PARAMETRES!$B$3=\"SANS\",SUMIFS(Honoraire[TotalHonoraireHT],Honoraire[ClientId],Personne[[#This Row],[PersonneId]]),SUMIFS(Honoraire[TotalHT],Honoraire[ClientId],Personne[[#This Row],[PersonneId]]))","v":0},{"$f":"Personne[[#This Row],[Facture (HT)]]+ROW()/100000","v":2.0820000000000002E-2},{"$f":"_xlfn.CONCAT(Personne[[#This Row],[Adresse]],\" \",Personne[[#This Row],[CodePostal]],\" \",Personne[[#This Row],[Ville]],\" \",Personne[[#This Row],[CodePays]])","v":"   "}]
[null,null,null,null,null,null,null,null,null,null,null,null,null,null,null,null,null,null,null,null,null,null,null,null,null,null,null,null,null,null,{"$f":"IF(PARAMETRES!$B$3=\"SANS\",SUMIFS(Honoraire[TotalHonoraireHT],Honoraire[ClientId],Personne[[#This Row],[PersonneId]]),SUMIFS(Honoraire[TotalHT],Honoraire[ClientId],Personne[[#This Row],[PersonneId]]))","v":0},{"$f":"Personne[[#This Row],[Facture (HT)]]+ROW()/100000","v":2.085E-2},{"$f":"_xlfn.CONCAT(Personne[[#This Row],[Adresse]],\" \",Personne[[#This Row],[CodePostal]],\" \",Personne[[#This Row],[Ville]],\" \",Personne[[#This Row],[CodePays]])","v":"   "}]
[null,null,null,null,null,null,null,null,null,null,null,null,null,null,null,null,null,null,null,null,null,null,null,null,null,null,null,null,null,null,{"$f":"IF(PARAMETRES!$B$3=\"SANS\",SUMIFS(Honoraire[TotalHonoraireHT],Honoraire[ClientId],Personne[[#This Row],[PersonneId]]),SUMIFS(Honoraire[TotalHT],Honoraire[ClientId],Personne[[#This Row],[PersonneId]]))","v":0},{"$f":"Personne[[#This Row],[Facture (HT)]]+ROW()/100000","v":2.086E-2},{"$f":"_xlfn.CONCAT(Personne[[#This Row],[Adresse]],\" \",Personne[[#This Row],[CodePostal]],\" \",Personne[[#This Row],[Ville]],\" \",Personne[[#This Row],[CodePays]])","v":"   "}]
[null,null,null,null,null,null,null,null,null,null,null,null,null,null,null,null,null,null,null,null,null,null,null,null,null,null,null,null,null,null,{"$f":"IF(PARAMETRES!$B$3=\"SANS\",SUMIFS(Honoraire[TotalHonoraireHT],Honoraire[ClientId],Personne[[#This Row],[PersonneId]]),SUMIFS(Honoraire[TotalHT],Honoraire[ClientId],Personne[[#This Row],[PersonneId]]))","v":0},{"$f":"Personne[[#This Row],[Facture (HT)]]+ROW()/100000","v":2.0889999999999999E-2},{"$f":"_xlfn.CONCAT(Personne[[#This Row],[Adresse]],\" \",Personne[[#This Row],[CodePostal]],\" \",Personne[[#This Row],[Ville]],\" \",Personne[[#This Row],[CodePays]])","v":"   "}]
[null,null,null,null,null,null,null,null,null,null,null,null,null,null,null,null,null,null,null,null,null,null,null,null,null,null,null,null,null,null,{"$f":"IF(PARAMETRES!$B$3=\"SANS\",SUMIFS(Honoraire[TotalHonoraireHT],Honoraire[ClientId],Personne[[#This Row],[PersonneId]]),SUMIFS(Honoraire[TotalHT],Honoraire[ClientId],Personne[[#This Row],[PersonneId]]))","v":0},{"$f":"Personne[[#This Row],[Facture (HT)]]+ROW()/100000","v":2.0920000000000001E-2},{"$f":"_xlfn.CONCAT(Personne[[#This Row],[Adresse]],\" \",Personne[[#This Row],[CodePostal]],\" \",Personne[[#This Row],[Ville]],\" \",Personne[[#This Row],[CodePays]])","v":"   "}]
[null,null,null,null,null,null,null,null,null,null,null,null,null,null,null,null,null,null,null,null,null,null,null,null,null,null,null,null,null,null,{"$f":"IF(PARAMETRES!$B$3=\"SANS\",SUMIFS(Honoraire[TotalHonoraireHT],Honoraire[ClientId],Personne[[#This Row],[PersonneId]]),SUMIFS(Honoraire[TotalHT],Honoraire[ClientId],Personne[[#This Row],[PersonneId]]))","v":0},{"$f":"Personne[[#This Row],[Facture (HT)]]+ROW()/100000","v":2.094E-2},{"$f":"_xlfn.CONCAT(Personne[[#This Row],[Adresse]],\" \",Personne[[#This Row],[CodePostal]],\" \",Personne[[#This Row],[Ville]],\" \",Personne[[#This Row],[CodePays]])","v":"   "}]
[null,null,null,null,null,null,null,null,null,null,null,null,null,null,null,null,null,null,null,null,null,null,null,null,null,null,null,null,null,null,{"$f":"IF(PARAMETRES!$B$3=\"SANS\",SUMIFS(Honoraire[TotalHonoraireHT],Honoraire[ClientId],Personne[[#This Row],[PersonneId]]),SUMIFS(Honoraire[TotalHT],Honoraire[ClientId],Personne[[#This Row],[PersonneId]]))","v":0},{"$f":"Personne[[#This Row],[Facture (HT)]]+ROW()/100000","v":2.095E-2},{"$f":"_xlfn.CONCAT(Personne[[#This Row],[Adresse]],\" \",Personne[[#This Row],[CodePostal]],\" \",Personne[[#This Row],[Ville]],\" \",Personne[[#This Row],[CodePays]])","v":"   "}]
[null,null,null,null,null,null,null,null,null,null,null,null,null,null,null,null,null,null,null,null,null,null,null,null,null,null,null,null,null,null,{"$f":"IF(PARAMETRES!$B$3=\"SANS\",SUMIFS(Honoraire[TotalHonoraireHT],Honoraire[ClientId],Personne[[#This Row],[PersonneId]]),SUMIFS(Honoraire[TotalHT],Honoraire[ClientId],Personne[[#This Row],[PersonneId]]))","v":0},{"$f":"Personne[[#This Row],[Facture (HT)]]+ROW()/100000","v":2.0979999999999999E-2},{"$f":"_xlfn.CONCAT(Personne[[#This Row],[Adresse]],\" \",Personne[[#This Row],[CodePostal]],\" \",Personne[[#This Row],[Ville]],\" \",Personne[[#This Row],[CodePays]])","v":"   "}]
[null,null,null,null,null,null,null,null,null,null,null,null,null,null,null,null,null,null,null,null,null,null,null,null,null,null,null,null,null,null,{"$f":"IF(PARAMETRES!$B$3=\"SANS\",SUMIFS(Honoraire[TotalHonoraireHT],Honoraire[ClientId],Personne[[#This Row],[PersonneId]]),SUMIFS(Honoraire[TotalHT],Honoraire[ClientId],Personne[[#This Row],[PersonneId]]))","v":0},{"$f":"Personne[[#This Row],[Facture (HT)]]+ROW()/100000","v":2.0990000000000002E-2},{"$f":"_xlfn.CONCAT(Personne[[#This Row],[Adresse]],\" \",Personne[[#This Row],[CodePostal]],\" \",Personne[[#This Row],[Ville]],\" \",Personne[[#This Row],[CodePays]])","v":"   "}]
[null,null,null,null,null,null,null,null,null,null,null,null,null,null,null,null,null,null,null,null,null,null,null,null,null,null,null,null,null,null,{"$f":"IF(PARAMETRES!$B$3=\"SANS\",SUMIFS(Honoraire[TotalHonoraireHT],Honoraire[ClientId],Personne[[#This Row],[PersonneId]]),SUMIFS(Honoraire[TotalHT],Honoraire[ClientId],Personne[[#This Row],[PersonneId]]))","v":0},{"$f":"Personne[[#This Row],[Facture (HT)]]+ROW()/100000","v":2.102E-2},{"$f":"_xlfn.CONCAT(Personne[[#This Row],[Adresse]],\" \",Personne[[#This Row],[CodePostal]],\" \",Personne[[#This Row],[Ville]],\" \",Personne[[#This Row],[CodePays]])","v":"   "}]
[null,null,null,null,null,null,null,null,null,null,null,null,null,null,null,null,null,null,null,null,null,null,null,null,null,null,null,null,null,null,{"$f":"IF(PARAMETRES!$B$3=\"SANS\",SUMIFS(Honoraire[TotalHonoraireHT],Honoraire[ClientId],Personne[[#This Row],[PersonneId]]),SUMIFS(Honoraire[TotalHT],Honoraire[ClientId],Personne[[#This Row],[PersonneId]]))","v":0},{"$f":"Personne[[#This Row],[Facture (HT)]]+ROW()/100000","v":2.104E-2},{"$f":"_xlfn.CONCAT(Personne[[#This Row],[Adresse]],\" \",Personne[[#This Row],[CodePostal]],\" \",Personne[[#This Row],[Ville]],\" \",Personne[[#This Row],[CodePays]])","v":"   "}]
[null,null,null,null,null,null,null,null,null,null,null,null,null,null,null,null,null,null,null,null,null,null,null,null,null,null,null,null,null,null,{"$f":"IF(PARAMETRES!$B$3=\"SANS\",SUMIFS(Honoraire[TotalHonoraireHT],Honoraire[ClientId],Personne[[#This Row],[PersonneId]]),SUMIFS(Honoraire[TotalHT],Honoraire[ClientId],Personne[[#This Row],[PersonneId]]))","v":0},{"$f":"Personne[[#This Row],[Facture (HT)]]+ROW()/100000","v":2.1069999999999998E-2},{"$f":"_xlfn.CONCAT(Personne[[#This Row],[Adresse]],\" \",Personne[[#This Row],[CodePostal]],\" \",Personne[[#This Row],[Ville]],\" \",Personne[[#This Row],[CodePays]])","v":"   "}]
[null,null,null,null,null,null,null,null,null,null,null,null,null,null,null,null,null,null,null,null,null,null,null,null,null,null,null,null,null,null,{"$f":"IF(PARAMETRES!$B$3=\"SANS\",SUMIFS(Honoraire[TotalHonoraireHT],Honoraire[ClientId],Personne[[#This Row],[PersonneId]]),SUMIFS(Honoraire[TotalHT],Honoraire[ClientId],Personne[[#This Row],[PersonneId]]))","v":0},{"$f":"Personne[[#This Row],[Facture (HT)]]+ROW()/100000","v":2.1080000000000002E-2},{"$f":"_xlfn.CONCAT(Personne[[#This Row],[Adresse]],\" \",Personne[[#This Row],[CodePostal]],\" \",Personne[[#This Row],[Ville]],\" \",Personne[[#This Row],[CodePays]])","v":"   "}]
[null,null,null,null,null,null,null,null,null,null,null,null,null,null,null,null,null,null,null,null,null,null,null,null,null,null,null,null,null,null,{"$f":"IF(PARAMETRES!$B$3=\"SANS\",SUMIFS(Honoraire[TotalHonoraireHT],Honoraire[ClientId],Personne[[#This Row],[PersonneId]]),SUMIFS(Honoraire[TotalHT],Honoraire[ClientId],Personne[[#This Row],[PersonneId]]))","v":0},{"$f":"Personne[[#This Row],[Facture (HT)]]+ROW()/100000","v":2.111E-2},{"$f":"_xlfn.CONCAT(Personne[[#This Row],[Adresse]],\" \",Personne[[#This Row],[CodePostal]],\" \",Personne[[#This Row],[Ville]],\" \",Personne[[#This Row],[CodePays]])","v":"   "}]
[null,null,null,null,null,null,null,null,null,null,null,null,null,null,null,null,null,null,null,null,null,null,null,null,null,null,null,null,null,null,{"$f":"IF(PARAMETRES!$B$3=\"SANS\",SUMIFS(Honoraire[TotalHonoraireHT],Honoraire[ClientId],Personne[[#This Row],[PersonneId]]),SUMIFS(Honoraire[TotalHT],Honoraire[ClientId],Personne[[#This Row],[PersonneId]]))","v":0},{"$f":"Personne[[#This Row],[Facture (HT)]]+ROW()/100000","v":2.112E-2},{"$f":"_xlfn.CONCAT(Personne[[#This Row],[Adresse]],\" \",Personne[[#This Row],[CodePostal]],\" \",Personne[[#This Row],[Ville]],\" \",Personne[[#This Row],[CodePays]])","v":"   "}]
[null,null,null,null,null,null,null,null,null,null,null,null,null,null,null,null,null,null,null,null,null,null,null,null,null,null,null,null,null,null,{"$f":"IF(PARAMETRES!$B$3=\"SANS\",SUMIFS(Honoraire[TotalHonoraireHT],Honoraire[ClientId],Personne[[#This Row],[PersonneId]]),SUMIFS(Honoraire[TotalHT],Honoraire[ClientId],Personne[[#This Row],[PersonneId]]))","v":0},{"$f":"Personne[[#This Row],[Facture (HT)]]+ROW()/100000","v":2.1139999999999999E-2},{"$f":"_xlfn.CONCAT(Personne[[#This Row],[Adresse]],\" \",Personne[[#This Row],[CodePostal]],\" \",Personne[[#This Row],[Ville]],\" \",Personne[[#This Row],[CodePays]])","v":"   "}]
[null,null,null,null,null,null,null,null,null,null,null,null,null,null,null,null,null,null,null,null,null,null,null,null,null,null,null,null,null,null,{"$f":"IF(PARAMETRES!$B$3=\"SANS\",SUMIFS(Honoraire[TotalHonoraireHT],Honoraire[ClientId],Personne[[#This Row],[PersonneId]]),SUMIFS(Honoraire[TotalHT],Honoraire[ClientId],Personne[[#This Row],[PersonneId]]))","v":0},{"$f":"Personne[[#This Row],[Facture (HT)]]+ROW()/100000","v":2.1170000000000001E-2},{"$f":"_xlfn.CONCAT(Personne[[#This Row],[Adresse]],\" \",Personne[[#This Row],[CodePostal]],\" \",Personne[[#This Row],[Ville]],\" \",Personne[[#This Row],[CodePays]])","v":"   "}]
[null,null,null,null,null,null,null,null,null,null,null,null,null,null,null,null,null,null,null,null,null,null,null,null,null,null,null,null,null,null,{"$f":"IF(PARAMETRES!$B$3=\"SANS\",SUMIFS(Honoraire[TotalHonoraireHT],Honoraire[ClientId],Personne[[#This Row],[PersonneId]]),SUMIFS(Honoraire[TotalHT],Honoraire[ClientId],Personne[[#This Row],[PersonneId]]))","v":0},{"$f":"Personne[[#This Row],[Facture (HT)]]+ROW()/100000","v":2.12E-2},{"$f":"_xlfn.CONCAT(Personne[[#This Row],[Adresse]],\" \",Personne[[#This Row],[CodePostal]],\" \",Personne[[#This Row],[Ville]],\" \",Personne[[#This Row],[CodePays]])","v":"   "}]
[null,null,null,null,null,null,null,null,null,null,null,null,null,null,null,null,null,null,null,null,null,null,null,null,null,null,null,null,null,null,{"$f":"IF(PARAMETRES!$B$3=\"SANS\",SUMIFS(Honoraire[TotalHonoraireHT],Honoraire[ClientId],Personne[[#This Row],[PersonneId]]),SUMIFS(Honoraire[TotalHT],Honoraire[ClientId],Personne[[#This Row],[PersonneId]]))","v":0},{"$f":"Personne[[#This Row],[Facture (HT)]]+ROW()/100000","v":2.121E-2},{"$f":"_xlfn.CONCAT(Personne[[#This Row],[Adresse]],\" \",Personne[[#This Row],[CodePostal]],\" \",Personne[[#This Row],[Ville]],\" \",Personne[[#This Row],[CodePays]])","v":"   "}]
[null,null,null,null,null,null,null,null,null,null,null,null,null,null,null,null,null,null,null,null,null,null,null,null,null,null,null,null,null,null,{"$f":"IF(PARAMETRES!$B$3=\"SANS\",SUMIFS(Honoraire[TotalHonoraireHT],Honoraire[ClientId],Personne[[#This Row],[PersonneId]]),SUMIFS(Honoraire[TotalHT],Honoraire[ClientId],Personne[[#This Row],[PersonneId]]))","v":0},{"$f":"Personne[[#This Row],[Facture (HT)]]+ROW()/100000","v":2.1239999999999998E-2},{"$f":"_xlfn.CONCAT(Personne[[#This Row],[Adresse]],\" \",Personne[[#This Row],[CodePostal]],\" \",Personne[[#This Row],[Ville]],\" \",Personne[[#This Row],[CodePays]])","v":"   "}]
[null,null,null,null,null,null,null,null,null,null,null,null,null,null,null,null,null,null,null,null,null,null,null,null,null,null,null,null,null,null,{"$f":"IF(PARAMETRES!$B$3=\"SANS\",SUMIFS(Honoraire[TotalHonoraireHT],Honoraire[ClientId],Personne[[#This Row],[PersonneId]]),SUMIFS(Honoraire[TotalHT],Honoraire[ClientId],Personne[[#This Row],[PersonneId]]))","v":0},{"$f":"Personne[[#This Row],[Facture (HT)]]+ROW()/100000","v":2.1250000000000002E-2},{"$f":"_xlfn.CONCAT(Personne[[#This Row],[Adresse]],\" \",Personne[[#This Row],[CodePostal]],\" \",Personne[[#This Row],[Ville]],\" \",Personne[[#This Row],[CodePays]])","v":"   "}]
[null,null,null,null,null,null,null,null,null,null,null,null,null,null,null,null,null,null,null,null,null,null,null,null,null,null,null,null,null,null,{"$f":"IF(PARAMETRES!$B$3=\"SANS\",SUMIFS(Honoraire[TotalHonoraireHT],Honoraire[ClientId],Personne[[#This Row],[PersonneId]]),SUMIFS(Honoraire[TotalHT],Honoraire[ClientId],Personne[[#This Row],[PersonneId]]))","v":0},{"$f":"Personne[[#This Row],[Facture (HT)]]+ROW()/100000","v":2.1270000000000001E-2},{"$f":"_xlfn.CONCAT(Personne[[#This Row],[Adresse]],\" \",Personne[[#This Row],[CodePostal]],\" \",Personne[[#This Row],[Ville]],\" \",Personne[[#This Row],[CodePays]])","v":"   "}]
[null,null,null,null,null,null,null,null,null,null,null,null,null,null,null,null,null,null,null,null,null,null,null,null,null,null,null,null,null,null,{"$f":"IF(PARAMETRES!$B$3=\"SANS\",SUMIFS(Honoraire[TotalHonoraireHT],Honoraire[ClientId],Personne[[#This Row],[PersonneId]]),SUMIFS(Honoraire[TotalHT],Honoraire[ClientId],Personne[[#This Row],[PersonneId]]))","v":0},{"$f":"Personne[[#This Row],[Facture (HT)]]+ROW()/100000","v":2.1299999999999999E-2},{"$f":"_xlfn.CONCAT(Personne[[#This Row],[Adresse]],\" \",Personne[[#This Row],[CodePostal]],\" \",Personne[[#This Row],[Ville]],\" \",Personne[[#This Row],[CodePays]])","v":"   "}]
[null,null,null,null,null,null,null,null,null,null,null,null,null,null,null,null,null,null,null,null,null,null,null,null,null,null,null,null,null,null,{"$f":"IF(PARAMETRES!$B$3=\"SANS\",SUMIFS(Honoraire[TotalHonoraireHT],Honoraire[ClientId],Personne[[#This Row],[PersonneId]]),SUMIFS(Honoraire[TotalHT],Honoraire[ClientId],Personne[[#This Row],[PersonneId]]))","v":0},{"$f":"Personne[[#This Row],[Facture (HT)]]+ROW()/100000","v":2.1329999999999998E-2},{"$f":"_xlfn.CONCAT(Personne[[#This Row],[Adresse]],\" \",Personne[[#This Row],[CodePostal]],\" \",Personne[[#This Row],[Ville]],\" \",Personne[[#This Row],[CodePays]])","v":"   "}]
[null,null,null,null,null,null,null,null,null,null,null,null,null,null,null,null,null,null,null,null,null,null,null,null,null,null,null,null,null,null,{"$f":"IF(PARAMETRES!$B$3=\"SANS\",SUMIFS(Honoraire[TotalHonoraireHT],Honoraire[ClientId],Personne[[#This Row],[PersonneId]]),SUMIFS(Honoraire[TotalHT],Honoraire[ClientId],Personne[[#This Row],[PersonneId]]))","v":0},{"$f":"Personne[[#This Row],[Facture (HT)]]+ROW()/100000","v":2.1340000000000001E-2},{"$f":"_xlfn.CONCAT(Personne[[#This Row],[Adresse]],\" \",Personne[[#This Row],[CodePostal]],\" \",Personne[[#This Row],[Ville]],\" \",Personne[[#This Row],[CodePays]])","v":"   "}]
[null,null,null,null,null,null,null,null,null,null,null,null,null,null,null,null,null,null,null,null,null,null,null,null,null,null,null,null,null,null,{"$f":"IF(PARAMETRES!$B$3=\"SANS\",SUMIFS(Honoraire[TotalHonoraireHT],Honoraire[ClientId],Personne[[#This Row],[PersonneId]]),SUMIFS(Honoraire[TotalHT],Honoraire[ClientId],Personne[[#This Row],[PersonneId]]))","v":0},{"$f":"Personne[[#This Row],[Facture (HT)]]+ROW()/100000","v":2.137E-2},{"$f":"_xlfn.CONCAT(Personne[[#This Row],[Adresse]],\" \",Personne[[#This Row],[CodePostal]],\" \",Personne[[#This Row],[Ville]],\" \",Personne[[#This Row],[CodePays]])","v":"   "}]
[null,null,null,null,null,null,null,null,null,null,null,null,null,null,null,null,null,null,null,null,null,null,null,null,null,null,null,null,null,null,{"$f":"IF(PARAMETRES!$B$3=\"SANS\",SUMIFS(Honoraire[TotalHonoraireHT],Honoraire[ClientId],Personne[[#This Row],[PersonneId]]),SUMIFS(Honoraire[TotalHT],Honoraire[ClientId],Personne[[#This Row],[PersonneId]]))","v":0},{"$f":"Personne[[#This Row],[Facture (HT)]]+ROW()/100000","v":2.1399999999999999E-2},{"$f":"_xlfn.CONCAT(Personne[[#This Row],[Adresse]],\" \",Personne[[#This Row],[CodePostal]],\" \",Personne[[#This Row],[Ville]],\" \",Personne[[#This Row],[CodePays]])","v":"   "}]
[null,null,null,null,null,null,null,null,null,null,null,null,null,null,null,null,null,null,null,null,null,null,null,null,null,null,null,null,null,null,{"$f":"IF(PARAMETRES!$B$3=\"SANS\",SUMIFS(Honoraire[TotalHonoraireHT],Honoraire[ClientId],Personne[[#This Row],[PersonneId]]),SUMIFS(Honoraire[TotalHT],Honoraire[ClientId],Personne[[#This Row],[PersonneId]]))","v":0},{"$f":"Personne[[#This Row],[Facture (HT)]]+ROW()/100000","v":2.1420000000000002E-2},{"$f":"_xlfn.CONCAT(Personne[[#This Row],[Adresse]],\" \",Personne[[#This Row],[CodePostal]],\" \",Personne[[#This Row],[Ville]],\" \",Personne[[#This Row],[CodePays]])","v":"   "}]
[null,null,null,null,null,null,null,null,null,null,null,null,null,null,null,null,null,null,null,null,null,null,null,null,null,null,null,null,null,null,{"$f":"IF(PARAMETRES!$B$3=\"SANS\",SUMIFS(Honoraire[TotalHonoraireHT],Honoraire[ClientId],Personne[[#This Row],[PersonneId]]),SUMIFS(Honoraire[TotalHT],Honoraire[ClientId],Personne[[#This Row],[PersonneId]]))","v":0},{"$f":"Personne[[#This Row],[Facture (HT)]]+ROW()/100000","v":2.1430000000000001E-2},{"$f":"_xlfn.CONCAT(Personne[[#This Row],[Adresse]],\" \",Personne[[#This Row],[CodePostal]],\" \",Personne[[#This Row],[Ville]],\" \",Personne[[#This Row],[CodePays]])","v":"   "}]
[null,null,null,null,null,null,null,null,null,null,null,null,null,null,null,null,null,null,null,null,null,null,null,null,null,null,null,null,null,null,{"$f":"IF(PARAMETRES!$B$3=\"SANS\",SUMIFS(Honoraire[TotalHonoraireHT],Honoraire[ClientId],Personne[[#This Row],[PersonneId]]),SUMIFS(Honoraire[TotalHT],Honoraire[ClientId],Personne[[#This Row],[PersonneId]]))","v":0},{"$f":"Personne[[#This Row],[Facture (HT)]]+ROW()/100000","v":2.146E-2},{"$f":"_xlfn.CONCAT(Personne[[#This Row],[Adresse]],\" \",Personne[[#This Row],[CodePostal]],\" \",Personne[[#This Row],[Ville]],\" \",Personne[[#This Row],[CodePays]])","v":"   "}]
[null,null,null,null,null,null,null,null,null,null,null,null,null,null,null,null,null,null,null,null,null,null,null,null,null,null,null,null,null,null,{"$f":"IF(PARAMETRES!$B$3=\"SANS\",SUMIFS(Honoraire[TotalHonoraireHT],Honoraire[ClientId],Personne[[#This Row],[PersonneId]]),SUMIFS(Honoraire[TotalHT],Honoraire[ClientId],Personne[[#This Row],[PersonneId]]))","v":0},{"$f":"Personne[[#This Row],[Facture (HT)]]+ROW()/100000","v":2.147E-2},{"$f":"_xlfn.CONCAT(Personne[[#This Row],[Adresse]],\" \",Personne[[#This Row],[CodePostal]],\" \",Personne[[#This Row],[Ville]],\" \",Personne[[#This Row],[CodePays]])","v":"   "}]
[null,null,null,null,null,null,null,null,null,null,null,null,null,null,null,null,null,null,null,null,null,null,null,null,null,null,null,null,null,null,{"$f":"IF(PARAMETRES!$B$3=\"SANS\",SUMIFS(Honoraire[TotalHonoraireHT],Honoraire[ClientId],Personne[[#This Row],[PersonneId]]),SUMIFS(Honoraire[TotalHT],Honoraire[ClientId],Personne[[#This Row],[PersonneId]]))","v":0},{"$f":"Personne[[#This Row],[Facture (HT)]]+ROW()/100000","v":2.1499999999999998E-2},{"$f":"_xlfn.CONCAT(Personne[[#This Row],[Adresse]],\" \",Personne[[#This Row],[CodePostal]],\" \",Personne[[#This Row],[Ville]],\" \",Personne[[#This Row],[CodePays]])","v":"   "}]
[null,null,null,null,null,null,null,null,null,null,null,null,null,null,null,null,null,null,null,null,null,null,null,null,null,null,null,null,null,null,{"$f":"IF(PARAMETRES!$B$3=\"SANS\",SUMIFS(Honoraire[TotalHonoraireHT],Honoraire[ClientId],Personne[[#This Row],[PersonneId]]),SUMIFS(Honoraire[TotalHT],Honoraire[ClientId],Personne[[#This Row],[PersonneId]]))","v":0},{"$f":"Personne[[#This Row],[Facture (HT)]]+ROW()/100000","v":2.1520000000000001E-2},{"$f":"_xlfn.CONCAT(Personne[[#This Row],[Adresse]],\" \",Personne[[#This Row],[CodePostal]],\" \",Personne[[#This Row],[Ville]],\" \",Personne[[#This Row],[CodePays]])","v":"   "}]
[null,null,null,null,null,null,null,null,null,null,null,null,null,null,null,null,null,null,null,null,null,null,null,null,null,null,null,null,null,null,{"$f":"IF(PARAMETRES!$B$3=\"SANS\",SUMIFS(Honoraire[TotalHonoraireHT],Honoraire[ClientId],Personne[[#This Row],[PersonneId]]),SUMIFS(Honoraire[TotalHT],Honoraire[ClientId],Personne[[#This Row],[PersonneId]]))","v":0},{"$f":"Personne[[#This Row],[Facture (HT)]]+ROW()/100000","v":2.155E-2},{"$f":"_xlfn.CONCAT(Personne[[#This Row],[Adresse]],\" \",Personne[[#This Row],[CodePostal]],\" \",Personne[[#This Row],[Ville]],\" \",Personne[[#This Row],[CodePays]])","v":"   "}]
[null,null,null,null,null,null,null,null,null,null,null,null,null,null,null,null,null,null,null,null,null,null,null,null,null,null,null,null,null,null,{"$f":"IF(PARAMETRES!$B$3=\"SANS\",SUMIFS(Honoraire[TotalHonoraireHT],Honoraire[ClientId],Personne[[#This Row],[PersonneId]]),SUMIFS(Honoraire[TotalHT],Honoraire[ClientId],Personne[[#This Row],[PersonneId]]))","v":0},{"$f":"Personne[[#This Row],[Facture (HT)]]+ROW()/100000","v":2.1559999999999999E-2},{"$f":"_xlfn.CONCAT(Personne[[#This Row],[Adresse]],\" \",Personne[[#This Row],[CodePostal]],\" \",Personne[[#This Row],[Ville]],\" \",Personne[[#This Row],[CodePays]])","v":"   "}]
[null,null,null,null,null,null,null,null,null,null,null,null,null,null,null,null,null,null,null,null,null,null,null,null,null,null,null,null,null,null,{"$f":"IF(PARAMETRES!$B$3=\"SANS\",SUMIFS(Honoraire[TotalHonoraireHT],Honoraire[ClientId],Personne[[#This Row],[PersonneId]]),SUMIFS(Honoraire[TotalHT],Honoraire[ClientId],Personne[[#This Row],[PersonneId]]))","v":0},{"$f":"Personne[[#This Row],[Facture (HT)]]+ROW()/100000","v":2.1590000000000002E-2},{"$f":"_xlfn.CONCAT(Personne[[#This Row],[Adresse]],\" \",Personne[[#This Row],[CodePostal]],\" \",Personne[[#This Row],[Ville]],\" \",Personne[[#This Row],[CodePays]])","v":"   "}]
[null,null,null,null,null,null,null,null,null,null,null,null,null,null,null,null,null,null,null,null,null,null,null,null,null,null,null,null,null,null,{"$f":"IF(PARAMETRES!$B$3=\"SANS\",SUMIFS(Honoraire[TotalHonoraireHT],Honoraire[ClientId],Personne[[#This Row],[PersonneId]]),SUMIFS(Honoraire[TotalHT],Honoraire[ClientId],Personne[[#This Row],[PersonneId]]))","v":0},{"$f":"Personne[[#This Row],[Facture (HT)]]+ROW()/100000","v":2.1600000000000001E-2},{"$f":"_xlfn.CONCAT(Personne[[#This Row],[Adresse]],\" \",Personne[[#This Row],[CodePostal]],\" \",Personne[[#This Row],[Ville]],\" \",Personne[[#This Row],[CodePays]])","v":"   "}]
[null,null,null,null,null,null,null,null,null,null,null,null,null,null,null,null,null,null,null,null,null,null,null,null,null,null,null,null,null,null,{"$f":"IF(PARAMETRES!$B$3=\"SANS\",SUMIFS(Honoraire[TotalHonoraireHT],Honoraire[ClientId],Personne[[#This Row],[PersonneId]]),SUMIFS(Honoraire[TotalHT],Honoraire[ClientId],Personne[[#This Row],[PersonneId]]))","v":0},{"$f":"Personne[[#This Row],[Facture (HT)]]+ROW()/100000","v":2.162E-2},{"$f":"_xlfn.CONCAT(Personne[[#This Row],[Adresse]],\" \",Personne[[#This Row],[CodePostal]],\" \",Personne[[#This Row],[Ville]],\" \",Personne[[#This Row],[CodePays]])","v":"   "}]
[null,null,null,null,null,null,null,null,null,null,null,null,null,null,null,null,null,null,null,null,null,null,null,null,null,null,null,null,null,null,{"$f":"IF(PARAMETRES!$B$3=\"SANS\",SUMIFS(Honoraire[TotalHonoraireHT],Honoraire[ClientId],Personne[[#This Row],[PersonneId]]),SUMIFS(Honoraire[TotalHT],Honoraire[ClientId],Personne[[#This Row],[PersonneId]]))","v":0},{"$f":"Personne[[#This Row],[Facture (HT)]]+ROW()/100000","v":2.1649999999999999E-2},{"$f":"_xlfn.CONCAT(Personne[[#This Row],[Adresse]],\" \",Personne[[#This Row],[CodePostal]],\" \",Personne[[#This Row],[Ville]],\" \",Personne[[#This Row],[CodePays]])","v":"   "}]
[null,null,null,null,null,null,null,null,null,null,null,null,null,null,null,null,null,null,null,null,null,null,null,null,null,null,null,null,null,null,{"$f":"IF(PARAMETRES!$B$3=\"SANS\",SUMIFS(Honoraire[TotalHonoraireHT],Honoraire[ClientId],Personne[[#This Row],[PersonneId]]),SUMIFS(Honoraire[TotalHT],Honoraire[ClientId],Personne[[#This Row],[PersonneId]]))","v":0},{"$f":"Personne[[#This Row],[Facture (HT)]]+ROW()/100000","v":2.1680000000000001E-2},{"$f":"_xlfn.CONCAT(Personne[[#This Row],[Adresse]],\" \",Personne[[#This Row],[CodePostal]],\" \",Personne[[#This Row],[Ville]],\" \",Personne[[#This Row],[CodePays]])","v":"   "}]
[null,null,null,null,null,null,null,null,null,null,null,null,null,null,null,null,null,null,null,null,null,null,null,null,null,null,null,null,null,null,{"$f":"IF(PARAMETRES!$B$3=\"SANS\",SUMIFS(Honoraire[TotalHonoraireHT],Honoraire[ClientId],Personne[[#This Row],[PersonneId]]),SUMIFS(Honoraire[TotalHT],Honoraire[ClientId],Personne[[#This Row],[PersonneId]]))","v":0},{"$f":"Personne[[#This Row],[Facture (HT)]]+ROW()/100000","v":2.1690000000000001E-2},{"$f":"_xlfn.CONCAT(Personne[[#This Row],[Adresse]],\" \",Personne[[#This Row],[CodePostal]],\" \",Personne[[#This Row],[Ville]],\" \",Personne[[#This Row],[CodePays]])","v":"   "}]
[null,null,null,null,null,null,null,null,null,null,null,null,null,null,null,null,null,null,null,null,null,null,null,null,null,null,null,null,null,null,{"$f":"IF(PARAMETRES!$B$3=\"SANS\",SUMIFS(Honoraire[TotalHonoraireHT],Honoraire[ClientId],Personne[[#This Row],[PersonneId]]),SUMIFS(Honoraire[TotalHT],Honoraire[ClientId],Personne[[#This Row],[PersonneId]]))","v":0},{"$f":"Personne[[#This Row],[Facture (HT)]]+ROW()/100000","v":2.172E-2},{"$f":"_xlfn.CONCAT(Personne[[#This Row],[Adresse]],\" \",Personne[[#This Row],[CodePostal]],\" \",Personne[[#This Row],[Ville]],\" \",Personne[[#This Row],[CodePays]])","v":"   "}]
[null,null,null,null,null,null,null,null,null,null,null,null,null,null,null,null,null,null,null,null,null,null,null,null,null,null,null,null,null,null,{"$f":"IF(PARAMETRES!$B$3=\"SANS\",SUMIFS(Honoraire[TotalHonoraireHT],Honoraire[ClientId],Personne[[#This Row],[PersonneId]]),SUMIFS(Honoraire[TotalHT],Honoraire[ClientId],Personne[[#This Row],[PersonneId]]))","v":0},{"$f":"Personne[[#This Row],[Facture (HT)]]+ROW()/100000","v":2.1729999999999999E-2},{"$f":"_xlfn.CONCAT(Personne[[#This Row],[Adresse]],\" \",Personne[[#This Row],[CodePostal]],\" \",Personne[[#This Row],[Ville]],\" \",Personne[[#This Row],[CodePays]])","v":"   "}]
[null,null,null,null,null,null,null,null,null,null,null,null,null,null,null,null,null,null,null,null,null,null,null,null,null,null,null,null,null,null,{"$f":"IF(PARAMETRES!$B$3=\"SANS\",SUMIFS(Honoraire[TotalHonoraireHT],Honoraire[ClientId],Personne[[#This Row],[PersonneId]]),SUMIFS(Honoraire[TotalHT],Honoraire[ClientId],Personne[[#This Row],[PersonneId]]))","v":0},{"$f":"Personne[[#This Row],[Facture (HT)]]+ROW()/100000","v":2.1770000000000001E-2},{"$f":"_xlfn.CONCAT(Personne[[#This Row],[Adresse]],\" \",Personne[[#This Row],[CodePostal]],\" \",Personne[[#This Row],[Ville]],\" \",Personne[[#This Row],[CodePays]])","v":"   "}]
[null,null,null,null,null,null,null,null,null,null,null,null,null,null,null,null,null,null,null,null,null,null,null,null,null,null,null,null,null,null,{"$f":"IF(PARAMETRES!$B$3=\"SANS\",SUMIFS(Honoraire[TotalHonoraireHT],Honoraire[ClientId],Personne[[#This Row],[PersonneId]]),SUMIFS(Honoraire[TotalHT],Honoraire[ClientId],Personne[[#This Row],[PersonneId]]))","v":0},{"$f":"Personne[[#This Row],[Facture (HT)]]+ROW()/100000","v":2.1780000000000001E-2},{"$f":"_xlfn.CONCAT(Personne[[#This Row],[Adresse]],\" \",Personne[[#This Row],[CodePostal]],\" \",Personne[[#This Row],[Ville]],\" \",Personne[[#This Row],[CodePays]])","v":"   "}]
[null,null,null,null,null,null,null,null,null,null,null,null,null,null,null,null,null,null,null,null,null,null,null,null,null,null,null,null,null,null,{"$f":"IF(PARAMETRES!$B$3=\"SANS\",SUMIFS(Honoraire[TotalHonoraireHT],Honoraire[ClientId],Personne[[#This Row],[PersonneId]]),SUMIFS(Honoraire[TotalHT],Honoraire[ClientId],Personne[[#This Row],[PersonneId]]))","v":0},{"$f":"Personne[[#This Row],[Facture (HT)]]+ROW()/100000","v":2.181E-2},{"$f":"_xlfn.CONCAT(Personne[[#This Row],[Adresse]],\" \",Personne[[#This Row],[CodePostal]],\" \",Personne[[#This Row],[Ville]],\" \",Personne[[#This Row],[CodePays]])","v":"   "}]
[null,null,null,null,null,null,null,null,null,null,null,null,null,null,null,null,null,null,null,null,null,null,null,null,null,null,null,null,null,null,{"$f":"IF(PARAMETRES!$B$3=\"SANS\",SUMIFS(Honoraire[TotalHonoraireHT],Honoraire[ClientId],Personne[[#This Row],[PersonneId]]),SUMIFS(Honoraire[TotalHT],Honoraire[ClientId],Personne[[#This Row],[PersonneId]]))","v":0},{"$f":"Personne[[#This Row],[Facture (HT)]]+ROW()/100000","v":2.1819999999999999E-2},{"$f":"_xlfn.CONCAT(Personne[[#This Row],[Adresse]],\" \",Personne[[#This Row],[CodePostal]],\" \",Personne[[#This Row],[Ville]],\" \",Personne[[#This Row],[CodePays]])","v":"   "}]
[null,null,null,null,null,null,null,null,null,null,null,null,null,null,null,null,null,null,null,null,null,null,null,null,null,null,null,null,null,null,{"$f":"IF(PARAMETRES!$B$3=\"SANS\",SUMIFS(Honoraire[TotalHonoraireHT],Honoraire[ClientId],Personne[[#This Row],[PersonneId]]),SUMIFS(Honoraire[TotalHT],Honoraire[ClientId],Personne[[#This Row],[PersonneId]]))","v":0},{"$f":"Personne[[#This Row],[Facture (HT)]]+ROW()/100000","v":2.1850000000000001E-2},{"$f":"_xlfn.CONCAT(Personne[[#This Row],[Adresse]],\" \",Personne[[#This Row],[CodePostal]],\" \",Personne[[#This Row],[Ville]],\" \",Personne[[#This Row],[CodePays]])","v":"   "}]
[null,null,null,null,null,null,null,null,null,null,null,null,null,null,null,null,null,null,null,null,null,null,null,null,null,null,null,null,null,null,{"$f":"IF(PARAMETRES!$B$3=\"SANS\",SUMIFS(Honoraire[TotalHonoraireHT],Honoraire[ClientId],Personne[[#This Row],[PersonneId]]),SUMIFS(Honoraire[TotalHT],Honoraire[ClientId],Personne[[#This Row],[PersonneId]]))","v":0},{"$f":"Personne[[#This Row],[Facture (HT)]]+ROW()/100000","v":2.1870000000000001E-2},{"$f":"_xlfn.CONCAT(Personne[[#This Row],[Adresse]],\" \",Personne[[#This Row],[CodePostal]],\" \",Personne[[#This Row],[Ville]],\" \",Personne[[#This Row],[CodePays]])","v":"   "}]
[null,null,null,null,null,null,null,null,null,null,null,null,null,null,null,null,null,null,null,null,null,null,null,null,null,null,null,null,null,null,{"$f":"IF(PARAMETRES!$B$3=\"SANS\",SUMIFS(Honoraire[TotalHonoraireHT],Honoraire[ClientId],Personne[[#This Row],[PersonneId]]),SUMIFS(Honoraire[TotalHT],Honoraire[ClientId],Personne[[#This Row],[PersonneId]]))","v":0},{"$f":"Personne[[#This Row],[Facture (HT)]]+ROW()/100000","v":2.1899999999999999E-2},{"$f":"_xlfn.CONCAT(Personne[[#This Row],[Adresse]],\" \",Personne[[#This Row],[CodePostal]],\" \",Personne[[#This Row],[Ville]],\" \",Personne[[#This Row],[CodePays]])","v":"   "}]
[null,null,null,null,null,null,null,null,null,null,null,null,null,null,null,null,null,null,null,null,null,null,null,null,null,null,null,null,null,null,{"$f":"IF(PARAMETRES!$B$3=\"SANS\",SUMIFS(Honoraire[TotalHonoraireHT],Honoraire[ClientId],Personne[[#This Row],[PersonneId]]),SUMIFS(Honoraire[TotalHT],Honoraire[ClientId],Personne[[#This Row],[PersonneId]]))","v":0},{"$f":"Personne[[#This Row],[Facture (HT)]]+ROW()/100000","v":2.1909999999999999E-2},{"$f":"_xlfn.CONCAT(Personne[[#This Row],[Adresse]],\" \",Personne[[#This Row],[CodePostal]],\" \",Personne[[#This Row],[Ville]],\" \",Personne[[#This Row],[CodePays]])","v":"   "}]
[null,null,null,null,null,null,null,null,null,null,null,null,null,null,null,null,null,null,null,null,null,null,null,null,null,null,null,null,null,null,{"$f":"IF(PARAMETRES!$B$3=\"SANS\",SUMIFS(Honoraire[TotalHonoraireHT],Honoraire[ClientId],Personne[[#This Row],[PersonneId]]),SUMIFS(Honoraire[TotalHT],Honoraire[ClientId],Personne[[#This Row],[PersonneId]]))","v":0},{"$f":"Personne[[#This Row],[Facture (HT)]]+ROW()/100000","v":2.1940000000000001E-2},{"$f":"_xlfn.CONCAT(Personne[[#This Row],[Adresse]],\" \",Personne[[#This Row],[CodePostal]],\" \",Personne[[#This Row],[Ville]],\" \",Personne[[#This Row],[CodePays]])","v":"   "}]
[null,null,null,null,null,null,null,null,null,null,null,null,null,null,null,null,null,null,null,null,null,null,null,null,null,null,null,null,null,null,{"$f":"IF(PARAMETRES!$B$3=\"SANS\",SUMIFS(Honoraire[TotalHonoraireHT],Honoraire[ClientId],Personne[[#This Row],[PersonneId]]),SUMIFS(Honoraire[TotalHT],Honoraire[ClientId],Personne[[#This Row],[PersonneId]]))","v":0},{"$f":"Personne[[#This Row],[Facture (HT)]]+ROW()/100000","v":2.1950000000000001E-2},{"$f":"_xlfn.CONCAT(Personne[[#This Row],[Adresse]],\" \",Personne[[#This Row],[CodePostal]],\" \",Personne[[#This Row],[Ville]],\" \",Personne[[#This Row],[CodePays]])","v":"   "}]
[null,null,null,null,null,null,null,null,null,null,null,null,null,null,null,null,null,null,null,null,null,null,null,null,null,null,null,null,null,null,{"$f":"IF(PARAMETRES!$B$3=\"SANS\",SUMIFS(Honoraire[TotalHonoraireHT],Honoraire[ClientId],Personne[[#This Row],[PersonneId]]),SUMIFS(Honoraire[TotalHT],Honoraire[ClientId],Personne[[#This Row],[PersonneId]]))","v":0},{"$f":"Personne[[#This Row],[Facture (HT)]]+ROW()/100000","v":2.197E-2},{"$f":"_xlfn.CONCAT(Personne[[#This Row],[Adresse]],\" \",Personne[[#This Row],[CodePostal]],\" \",Personne[[#This Row],[Ville]],\" \",Personne[[#This Row],[CodePays]])","v":"   "}]
[null,null,null,null,null,null,null,null,null,null,null,null,null,null,null,null,null,null,null,null,null,null,null,null,null,null,null,null,null,null,{"$f":"IF(PARAMETRES!$B$3=\"SANS\",SUMIFS(Honoraire[TotalHonoraireHT],Honoraire[ClientId],Personne[[#This Row],[PersonneId]]),SUMIFS(Honoraire[TotalHT],Honoraire[ClientId],Personne[[#This Row],[PersonneId]]))","v":0},{"$f":"Personne[[#This Row],[Facture (HT)]]+ROW()/100000","v":2.1999999999999999E-2},{"$f":"_xlfn.CONCAT(Personne[[#This Row],[Adresse]],\" \",Personne[[#This Row],[CodePostal]],\" \",Personne[[#This Row],[Ville]],\" \",Personne[[#This Row],[CodePays]])","v":"   "}]
[null,null,null,null,null,null,null,null,null,null,null,null,null,null,null,null,null,null,null,null,null,null,null,null,null,null,null,null,null,null,{"$f":"IF(PARAMETRES!$B$3=\"SANS\",SUMIFS(Honoraire[TotalHonoraireHT],Honoraire[ClientId],Personne[[#This Row],[PersonneId]]),SUMIFS(Honoraire[TotalHT],Honoraire[ClientId],Personne[[#This Row],[PersonneId]]))","v":0},{"$f":"Personne[[#This Row],[Facture (HT)]]+ROW()/100000","v":2.2030000000000001E-2},{"$f":"_xlfn.CONCAT(Personne[[#This Row],[Adresse]],\" \",Personne[[#This Row],[CodePostal]],\" \",Personne[[#This Row],[Ville]],\" \",Personne[[#This Row],[CodePays]])","v":"   "}]
[null,null,null,null,null,null,null,null,null,null,null,null,null,null,null,null,null,null,null,null,null,null,null,null,null,null,null,null,null,null,{"$f":"IF(PARAMETRES!$B$3=\"SANS\",SUMIFS(Honoraire[TotalHonoraireHT],Honoraire[ClientId],Personne[[#This Row],[PersonneId]]),SUMIFS(Honoraire[TotalHT],Honoraire[ClientId],Personne[[#This Row],[PersonneId]]))","v":0},{"$f":"Personne[[#This Row],[Facture (HT)]]+ROW()/100000","v":2.2040000000000001E-2},{"$f":"_xlfn.CONCAT(Personne[[#This Row],[Adresse]],\" \",Personne[[#This Row],[CodePostal]],\" \",Personne[[#This Row],[Ville]],\" \",Personne[[#This Row],[CodePays]])","v":"   "}]
[null,null,null,null,null,null,null,null,null,null,null,null,null,null,null,null,null,null,null,null,null,null,null,null,null,null,null,null,null,null,{"$f":"IF(PARAMETRES!$B$3=\"SANS\",SUMIFS(Honoraire[TotalHonoraireHT],Honoraire[ClientId],Personne[[#This Row],[PersonneId]]),SUMIFS(Honoraire[TotalHT],Honoraire[ClientId],Personne[[#This Row],[PersonneId]]))","v":0},{"$f":"Personne[[#This Row],[Facture (HT)]]+ROW()/100000","v":2.2069999999999999E-2},{"$f":"_xlfn.CONCAT(Personne[[#This Row],[Adresse]],\" \",Personne[[#This Row],[CodePostal]],\" \",Personne[[#This Row],[Ville]],\" \",Personne[[#This Row],[CodePays]])","v":"   "}]
[null,null,null,null,null,null,null,null,null,null,null,null,null,null,null,null,null,null,null,null,null,null,null,null,null,null,null,null,null,null,{"$f":"IF(PARAMETRES!$B$3=\"SANS\",SUMIFS(Honoraire[TotalHonoraireHT],Honoraire[ClientId],Personne[[#This Row],[PersonneId]]),SUMIFS(Honoraire[TotalHT],Honoraire[ClientId],Personne[[#This Row],[PersonneId]]))","v":0},{"$f":"Personne[[#This Row],[Facture (HT)]]+ROW()/100000","v":2.2079999999999999E-2},{"$f":"_xlfn.CONCAT(Personne[[#This Row],[Adresse]],\" \",Personne[[#This Row],[CodePostal]],\" \",Personne[[#This Row],[Ville]],\" \",Personne[[#This Row],[CodePays]])","v":"   "}]
[null,null,null,null,null,null,null,null,null,null,null,null,null,null,null,null,null,null,null,null,null,null,null,null,null,null,null,null,null,null,{"$f":"IF(PARAMETRES!$B$3=\"SANS\",SUMIFS(Honoraire[TotalHonoraireHT],Honoraire[ClientId],Personne[[#This Row],[PersonneId]]),SUMIFS(Honoraire[TotalHT],Honoraire[ClientId],Personne[[#This Row],[PersonneId]]))","v":0},{"$f":"Personne[[#This Row],[Facture (HT)]]+ROW()/100000","v":2.2120000000000001E-2},{"$f":"_xlfn.CONCAT(Personne[[#This Row],[Adresse]],\" \",Personne[[#This Row],[CodePostal]],\" \",Personne[[#This Row],[Ville]],\" \",Personne[[#This Row],[CodePays]])","v":"   "}]
[null,null,null,null,null,null,null,null,null,null,null,null,null,null,null,null,null,null,null,null,null,null,null,null,null,null,null,null,null,null,{"$f":"IF(PARAMETRES!$B$3=\"SANS\",SUMIFS(Honoraire[TotalHonoraireHT],Honoraire[ClientId],Personne[[#This Row],[PersonneId]]),SUMIFS(Honoraire[TotalHT],Honoraire[ClientId],Personne[[#This Row],[PersonneId]]))","v":0},{"$f":"Personne[[#This Row],[Facture (HT)]]+ROW()/100000","v":2.213E-2},{"$f":"_xlfn.CONCAT(Personne[[#This Row],[Adresse]],\" \",Personne[[#This Row],[CodePostal]],\" \",Personne[[#This Row],[Ville]],\" \",Personne[[#This Row],[CodePays]])","v":"   "}]
[null,null,null,null,null,null,null,null,null,null,null,null,null,null,null,null,null,null,null,null,null,null,null,null,null,null,null,null,null,null,{"$f":"IF(PARAMETRES!$B$3=\"SANS\",SUMIFS(Honoraire[TotalHonoraireHT],Honoraire[ClientId],Personne[[#This Row],[PersonneId]]),SUMIFS(Honoraire[TotalHT],Honoraire[ClientId],Personne[[#This Row],[PersonneId]]))","v":0},{"$f":"Personne[[#This Row],[Facture (HT)]]+ROW()/100000","v":2.2159999999999999E-2},{"$f":"_xlfn.CONCAT(Personne[[#This Row],[Adresse]],\" \",Personne[[#This Row],[CodePostal]],\" \",Personne[[#This Row],[Ville]],\" \",Personne[[#This Row],[CodePays]])","v":"   "}]
[null,null,null,null,null,null,null,null,null,null,null,null,null,null,null,null,null,null,null,null,null,null,null,null,null,null,null,null,null,null,{"$f":"IF(PARAMETRES!$B$3=\"SANS\",SUMIFS(Honoraire[TotalHonoraireHT],Honoraire[ClientId],Personne[[#This Row],[PersonneId]]),SUMIFS(Honoraire[TotalHT],Honoraire[ClientId],Personne[[#This Row],[PersonneId]]))","v":0},{"$f":"Personne[[#This Row],[Facture (HT)]]+ROW()/100000","v":2.2169999999999999E-2},{"$f":"_xlfn.CONCAT(Personne[[#This Row],[Adresse]],\" \",Personne[[#This Row],[CodePostal]],\" \",Personne[[#This Row],[Ville]],\" \",Personne[[#This Row],[CodePays]])","v":"   "}]
[null,null,null,null,null,null,null,null,null,null,null,null,null,null,null,null,null,null,null,null,null,null,null,null,null,null,null,null,null,null,{"$f":"IF(PARAMETRES!$B$3=\"SANS\",SUMIFS(Honoraire[TotalHonoraireHT],Honoraire[ClientId],Personne[[#This Row],[PersonneId]]),SUMIFS(Honoraire[TotalHT],Honoraire[ClientId],Personne[[#This Row],[PersonneId]]))","v":0},{"$f":"Personne[[#This Row],[Facture (HT)]]+ROW()/100000","v":2.2200000000000001E-2},{"$f":"_xlfn.CONCAT(Personne[[#This Row],[Adresse]],\" \",Personne[[#This Row],[CodePostal]],\" \",Personne[[#This Row],[Ville]],\" \",Personne[[#This Row],[CodePays]])","v":"   "}]
[null,null,null,null,null,null,null,null,null,null,null,null,null,null,null,null,null,null,null,null,null,null,null,null,null,null,null,null,null,null,{"$f":"IF(PARAMETRES!$B$3=\"SANS\",SUMIFS(Honoraire[TotalHonoraireHT],Honoraire[ClientId],Personne[[#This Row],[PersonneId]]),SUMIFS(Honoraire[TotalHT],Honoraire[ClientId],Personne[[#This Row],[PersonneId]]))","v":0},{"$f":"Personne[[#This Row],[Facture (HT)]]+ROW()/100000","v":2.222E-2},{"$f":"_xlfn.CONCAT(Personne[[#This Row],[Adresse]],\" \",Personne[[#This Row],[CodePostal]],\" \",Personne[[#This Row],[Ville]],\" \",Personne[[#This Row],[CodePays]])","v":"   "}]
[null,null,null,null,null,null,null,null,null,null,null,null,null,null,null,null,null,null,null,null,null,null,null,null,null,null,null,null,null,null,{"$f":"IF(PARAMETRES!$B$3=\"SANS\",SUMIFS(Honoraire[TotalHonoraireHT],Honoraire[ClientId],Personne[[#This Row],[PersonneId]]),SUMIFS(Honoraire[TotalHT],Honoraire[ClientId],Personne[[#This Row],[PersonneId]]))","v":0},{"$f":"Personne[[#This Row],[Facture (HT)]]+ROW()/100000","v":2.2249999999999999E-2},{"$f":"_xlfn.CONCAT(Personne[[#This Row],[Adresse]],\" \",Personne[[#This Row],[CodePostal]],\" \",Personne[[#This Row],[Ville]],\" \",Personne[[#This Row],[CodePays]])","v":"   "}]
[null,null,null,null,null,null,null,null,null,null,null,null,null,null,null,null,null,null,null,null,null,null,null,null,null,null,null,null,null,null,{"$f":"IF(PARAMETRES!$B$3=\"SANS\",SUMIFS(Honoraire[TotalHonoraireHT],Honoraire[ClientId],Personne[[#This Row],[PersonneId]]),SUMIFS(Honoraire[TotalHT],Honoraire[ClientId],Personne[[#This Row],[PersonneId]]))","v":0},{"$f":"Personne[[#This Row],[Facture (HT)]]+ROW()/100000","v":2.2259999999999999E-2},{"$f":"_xlfn.CONCAT(Personne[[#This Row],[Adresse]],\" \",Personne[[#This Row],[CodePostal]],\" \",Personne[[#This Row],[Ville]],\" \",Personne[[#This Row],[CodePays]])","v":"   "}]
[null,null,null,null,null,null,null,null,null,null,null,null,null,null,null,null,null,null,null,null,null,null,null,null,null,null,null,null,null,null,{"$f":"IF(PARAMETRES!$B$3=\"SANS\",SUMIFS(Honoraire[TotalHonoraireHT],Honoraire[ClientId],Personne[[#This Row],[PersonneId]]),SUMIFS(Honoraire[TotalHT],Honoraire[ClientId],Personne[[#This Row],[PersonneId]]))","v":0},{"$f":"Personne[[#This Row],[Facture (HT)]]+ROW()/100000","v":2.2290000000000001E-2},{"$f":"_xlfn.CONCAT(Personne[[#This Row],[Adresse]],\" \",Personne[[#This Row],[CodePostal]],\" \",Personne[[#This Row],[Ville]],\" \",Personne[[#This Row],[CodePays]])","v":"   "}]
[null,null,null,null,null,null,null,null,null,null,null,null,null,null,null,null,null,null,null,null,null,null,null,null,null,null,null,null,null,null,{"$f":"IF(PARAMETRES!$B$3=\"SANS\",SUMIFS(Honoraire[TotalHonoraireHT],Honoraire[ClientId],Personne[[#This Row],[PersonneId]]),SUMIFS(Honoraire[TotalHT],Honoraire[ClientId],Personne[[#This Row],[PersonneId]]))","v":0},{"$f":"Personne[[#This Row],[Facture (HT)]]+ROW()/100000","v":2.23E-2},{"$f":"_xlfn.CONCAT(Personne[[#This Row],[Adresse]],\" \",Personne[[#This Row],[CodePostal]],\" \",Personne[[#This Row],[Ville]],\" \",Personne[[#This Row],[CodePays]])","v":"   "}]
[null,null,null,null,null,null,null,null,null,null,null,null,null,null,null,null,null,null,null,null,null,null,null,null,null,null,null,null,null,null,{"$f":"IF(PARAMETRES!$B$3=\"SANS\",SUMIFS(Honoraire[TotalHonoraireHT],Honoraire[ClientId],Personne[[#This Row],[PersonneId]]),SUMIFS(Honoraire[TotalHT],Honoraire[ClientId],Personne[[#This Row],[PersonneId]]))","v":0},{"$f":"Personne[[#This Row],[Facture (HT)]]+ROW()/100000","v":2.2329999999999999E-2},{"$f":"_xlfn.CONCAT(Personne[[#This Row],[Adresse]],\" \",Personne[[#This Row],[CodePostal]],\" \",Personne[[#This Row],[Ville]],\" \",Personne[[#This Row],[CodePays]])","v":"   "}]
[null,null,null,null,null,null,null,null,null,null,null,null,null,null,null,null,null,null,null,null,null,null,null,null,null,null,null,null,null,null,{"$f":"IF(PARAMETRES!$B$3=\"SANS\",SUMIFS(Honoraire[TotalHonoraireHT],Honoraire[ClientId],Personne[[#This Row],[PersonneId]]),SUMIFS(Honoraire[TotalHT],Honoraire[ClientId],Personne[[#This Row],[PersonneId]]))","v":0},{"$f":"Personne[[#This Row],[Facture (HT)]]+ROW()/100000","v":2.2339999999999999E-2},{"$f":"_xlfn.CONCAT(Personne[[#This Row],[Adresse]],\" \",Personne[[#This Row],[CodePostal]],\" \",Personne[[#This Row],[Ville]],\" \",Personne[[#This Row],[CodePays]])","v":"   "}]
[null,null,null,null,null,null,null,null,null,null,null,null,null,null,null,null,null,null,null,null,null,null,null,null,null,null,null,null,null,null,{"$f":"IF(PARAMETRES!$B$3=\"SANS\",SUMIFS(Honoraire[TotalHonoraireHT],Honoraire[ClientId],Personne[[#This Row],[PersonneId]]),SUMIFS(Honoraire[TotalHT],Honoraire[ClientId],Personne[[#This Row],[PersonneId]]))","v":0},{"$f":"Personne[[#This Row],[Facture (HT)]]+ROW()/100000","v":2.2380000000000001E-2},{"$f":"_xlfn.CONCAT(Personne[[#This Row],[Adresse]],\" \",Personne[[#This Row],[CodePostal]],\" \",Personne[[#This Row],[Ville]],\" \",Personne[[#This Row],[CodePays]])","v":"   "}]
[null,null,null,null,null,null,null,null,null,null,null,null,null,null,null,null,null,null,null,null,null,null,null,null,null,null,null,null,null,null,{"$f":"IF(PARAMETRES!$B$3=\"SANS\",SUMIFS(Honoraire[TotalHonoraireHT],Honoraire[ClientId],Personne[[#This Row],[PersonneId]]),SUMIFS(Honoraire[TotalHT],Honoraire[ClientId],Personne[[#This Row],[PersonneId]]))","v":0},{"$f":"Personne[[#This Row],[Facture (HT)]]+ROW()/100000","v":2.239E-2},{"$f":"_xlfn.CONCAT(Personne[[#This Row],[Adresse]],\" \",Personne[[#This Row],[CodePostal]],\" \",Personne[[#This Row],[Ville]],\" \",Personne[[#This Row],[CodePays]])","v":"   "}]
[null,null,null,null,null,null,null,null,null,null,null,null,null,null,null,null,null,null,null,null,null,null,null,null,null,null,null,null,null,null,{"$f":"IF(PARAMETRES!$B$3=\"SANS\",SUMIFS(Honoraire[TotalHonoraireHT],Honoraire[ClientId],Personne[[#This Row],[PersonneId]]),SUMIFS(Honoraire[TotalHT],Honoraire[ClientId],Personne[[#This Row],[PersonneId]]))","v":0},{"$f":"Personne[[#This Row],[Facture (HT)]]+ROW()/100000","v":2.2419999999999999E-2},{"$f":"_xlfn.CONCAT(Personne[[#This Row],[Adresse]],\" \",Personne[[#This Row],[CodePostal]],\" \",Personne[[#This Row],[Ville]],\" \",Personne[[#This Row],[CodePays]])","v":"   "}]
[null,null,null,null,null,null,null,null,null,null,null,null,null,null,null,null,null,null,null,null,null,null,null,null,null,null,null,null,null,null,{"$f":"IF(PARAMETRES!$B$3=\"SANS\",SUMIFS(Honoraire[TotalHonoraireHT],Honoraire[ClientId],Personne[[#This Row],[PersonneId]]),SUMIFS(Honoraire[TotalHT],Honoraire[ClientId],Personne[[#This Row],[PersonneId]]))","v":0},{"$f":"Personne[[#This Row],[Facture (HT)]]+ROW()/100000","v":2.2429999999999999E-2},{"$f":"_xlfn.CONCAT(Personne[[#This Row],[Adresse]],\" \",Personne[[#This Row],[CodePostal]],\" \",Personne[[#This Row],[Ville]],\" \",Personne[[#This Row],[CodePays]])","v":"   "}]
[null,null,null,null,null,null,null,null,null,null,null,null,null,null,null,null,null,null,null,null,null,null,null,null,null,null,null,null,null,null,{"$f":"IF(PARAMETRES!$B$3=\"SANS\",SUMIFS(Honoraire[TotalHonoraireHT],Honoraire[ClientId],Personne[[#This Row],[PersonneId]]),SUMIFS(Honoraire[TotalHT],Honoraire[ClientId],Personne[[#This Row],[PersonneId]]))","v":0},{"$f":"Personne[[#This Row],[Facture (HT)]]+ROW()/100000","v":2.247E-2},{"$f":"_xlfn.CONCAT(Personne[[#This Row],[Adresse]],\" \",Personne[[#This Row],[CodePostal]],\" \",Personne[[#This Row],[Ville]],\" \",Personne[[#This Row],[CodePays]])","v":"   "}]
[null,null,null,null,null,null,null,null,null,null,null,null,null,null,null,null,null,null,null,null,null,null,null,null,null,null,null,null,null,null,{"$f":"IF(PARAMETRES!$B$3=\"SANS\",SUMIFS(Honoraire[TotalHonoraireHT],Honoraire[ClientId],Personne[[#This Row],[PersonneId]]),SUMIFS(Honoraire[TotalHT],Honoraire[ClientId],Personne[[#This Row],[PersonneId]]))","v":0},{"$f":"Personne[[#This Row],[Facture (HT)]]+ROW()/100000","v":2.248E-2},{"$f":"_xlfn.CONCAT(Personne[[#This Row],[Adresse]],\" \",Personne[[#This Row],[CodePostal]],\" \",Personne[[#This Row],[Ville]],\" \",Personne[[#This Row],[CodePays]])","v":"   "}]
[null,null,null,null,null,null,null,null,null,null,null,null,null,null,null,null,null,null,null,null,null,null,null,null,null,null,null,null,null,null,{"$f":"IF(PARAMETRES!$B$3=\"SANS\",SUMIFS(Honoraire[TotalHonoraireHT],Honoraire[ClientId],Personne[[#This Row],[PersonneId]]),SUMIFS(Honoraire[TotalHT],Honoraire[ClientId],Personne[[#This Row],[PersonneId]]))","v":0},{"$f":"Personne[[#This Row],[Facture (HT)]]+ROW()/100000","v":2.2509999999999999E-2},{"$f":"_xlfn.CONCAT(Personne[[#This Row],[Adresse]],\" \",Personne[[#This Row],[CodePostal]],\" \",Personne[[#This Row],[Ville]],\" \",Personne[[#This Row],[CodePays]])","v":"   "}]
[null,null,null,null,null,null,null,null,null,null,null,null,null,null,null,null,null,null,null,null,null,null,null,null,null,null,null,null,null,null,{"$f":"IF(PARAMETRES!$B$3=\"SANS\",SUMIFS(Honoraire[TotalHonoraireHT],Honoraire[ClientId],Personne[[#This Row],[PersonneId]]),SUMIFS(Honoraire[TotalHT],Honoraire[ClientId],Personne[[#This Row],[PersonneId]]))","v":0},{"$f":"Personne[[#This Row],[Facture (HT)]]+ROW()/100000","v":2.2519999999999998E-2},{"$f":"_xlfn.CONCAT(Personne[[#This Row],[Adresse]],\" \",Personne[[#This Row],[CodePostal]],\" \",Personne[[#This Row],[Ville]],\" \",Personne[[#This Row],[CodePays]])","v":"   "}]
[null,null,null,null,null,null,null,null,null,null,null,null,null,null,null,null,null,null,null,null,null,null,null,null,null,null,null,null,null,null,{"$f":"IF(PARAMETRES!$B$3=\"SANS\",SUMIFS(Honoraire[TotalHonoraireHT],Honoraire[ClientId],Personne[[#This Row],[PersonneId]]),SUMIFS(Honoraire[TotalHT],Honoraire[ClientId],Personne[[#This Row],[PersonneId]]))","v":0},{"$f":"Personne[[#This Row],[Facture (HT)]]+ROW()/100000","v":2.2550000000000001E-2},{"$f":"_xlfn.CONCAT(Personne[[#This Row],[Adresse]],\" \",Personne[[#This Row],[CodePostal]],\" \",Personne[[#This Row],[Ville]],\" \",Personne[[#This Row],[CodePays]])","v":"   "}]
[null,null,null,null,null,null,null,null,null,null,null,null,null,null,null,null,null,null,null,null,null,null,null,null,null,null,null,null,null,null,{"$f":"IF(PARAMETRES!$B$3=\"SANS\",SUMIFS(Honoraire[TotalHonoraireHT],Honoraire[ClientId],Personne[[#This Row],[PersonneId]]),SUMIFS(Honoraire[TotalHT],Honoraire[ClientId],Personne[[#This Row],[PersonneId]]))","v":0},{"$f":"Personne[[#This Row],[Facture (HT)]]+ROW()/100000","v":2.256E-2},{"$f":"_xlfn.CONCAT(Personne[[#This Row],[Adresse]],\" \",Personne[[#This Row],[CodePostal]],\" \",Personne[[#This Row],[Ville]],\" \",Personne[[#This Row],[CodePays]])","v":"   "}]
[null,null,null,null,null,null,null,null,null,null,null,null,null,null,null,null,null,null,null,null,null,null,null,null,null,null,null,null,null,null,{"$f":"IF(PARAMETRES!$B$3=\"SANS\",SUMIFS(Honoraire[TotalHonoraireHT],Honoraire[ClientId],Personne[[#This Row],[PersonneId]]),SUMIFS(Honoraire[TotalHT],Honoraire[ClientId],Personne[[#This Row],[PersonneId]]))","v":0},{"$f":"Personne[[#This Row],[Facture (HT)]]+ROW()/100000","v":2.2599999999999999E-2},{"$f":"_xlfn.CONCAT(Personne[[#This Row],[Adresse]],\" \",Personne[[#This Row],[CodePostal]],\" \",Personne[[#This Row],[Ville]],\" \",Personne[[#This Row],[CodePays]])","v":"   "}]
[null,null,null,null,null,null,null,null,null,null,null,null,null,null,null,null,null,null,null,null,null,null,null,null,null,null,null,null,null,null,{"$f":"IF(PARAMETRES!$B$3=\"SANS\",SUMIFS(Honoraire[TotalHonoraireHT],Honoraire[ClientId],Personne[[#This Row],[PersonneId]]),SUMIFS(Honoraire[TotalHT],Honoraire[ClientId],Personne[[#This Row],[PersonneId]]))","v":0},{"$f":"Personne[[#This Row],[Facture (HT)]]+ROW()/100000","v":2.2610000000000002E-2},{"$f":"_xlfn.CONCAT(Personne[[#This Row],[Adresse]],\" \",Personne[[#This Row],[CodePostal]],\" \",Personne[[#This Row],[Ville]],\" \",Personne[[#This Row],[CodePays]])","v":"   "}]
[null,null,null,null,null,null,null,null,null,null,null,null,null,null,null,null,null,null,null,null,null,null,null,null,null,null,null,null,null,null,{"$f":"IF(PARAMETRES!$B$3=\"SANS\",SUMIFS(Honoraire[TotalHonoraireHT],Honoraire[ClientId],Personne[[#This Row],[PersonneId]]),SUMIFS(Honoraire[TotalHT],Honoraire[ClientId],Personne[[#This Row],[PersonneId]]))","v":0},{"$f":"Personne[[#This Row],[Facture (HT)]]+ROW()/100000","v":2.264E-2},{"$f":"_xlfn.CONCAT(Personne[[#This Row],[Adresse]],\" \",Personne[[#This Row],[CodePostal]],\" \",Personne[[#This Row],[Ville]],\" \",Personne[[#This Row],[CodePays]])","v":"   "}]
[null,null,null,null,null,null,null,null,null,null,null,null,null,null,null,null,null,null,null,null,null,null,null,null,null,null,null,null,null,null,{"$f":"IF(PARAMETRES!$B$3=\"SANS\",SUMIFS(Honoraire[TotalHonoraireHT],Honoraire[ClientId],Personne[[#This Row],[PersonneId]]),SUMIFS(Honoraire[TotalHT],Honoraire[ClientId],Personne[[#This Row],[PersonneId]]))","v":0},{"$f":"Personne[[#This Row],[Facture (HT)]]+ROW()/100000","v":2.265E-2},{"$f":"_xlfn.CONCAT(Personne[[#This Row],[Adresse]],\" \",Personne[[#This Row],[CodePostal]],\" \",Personne[[#This Row],[Ville]],\" \",Personne[[#This Row],[CodePays]])","v":"   "}]
[null,null,null,null,null,null,null,null,null,null,null,null,null,null,null,null,null,null,null,null,null,null,null,null,null,null,null,null,null,null,{"$f":"IF(PARAMETRES!$B$3=\"SANS\",SUMIFS(Honoraire[TotalHonoraireHT],Honoraire[ClientId],Personne[[#This Row],[PersonneId]]),SUMIFS(Honoraire[TotalHT],Honoraire[ClientId],Personne[[#This Row],[PersonneId]]))","v":0},{"$f":"Personne[[#This Row],[Facture (HT)]]+ROW()/100000","v":2.2679999999999999E-2},{"$f":"_xlfn.CONCAT(Personne[[#This Row],[Adresse]],\" \",Personne[[#This Row],[CodePostal]],\" \",Personne[[#This Row],[Ville]],\" \",Personne[[#This Row],[CodePays]])","v":"   "}]
[null,null,null,null,null,null,null,null,null,null,null,null,null,null,null,null,null,null,null,null,null,null,null,null,null,null,null,null,null,null,{"$f":"IF(PARAMETRES!$B$3=\"SANS\",SUMIFS(Honoraire[TotalHonoraireHT],Honoraire[ClientId],Personne[[#This Row],[PersonneId]]),SUMIFS(Honoraire[TotalHT],Honoraire[ClientId],Personne[[#This Row],[PersonneId]]))","v":0},{"$f":"Personne[[#This Row],[Facture (HT)]]+ROW()/100000","v":2.2689999999999998E-2},{"$f":"_xlfn.CONCAT(Personne[[#This Row],[Adresse]],\" \",Personne[[#This Row],[CodePostal]],\" \",Personne[[#This Row],[Ville]],\" \",Personne[[#This Row],[CodePays]])","v":"   "}]
[null,null,null,null,null,null,null,null,null,null,null,null,null,null,null,null,null,null,null,null,null,null,null,null,null,null,null,null,null,null,{"$f":"IF(PARAMETRES!$B$3=\"SANS\",SUMIFS(Honoraire[TotalHonoraireHT],Honoraire[ClientId],Personne[[#This Row],[PersonneId]]),SUMIFS(Honoraire[TotalHT],Honoraire[ClientId],Personne[[#This Row],[PersonneId]]))","v":0},{"$f":"Personne[[#This Row],[Facture (HT)]]+ROW()/100000","v":2.273E-2},{"$f":"_xlfn.CONCAT(Personne[[#This Row],[Adresse]],\" \",Personne[[#This Row],[CodePostal]],\" \",Personne[[#This Row],[Ville]],\" \",Personne[[#This Row],[CodePays]])","v":"   "}]
[null,null,null,null,null,null,null,null,null,null,null,null,null,null,null,null,null,null,null,null,null,null,null,null,null,null,null,null,null,null,{"$f":"IF(PARAMETRES!$B$3=\"SANS\",SUMIFS(Honoraire[TotalHonoraireHT],Honoraire[ClientId],Personne[[#This Row],[PersonneId]]),SUMIFS(Honoraire[TotalHT],Honoraire[ClientId],Personne[[#This Row],[PersonneId]]))","v":0},{"$f":"Personne[[#This Row],[Facture (HT)]]+ROW()/100000","v":2.274E-2},{"$f":"_xlfn.CONCAT(Personne[[#This Row],[Adresse]],\" \",Personne[[#This Row],[CodePostal]],\" \",Personne[[#This Row],[Ville]],\" \",Personne[[#This Row],[CodePays]])","v":"   "}]
[null,null,null,null,null,null,null,null,null,null,null,null,null,null,null,null,null,null,null,null,null,null,null,null,null,null,null,null,null,null,{"$f":"IF(PARAMETRES!$B$3=\"SANS\",SUMIFS(Honoraire[TotalHonoraireHT],Honoraire[ClientId],Personne[[#This Row],[PersonneId]]),SUMIFS(Honoraire[TotalHT],Honoraire[ClientId],Personne[[#This Row],[PersonneId]]))","v":0},{"$f":"Personne[[#This Row],[Facture (HT)]]+ROW()/100000","v":2.2769999999999999E-2},{"$f":"_xlfn.CONCAT(Personne[[#This Row],[Adresse]],\" \",Personne[[#This Row],[CodePostal]],\" \",Personne[[#This Row],[Ville]],\" \",Personne[[#This Row],[CodePays]])","v":"   "}]
[null,null,null,null,null,null,null,null,null,null,null,null,null,null,null,null,null,null,null,null,null,null,null,null,null,null,null,null,null,null,{"$f":"IF(PARAMETRES!$B$3=\"SANS\",SUMIFS(Honoraire[TotalHonoraireHT],Honoraire[ClientId],Personne[[#This Row],[PersonneId]]),SUMIFS(Honoraire[TotalHT],Honoraire[ClientId],Personne[[#This Row],[PersonneId]]))","v":0},{"$f":"Personne[[#This Row],[Facture (HT)]]+ROW()/100000","v":2.2780000000000002E-2},{"$f":"_xlfn.CONCAT(Personne[[#This Row],[Adresse]],\" \",Personne[[#This Row],[CodePostal]],\" \",Personne[[#This Row],[Ville]],\" \",Personne[[#This Row],[CodePays]])","v":"   "}]
[null,null,null,null,null,null,null,null,null,null,null,null,null,null,null,null,null,null,null,null,null,null,null,null,null,null,null,null,null,null,{"$f":"IF(PARAMETRES!$B$3=\"SANS\",SUMIFS(Honoraire[TotalHonoraireHT],Honoraire[ClientId],Personne[[#This Row],[PersonneId]]),SUMIFS(Honoraire[TotalHT],Honoraire[ClientId],Personne[[#This Row],[PersonneId]]))","v":0},{"$f":"Personne[[#This Row],[Facture (HT)]]+ROW()/100000","v":2.282E-2},{"$f":"_xlfn.CONCAT(Personne[[#This Row],[Adresse]],\" \",Personne[[#This Row],[CodePostal]],\" \",Personne[[#This Row],[Ville]],\" \",Personne[[#This Row],[CodePays]])","v":"   "}]
[null,null,null,null,null,null,null,null,null,null,null,null,null,null,null,null,null,null,null,null,null,null,null,null,null,null,null,null,null,null,{"$f":"IF(PARAMETRES!$B$3=\"SANS\",SUMIFS(Honoraire[TotalHonoraireHT],Honoraire[ClientId],Personne[[#This Row],[PersonneId]]),SUMIFS(Honoraire[TotalHT],Honoraire[ClientId],Personne[[#This Row],[PersonneId]]))","v":0},{"$f":"Personne[[#This Row],[Facture (HT)]]+ROW()/100000","v":2.283E-2},{"$f":"_xlfn.CONCAT(Personne[[#This Row],[Adresse]],\" \",Personne[[#This Row],[CodePostal]],\" \",Personne[[#This Row],[Ville]],\" \",Personne[[#This Row],[CodePays]])","v":"   "}]
[null,null,null,null,null,null,null,null,null,null,null,null,null,null,null,null,null,null,null,null,null,null,null,null,null,null,null,null,null,null,{"$f":"IF(PARAMETRES!$B$3=\"SANS\",SUMIFS(Honoraire[TotalHonoraireHT],Honoraire[ClientId],Personne[[#This Row],[PersonneId]]),SUMIFS(Honoraire[TotalHT],Honoraire[ClientId],Personne[[#This Row],[PersonneId]]))","v":0},{"$f":"Personne[[#This Row],[Facture (HT)]]+ROW()/100000","v":2.2859999999999998E-2},{"$f":"_xlfn.CONCAT(Personne[[#This Row],[Adresse]],\" \",Personne[[#This Row],[CodePostal]],\" \",Personne[[#This Row],[Ville]],\" \",Personne[[#This Row],[CodePays]])","v":"   "}]
[null,null,null,null,null,null,null,null,null,null,null,null,null,null,null,null,null,null,null,null,null,null,null,null,null,null,null,null,null,null,{"$f":"IF(PARAMETRES!$B$3=\"SANS\",SUMIFS(Honoraire[TotalHonoraireHT],Honoraire[ClientId],Personne[[#This Row],[PersonneId]]),SUMIFS(Honoraire[TotalHT],Honoraire[ClientId],Personne[[#This Row],[PersonneId]]))","v":0},{"$f":"Personne[[#This Row],[Facture (HT)]]+ROW()/100000","v":2.2870000000000001E-2},{"$f":"_xlfn.CONCAT(Personne[[#This Row],[Adresse]],\" \",Personne[[#This Row],[CodePostal]],\" \",Personne[[#This Row],[Ville]],\" \",Personne[[#This Row],[CodePays]])","v":"   "}]
[null,null,null,null,null,null,null,null,null,null,null,null,null,null,null,null,null,null,null,null,null,null,null,null,null,null,null,null,null,null,{"$f":"IF(PARAMETRES!$B$3=\"SANS\",SUMIFS(Honoraire[TotalHonoraireHT],Honoraire[ClientId],Personne[[#This Row],[PersonneId]]),SUMIFS(Honoraire[TotalHT],Honoraire[ClientId],Personne[[#This Row],[PersonneId]]))","v":0},{"$f":"Personne[[#This Row],[Facture (HT)]]+ROW()/100000","v":2.29E-2},{"$f":"_xlfn.CONCAT(Personne[[#This Row],[Adresse]],\" \",Personne[[#This Row],[CodePostal]],\" \",Personne[[#This Row],[Ville]],\" \",Personne[[#This Row],[CodePays]])","v":"   "}]
[null,null,null,null,null,null,null,null,null,null,null,null,null,null,null,null,null,null,null,null,null,null,null,null,null,null,null,null,null,null,{"$f":"IF(PARAMETRES!$B$3=\"SANS\",SUMIFS(Honoraire[TotalHonoraireHT],Honoraire[ClientId],Personne[[#This Row],[PersonneId]]),SUMIFS(Honoraire[TotalHT],Honoraire[ClientId],Personne[[#This Row],[PersonneId]]))","v":0},{"$f":"Personne[[#This Row],[Facture (HT)]]+ROW()/100000","v":2.291E-2},{"$f":"_xlfn.CONCAT(Personne[[#This Row],[Adresse]],\" \",Personne[[#This Row],[CodePostal]],\" \",Personne[[#This Row],[Ville]],\" \",Personne[[#This Row],[CodePays]])","v":"   "}]
[null,null,null,null,null,null,null,null,null,null,null,null,null,null,null,null,null,null,null,null,null,null,null,null,null,null,null,null,null,null,{"$f":"IF(PARAMETRES!$B$3=\"SANS\",SUMIFS(Honoraire[TotalHonoraireHT],Honoraire[ClientId],Personne[[#This Row],[PersonneId]]),SUMIFS(Honoraire[TotalHT],Honoraire[ClientId],Personne[[#This Row],[PersonneId]]))","v":0},{"$f":"Personne[[#This Row],[Facture (HT)]]+ROW()/100000","v":2.2950000000000002E-2},{"$f":"_xlfn.CONCAT(Personne[[#This Row],[Adresse]],\" \",Personne[[#This Row],[CodePostal]],\" \",Personne[[#This Row],[Ville]],\" \",Personne[[#This Row],[CodePays]])","v":"   "}]
[null,null,null,null,null,null,null,null,null,null,null,null,null,null,null,null,null,null,null,null,null,null,null,null,null,null,null,null,null,null,{"$f":"IF(PARAMETRES!$B$3=\"SANS\",SUMIFS(Honoraire[TotalHonoraireHT],Honoraire[ClientId],Personne[[#This Row],[PersonneId]]),SUMIFS(Honoraire[TotalHT],Honoraire[ClientId],Personne[[#This Row],[PersonneId]]))","v":0},{"$f":"Personne[[#This Row],[Facture (HT)]]+ROW()/100000","v":2.2960000000000001E-2},{"$f":"_xlfn.CONCAT(Personne[[#This Row],[Adresse]],\" \",Personne[[#This Row],[CodePostal]],\" \",Personne[[#This Row],[Ville]],\" \",Personne[[#This Row],[CodePays]])","v":"   "}]
[null,null,null,null,null,null,null,null,null,null,null,null,null,null,null,null,null,null,null,null,null,null,null,null,null,null,null,null,null,null,{"$f":"IF(PARAMETRES!$B$3=\"SANS\",SUMIFS(Honoraire[TotalHonoraireHT],Honoraire[ClientId],Personne[[#This Row],[PersonneId]]),SUMIFS(Honoraire[TotalHT],Honoraire[ClientId],Personne[[#This Row],[PersonneId]]))","v":0},{"$f":"Personne[[#This Row],[Facture (HT)]]+ROW()/100000","v":2.299E-2},{"$f":"_xlfn.CONCAT(Personne[[#This Row],[Adresse]],\" \",Personne[[#This Row],[CodePostal]],\" \",Personne[[#This Row],[Ville]],\" \",Personne[[#This Row],[CodePays]])","v":"   "}]
[null,null,null,null,null,null,null,null,null,null,null,null,null,null,null,null,null,null,null,null,null,null,null,null,null,null,null,null,null,null,{"$f":"IF(PARAMETRES!$B$3=\"SANS\",SUMIFS(Honoraire[TotalHonoraireHT],Honoraire[ClientId],Personne[[#This Row],[PersonneId]]),SUMIFS(Honoraire[TotalHT],Honoraire[ClientId],Personne[[#This Row],[PersonneId]]))","v":0},{"$f":"Personne[[#This Row],[Facture (HT)]]+ROW()/100000","v":2.3E-2},{"$f":"_xlfn.CONCAT(Personne[[#This Row],[Adresse]],\" \",Personne[[#This Row],[CodePostal]],\" \",Personne[[#This Row],[Ville]],\" \",Personne[[#This Row],[CodePays]])","v":"   "}]
[null,null,null,null,null,null,null,null,null,null,null,null,null,null,null,null,null,null,null,null,null,null,null,null,null,null,null,null,null,null,{"$f":"IF(PARAMETRES!$B$3=\"SANS\",SUMIFS(Honoraire[TotalHonoraireHT],Honoraire[ClientId],Personne[[#This Row],[PersonneId]]),SUMIFS(Honoraire[TotalHT],Honoraire[ClientId],Personne[[#This Row],[PersonneId]]))","v":0},{"$f":"Personne[[#This Row],[Facture (HT)]]+ROW()/100000","v":2.3029999999999998E-2},{"$f":"_xlfn.CONCAT(Personne[[#This Row],[Adresse]],\" \",Personne[[#This Row],[CodePostal]],\" \",Personne[[#This Row],[Ville]],\" \",Personne[[#This Row],[CodePays]])","v":"   "}]
[null,null,null,null,null,null,null,null,null,null,null,null,null,null,null,null,null,null,null,null,null,null,null,null,null,null,null,null,null,null,{"$f":"IF(PARAMETRES!$B$3=\"SANS\",SUMIFS(Honoraire[TotalHonoraireHT],Honoraire[ClientId],Personne[[#This Row],[PersonneId]]),SUMIFS(Honoraire[TotalHT],Honoraire[ClientId],Personne[[#This Row],[PersonneId]]))","v":0},{"$f":"Personne[[#This Row],[Facture (HT)]]+ROW()/100000","v":2.3050000000000001E-2},{"$f":"_xlfn.CONCAT(Personne[[#This Row],[Adresse]],\" \",Personne[[#This Row],[CodePostal]],\" \",Personne[[#This Row],[Ville]],\" \",Personne[[#This Row],[CodePays]])","v":"   "}]
[null,null,null,null,null,null,null,null,null,null,null,null,null,null,null,null,null,null,null,null,null,null,null,null,null,null,null,null,null,null,{"$f":"IF(PARAMETRES!$B$3=\"SANS\",SUMIFS(Honoraire[TotalHonoraireHT],Honoraire[ClientId],Personne[[#This Row],[PersonneId]]),SUMIFS(Honoraire[TotalHT],Honoraire[ClientId],Personne[[#This Row],[PersonneId]]))","v":0},{"$f":"Personne[[#This Row],[Facture (HT)]]+ROW()/100000","v":2.308E-2},{"$f":"_xlfn.CONCAT(Personne[[#This Row],[Adresse]],\" \",Personne[[#This Row],[CodePostal]],\" \",Personne[[#This Row],[Ville]],\" \",Personne[[#This Row],[CodePays]])","v":"   "}]
[null,null,null,null,null,null,null,null,null,null,null,null,null,null,null,null,null,null,null,null,null,null,null,null,null,null,null,null,null,null,{"$f":"IF(PARAMETRES!$B$3=\"SANS\",SUMIFS(Honoraire[TotalHonoraireHT],Honoraire[ClientId],Personne[[#This Row],[PersonneId]]),SUMIFS(Honoraire[TotalHT],Honoraire[ClientId],Personne[[#This Row],[PersonneId]]))","v":0},{"$f":"Personne[[#This Row],[Facture (HT)]]+ROW()/100000","v":2.3089999999999999E-2},{"$f":"_xlfn.CONCAT(Personne[[#This Row],[Adresse]],\" \",Personne[[#This Row],[CodePostal]],\" \",Personne[[#This Row],[Ville]],\" \",Personne[[#This Row],[CodePays]])","v":"   "}]
[null,null,null,null,null,null,null,null,null,null,null,null,null,null,null,null,null,null,null,null,null,null,null,null,null,null,null,null,null,null,{"$f":"IF(PARAMETRES!$B$3=\"SANS\",SUMIFS(Honoraire[TotalHonoraireHT],Honoraire[ClientId],Personne[[#This Row],[PersonneId]]),SUMIFS(Honoraire[TotalHT],Honoraire[ClientId],Personne[[#This Row],[PersonneId]]))","v":0},{"$f":"Personne[[#This Row],[Facture (HT)]]+ROW()/100000","v":2.3120000000000002E-2},{"$f":"_xlfn.CONCAT(Personne[[#This Row],[Adresse]],\" \",Personne[[#This Row],[CodePostal]],\" \",Personne[[#This Row],[Ville]],\" \",Personne[[#This Row],[CodePays]])","v":"   "}]
[null,null,null,null,null,null,null,null,null,null,null,null,null,null,null,null,null,null,null,null,null,null,null,null,null,null,null,null,null,null,{"$f":"IF(PARAMETRES!$B$3=\"SANS\",SUMIFS(Honoraire[TotalHonoraireHT],Honoraire[ClientId],Personne[[#This Row],[PersonneId]]),SUMIFS(Honoraire[TotalHT],Honoraire[ClientId],Personne[[#This Row],[PersonneId]]))","v":0},{"$f":"Personne[[#This Row],[Facture (HT)]]+ROW()/100000","v":2.3130000000000001E-2},{"$f":"_xlfn.CONCAT(Personne[[#This Row],[Adresse]],\" \",Personne[[#This Row],[CodePostal]],\" \",Personne[[#This Row],[Ville]],\" \",Personne[[#This Row],[CodePays]])","v":"   "}]
[null,null,null,null,null,null,null,null,null,null,null,null,null,null,null,null,null,null,null,null,null,null,null,null,null,null,null,null,null,null,{"$f":"IF(PARAMETRES!$B$3=\"SANS\",SUMIFS(Honoraire[TotalHonoraireHT],Honoraire[ClientId],Personne[[#This Row],[PersonneId]]),SUMIFS(Honoraire[TotalHT],Honoraire[ClientId],Personne[[#This Row],[PersonneId]]))","v":0},{"$f":"Personne[[#This Row],[Facture (HT)]]+ROW()/100000","v":2.316E-2},{"$f":"_xlfn.CONCAT(Personne[[#This Row],[Adresse]],\" \",Personne[[#This Row],[CodePostal]],\" \",Personne[[#This Row],[Ville]],\" \",Personne[[#This Row],[CodePays]])","v":"   "}]
[null,null,null,null,null,null,null,null,null,null,null,null,null,null,null,null,null,null,null,null,null,null,null,null,null,null,null,null,null,null,{"$f":"IF(PARAMETRES!$B$3=\"SANS\",SUMIFS(Honoraire[TotalHonoraireHT],Honoraire[ClientId],Personne[[#This Row],[PersonneId]]),SUMIFS(Honoraire[TotalHT],Honoraire[ClientId],Personne[[#This Row],[PersonneId]]))","v":0},{"$f":"Personne[[#This Row],[Facture (HT)]]+ROW()/100000","v":2.317E-2},{"$f":"_xlfn.CONCAT(Personne[[#This Row],[Adresse]],\" \",Personne[[#This Row],[CodePostal]],\" \",Personne[[#This Row],[Ville]],\" \",Personne[[#This Row],[CodePays]])","v":"   "}]
[null,null,null,null,null,null,null,null,null,null,null,null,null,null,null,null,null,null,null,null,null,null,null,null,null,null,null,null,null,null,{"$f":"IF(PARAMETRES!$B$3=\"SANS\",SUMIFS(Honoraire[TotalHonoraireHT],Honoraire[ClientId],Personne[[#This Row],[PersonneId]]),SUMIFS(Honoraire[TotalHT],Honoraire[ClientId],Personne[[#This Row],[PersonneId]]))","v":0},{"$f":"Personne[[#This Row],[Facture (HT)]]+ROW()/100000","v":2.3210000000000001E-2},{"$f":"_xlfn.CONCAT(Personne[[#This Row],[Adresse]],\" \",Personne[[#This Row],[CodePostal]],\" \",Personne[[#This Row],[Ville]],\" \",Personne[[#This Row],[CodePays]])","v":"   "}]
[null,null,null,null,null,null,null,null,null,null,null,null,null,null,null,null,null,null,null,null,null,null,null,null,null,null,null,null,null,null,{"$f":"IF(PARAMETRES!$B$3=\"SANS\",SUMIFS(Honoraire[TotalHonoraireHT],Honoraire[ClientId],Personne[[#This Row],[PersonneId]]),SUMIFS(Honoraire[TotalHT],Honoraire[ClientId],Personne[[#This Row],[PersonneId]]))","v":0},{"$f":"Personne[[#This Row],[Facture (HT)]]+ROW()/100000","v":2.3220000000000001E-2},{"$f":"_xlfn.CONCAT(Personne[[#This Row],[Adresse]],\" \",Personne[[#This Row],[CodePostal]],\" \",Personne[[#This Row],[Ville]],\" \",Personne[[#This Row],[CodePays]])","v":"   "}]
[null,null,null,null,null,null,null,null,null,null,null,null,null,null,null,null,null,null,null,null,null,null,null,null,null,null,null,null,null,null,{"$f":"IF(PARAMETRES!$B$3=\"SANS\",SUMIFS(Honoraire[TotalHonoraireHT],Honoraire[ClientId],Personne[[#This Row],[PersonneId]]),SUMIFS(Honoraire[TotalHT],Honoraire[ClientId],Personne[[#This Row],[PersonneId]]))","v":0},{"$f":"Personne[[#This Row],[Facture (HT)]]+ROW()/100000","v":2.325E-2},{"$f":"_xlfn.CONCAT(Personne[[#This Row],[Adresse]],\" \",Personne[[#This Row],[CodePostal]],\" \",Personne[[#This Row],[Ville]],\" \",Personne[[#This Row],[CodePays]])","v":"   "}]
[null,null,null,null,null,null,null,null,null,null,null,null,null,null,null,null,null,null,null,null,null,null,null,null,null,null,null,null,null,null,{"$f":"IF(PARAMETRES!$B$3=\"SANS\",SUMIFS(Honoraire[TotalHonoraireHT],Honoraire[ClientId],Personne[[#This Row],[PersonneId]]),SUMIFS(Honoraire[TotalHT],Honoraire[ClientId],Personne[[#This Row],[PersonneId]]))","v":0},{"$f":"Personne[[#This Row],[Facture (HT)]]+ROW()/100000","v":2.3259999999999999E-2},{"$f":"_xlfn.CONCAT(Personne[[#This Row],[Adresse]],\" \",Personne[[#This Row],[CodePostal]],\" \",Personne[[#This Row],[Ville]],\" \",Personne[[#This Row],[CodePays]])","v":"   "}]
[null,null,null,null,null,null,null,null,null,null,null,null,null,null,null,null,null,null,null,null,null,null,null,null,null,null,null,null,null,null,{"$f":"IF(PARAMETRES!$B$3=\"SANS\",SUMIFS(Honoraire[TotalHonoraireHT],Honoraire[ClientId],Personne[[#This Row],[PersonneId]]),SUMIFS(Honoraire[TotalHT],Honoraire[ClientId],Personne[[#This Row],[PersonneId]]))","v":0},{"$f":"Personne[[#This Row],[Facture (HT)]]+ROW()/100000","v":2.3300000000000001E-2},{"$f":"_xlfn.CONCAT(Personne[[#This Row],[Adresse]],\" \",Personne[[#This Row],[CodePostal]],\" \",Personne[[#This Row],[Ville]],\" \",Personne[[#This Row],[CodePays]])","v":"   "}]
[null,null,null,null,null,null,null,null,null,null,null,null,null,null,null,null,null,null,null,null,null,null,null,null,null,null,null,null,null,null,{"$f":"IF(PARAMETRES!$B$3=\"SANS\",SUMIFS(Honoraire[TotalHonoraireHT],Honoraire[ClientId],Personne[[#This Row],[PersonneId]]),SUMIFS(Honoraire[TotalHT],Honoraire[ClientId],Personne[[#This Row],[PersonneId]]))","v":0},{"$f":"Personne[[#This Row],[Facture (HT)]]+ROW()/100000","v":2.3310000000000001E-2},{"$f":"_xlfn.CONCAT(Personne[[#This Row],[Adresse]],\" \",Personne[[#This Row],[CodePostal]],\" \",Personne[[#This Row],[Ville]],\" \",Personne[[#This Row],[CodePays]])","v":"   "}]
[null,null,null,null,null,null,null,null,null,null,null,null,null,null,null,null,null,null,null,null,null,null,null,null,null,null,null,null,null,null,{"$f":"IF(PARAMETRES!$B$3=\"SANS\",SUMIFS(Honoraire[TotalHonoraireHT],Honoraire[ClientId],Personne[[#This Row],[PersonneId]]),SUMIFS(Honoraire[TotalHT],Honoraire[ClientId],Personne[[#This Row],[PersonneId]]))","v":0},{"$f":"Personne[[#This Row],[Facture (HT)]]+ROW()/100000","v":2.334E-2},{"$f":"_xlfn.CONCAT(Personne[[#This Row],[Adresse]],\" \",Personne[[#This Row],[CodePostal]],\" \",Personne[[#This Row],[Ville]],\" \",Personne[[#This Row],[CodePays]])","v":"   "}]
[null,null,null,null,null,null,null,null,null,null,null,null,null,null,null,null,null,null,null,null,null,null,null,null,null,null,null,null,null,null,{"$f":"IF(PARAMETRES!$B$3=\"SANS\",SUMIFS(Honoraire[TotalHonoraireHT],Honoraire[ClientId],Personne[[#This Row],[PersonneId]]),SUMIFS(Honoraire[TotalHT],Honoraire[ClientId],Personne[[#This Row],[PersonneId]]))","v":0},{"$f":"Personne[[#This Row],[Facture (HT)]]+ROW()/100000","v":2.3349999999999999E-2},{"$f":"_xlfn.CONCAT(Personne[[#This Row],[Adresse]],\" \",Personne[[#This Row],[CodePostal]],\" \",Personne[[#This Row],[Ville]],\" \",Personne[[#This Row],[CodePays]])","v":"   "}]
[null,null,null,null,null,null,null,null,null,null,null,null,null,null,null,null,null,null,null,null,null,null,null,null,null,null,null,null,null,null,{"$f":"IF(PARAMETRES!$B$3=\"SANS\",SUMIFS(Honoraire[TotalHonoraireHT],Honoraire[ClientId],Personne[[#This Row],[PersonneId]]),SUMIFS(Honoraire[TotalHT],Honoraire[ClientId],Personne[[#This Row],[PersonneId]]))","v":0},{"$f":"Personne[[#This Row],[Facture (HT)]]+ROW()/100000","v":2.3380000000000001E-2},{"$f":"_xlfn.CONCAT(Personne[[#This Row],[Adresse]],\" \",Personne[[#This Row],[CodePostal]],\" \",Personne[[#This Row],[Ville]],\" \",Personne[[#This Row],[CodePays]])","v":"   "}]
[null,null,null,null,null,null,null,null,null,null,null,null,null,null,null,null,null,null,null,null,null,null,null,null,null,null,null,null,null,null,{"$f":"IF(PARAMETRES!$B$3=\"SANS\",SUMIFS(Honoraire[TotalHonoraireHT],Honoraire[ClientId],Personne[[#This Row],[PersonneId]]),SUMIFS(Honoraire[TotalHT],Honoraire[ClientId],Personne[[#This Row],[PersonneId]]))","v":0},{"$f":"Personne[[#This Row],[Facture (HT)]]+ROW()/100000","v":2.3390000000000001E-2},{"$f":"_xlfn.CONCAT(Personne[[#This Row],[Adresse]],\" \",Personne[[#This Row],[CodePostal]],\" \",Personne[[#This Row],[Ville]],\" \",Personne[[#This Row],[CodePays]])","v":"   "}]
[null,null,null,null,null,null,null,null,null,null,null,null,null,null,null,null,null,null,null,null,null,null,null,null,null,null,null,null,null,null,{"$f":"IF(PARAMETRES!$B$3=\"SANS\",SUMIFS(Honoraire[TotalHonoraireHT],Honoraire[ClientId],Personne[[#This Row],[PersonneId]]),SUMIFS(Honoraire[TotalHT],Honoraire[ClientId],Personne[[#This Row],[PersonneId]]))","v":0},{"$f":"Personne[[#This Row],[Facture (HT)]]+ROW()/100000","v":2.342E-2},{"$f":"_xlfn.CONCAT(Personne[[#This Row],[Adresse]],\" \",Personne[[#This Row],[CodePostal]],\" \",Personne[[#This Row],[Ville]],\" \",Personne[[#This Row],[CodePays]])","v":"   "}]
[null,null,null,null,null,null,null,null,null,null,null,null,null,null,null,null,null,null,null,null,null,null,null,null,null,null,null,null,null,null,{"$f":"IF(PARAMETRES!$B$3=\"SANS\",SUMIFS(Honoraire[TotalHonoraireHT],Honoraire[ClientId],Personne[[#This Row],[PersonneId]]),SUMIFS(Honoraire[TotalHT],Honoraire[ClientId],Personne[[#This Row],[PersonneId]]))","v":0},{"$f":"Personne[[#This Row],[Facture (HT)]]+ROW()/100000","v":2.3439999999999999E-2},{"$f":"_xlfn.CONCAT(Personne[[#This Row],[Adresse]],\" \",Personne[[#This Row],[CodePostal]],\" \",Personne[[#This Row],[Ville]],\" \",Personne[[#This Row],[CodePays]])","v":"   "}]
[null,null,null,null,null,null,null,null,null,null,null,null,null,null,null,null,null,null,null,null,null,null,null,null,null,null,null,null,null,null,{"$f":"IF(PARAMETRES!$B$3=\"SANS\",SUMIFS(Honoraire[TotalHonoraireHT],Honoraire[ClientId],Personne[[#This Row],[PersonneId]]),SUMIFS(Honoraire[TotalHT],Honoraire[ClientId],Personne[[#This Row],[PersonneId]]))","v":0},{"$f":"Personne[[#This Row],[Facture (HT)]]+ROW()/100000","v":2.3470000000000001E-2},{"$f":"_xlfn.CONCAT(Personne[[#This Row],[Adresse]],\" \",Personne[[#This Row],[CodePostal]],\" \",Personne[[#This Row],[Ville]],\" \",Personne[[#This Row],[CodePays]])","v":"   "}]
[null,null,null,null,null,null,null,null,null,null,null,null,null,null,null,null,null,null,null,null,null,null,null,null,null,null,null,null,null,null,{"$f":"IF(PARAMETRES!$B$3=\"SANS\",SUMIFS(Honoraire[TotalHonoraireHT],Honoraire[ClientId],Personne[[#This Row],[PersonneId]]),SUMIFS(Honoraire[TotalHT],Honoraire[ClientId],Personne[[#This Row],[PersonneId]]))","v":0},{"$f":"Personne[[#This Row],[Facture (HT)]]+ROW()/100000","v":2.3480000000000001E-2},{"$f":"_xlfn.CONCAT(Personne[[#This Row],[Adresse]],\" \",Personne[[#This Row],[CodePostal]],\" \",Personne[[#This Row],[Ville]],\" \",Personne[[#This Row],[CodePays]])","v":"   "}]
[null,null,null,null,null,null,null,null,null,null,null,null,null,null,null,null,null,null,null,null,null,null,null,null,null,null,null,null,null,null,{"$f":"IF(PARAMETRES!$B$3=\"SANS\",SUMIFS(Honoraire[TotalHonoraireHT],Honoraire[ClientId],Personne[[#This Row],[PersonneId]]),SUMIFS(Honoraire[TotalHT],Honoraire[ClientId],Personne[[#This Row],[PersonneId]]))","v":0},{"$f":"Personne[[#This Row],[Facture (HT)]]+ROW()/100000","v":2.351E-2},{"$f":"_xlfn.CONCAT(Personne[[#This Row],[Adresse]],\" \",Personne[[#This Row],[CodePostal]],\" \",Personne[[#This Row],[Ville]],\" \",Personne[[#This Row],[CodePays]])","v":"   "}]
[null,null,null,null,null,null,null,null,null,null,null,null,null,null,null,null,null,null,null,null,null,null,null,null,null,null,null,null,null,null,{"$f":"IF(PARAMETRES!$B$3=\"SANS\",SUMIFS(Honoraire[TotalHonoraireHT],Honoraire[ClientId],Personne[[#This Row],[PersonneId]]),SUMIFS(Honoraire[TotalHT],Honoraire[ClientId],Personne[[#This Row],[PersonneId]]))","v":0},{"$f":"Personne[[#This Row],[Facture (HT)]]+ROW()/100000","v":2.3519999999999999E-2},{"$f":"_xlfn.CONCAT(Personne[[#This Row],[Adresse]],\" \",Personne[[#This Row],[CodePostal]],\" \",Personne[[#This Row],[Ville]],\" \",Personne[[#This Row],[CodePays]])","v":"   "}]
[null,null,null,null,null,null,null,null,null,null,null,null,null,null,null,null,null,null,null,null,null,null,null,null,null,null,null,null,null,null,{"$f":"IF(PARAMETRES!$B$3=\"SANS\",SUMIFS(Honoraire[TotalHonoraireHT],Honoraire[ClientId],Personne[[#This Row],[PersonneId]]),SUMIFS(Honoraire[TotalHT],Honoraire[ClientId],Personne[[#This Row],[PersonneId]]))","v":0},{"$f":"Personne[[#This Row],[Facture (HT)]]+ROW()/100000","v":2.3560000000000001E-2},{"$f":"_xlfn.CONCAT(Personne[[#This Row],[Adresse]],\" \",Personne[[#This Row],[CodePostal]],\" \",Personne[[#This Row],[Ville]],\" \",Personne[[#This Row],[CodePays]])","v":"   "}]
[null,null,null,null,null,null,null,null,null,null,null,null,null,null,null,null,null,null,null,null,null,null,null,null,null,null,null,null,null,null,{"$f":"IF(PARAMETRES!$B$3=\"SANS\",SUMIFS(Honoraire[TotalHonoraireHT],Honoraire[ClientId],Personne[[#This Row],[PersonneId]]),SUMIFS(Honoraire[TotalHT],Honoraire[ClientId],Personne[[#This Row],[PersonneId]]))","v":0},{"$f":"Personne[[#This Row],[Facture (HT)]]+ROW()/100000","v":2.3570000000000001E-2},{"$f":"_xlfn.CONCAT(Personne[[#This Row],[Adresse]],\" \",Personne[[#This Row],[CodePostal]],\" \",Personne[[#This Row],[Ville]],\" \",Personne[[#This Row],[CodePays]])","v":"   "}]
[null,null,null,null,null,null,null,null,null,null,null,null,null,null,null,null,null,null,null,null,null,null,null,null,null,null,null,null,null,null,{"$f":"IF(PARAMETRES!$B$3=\"SANS\",SUMIFS(Honoraire[TotalHonoraireHT],Honoraire[ClientId],Personne[[#This Row],[PersonneId]]),SUMIFS(Honoraire[TotalHT],Honoraire[ClientId],Personne[[#This Row],[PersonneId]]))","v":0},{"$f":"Personne[[#This Row],[Facture (HT)]]+ROW()/100000","v":2.3599999999999999E-2},{"$f":"_xlfn.CONCAT(Personne[[#This Row],[Adresse]],\" \",Personne[[#This Row],[CodePostal]],\" \",Personne[[#This Row],[Ville]],\" \",Personne[[#This Row],[CodePays]])","v":"   "}]
[null,null,null,null,null,null,null,null,null,null,null,null,null,null,null,null,null,null,null,null,null,null,null,null,null,null,null,null,null,null,{"$f":"IF(PARAMETRES!$B$3=\"SANS\",SUMIFS(Honoraire[TotalHonoraireHT],Honoraire[ClientId],Personne[[#This Row],[PersonneId]]),SUMIFS(Honoraire[TotalHT],Honoraire[ClientId],Personne[[#This Row],[PersonneId]]))","v":0},{"$f":"Personne[[#This Row],[Facture (HT)]]+ROW()/100000","v":2.3609999999999999E-2},{"$f":"_xlfn.CONCAT(Personne[[#This Row],[Adresse]],\" \",Personne[[#This Row],[CodePostal]],\" \",Personne[[#This Row],[Ville]],\" \",Personne[[#This Row],[CodePays]])","v":"   "}]
[null,null,null,null,null,null,null,null,null,null,null,null,null,null,null,null,null,null,null,null,null,null,null,null,null,null,null,null,null,null,{"$f":"IF(PARAMETRES!$B$3=\"SANS\",SUMIFS(Honoraire[TotalHonoraireHT],Honoraire[ClientId],Personne[[#This Row],[PersonneId]]),SUMIFS(Honoraire[TotalHT],Honoraire[ClientId],Personne[[#This Row],[PersonneId]]))","v":0},{"$f":"Personne[[#This Row],[Facture (HT)]]+ROW()/100000","v":2.3650000000000001E-2},{"$f":"_xlfn.CONCAT(Personne[[#This Row],[Adresse]],\" \",Personne[[#This Row],[CodePostal]],\" \",Personne[[#This Row],[Ville]],\" \",Personne[[#This Row],[CodePays]])","v":"   "}]
[null,null,null,null,null,null,null,null,null,null,null,null,null,null,null,null,null,null,null,null,null,null,null,null,null,null,null,null,null,null,{"$f":"IF(PARAMETRES!$B$3=\"SANS\",SUMIFS(Honoraire[TotalHonoraireHT],Honoraire[ClientId],Personne[[#This Row],[PersonneId]]),SUMIFS(Honoraire[TotalHT],Honoraire[ClientId],Personne[[#This Row],[PersonneId]]))","v":0},{"$f":"Personne[[#This Row],[Facture (HT)]]+ROW()/100000","v":2.366E-2},{"$f":"_xlfn.CONCAT(Personne[[#This Row],[Adresse]],\" \",Personne[[#This Row],[CodePostal]],\" \",Personne[[#This Row],[Ville]],\" \",Personne[[#This Row],[CodePays]])","v":"   "}]
[null,null,null,null,null,null,null,null,null,null,null,null,null,null,null,null,null,null,null,null,null,null,null,null,null,null,null,null,null,null,{"$f":"IF(PARAMETRES!$B$3=\"SANS\",SUMIFS(Honoraire[TotalHonoraireHT],Honoraire[ClientId],Personne[[#This Row],[PersonneId]]),SUMIFS(Honoraire[TotalHT],Honoraire[ClientId],Personne[[#This Row],[PersonneId]]))","v":0},{"$f":"Personne[[#This Row],[Facture (HT)]]+ROW()/100000","v":2.3689999999999999E-2},{"$f":"_xlfn.CONCAT(Personne[[#This Row],[Adresse]],\" \",Personne[[#This Row],[CodePostal]],\" \",Personne[[#This Row],[Ville]],\" \",Personne[[#This Row],[CodePays]])","v":"   "}]
[null,null,null,null,null,null,null,null,null,null,null,null,null,null,null,null,null,null,null,null,null,null,null,null,null,null,null,null,null,null,{"$f":"IF(PARAMETRES!$B$3=\"SANS\",SUMIFS(Honoraire[TotalHonoraireHT],Honoraire[ClientId],Personne[[#This Row],[PersonneId]]),SUMIFS(Honoraire[TotalHT],Honoraire[ClientId],Personne[[#This Row],[PersonneId]]))","v":0},{"$f":"Personne[[#This Row],[Facture (HT)]]+ROW()/100000","v":2.3699999999999999E-2},{"$f":"_xlfn.CONCAT(Personne[[#This Row],[Adresse]],\" \",Personne[[#This Row],[CodePostal]],\" \",Personne[[#This Row],[Ville]],\" \",Personne[[#This Row],[CodePays]])","v":"   "}]
[null,null,null,null,null,null,null,null,null,null,null,null,null,null,null,null,null,null,null,null,null,null,null,null,null,null,null,null,null,null,{"$f":"IF(PARAMETRES!$B$3=\"SANS\",SUMIFS(Honoraire[TotalHonoraireHT],Honoraire[ClientId],Personne[[#This Row],[PersonneId]]),SUMIFS(Honoraire[TotalHT],Honoraire[ClientId],Personne[[#This Row],[PersonneId]]))","v":0},{"$f":"Personne[[#This Row],[Facture (HT)]]+ROW()/100000","v":2.3730000000000001E-2},{"$f":"_xlfn.CONCAT(Personne[[#This Row],[Adresse]],\" \",Personne[[#This Row],[CodePostal]],\" \",Personne[[#This Row],[Ville]],\" \",Personne[[#This Row],[CodePays]])","v":"   "}]
[null,null,null,null,null,null,null,null,null,null,null,null,null,null,null,null,null,null,null,null,null,null,null,null,null,null,null,null,null,null,{"$f":"IF(PARAMETRES!$B$3=\"SANS\",SUMIFS(Honoraire[TotalHonoraireHT],Honoraire[ClientId],Personne[[#This Row],[PersonneId]]),SUMIFS(Honoraire[TotalHT],Honoraire[ClientId],Personne[[#This Row],[PersonneId]]))","v":0},{"$f":"Personne[[#This Row],[Facture (HT)]]+ROW()/100000","v":2.3740000000000001E-2},{"$f":"_xlfn.CONCAT(Personne[[#This Row],[Adresse]],\" \",Personne[[#This Row],[CodePostal]],\" \",Personne[[#This Row],[Ville]],\" \",Personne[[#This Row],[CodePays]])","v":"   "}]
[null,null,null,null,null,null,null,null,null,null,null,null,null,null,null,null,null,null,null,null,null,null,null,null,null,null,null,null,null,null,{"$f":"IF(PARAMETRES!$B$3=\"SANS\",SUMIFS(Honoraire[TotalHonoraireHT],Honoraire[ClientId],Personne[[#This Row],[PersonneId]]),SUMIFS(Honoraire[TotalHT],Honoraire[ClientId],Personne[[#This Row],[PersonneId]]))","v":0},{"$f":"Personne[[#This Row],[Facture (HT)]]+ROW()/100000","v":2.3769999999999999E-2},{"$f":"_xlfn.CONCAT(Personne[[#This Row],[Adresse]],\" \",Personne[[#This Row],[CodePostal]],\" \",Personne[[#This Row],[Ville]],\" \",Personne[[#This Row],[CodePays]])","v":"   "}]
[null,null,null,null,null,null,null,null,null,null,null,null,null,null,null,null,null,null,null,null,null,null,null,null,null,null,null,null,null,null,{"$f":"IF(PARAMETRES!$B$3=\"SANS\",SUMIFS(Honoraire[TotalHonoraireHT],Honoraire[ClientId],Personne[[#This Row],[PersonneId]]),SUMIFS(Honoraire[TotalHT],Honoraire[ClientId],Personne[[#This Row],[PersonneId]]))","v":0},{"$f":"Personne[[#This Row],[Facture (HT)]]+ROW()/100000","v":2.3789999999999999E-2},{"$f":"_xlfn.CONCAT(Personne[[#This Row],[Adresse]],\" \",Personne[[#This Row],[CodePostal]],\" \",Personne[[#This Row],[Ville]],\" \",Personne[[#This Row],[CodePays]])","v":"   "}]
[null,null,null,null,null,null,null,null,null,null,null,null,null,null,null,null,null,null,null,null,null,null,null,null,null,null,null,null,null,null,{"$f":"IF(PARAMETRES!$B$3=\"SANS\",SUMIFS(Honoraire[TotalHonoraireHT],Honoraire[ClientId],Personne[[#This Row],[PersonneId]]),SUMIFS(Honoraire[TotalHT],Honoraire[ClientId],Personne[[#This Row],[PersonneId]]))","v":0},{"$f":"Personne[[#This Row],[Facture (HT)]]+ROW()/100000","v":2.3820000000000001E-2},{"$f":"_xlfn.CONCAT(Personne[[#This Row],[Adresse]],\" \",Personne[[#This Row],[CodePostal]],\" \",Personne[[#This Row],[Ville]],\" \",Personne[[#This Row],[CodePays]])","v":"   "}]
[null,null,null,null,null,null,null,null,null,null,null,null,null,null,null,null,null,null,null,null,null,null,null,null,null,null,null,null,null,null,{"$f":"IF(PARAMETRES!$B$3=\"SANS\",SUMIFS(Honoraire[TotalHonoraireHT],Honoraire[ClientId],Personne[[#This Row],[PersonneId]]),SUMIFS(Honoraire[TotalHT],Honoraire[ClientId],Personne[[#This Row],[PersonneId]]))","v":0},{"$f":"Personne[[#This Row],[Facture (HT)]]+ROW()/100000","v":2.383E-2},{"$f":"_xlfn.CONCAT(Personne[[#This Row],[Adresse]],\" \",Personne[[#This Row],[CodePostal]],\" \",Personne[[#This Row],[Ville]],\" \",Personne[[#This Row],[CodePays]])","v":"   "}]
[null,null,null,null,null,null,null,null,null,null,null,null,null,null,null,null,null,null,null,null,null,null,null,null,null,null,null,null,null,null,{"$f":"IF(PARAMETRES!$B$3=\"SANS\",SUMIFS(Honoraire[TotalHonoraireHT],Honoraire[ClientId],Personne[[#This Row],[PersonneId]]),SUMIFS(Honoraire[TotalHT],Honoraire[ClientId],Personne[[#This Row],[PersonneId]]))","v":0},{"$f":"Personne[[#This Row],[Facture (HT)]]+ROW()/100000","v":2.3859999999999999E-2},{"$f":"_xlfn.CONCAT(Personne[[#This Row],[Adresse]],\" \",Personne[[#This Row],[CodePostal]],\" \",Personne[[#This Row],[Ville]],\" \",Personne[[#This Row],[CodePays]])","v":"   "}]
[null,null,null,null,null,null,null,null,null,null,null,null,null,null,null,null,null,null,null,null,null,null,null,null,null,null,null,null,null,null,{"$f":"IF(PARAMETRES!$B$3=\"SANS\",SUMIFS(Honoraire[TotalHonoraireHT],Honoraire[ClientId],Personne[[#This Row],[PersonneId]]),SUMIFS(Honoraire[TotalHT],Honoraire[ClientId],Personne[[#This Row],[PersonneId]]))","v":0},{"$f":"Personne[[#This Row],[Facture (HT)]]+ROW()/100000","v":2.3869999999999999E-2},{"$f":"_xlfn.CONCAT(Personne[[#This Row],[Adresse]],\" \",Personne[[#This Row],[CodePostal]],\" \",Personne[[#This Row],[Ville]],\" \",Personne[[#This Row],[CodePays]])","v":"   "}]
[null,null,null,null,null,null,null,null,null,null,null,null,null,null,null,null,null,null,null,null,null,null,null,null,null,null,null,null,null,null,{"$f":"IF(PARAMETRES!$B$3=\"SANS\",SUMIFS(Honoraire[TotalHonoraireHT],Honoraire[ClientId],Personne[[#This Row],[PersonneId]]),SUMIFS(Honoraire[TotalHT],Honoraire[ClientId],Personne[[#This Row],[PersonneId]]))","v":0},{"$f":"Personne[[#This Row],[Facture (HT)]]+ROW()/100000","v":2.3910000000000001E-2},{"$f":"_xlfn.CONCAT(Personne[[#This Row],[Adresse]],\" \",Personne[[#This Row],[CodePostal]],\" \",Personne[[#This Row],[Ville]],\" \",Personne[[#This Row],[CodePays]])","v":"   "}]
[null,null,null,null,null,null,null,null,null,null,null,null,null,null,null,null,null,null,null,null,null,null,null,null,null,null,null,null,null,null,{"$f":"IF(PARAMETRES!$B$3=\"SANS\",SUMIFS(Honoraire[TotalHonoraireHT],Honoraire[ClientId],Personne[[#This Row],[PersonneId]]),SUMIFS(Honoraire[TotalHT],Honoraire[ClientId],Personne[[#This Row],[PersonneId]]))","v":0},{"$f":"Personne[[#This Row],[Facture (HT)]]+ROW()/100000","v":2.392E-2},{"$f":"_xlfn.CONCAT(Personne[[#This Row],[Adresse]],\" \",Personne[[#This Row],[CodePostal]],\" \",Personne[[#This Row],[Ville]],\" \",Personne[[#This Row],[CodePays]])","v":"   "}]
[null,null,null,null,null,null,null,null,null,null,null,null,null,null,null,null,null,null,null,null,null,null,null,null,null,null,null,null,null,null,{"$f":"IF(PARAMETRES!$B$3=\"SANS\",SUMIFS(Honoraire[TotalHonoraireHT],Honoraire[ClientId],Personne[[#This Row],[PersonneId]]),SUMIFS(Honoraire[TotalHT],Honoraire[ClientId],Personne[[#This Row],[PersonneId]]))","v":0},{"$f":"Personne[[#This Row],[Facture (HT)]]+ROW()/100000","v":2.3949999999999999E-2},{"$f":"_xlfn.CONCAT(Personne[[#This Row],[Adresse]],\" \",Personne[[#This Row],[CodePostal]],\" \",Personne[[#This Row],[Ville]],\" \",Personne[[#This Row],[CodePays]])","v":"   "}]
[null,null,null,null,null,null,null,null,null,null,null,null,null,null,null,null,null,null,null,null,null,null,null,null,null,null,null,null,null,null,{"$f":"IF(PARAMETRES!$B$3=\"SANS\",SUMIFS(Honoraire[TotalHonoraireHT],Honoraire[ClientId],Personne[[#This Row],[PersonneId]]),SUMIFS(Honoraire[TotalHT],Honoraire[ClientId],Personne[[#This Row],[PersonneId]]))","v":0},{"$f":"Personne[[#This Row],[Facture (HT)]]+ROW()/100000","v":2.3959999999999999E-2},{"$f":"_xlfn.CONCAT(Personne[[#This Row],[Adresse]],\" \",Personne[[#This Row],[CodePostal]],\" \",Personne[[#This Row],[Ville]],\" \",Personne[[#This Row],[CodePays]])","v":"   "}]
[null,null,null,null,null,null,null,null,null,null,null,null,null,null,null,null,null,null,null,null,null,null,null,null,null,null,null,null,null,null,{"$f":"IF(PARAMETRES!$B$3=\"SANS\",SUMIFS(Honoraire[TotalHonoraireHT],Honoraire[ClientId],Personne[[#This Row],[PersonneId]]),SUMIFS(Honoraire[TotalHT],Honoraire[ClientId],Personne[[#This Row],[PersonneId]]))","v":0},{"$f":"Personne[[#This Row],[Facture (HT)]]+ROW()/100000","v":2.3990000000000001E-2},{"$f":"_xlfn.CONCAT(Personne[[#This Row],[Adresse]],\" \",Personne[[#This Row],[CodePostal]],\" \",Personne[[#This Row],[Ville]],\" \",Personne[[#This Row],[CodePays]])","v":"   "}]
[null,null,null,null,null,null,null,null,null,null,null,null,null,null,null,null,null,null,null,null,null,null,null,null,null,null,null,null,null,null,{"$f":"IF(PARAMETRES!$B$3=\"SANS\",SUMIFS(Honoraire[TotalHonoraireHT],Honoraire[ClientId],Personne[[#This Row],[PersonneId]]),SUMIFS(Honoraire[TotalHT],Honoraire[ClientId],Personne[[#This Row],[PersonneId]]))","v":0},{"$f":"Personne[[#This Row],[Facture (HT)]]+ROW()/100000","v":2.402E-2},{"$f":"_xlfn.CONCAT(Personne[[#This Row],[Adresse]],\" \",Personne[[#This Row],[CodePostal]],\" \",Personne[[#This Row],[Ville]],\" \",Personne[[#This Row],[CodePays]])","v":"   "}]
[null,null,null,null,null,null,null,null,null,null,null,null,null,null,null,null,null,null,null,null,null,null,null,null,null,null,null,null,null,null,{"$f":"IF(PARAMETRES!$B$3=\"SANS\",SUMIFS(Honoraire[TotalHonoraireHT],Honoraire[ClientId],Personne[[#This Row],[PersonneId]]),SUMIFS(Honoraire[TotalHT],Honoraire[ClientId],Personne[[#This Row],[PersonneId]]))","v":0},{"$f":"Personne[[#This Row],[Facture (HT)]]+ROW()/100000","v":2.4039999999999999E-2},{"$f":"_xlfn.CONCAT(Personne[[#This Row],[Adresse]],\" \",Personne[[#This Row],[CodePostal]],\" \",Personne[[#This Row],[Ville]],\" \",Personne[[#This Row],[CodePays]])","v":"   "}]
[null,null,null,null,null,null,null,null,null,null,null,null,null,null,null,null,null,null,null,null,null,null,null,null,null,null,null,null,null,null,{"$f":"IF(PARAMETRES!$B$3=\"SANS\",SUMIFS(Honoraire[TotalHonoraireHT],Honoraire[ClientId],Personne[[#This Row],[PersonneId]]),SUMIFS(Honoraire[TotalHT],Honoraire[ClientId],Personne[[#This Row],[PersonneId]]))","v":0},{"$f":"Personne[[#This Row],[Facture (HT)]]+ROW()/100000","v":2.4049999999999998E-2},{"$f":"_xlfn.CONCAT(Personne[[#This Row],[Adresse]],\" \",Personne[[#This Row],[CodePostal]],\" \",Personne[[#This Row],[Ville]],\" \",Personne[[#This Row],[CodePays]])","v":"   "}]
[null,null,null,null,null,null,null,null,null,null,null,null,null,null,null,null,null,null,null,null,null,null,null,null,null,null,null,null,null,null,{"$f":"IF(PARAMETRES!$B$3=\"SANS\",SUMIFS(Honoraire[TotalHonoraireHT],Honoraire[ClientId],Personne[[#This Row],[PersonneId]]),SUMIFS(Honoraire[TotalHT],Honoraire[ClientId],Personne[[#This Row],[PersonneId]]))","v":0},{"$f":"Personne[[#This Row],[Facture (HT)]]+ROW()/100000","v":2.4080000000000001E-2},{"$f":"_xlfn.CONCAT(Personne[[#This Row],[Adresse]],\" \",Personne[[#This Row],[CodePostal]],\" \",Personne[[#This Row],[Ville]],\" \",Personne[[#This Row],[CodePays]])","v":"   "}]
[null,null,null,null,null,null,null,null,null,null,null,null,null,null,null,null,null,null,null,null,null,null,null,null,null,null,null,null,null,null,{"$f":"IF(PARAMETRES!$B$3=\"SANS\",SUMIFS(Honoraire[TotalHonoraireHT],Honoraire[ClientId],Personne[[#This Row],[PersonneId]]),SUMIFS(Honoraire[TotalHT],Honoraire[ClientId],Personne[[#This Row],[PersonneId]]))","v":0},{"$f":"Personne[[#This Row],[Facture (HT)]]+ROW()/100000","v":2.409E-2},{"$f":"_xlfn.CONCAT(Personne[[#This Row],[Adresse]],\" \",Personne[[#This Row],[CodePostal]],\" \",Personne[[#This Row],[Ville]],\" \",Personne[[#This Row],[CodePays]])","v":"   "}]
[null,null,null,null,null,null,null,null,null,null,null,null,null,null,null,null,null,null,null,null,null,null,null,null,null,null,null,null,null,null,{"$f":"IF(PARAMETRES!$B$3=\"SANS\",SUMIFS(Honoraire[TotalHonoraireHT],Honoraire[ClientId],Personne[[#This Row],[PersonneId]]),SUMIFS(Honoraire[TotalHT],Honoraire[ClientId],Personne[[#This Row],[PersonneId]]))","v":0},{"$f":"Personne[[#This Row],[Facture (HT)]]+ROW()/100000","v":2.4119999999999999E-2},{"$f":"_xlfn.CONCAT(Personne[[#This Row],[Adresse]],\" \",Personne[[#This Row],[CodePostal]],\" \",Personne[[#This Row],[Ville]],\" \",Personne[[#This Row],[CodePays]])","v":"   "}]
[null,null,null,null,null,null,null,null,null,null,null,null,null,null,null,null,null,null,null,null,null,null,null,null,null,null,null,null,null,null,{"$f":"IF(PARAMETRES!$B$3=\"SANS\",SUMIFS(Honoraire[TotalHonoraireHT],Honoraire[ClientId],Personne[[#This Row],[PersonneId]]),SUMIFS(Honoraire[TotalHT],Honoraire[ClientId],Personne[[#This Row],[PersonneId]]))","v":0},{"$f":"Personne[[#This Row],[Facture (HT)]]+ROW()/100000","v":2.4140000000000002E-2},{"$f":"_xlfn.CONCAT(Personne[[#This Row],[Adresse]],\" \",Personne[[#This Row],[CodePostal]],\" \",Personne[[#This Row],[Ville]],\" \",Personne[[#This Row],[CodePays]])","v":"   "}]
[null,null,null,null,null,null,null,null,null,null,null,null,null,null,null,null,null,null,null,null,null,null,null,null,null,null,null,null,null,null,{"$f":"IF(PARAMETRES!$B$3=\"SANS\",SUMIFS(Honoraire[TotalHonoraireHT],Honoraire[ClientId],Personne[[#This Row],[PersonneId]]),SUMIFS(Honoraire[TotalHT],Honoraire[ClientId],Personne[[#This Row],[PersonneId]]))","v":0},{"$f":"Personne[[#This Row],[Facture (HT)]]+ROW()/100000","v":2.4170000000000001E-2},{"$f":"_xlfn.CONCAT(Personne[[#This Row],[Adresse]],\" \",Personne[[#This Row],[CodePostal]],\" \",Personne[[#This Row],[Ville]],\" \",Personne[[#This Row],[CodePays]])","v":"   "}]
[null,null,null,null,null,null,null,null,null,null,null,null,null,null,null,null,null,null,null,null,null,null,null,null,null,null,null,null,null,null,{"$f":"IF(PARAMETRES!$B$3=\"SANS\",SUMIFS(Honoraire[TotalHonoraireHT],Honoraire[ClientId],Personne[[#This Row],[PersonneId]]),SUMIFS(Honoraire[TotalHT],Honoraire[ClientId],Personne[[#This Row],[PersonneId]]))","v":0},{"$f":"Personne[[#This Row],[Facture (HT)]]+ROW()/100000","v":2.418E-2},{"$f":"_xlfn.CONCAT(Personne[[#This Row],[Adresse]],\" \",Personne[[#This Row],[CodePostal]],\" \",Personne[[#This Row],[Ville]],\" \",Personne[[#This Row],[CodePays]])","v":"   "}]
[null,null,null,null,null,null,null,null,null,null,null,null,null,null,null,null,null,null,null,null,null,null,null,null,null,null,null,null,null,null,{"$f":"IF(PARAMETRES!$B$3=\"SANS\",SUMIFS(Honoraire[TotalHonoraireHT],Honoraire[ClientId],Personne[[#This Row],[PersonneId]]),SUMIFS(Honoraire[TotalHT],Honoraire[ClientId],Personne[[#This Row],[PersonneId]]))","v":0},{"$f":"Personne[[#This Row],[Facture (HT)]]+ROW()/100000","v":2.4209999999999999E-2},{"$f":"_xlfn.CONCAT(Personne[[#This Row],[Adresse]],\" \",Personne[[#This Row],[CodePostal]],\" \",Personne[[#This Row],[Ville]],\" \",Personne[[#This Row],[CodePays]])","v":"   "}]
[null,null,null,null,null,null,null,null,null,null,null,null,null,null,null,null,null,null,null,null,null,null,null,null,null,null,null,null,null,null,{"$f":"IF(PARAMETRES!$B$3=\"SANS\",SUMIFS(Honoraire[TotalHonoraireHT],Honoraire[ClientId],Personne[[#This Row],[PersonneId]]),SUMIFS(Honoraire[TotalHT],Honoraire[ClientId],Personne[[#This Row],[PersonneId]]))","v":0},{"$f":"Personne[[#This Row],[Facture (HT)]]+ROW()/100000","v":2.4219999999999998E-2},{"$f":"_xlfn.CONCAT(Personne[[#This Row],[Adresse]],\" \",Personne[[#This Row],[CodePostal]],\" \",Personne[[#This Row],[Ville]],\" \",Personne[[#This Row],[CodePays]])","v":"   "}]
[null,null,null,null,null,null,null,null,null,null,null,null,null,null,null,null,null,null,null,null,null,null,null,null,null,null,null,null,null,null,{"$f":"IF(PARAMETRES!$B$3=\"SANS\",SUMIFS(Honoraire[TotalHonoraireHT],Honoraire[ClientId],Personne[[#This Row],[PersonneId]]),SUMIFS(Honoraire[TotalHT],Honoraire[ClientId],Personne[[#This Row],[PersonneId]]))","v":0},{"$f":"Personne[[#This Row],[Facture (HT)]]+ROW()/100000","v":2.4250000000000001E-2},{"$f":"_xlfn.CONCAT(Personne[[#This Row],[Adresse]],\" \",Personne[[#This Row],[CodePostal]],\" \",Personne[[#This Row],[Ville]],\" \",Personne[[#This Row],[CodePays]])","v":"   "}]
[null,null,null,null,null,null,null,null,null,null,null,null,null,null,null,null,null,null,null,null,null,null,null,null,null,null,null,null,null,null,{"$f":"IF(PARAMETRES!$B$3=\"SANS\",SUMIFS(Honoraire[TotalHonoraireHT],Honoraire[ClientId],Personne[[#This Row],[PersonneId]]),SUMIFS(Honoraire[TotalHT],Honoraire[ClientId],Personne[[#This Row],[PersonneId]]))","v":0},{"$f":"Personne[[#This Row],[Facture (HT)]]+ROW()/100000","v":2.427E-2},{"$f":"_xlfn.CONCAT(Personne[[#This Row],[Adresse]],\" \",Personne[[#This Row],[CodePostal]],\" \",Personne[[#This Row],[Ville]],\" \",Personne[[#This Row],[CodePays]])","v":"   "}]
[null,null,null,null,null,null,null,null,null,null,null,null,null,null,null,null,null,null,null,null,null,null,null,null,null,null,null,null,null,null,{"$f":"IF(PARAMETRES!$B$3=\"SANS\",SUMIFS(Honoraire[TotalHonoraireHT],Honoraire[ClientId],Personne[[#This Row],[PersonneId]]),SUMIFS(Honoraire[TotalHT],Honoraire[ClientId],Personne[[#This Row],[PersonneId]]))","v":0},{"$f":"Personne[[#This Row],[Facture (HT)]]+ROW()/100000","v":2.4299999999999999E-2},{"$f":"_xlfn.CONCAT(Personne[[#This Row],[Adresse]],\" \",Personne[[#This Row],[CodePostal]],\" \",Personne[[#This Row],[Ville]],\" \",Personne[[#This Row],[CodePays]])","v":"   "}]
[null,null,null,null,null,null,null,null,null,null,null,null,null,null,null,null,null,null,null,null,null,null,null,null,null,null,null,null,null,null,{"$f":"IF(PARAMETRES!$B$3=\"SANS\",SUMIFS(Honoraire[TotalHonoraireHT],Honoraire[ClientId],Personne[[#This Row],[PersonneId]]),SUMIFS(Honoraire[TotalHT],Honoraire[ClientId],Personne[[#This Row],[PersonneId]]))","v":0},{"$f":"Personne[[#This Row],[Facture (HT)]]+ROW()/100000","v":2.4309999999999998E-2},{"$f":"_xlfn.CONCAT(Personne[[#This Row],[Adresse]],\" \",Personne[[#This Row],[CodePostal]],\" \",Personne[[#This Row],[Ville]],\" \",Personne[[#This Row],[CodePays]])","v":"   "}]
[null,null,null,null,null,null,null,null,null,null,null,null,null,null,null,null,null,null,null,null,null,null,null,null,null,null,null,null,null,null,{"$f":"IF(PARAMETRES!$B$3=\"SANS\",SUMIFS(Honoraire[TotalHonoraireHT],Honoraire[ClientId],Personne[[#This Row],[PersonneId]]),SUMIFS(Honoraire[TotalHT],Honoraire[ClientId],Personne[[#This Row],[PersonneId]]))","v":0},{"$f":"Personne[[#This Row],[Facture (HT)]]+ROW()/100000","v":2.4340000000000001E-2},{"$f":"_xlfn.CONCAT(Personne[[#This Row],[Adresse]],\" \",Personne[[#This Row],[CodePostal]],\" \",Personne[[#This Row],[Ville]],\" \",Personne[[#This Row],[CodePays]])","v":"   "}]
[null,null,null,null,null,null,null,null,null,null,null,null,null,null,null,null,null,null,null,null,null,null,null,null,null,null,null,null,null,null,{"$f":"IF(PARAMETRES!$B$3=\"SANS\",SUMIFS(Honoraire[TotalHonoraireHT],Honoraire[ClientId],Personne[[#This Row],[PersonneId]]),SUMIFS(Honoraire[TotalHT],Honoraire[ClientId],Personne[[#This Row],[PersonneId]]))","v":0},{"$f":"Personne[[#This Row],[Facture (HT)]]+ROW()/100000","v":2.4369999999999999E-2},{"$f":"_xlfn.CONCAT(Personne[[#This Row],[Adresse]],\" \",Personne[[#This Row],[CodePostal]],\" \",Personne[[#This Row],[Ville]],\" \",Personne[[#This Row],[CodePays]])","v":"   "}]
[null,null,null,null,null,null,null,null,null,null,null,null,null,null,null,null,null,null,null,null,null,null,null,null,null,null,null,null,null,null,{"$f":"IF(PARAMETRES!$B$3=\"SANS\",SUMIFS(Honoraire[TotalHonoraireHT],Honoraire[ClientId],Personne[[#This Row],[PersonneId]]),SUMIFS(Honoraire[TotalHT],Honoraire[ClientId],Personne[[#This Row],[PersonneId]]))","v":0},{"$f":"Personne[[#This Row],[Facture (HT)]]+ROW()/100000","v":2.4389999999999998E-2},{"$f":"_xlfn.CONCAT(Personne[[#This Row],[Adresse]],\" \",Personne[[#This Row],[CodePostal]],\" \",Personne[[#This Row],[Ville]],\" \",Personne[[#This Row],[CodePays]])","v":"   "}]
[null,null,null,null,null,null,null,null,null,null,null,null,null,null,null,null,null,null,null,null,null,null,null,null,null,null,null,null,null,null,{"$f":"IF(PARAMETRES!$B$3=\"SANS\",SUMIFS(Honoraire[TotalHonoraireHT],Honoraire[ClientId],Personne[[#This Row],[PersonneId]]),SUMIFS(Honoraire[TotalHT],Honoraire[ClientId],Personne[[#This Row],[PersonneId]]))","v":0},{"$f":"Personne[[#This Row],[Facture (HT)]]+ROW()/100000","v":2.4400000000000002E-2},{"$f":"_xlfn.CONCAT(Personne[[#This Row],[Adresse]],\" \",Personne[[#This Row],[CodePostal]],\" \",Personne[[#This Row],[Ville]],\" \",Personne[[#This Row],[CodePays]])","v":"   "}]
[null,null,null,null,null,null,null,null,null,null,null,null,null,null,null,null,null,null,null,null,null,null,null,null,null,null,null,null,null,null,{"$f":"IF(PARAMETRES!$B$3=\"SANS\",SUMIFS(Honoraire[TotalHonoraireHT],Honoraire[ClientId],Personne[[#This Row],[PersonneId]]),SUMIFS(Honoraire[TotalHT],Honoraire[ClientId],Personne[[#This Row],[PersonneId]]))","v":0},{"$f":"Personne[[#This Row],[Facture (HT)]]+ROW()/100000","v":2.443E-2},{"$f":"_xlfn.CONCAT(Personne[[#This Row],[Adresse]],\" \",Personne[[#This Row],[CodePostal]],\" \",Personne[[#This Row],[Ville]],\" \",Personne[[#This Row],[CodePays]])","v":"   "}]
[null,null,null,null,null,null,null,null,null,null,null,null,null,null,null,null,null,null,null,null,null,null,null,null,null,null,null,null,null,null,{"$f":"IF(PARAMETRES!$B$3=\"SANS\",SUMIFS(Honoraire[TotalHonoraireHT],Honoraire[ClientId],Personne[[#This Row],[PersonneId]]),SUMIFS(Honoraire[TotalHT],Honoraire[ClientId],Personne[[#This Row],[PersonneId]]))","v":0},{"$f":"Personne[[#This Row],[Facture (HT)]]+ROW()/100000","v":2.444E-2},{"$f":"_xlfn.CONCAT(Personne[[#This Row],[Adresse]],\" \",Personne[[#This Row],[CodePostal]],\" \",Personne[[#This Row],[Ville]],\" \",Personne[[#This Row],[CodePays]])","v":"   "}]
[null,null,null,null,null,null,null,null,null,null,null,null,null,null,null,null,null,null,null,null,null,null,null,null,null,null,null,null,null,null,{"$f":"IF(PARAMETRES!$B$3=\"SANS\",SUMIFS(Honoraire[TotalHonoraireHT],Honoraire[ClientId],Personne[[#This Row],[PersonneId]]),SUMIFS(Honoraire[TotalHT],Honoraire[ClientId],Personne[[#This Row],[PersonneId]]))","v":0},{"$f":"Personne[[#This Row],[Facture (HT)]]+ROW()/100000","v":2.4469999999999999E-2},{"$f":"_xlfn.CONCAT(Personne[[#This Row],[Adresse]],\" \",Personne[[#This Row],[CodePostal]],\" \",Personne[[#This Row],[Ville]],\" \",Personne[[#This Row],[CodePays]])","v":"   "}]
[null,null,null,null,null,null,null,null,null,null,null,null,null,null,null,null,null,null,null,null,null,null,null,null,null,null,null,null,null,null,{"$f":"IF(PARAMETRES!$B$3=\"SANS\",SUMIFS(Honoraire[TotalHonoraireHT],Honoraire[ClientId],Personne[[#This Row],[PersonneId]]),SUMIFS(Honoraire[TotalHT],Honoraire[ClientId],Personne[[#This Row],[PersonneId]]))","v":0},{"$f":"Personne[[#This Row],[Facture (HT)]]+ROW()/100000","v":2.4500000000000001E-2},{"$f":"_xlfn.CONCAT(Personne[[#This Row],[Adresse]],\" \",Personne[[#This Row],[CodePostal]],\" \",Personne[[#This Row],[Ville]],\" \",Personne[[#This Row],[CodePays]])","v":"   "}]
[null,null,null,null,null,null,null,null,null,null,null,null,null,null,null,null,null,null,null,null,null,null,null,null,null,null,null,null,null,null,{"$f":"IF(PARAMETRES!$B$3=\"SANS\",SUMIFS(Honoraire[TotalHonoraireHT],Honoraire[ClientId],Personne[[#This Row],[PersonneId]]),SUMIFS(Honoraire[TotalHT],Honoraire[ClientId],Personne[[#This Row],[PersonneId]]))","v":0},{"$f":"Personne[[#This Row],[Facture (HT)]]+ROW()/100000","v":2.452E-2},{"$f":"_xlfn.CONCAT(Personne[[#This Row],[Adresse]],\" \",Personne[[#This Row],[CodePostal]],\" \",Personne[[#This Row],[Ville]],\" \",Personne[[#This Row],[CodePays]])","v":"   "}]
[null,null,null,null,null,null,null,null,null,null,null,null,null,null,null,null,null,null,null,null,null,null,null,null,null,null,null,null,null,null,{"$f":"IF(PARAMETRES!$B$3=\"SANS\",SUMIFS(Honoraire[TotalHonoraireHT],Honoraire[ClientId],Personne[[#This Row],[PersonneId]]),SUMIFS(Honoraire[TotalHT],Honoraire[ClientId],Personne[[#This Row],[PersonneId]]))","v":0},{"$f":"Personne[[#This Row],[Facture (HT)]]+ROW()/100000","v":2.453E-2},{"$f":"_xlfn.CONCAT(Personne[[#This Row],[Adresse]],\" \",Personne[[#This Row],[CodePostal]],\" \",Personne[[#This Row],[Ville]],\" \",Personne[[#This Row],[CodePays]])","v":"   "}]
[null,null,null,null,null,null,null,null,null,null,null,null,null,null,null,null,null,null,null,null,null,null,null,null,null,null,null,null,null,null,{"$f":"IF(PARAMETRES!$B$3=\"SANS\",SUMIFS(Honoraire[TotalHonoraireHT],Honoraire[ClientId],Personne[[#This Row],[PersonneId]]),SUMIFS(Honoraire[TotalHT],Honoraire[ClientId],Personne[[#This Row],[PersonneId]]))","v":0},{"$f":"Personne[[#This Row],[Facture (HT)]]+ROW()/100000","v":2.4559999999999998E-2},{"$f":"_xlfn.CONCAT(Personne[[#This Row],[Adresse]],\" \",Personne[[#This Row],[CodePostal]],\" \",Personne[[#This Row],[Ville]],\" \",Personne[[#This Row],[CodePays]])","v":"   "}]
[null,null,null,null,null,null,null,null,null,null,null,null,null,null,null,null,null,null,null,null,null,null,null,null,null,null,null,null,null,null,{"$f":"IF(PARAMETRES!$B$3=\"SANS\",SUMIFS(Honoraire[TotalHonoraireHT],Honoraire[ClientId],Personne[[#This Row],[PersonneId]]),SUMIFS(Honoraire[TotalHT],Honoraire[ClientId],Personne[[#This Row],[PersonneId]]))","v":0},{"$f":"Personne[[#This Row],[Facture (HT)]]+ROW()/100000","v":2.4570000000000002E-2},{"$f":"_xlfn.CONCAT(Personne[[#This Row],[Adresse]],\" \",Personne[[#This Row],[CodePostal]],\" \",Personne[[#This Row],[Ville]],\" \",Personne[[#This Row],[CodePays]])","v":"   "}]
[null,null,null,null,null,null,null,null,null,null,null,null,null,null,null,null,null,null,null,null,null,null,null,null,null,null,null,null,null,null,{"$f":"IF(PARAMETRES!$B$3=\"SANS\",SUMIFS(Honoraire[TotalHonoraireHT],Honoraire[ClientId],Personne[[#This Row],[PersonneId]]),SUMIFS(Honoraire[TotalHT],Honoraire[ClientId],Personne[[#This Row],[PersonneId]]))","v":0},{"$f":"Personne[[#This Row],[Facture (HT)]]+ROW()/100000","v":2.46E-2},{"$f":"_xlfn.CONCAT(Personne[[#This Row],[Adresse]],\" \",Personne[[#This Row],[CodePostal]],\" \",Personne[[#This Row],[Ville]],\" \",Personne[[#This Row],[CodePays]])","v":"   "}]
[null,null,null,null,null,null,null,null,null,null,null,null,null,null,null,null,null,null,null,null,null,null,null,null,null,null,null,null,null,null,{"$f":"IF(PARAMETRES!$B$3=\"SANS\",SUMIFS(Honoraire[TotalHonoraireHT],Honoraire[ClientId],Personne[[#This Row],[PersonneId]]),SUMIFS(Honoraire[TotalHT],Honoraire[ClientId],Personne[[#This Row],[PersonneId]]))","v":0},{"$f":"Personne[[#This Row],[Facture (HT)]]+ROW()/100000","v":2.462E-2},{"$f":"_xlfn.CONCAT(Personne[[#This Row],[Adresse]],\" \",Personne[[#This Row],[CodePostal]],\" \",Personne[[#This Row],[Ville]],\" \",Personne[[#This Row],[CodePays]])","v":"   "}]
[null,null,null,null,null,null,null,null,null,null,null,null,null,null,null,null,null,null,null,null,null,null,null,null,null,null,null,null,null,null,{"$f":"IF(PARAMETRES!$B$3=\"SANS\",SUMIFS(Honoraire[TotalHonoraireHT],Honoraire[ClientId],Personne[[#This Row],[PersonneId]]),SUMIFS(Honoraire[TotalHT],Honoraire[ClientId],Personne[[#This Row],[PersonneId]]))","v":0},{"$f":"Personne[[#This Row],[Facture (HT)]]+ROW()/100000","v":2.4649999999999998E-2},{"$f":"_xlfn.CONCAT(Personne[[#This Row],[Adresse]],\" \",Personne[[#This Row],[CodePostal]],\" \",Personne[[#This Row],[Ville]],\" \",Personne[[#This Row],[CodePays]])","v":"   "}]
[null,null,null,null,null,null,null,null,null,null,null,null,null,null,null,null,null,null,null,null,null,null,null,null,null,null,null,null,null,null,{"$f":"IF(PARAMETRES!$B$3=\"SANS\",SUMIFS(Honoraire[TotalHonoraireHT],Honoraire[ClientId],Personne[[#This Row],[PersonneId]]),SUMIFS(Honoraire[TotalHT],Honoraire[ClientId],Personne[[#This Row],[PersonneId]]))","v":0},{"$f":"Personne[[#This Row],[Facture (HT)]]+ROW()/100000","v":2.4660000000000001E-2},{"$f":"_xlfn.CONCAT(Personne[[#This Row],[Adresse]],\" \",Personne[[#This Row],[CodePostal]],\" \",Personne[[#This Row],[Ville]],\" \",Personne[[#This Row],[CodePays]])","v":"   "}]
[null,null,null,null,null,null,null,null,null,null,null,null,null,null,null,null,null,null,null,null,null,null,null,null,null,null,null,null,null,null,{"$f":"IF(PARAMETRES!$B$3=\"SANS\",SUMIFS(Honoraire[TotalHonoraireHT],Honoraire[ClientId],Personne[[#This Row],[PersonneId]]),SUMIFS(Honoraire[TotalHT],Honoraire[ClientId],Personne[[#This Row],[PersonneId]]))","v":0},{"$f":"Personne[[#This Row],[Facture (HT)]]+ROW()/100000","v":2.469E-2},{"$f":"_xlfn.CONCAT(Personne[[#This Row],[Adresse]],\" \",Personne[[#This Row],[CodePostal]],\" \",Personne[[#This Row],[Ville]],\" \",Personne[[#This Row],[CodePays]])","v":"   "}]
[null,null,null,null,null,null,null,null,null,null,null,null,null,null,null,null,null,null,null,null,null,null,null,null,null,null,null,null,null,null,{"$f":"IF(PARAMETRES!$B$3=\"SANS\",SUMIFS(Honoraire[TotalHonoraireHT],Honoraire[ClientId],Personne[[#This Row],[PersonneId]]),SUMIFS(Honoraire[TotalHT],Honoraire[ClientId],Personne[[#This Row],[PersonneId]]))","v":0},{"$f":"Personne[[#This Row],[Facture (HT)]]+ROW()/100000","v":2.47E-2},{"$f":"_xlfn.CONCAT(Personne[[#This Row],[Adresse]],\" \",Personne[[#This Row],[CodePostal]],\" \",Personne[[#This Row],[Ville]],\" \",Personne[[#This Row],[CodePays]])","v":"   "}]
[null,null,null,null,null,null,null,null,null,null,null,null,null,null,null,null,null,null,null,null,null,null,null,null,null,null,null,null,null,null,{"$f":"IF(PARAMETRES!$B$3=\"SANS\",SUMIFS(Honoraire[TotalHonoraireHT],Honoraire[ClientId],Personne[[#This Row],[PersonneId]]),SUMIFS(Honoraire[TotalHT],Honoraire[ClientId],Personne[[#This Row],[PersonneId]]))","v":0},{"$f":"Personne[[#This Row],[Facture (HT)]]+ROW()/100000","v":2.4740000000000002E-2},{"$f":"_xlfn.CONCAT(Personne[[#This Row],[Adresse]],\" \",Personne[[#This Row],[CodePostal]],\" \",Personne[[#This Row],[Ville]],\" \",Personne[[#This Row],[CodePays]])","v":"   "}]
[null,null,null,null,null,null,null,null,null,null,null,null,null,null,null,null,null,null,null,null,null,null,null,null,null,null,null,null,null,null,{"$f":"IF(PARAMETRES!$B$3=\"SANS\",SUMIFS(Honoraire[TotalHonoraireHT],Honoraire[ClientId],Personne[[#This Row],[PersonneId]]),SUMIFS(Honoraire[TotalHT],Honoraire[ClientId],Personne[[#This Row],[PersonneId]]))","v":0},{"$f":"Personne[[#This Row],[Facture (HT)]]+ROW()/100000","v":2.4750000000000001E-2},{"$f":"_xlfn.CONCAT(Personne[[#This Row],[Adresse]],\" \",Personne[[#This Row],[CodePostal]],\" \",Personne[[#This Row],[Ville]],\" \",Personne[[#This Row],[CodePays]])","v":"   "}]
[null,null,null,null,null,null,null,null,null,null,null,null,null,null,null,null,null,null,null,null,null,null,null,null,null,null,null,null,null,null,{"$f":"IF(PARAMETRES!$B$3=\"SANS\",SUMIFS(Honoraire[TotalHonoraireHT],Honoraire[ClientId],Personne[[#This Row],[PersonneId]]),SUMIFS(Honoraire[TotalHT],Honoraire[ClientId],Personne[[#This Row],[PersonneId]]))","v":0},{"$f":"Personne[[#This Row],[Facture (HT)]]+ROW()/100000","v":2.478E-2},{"$f":"_xlfn.CONCAT(Personne[[#This Row],[Adresse]],\" \",Personne[[#This Row],[CodePostal]],\" \",Personne[[#This Row],[Ville]],\" \",Personne[[#This Row],[CodePays]])","v":"   "}]
[null,null,null,null,null,null,null,null,null,null,null,null,null,null,null,null,null,null,null,null,null,null,null,null,null,null,null,null,null,null,{"$f":"IF(PARAMETRES!$B$3=\"SANS\",SUMIFS(Honoraire[TotalHonoraireHT],Honoraire[ClientId],Personne[[#This Row],[PersonneId]]),SUMIFS(Honoraire[TotalHT],Honoraire[ClientId],Personne[[#This Row],[PersonneId]]))","v":0},{"$f":"Personne[[#This Row],[Facture (HT)]]+ROW()/100000","v":2.479E-2},{"$f":"_xlfn.CONCAT(Personne[[#This Row],[Adresse]],\" \",Personne[[#This Row],[CodePostal]],\" \",Personne[[#This Row],[Ville]],\" \",Personne[[#This Row],[CodePays]])","v":"   "}]
[null,null,null,null,null,null,null,null,null,null,null,null,null,null,null,null,null,null,null,null,null,null,null,null,null,null,null,null,null,null,{"$f":"IF(PARAMETRES!$B$3=\"SANS\",SUMIFS(Honoraire[TotalHonoraireHT],Honoraire[ClientId],Personne[[#This Row],[PersonneId]]),SUMIFS(Honoraire[TotalHT],Honoraire[ClientId],Personne[[#This Row],[PersonneId]]))","v":0},{"$f":"Personne[[#This Row],[Facture (HT)]]+ROW()/100000","v":2.4819999999999998E-2},{"$f":"_xlfn.CONCAT(Personne[[#This Row],[Adresse]],\" \",Personne[[#This Row],[CodePostal]],\" \",Personne[[#This Row],[Ville]],\" \",Personne[[#This Row],[CodePays]])","v":"   "}]
[null,null,null,null,null,null,null,null,null,null,null,null,null,null,null,null,null,null,null,null,null,null,null,null,null,null,null,null,null,null,{"$f":"IF(PARAMETRES!$B$3=\"SANS\",SUMIFS(Honoraire[TotalHonoraireHT],Honoraire[ClientId],Personne[[#This Row],[PersonneId]]),SUMIFS(Honoraire[TotalHT],Honoraire[ClientId],Personne[[#This Row],[PersonneId]]))","v":0},{"$f":"Personne[[#This Row],[Facture (HT)]]+ROW()/100000","v":2.4850000000000001E-2},{"$f":"_xlfn.CONCAT(Personne[[#This Row],[Adresse]],\" \",Personne[[#This Row],[CodePostal]],\" \",Personne[[#This Row],[Ville]],\" \",Personne[[#This Row],[CodePays]])","v":"   "}]
[null,null,null,null,null,null,null,null,null,null,null,null,null,null,null,null,null,null,null,null,null,null,null,null,null,null,null,null,null,null,{"$f":"IF(PARAMETRES!$B$3=\"SANS\",SUMIFS(Honoraire[TotalHonoraireHT],Honoraire[ClientId],Personne[[#This Row],[PersonneId]]),SUMIFS(Honoraire[TotalHT],Honoraire[ClientId],Personne[[#This Row],[PersonneId]]))","v":0},{"$f":"Personne[[#This Row],[Facture (HT)]]+ROW()/100000","v":2.487E-2},{"$f":"_xlfn.CONCAT(Personne[[#This Row],[Adresse]],\" \",Personne[[#This Row],[CodePostal]],\" \",Personne[[#This Row],[Ville]],\" \",Personne[[#This Row],[CodePays]])","v":"   "}]
[null,null,null,null,null,null,null,null,null,null,null,null,null,null,null,null,null,null,null,null,null,null,null,null,null,null,null,null,null,null,{"$f":"IF(PARAMETRES!$B$3=\"SANS\",SUMIFS(Honoraire[TotalHonoraireHT],Honoraire[ClientId],Personne[[#This Row],[PersonneId]]),SUMIFS(Honoraire[TotalHT],Honoraire[ClientId],Personne[[#This Row],[PersonneId]]))","v":0},{"$f":"Personne[[#This Row],[Facture (HT)]]+ROW()/100000","v":2.4879999999999999E-2},{"$f":"_xlfn.CONCAT(Personne[[#This Row],[Adresse]],\" \",Personne[[#This Row],[CodePostal]],\" \",Personne[[#This Row],[Ville]],\" \",Personne[[#This Row],[CodePays]])","v":"   "}]
[null,null,null,null,null,null,null,null,null,null,null,null,null,null,null,null,null,null,null,null,null,null,null,null,null,null,null,null,null,null,{"$f":"IF(PARAMETRES!$B$3=\"SANS\",SUMIFS(Honoraire[TotalHonoraireHT],Honoraire[ClientId],Personne[[#This Row],[PersonneId]]),SUMIFS(Honoraire[TotalHT],Honoraire[ClientId],Personne[[#This Row],[PersonneId]]))","v":0},{"$f":"Personne[[#This Row],[Facture (HT)]]+ROW()/100000","v":2.4910000000000002E-2},{"$f":"_xlfn.CONCAT(Personne[[#This Row],[Adresse]],\" \",Personne[[#This Row],[CodePostal]],\" \",Personne[[#This Row],[Ville]],\" \",Personne[[#This Row],[CodePays]])","v":"   "}]
[null,null,null,null,null,null,null,null,null,null,null,null,null,null,null,null,null,null,null,null,null,null,null,null,null,null,null,null,null,null,{"$f":"IF(PARAMETRES!$B$3=\"SANS\",SUMIFS(Honoraire[TotalHonoraireHT],Honoraire[ClientId],Personne[[#This Row],[PersonneId]]),SUMIFS(Honoraire[TotalHT],Honoraire[ClientId],Personne[[#This Row],[PersonneId]]))","v":0},{"$f":"Personne[[#This Row],[Facture (HT)]]+ROW()/100000","v":2.4920000000000001E-2},{"$f":"_xlfn.CONCAT(Personne[[#This Row],[Adresse]],\" \",Personne[[#This Row],[CodePostal]],\" \",Personne[[#This Row],[Ville]],\" \",Personne[[#This Row],[CodePays]])","v":"   "}]
[null,null,null,null,null,null,null,null,null,null,null,null,null,null,null,null,null,null,null,null,null,null,null,null,null,null,null,null,null,null,{"$f":"IF(PARAMETRES!$B$3=\"SANS\",SUMIFS(Honoraire[TotalHonoraireHT],Honoraire[ClientId],Personne[[#This Row],[PersonneId]]),SUMIFS(Honoraire[TotalHT],Honoraire[ClientId],Personne[[#This Row],[PersonneId]]))","v":0},{"$f":"Personne[[#This Row],[Facture (HT)]]+ROW()/100000","v":2.495E-2},{"$f":"_xlfn.CONCAT(Personne[[#This Row],[Adresse]],\" \",Personne[[#This Row],[CodePostal]],\" \",Personne[[#This Row],[Ville]],\" \",Personne[[#This Row],[CodePays]])","v":"   "}]
[null,null,null,null,null,null,null,null,null,null,null,null,null,null,null,null,null,null,null,null,null,null,null,null,null,null,null,null,null,null,{"$f":"IF(PARAMETRES!$B$3=\"SANS\",SUMIFS(Honoraire[TotalHonoraireHT],Honoraire[ClientId],Personne[[#This Row],[PersonneId]]),SUMIFS(Honoraire[TotalHT],Honoraire[ClientId],Personne[[#This Row],[PersonneId]]))","v":0},{"$f":"Personne[[#This Row],[Facture (HT)]]+ROW()/100000","v":2.4969999999999999E-2},{"$f":"_xlfn.CONCAT(Personne[[#This Row],[Adresse]],\" \",Personne[[#This Row],[CodePostal]],\" \",Personne[[#This Row],[Ville]],\" \",Personne[[#This Row],[CodePays]])","v":"   "}]
[null,null,null,null,null,null,null,null,null,null,null,null,null,null,null,null,null,null,null,null,null,null,null,null,null,null,null,null,null,null,{"$f":"IF(PARAMETRES!$B$3=\"SANS\",SUMIFS(Honoraire[TotalHonoraireHT],Honoraire[ClientId],Personne[[#This Row],[PersonneId]]),SUMIFS(Honoraire[TotalHT],Honoraire[ClientId],Personne[[#This Row],[PersonneId]]))","v":0},{"$f":"Personne[[#This Row],[Facture (HT)]]+ROW()/100000","v":2.5000000000000001E-2},{"$f":"_xlfn.CONCAT(Personne[[#This Row],[Adresse]],\" \",Personne[[#This Row],[CodePostal]],\" \",Personne[[#This Row],[Ville]],\" \",Personne[[#This Row],[CodePays]])","v":"   "}]
[null,null,null,null,null,null,null,null,null,null,null,null,null,null,null,null,null,null,null,null,null,null,null,null,null,null,null,null,null,null,{"$f":"IF(PARAMETRES!$B$3=\"SANS\",SUMIFS(Honoraire[TotalHonoraireHT],Honoraire[ClientId],Personne[[#This Row],[PersonneId]]),SUMIFS(Honoraire[TotalHT],Honoraire[ClientId],Personne[[#This Row],[PersonneId]]))","v":0},{"$f":"Personne[[#This Row],[Facture (HT)]]+ROW()/100000","v":2.5010000000000001E-2},{"$f":"_xlfn.CONCAT(Personne[[#This Row],[Adresse]],\" \",Personne[[#This Row],[CodePostal]],\" \",Personne[[#This Row],[Ville]],\" \",Personne[[#This Row],[CodePays]])","v":"   "}]
[null,null,null,null,null,null,null,null,null,null,null,null,null,null,null,null,null,null,null,null,null,null,null,null,null,null,null,null,null,null,{"$f":"IF(PARAMETRES!$B$3=\"SANS\",SUMIFS(Honoraire[TotalHonoraireHT],Honoraire[ClientId],Personne[[#This Row],[PersonneId]]),SUMIFS(Honoraire[TotalHT],Honoraire[ClientId],Personne[[#This Row],[PersonneId]]))","v":0},{"$f":"Personne[[#This Row],[Facture (HT)]]+ROW()/100000","v":2.504E-2},{"$f":"_xlfn.CONCAT(Personne[[#This Row],[Adresse]],\" \",Personne[[#This Row],[CodePostal]],\" \",Personne[[#This Row],[Ville]],\" \",Personne[[#This Row],[CodePays]])","v":"   "}]
[null,null,null,null,null,null,null,null,null,null,null,null,null,null,null,null,null,null,null,null,null,null,null,null,null,null,null,null,null,null,{"$f":"IF(PARAMETRES!$B$3=\"SANS\",SUMIFS(Honoraire[TotalHonoraireHT],Honoraire[ClientId],Personne[[#This Row],[PersonneId]]),SUMIFS(Honoraire[TotalHT],Honoraire[ClientId],Personne[[#This Row],[PersonneId]]))","v":0},{"$f":"Personne[[#This Row],[Facture (HT)]]+ROW()/100000","v":2.5049999999999999E-2},{"$f":"_xlfn.CONCAT(Personne[[#This Row],[Adresse]],\" \",Personne[[#This Row],[CodePostal]],\" \",Personne[[#This Row],[Ville]],\" \",Personne[[#This Row],[CodePays]])","v":"   "}]
[null,null,null,null,null,null,null,null,null,null,null,null,null,null,null,null,null,null,null,null,null,null,null,null,null,null,null,null,null,null,{"$f":"IF(PARAMETRES!$B$3=\"SANS\",SUMIFS(Honoraire[TotalHonoraireHT],Honoraire[ClientId],Personne[[#This Row],[PersonneId]]),SUMIFS(Honoraire[TotalHT],Honoraire[ClientId],Personne[[#This Row],[PersonneId]]))","v":0},{"$f":"Personne[[#This Row],[Facture (HT)]]+ROW()/100000","v":2.5069999999999999E-2},{"$f":"_xlfn.CONCAT(Personne[[#This Row],[Adresse]],\" \",Personne[[#This Row],[CodePostal]],\" \",Personne[[#This Row],[Ville]],\" \",Personne[[#This Row],[CodePays]])","v":"   "}]
[null,null,null,null,null,null,null,null,null,null,null,null,null,null,null,null,null,null,null,null,null,null,null,null,null,null,null,null,null,null,{"$f":"IF(PARAMETRES!$B$3=\"SANS\",SUMIFS(Honoraire[TotalHonoraireHT],Honoraire[ClientId],Personne[[#This Row],[PersonneId]]),SUMIFS(Honoraire[TotalHT],Honoraire[ClientId],Personne[[#This Row],[PersonneId]]))","v":0},{"$f":"Personne[[#This Row],[Facture (HT)]]+ROW()/100000","v":2.5100000000000001E-2},{"$f":"_xlfn.CONCAT(Personne[[#This Row],[Adresse]],\" \",Personne[[#This Row],[CodePostal]],\" \",Personne[[#This Row],[Ville]],\" \",Personne[[#This Row],[CodePays]])","v":"   "}]
[null,null,null,null,null,null,null,null,null,null,null,null,null,null,null,null,null,null,null,null,null,null,null,null,null,null,null,null,null,null,{"$f":"IF(PARAMETRES!$B$3=\"SANS\",SUMIFS(Honoraire[TotalHonoraireHT],Honoraire[ClientId],Personne[[#This Row],[PersonneId]]),SUMIFS(Honoraire[TotalHT],Honoraire[ClientId],Personne[[#This Row],[PersonneId]]))","v":0},{"$f":"Personne[[#This Row],[Facture (HT)]]+ROW()/100000","v":2.513E-2},{"$f":"_xlfn.CONCAT(Personne[[#This Row],[Adresse]],\" \",Personne[[#This Row],[CodePostal]],\" \",Personne[[#This Row],[Ville]],\" \",Personne[[#This Row],[CodePays]])","v":"   "}]
[null,null,null,null,null,null,null,null,null,null,null,null,null,null,null,null,null,null,null,null,null,null,null,null,null,null,null,null,null,null,{"$f":"IF(PARAMETRES!$B$3=\"SANS\",SUMIFS(Honoraire[TotalHonoraireHT],Honoraire[ClientId],Personne[[#This Row],[PersonneId]]),SUMIFS(Honoraire[TotalHT],Honoraire[ClientId],Personne[[#This Row],[PersonneId]]))","v":0},{"$f":"Personne[[#This Row],[Facture (HT)]]+ROW()/100000","v":2.5139999999999999E-2},{"$f":"_xlfn.CONCAT(Personne[[#This Row],[Adresse]],\" \",Personne[[#This Row],[CodePostal]],\" \",Personne[[#This Row],[Ville]],\" \",Personne[[#This Row],[CodePays]])","v":"   "}]
[null,null,null,null,null,null,null,null,null,null,null,null,null,null,null,null,null,null,null,null,null,null,null,null,null,null,null,null,null,null,{"$f":"IF(PARAMETRES!$B$3=\"SANS\",SUMIFS(Honoraire[TotalHonoraireHT],Honoraire[ClientId],Personne[[#This Row],[PersonneId]]),SUMIFS(Honoraire[TotalHT],Honoraire[ClientId],Personne[[#This Row],[PersonneId]]))","v":0},{"$f":"Personne[[#This Row],[Facture (HT)]]+ROW()/100000","v":2.5170000000000001E-2},{"$f":"_xlfn.CONCAT(Personne[[#This Row],[Adresse]],\" \",Personne[[#This Row],[CodePostal]],\" \",Personne[[#This Row],[Ville]],\" \",Personne[[#This Row],[CodePays]])","v":"   "}]
[null,null,null,null,null,null,null,null,null,null,null,null,null,null,null,null,null,null,null,null,null,null,null,null,null,null,null,null,null,null,{"$f":"IF(PARAMETRES!$B$3=\"SANS\",SUMIFS(Honoraire[TotalHonoraireHT],Honoraire[ClientId],Personne[[#This Row],[PersonneId]]),SUMIFS(Honoraire[TotalHT],Honoraire[ClientId],Personne[[#This Row],[PersonneId]]))","v":0},{"$f":"Personne[[#This Row],[Facture (HT)]]+ROW()/100000","v":2.52E-2},{"$f":"_xlfn.CONCAT(Personne[[#This Row],[Adresse]],\" \",Personne[[#This Row],[CodePostal]],\" \",Personne[[#This Row],[Ville]],\" \",Personne[[#This Row],[CodePays]])","v":"   "}]
[null,null,null,null,null,null,null,null,null,null,null,null,null,null,null,null,null,null,null,null,null,null,null,null,null,null,null,null,null,null,{"$f":"IF(PARAMETRES!$B$3=\"SANS\",SUMIFS(Honoraire[TotalHonoraireHT],Honoraire[ClientId],Personne[[#This Row],[PersonneId]]),SUMIFS(Honoraire[TotalHT],Honoraire[ClientId],Personne[[#This Row],[PersonneId]]))","v":0},{"$f":"Personne[[#This Row],[Facture (HT)]]+ROW()/100000","v":2.5219999999999999E-2},{"$f":"_xlfn.CONCAT(Personne[[#This Row],[Adresse]],\" \",Personne[[#This Row],[CodePostal]],\" \",Personne[[#This Row],[Ville]],\" \",Personne[[#This Row],[CodePays]])","v":"   "}]
[null,null,null,null,null,null,null,null,null,null,null,null,null,null,null,null,null,null,null,null,null,null,null,null,null,null,null,null,null,null,{"$f":"IF(PARAMETRES!$B$3=\"SANS\",SUMIFS(Honoraire[TotalHonoraireHT],Honoraire[ClientId],Personne[[#This Row],[PersonneId]]),SUMIFS(Honoraire[TotalHT],Honoraire[ClientId],Personne[[#This Row],[PersonneId]]))","v":0},{"$f":"Personne[[#This Row],[Facture (HT)]]+ROW()/100000","v":2.5229999999999999E-2},{"$f":"_xlfn.CONCAT(Personne[[#This Row],[Adresse]],\" \",Personne[[#This Row],[CodePostal]],\" \",Personne[[#This Row],[Ville]],\" \",Personne[[#This Row],[CodePays]])","v":"   "}]
[null,null,null,null,null,null,null,null,null,null,null,null,null,null,null,null,null,null,null,null,null,null,null,null,null,null,null,null,null,null,{"$f":"IF(PARAMETRES!$B$3=\"SANS\",SUMIFS(Honoraire[TotalHonoraireHT],Honoraire[ClientId],Personne[[#This Row],[PersonneId]]),SUMIFS(Honoraire[TotalHT],Honoraire[ClientId],Personne[[#This Row],[PersonneId]]))","v":0},{"$f":"Personne[[#This Row],[Facture (HT)]]+ROW()/100000","v":2.5260000000000001E-2},{"$f":"_xlfn.CONCAT(Personne[[#This Row],[Adresse]],\" \",Personne[[#This Row],[CodePostal]],\" \",Personne[[#This Row],[Ville]],\" \",Personne[[#This Row],[CodePays]])","v":"   "}]
[null,null,null,null,null,null,null,null,null,null,null,null,null,null,null,null,null,null,null,null,null,null,null,null,null,null,null,null,null,null,{"$f":"IF(PARAMETRES!$B$3=\"SANS\",SUMIFS(Honoraire[TotalHonoraireHT],Honoraire[ClientId],Personne[[#This Row],[PersonneId]]),SUMIFS(Honoraire[TotalHT],Honoraire[ClientId],Personne[[#This Row],[PersonneId]]))","v":0},{"$f":"Personne[[#This Row],[Facture (HT)]]+ROW()/100000","v":2.5270000000000001E-2},{"$f":"_xlfn.CONCAT(Personne[[#This Row],[Adresse]],\" \",Personne[[#This Row],[CodePostal]],\" \",Personne[[#This Row],[Ville]],\" \",Personne[[#This Row],[CodePays]])","v":"   "}]
[null,null,null,null,null,null,null,null,null,null,null,null,null,null,null,null,null,null,null,null,null,null,null,null,null,null,null,null,null,null,{"$f":"IF(PARAMETRES!$B$3=\"SANS\",SUMIFS(Honoraire[TotalHonoraireHT],Honoraire[ClientId],Personne[[#This Row],[PersonneId]]),SUMIFS(Honoraire[TotalHT],Honoraire[ClientId],Personne[[#This Row],[PersonneId]]))","v":0},{"$f":"Personne[[#This Row],[Facture (HT)]]+ROW()/100000","v":2.53E-2},{"$f":"_xlfn.CONCAT(Personne[[#This Row],[Adresse]],\" \",Personne[[#This Row],[CodePostal]],\" \",Personne[[#This Row],[Ville]],\" \",Personne[[#This Row],[CodePays]])","v":"   "}]
[null,null,null,null,null,null,null,null,null,null,null,null,null,null,null,null,null,null,null,null,null,null,null,null,null,null,null,null,null,null,{"$f":"IF(PARAMETRES!$B$3=\"SANS\",SUMIFS(Honoraire[TotalHonoraireHT],Honoraire[ClientId],Personne[[#This Row],[PersonneId]]),SUMIFS(Honoraire[TotalHT],Honoraire[ClientId],Personne[[#This Row],[PersonneId]]))","v":0},{"$f":"Personne[[#This Row],[Facture (HT)]]+ROW()/100000","v":2.5319999999999999E-2},{"$f":"_xlfn.CONCAT(Personne[[#This Row],[Adresse]],\" \",Personne[[#This Row],[CodePostal]],\" \",Personne[[#This Row],[Ville]],\" \",Personne[[#This Row],[CodePays]])","v":"   "}]
[null,null,null,null,null,null,null,null,null,null,null,null,null,null,null,null,null,null,null,null,null,null,null,null,null,null,null,null,null,null,{"$f":"IF(PARAMETRES!$B$3=\"SANS\",SUMIFS(Honoraire[TotalHonoraireHT],Honoraire[ClientId],Personne[[#This Row],[PersonneId]]),SUMIFS(Honoraire[TotalHT],Honoraire[ClientId],Personne[[#This Row],[PersonneId]]))","v":0},{"$f":"Personne[[#This Row],[Facture (HT)]]+ROW()/100000","v":2.5350000000000001E-2},{"$f":"_xlfn.CONCAT(Personne[[#This Row],[Adresse]],\" \",Personne[[#This Row],[CodePostal]],\" \",Personne[[#This Row],[Ville]],\" \",Personne[[#This Row],[CodePays]])","v":"   "}]
[null,null,null,null,null,null,null,null,null,null,null,null,null,null,null,null,null,null,null,null,null,null,null,null,null,null,null,null,null,null,{"$f":"IF(PARAMETRES!$B$3=\"SANS\",SUMIFS(Honoraire[TotalHonoraireHT],Honoraire[ClientId],Personne[[#This Row],[PersonneId]]),SUMIFS(Honoraire[TotalHT],Honoraire[ClientId],Personne[[#This Row],[PersonneId]]))","v":0},{"$f":"Personne[[#This Row],[Facture (HT)]]+ROW()/100000","v":2.5360000000000001E-2},{"$f":"_xlfn.CONCAT(Personne[[#This Row],[Adresse]],\" \",Personne[[#This Row],[CodePostal]],\" \",Personne[[#This Row],[Ville]],\" \",Personne[[#This Row],[CodePays]])","v":"   "}]
[null,null,null,null,null,null,null,null,null,null,null,null,null,null,null,null,null,null,null,null,null,null,null,null,null,null,null,null,null,null,{"$f":"IF(PARAMETRES!$B$3=\"SANS\",SUMIFS(Honoraire[TotalHonoraireHT],Honoraire[ClientId],Personne[[#This Row],[PersonneId]]),SUMIFS(Honoraire[TotalHT],Honoraire[ClientId],Personne[[#This Row],[PersonneId]]))","v":0},{"$f":"Personne[[#This Row],[Facture (HT)]]+ROW()/100000","v":2.5389999999999999E-2},{"$f":"_xlfn.CONCAT(Personne[[#This Row],[Adresse]],\" \",Personne[[#This Row],[CodePostal]],\" \",Personne[[#This Row],[Ville]],\" \",Personne[[#This Row],[CodePays]])","v":"   "}]
[null,null,null,null,null,null,null,null,null,null,null,null,null,null,null,null,null,null,null,null,null,null,null,null,null,null,null,null,null,null,{"$f":"IF(PARAMETRES!$B$3=\"SANS\",SUMIFS(Honoraire[TotalHonoraireHT],Honoraire[ClientId],Personne[[#This Row],[PersonneId]]),SUMIFS(Honoraire[TotalHT],Honoraire[ClientId],Personne[[#This Row],[PersonneId]]))","v":0},{"$f":"Personne[[#This Row],[Facture (HT)]]+ROW()/100000","v":2.5399999999999999E-2},{"$f":"_xlfn.CONCAT(Personne[[#This Row],[Adresse]],\" \",Personne[[#This Row],[CodePostal]],\" \",Personne[[#This Row],[Ville]],\" \",Personne[[#This Row],[CodePays]])","v":"   "}]
[null,null,null,null,null,null,null,null,null,null,null,null,null,null,null,null,null,null,null,null,null,null,null,null,null,null,null,null,null,null,{"$f":"IF(PARAMETRES!$B$3=\"SANS\",SUMIFS(Honoraire[TotalHonoraireHT],Honoraire[ClientId],Personne[[#This Row],[PersonneId]]),SUMIFS(Honoraire[TotalHT],Honoraire[ClientId],Personne[[#This Row],[PersonneId]]))","v":0},{"$f":"Personne[[#This Row],[Facture (HT)]]+ROW()/100000","v":2.5420000000000002E-2},{"$f":"_xlfn.CONCAT(Personne[[#This Row],[Adresse]],\" \",Personne[[#This Row],[CodePostal]],\" \",Personne[[#This Row],[Ville]],\" \",Personne[[#This Row],[CodePays]])","v":"   "}]
[null,null,null,null,null,null,null,null,null,null,null,null,null,null,null,null,null,null,null,null,null,null,null,null,null,null,null,null,null,null,{"$f":"IF(PARAMETRES!$B$3=\"SANS\",SUMIFS(Honoraire[TotalHonoraireHT],Honoraire[ClientId],Personne[[#This Row],[PersonneId]]),SUMIFS(Honoraire[TotalHT],Honoraire[ClientId],Personne[[#This Row],[PersonneId]]))","v":0},{"$f":"Personne[[#This Row],[Facture (HT)]]+ROW()/100000","v":2.545E-2},{"$f":"_xlfn.CONCAT(Personne[[#This Row],[Adresse]],\" \",Personne[[#This Row],[CodePostal]],\" \",Personne[[#This Row],[Ville]],\" \",Personne[[#This Row],[CodePays]])","v":"   "}]
[null,null,null,null,null,null,null,null,null,null,null,null,null,null,null,null,null,null,null,null,null,null,null,null,null,null,null,null,null,null,{"$f":"IF(PARAMETRES!$B$3=\"SANS\",SUMIFS(Honoraire[TotalHonoraireHT],Honoraire[ClientId],Personne[[#This Row],[PersonneId]]),SUMIFS(Honoraire[TotalHT],Honoraire[ClientId],Personne[[#This Row],[PersonneId]]))","v":0},{"$f":"Personne[[#This Row],[Facture (HT)]]+ROW()/100000","v":2.5479999999999999E-2},{"$f":"_xlfn.CONCAT(Personne[[#This Row],[Adresse]],\" \",Personne[[#This Row],[CodePostal]],\" \",Personne[[#This Row],[Ville]],\" \",Personne[[#This Row],[CodePays]])","v":"   "}]
[null,null,null,null,null,null,null,null,null,null,null,null,null,null,null,null,null,null,null,null,null,null,null,null,null,null,null,null,null,null,{"$f":"IF(PARAMETRES!$B$3=\"SANS\",SUMIFS(Honoraire[TotalHonoraireHT],Honoraire[ClientId],Personne[[#This Row],[PersonneId]]),SUMIFS(Honoraire[TotalHT],Honoraire[ClientId],Personne[[#This Row],[PersonneId]]))","v":0},{"$f":"Personne[[#This Row],[Facture (HT)]]+ROW()/100000","v":2.5489999999999999E-2},{"$f":"_xlfn.CONCAT(Personne[[#This Row],[Adresse]],\" \",Personne[[#This Row],[CodePostal]],\" \",Personne[[#This Row],[Ville]],\" \",Personne[[#This Row],[CodePays]])","v":"   "}]
[null,null,null,null,null,null,null,null,null,null,null,null,null,null,null,null,null,null,null,null,null,null,null,null,null,null,null,null,null,null,{"$f":"IF(PARAMETRES!$B$3=\"SANS\",SUMIFS(Honoraire[TotalHonoraireHT],Honoraire[ClientId],Personne[[#This Row],[PersonneId]]),SUMIFS(Honoraire[TotalHT],Honoraire[ClientId],Personne[[#This Row],[PersonneId]]))","v":0},{"$f":"Personne[[#This Row],[Facture (HT)]]+ROW()/100000","v":2.5520000000000001E-2},{"$f":"_xlfn.CONCAT(Personne[[#This Row],[Adresse]],\" \",Personne[[#This Row],[CodePostal]],\" \",Personne[[#This Row],[Ville]],\" \",Personne[[#This Row],[CodePays]])","v":"   "}]
[null,null,null,null,null,null,null,null,null,null,null,null,null,null,null,null,null,null,null,null,null,null,null,null,null,null,null,null,null,null,{"$f":"IF(PARAMETRES!$B$3=\"SANS\",SUMIFS(Honoraire[TotalHonoraireHT],Honoraire[ClientId],Personne[[#This Row],[PersonneId]]),SUMIFS(Honoraire[TotalHT],Honoraire[ClientId],Personne[[#This Row],[PersonneId]]))","v":0},{"$f":"Personne[[#This Row],[Facture (HT)]]+ROW()/100000","v":2.555E-2},{"$f":"_xlfn.CONCAT(Personne[[#This Row],[Adresse]],\" \",Personne[[#This Row],[CodePostal]],\" \",Personne[[#This Row],[Ville]],\" \",Personne[[#This Row],[CodePays]])","v":"   "}]
[null,null,null,null,null,null,null,null,null,null,null,null,null,null,null,null,null,null,null,null,null,null,null,null,null,null,null,null,null,null,{"$f":"IF(PARAMETRES!$B$3=\"SANS\",SUMIFS(Honoraire[TotalHonoraireHT],Honoraire[ClientId],Personne[[#This Row],[PersonneId]]),SUMIFS(Honoraire[TotalHT],Honoraire[ClientId],Personne[[#This Row],[PersonneId]]))","v":0},{"$f":"Personne[[#This Row],[Facture (HT)]]+ROW()/100000","v":2.5569999999999999E-2},{"$f":"_xlfn.CONCAT(Personne[[#This Row],[Adresse]],\" \",Personne[[#This Row],[CodePostal]],\" \",Personne[[#This Row],[Ville]],\" \",Personne[[#This Row],[CodePays]])","v":"   "}]
[null,null,null,null,null,null,null,null,null,null,null,null,null,null,null,null,null,null,null,null,null,null,null,null,null,null,null,null,null,null,{"$f":"IF(PARAMETRES!$B$3=\"SANS\",SUMIFS(Honoraire[TotalHonoraireHT],Honoraire[ClientId],Personne[[#This Row],[PersonneId]]),SUMIFS(Honoraire[TotalHT],Honoraire[ClientId],Personne[[#This Row],[PersonneId]]))","v":0},{"$f":"Personne[[#This Row],[Facture (HT)]]+ROW()/100000","v":2.5579999999999999E-2},{"$f":"_xlfn.CONCAT(Personne[[#This Row],[Adresse]],\" \",Personne[[#This Row],[CodePostal]],\" \",Personne[[#This Row],[Ville]],\" \",Personne[[#This Row],[CodePays]])","v":"   "}]
[null,null,null,null,null,null,null,null,null,null,null,null,null,null,null,null,null,null,null,null,null,null,null,null,null,null,null,null,null,null,{"$f":"IF(PARAMETRES!$B$3=\"SANS\",SUMIFS(Honoraire[TotalHonoraireHT],Honoraire[ClientId],Personne[[#This Row],[PersonneId]]),SUMIFS(Honoraire[TotalHT],Honoraire[ClientId],Personne[[#This Row],[PersonneId]]))","v":0},{"$f":"Personne[[#This Row],[Facture (HT)]]+ROW()/100000","v":2.5610000000000001E-2},{"$f":"_xlfn.CONCAT(Personne[[#This Row],[Adresse]],\" \",Personne[[#This Row],[CodePostal]],\" \",Personne[[#This Row],[Ville]],\" \",Personne[[#This Row],[CodePays]])","v":"   "}]
[null,null,null,null,null,null,null,null,null,null,null,null,null,null,null,null,null,null,null,null,null,null,null,null,null,null,null,null,null,null,{"$f":"IF(PARAMETRES!$B$3=\"SANS\",SUMIFS(Honoraire[TotalHonoraireHT],Honoraire[ClientId],Personne[[#This Row],[PersonneId]]),SUMIFS(Honoraire[TotalHT],Honoraire[ClientId],Personne[[#This Row],[PersonneId]]))","v":0},{"$f":"Personne[[#This Row],[Facture (HT)]]+ROW()/100000","v":2.562E-2},{"$f":"_xlfn.CONCAT(Personne[[#This Row],[Adresse]],\" \",Personne[[#This Row],[CodePostal]],\" \",Personne[[#This Row],[Ville]],\" \",Personne[[#This Row],[CodePays]])","v":"   "}]
[null,null,null,null,null,null,null,null,null,null,null,null,null,null,null,null,null,null,null,null,null,null,null,null,null,null,null,null,null,null,{"$f":"IF(PARAMETRES!$B$3=\"SANS\",SUMIFS(Honoraire[TotalHonoraireHT],Honoraire[ClientId],Personne[[#This Row],[PersonneId]]),SUMIFS(Honoraire[TotalHT],Honoraire[ClientId],Personne[[#This Row],[PersonneId]]))","v":0},{"$f":"Personne[[#This Row],[Facture (HT)]]+ROW()/100000","v":2.5649999999999999E-2},{"$f":"_xlfn.CONCAT(Personne[[#This Row],[Adresse]],\" \",Personne[[#This Row],[CodePostal]],\" \",Personne[[#This Row],[Ville]],\" \",Personne[[#This Row],[CodePays]])","v":"   "}]
[null,null,null,null,null,null,null,null,null,null,null,null,null,null,null,null,null,null,null,null,null,null,null,null,null,null,null,null,null,null,{"$f":"IF(PARAMETRES!$B$3=\"SANS\",SUMIFS(Honoraire[TotalHonoraireHT],Honoraire[ClientId],Personne[[#This Row],[PersonneId]]),SUMIFS(Honoraire[TotalHT],Honoraire[ClientId],Personne[[#This Row],[PersonneId]]))","v":0},{"$f":"Personne[[#This Row],[Facture (HT)]]+ROW()/100000","v":2.5669999999999998E-2},{"$f":"_xlfn.CONCAT(Personne[[#This Row],[Adresse]],\" \",Personne[[#This Row],[CodePostal]],\" \",Personne[[#This Row],[Ville]],\" \",Personne[[#This Row],[CodePays]])","v":"   "}]
[null,null,null,null,null,null,null,null,null,null,null,null,null,null,null,null,null,null,null,null,null,null,null,null,null,null,null,null,null,null,{"$f":"IF(PARAMETRES!$B$3=\"SANS\",SUMIFS(Honoraire[TotalHonoraireHT],Honoraire[ClientId],Personne[[#This Row],[PersonneId]]),SUMIFS(Honoraire[TotalHT],Honoraire[ClientId],Personne[[#This Row],[PersonneId]]))","v":0},{"$f":"Personne[[#This Row],[Facture (HT)]]+ROW()/100000","v":2.5700000000000001E-2},{"$f":"_xlfn.CONCAT(Personne[[#This Row],[Adresse]],\" \",Personne[[#This Row],[CodePostal]],\" \",Personne[[#This Row],[Ville]],\" \",Personne[[#This Row],[CodePays]])","v":"   "}]
[null,null,null,null,null,null,null,null,null,null,null,null,null,null,null,null,null,null,null,null,null,null,null,null,null,null,null,null,null,null,{"$f":"IF(PARAMETRES!$B$3=\"SANS\",SUMIFS(Honoraire[TotalHonoraireHT],Honoraire[ClientId],Personne[[#This Row],[PersonneId]]),SUMIFS(Honoraire[TotalHT],Honoraire[ClientId],Personne[[#This Row],[PersonneId]]))","v":0},{"$f":"Personne[[#This Row],[Facture (HT)]]+ROW()/100000","v":2.571E-2},{"$f":"_xlfn.CONCAT(Personne[[#This Row],[Adresse]],\" \",Personne[[#This Row],[CodePostal]],\" \",Personne[[#This Row],[Ville]],\" \",Personne[[#This Row],[CodePays]])","v":"   "}]
[null,null,null,null,null,null,null,null,null,null,null,null,null,null,null,null,null,null,null,null,null,null,null,null,null,null,null,null,null,null,{"$f":"IF(PARAMETRES!$B$3=\"SANS\",SUMIFS(Honoraire[TotalHonoraireHT],Honoraire[ClientId],Personne[[#This Row],[PersonneId]]),SUMIFS(Honoraire[TotalHT],Honoraire[ClientId],Personne[[#This Row],[PersonneId]]))","v":0},{"$f":"Personne[[#This Row],[Facture (HT)]]+ROW()/100000","v":2.5739999999999999E-2},{"$f":"_xlfn.CONCAT(Personne[[#This Row],[Adresse]],\" \",Personne[[#This Row],[CodePostal]],\" \",Personne[[#This Row],[Ville]],\" \",Personne[[#This Row],[CodePays]])","v":"   "}]
[null,null,null,null,null,null,null,null,null,null,null,null,null,null,null,null,null,null,null,null,null,null,null,null,null,null,null,null,null,null,{"$f":"IF(PARAMETRES!$B$3=\"SANS\",SUMIFS(Honoraire[TotalHonoraireHT],Honoraire[ClientId],Personne[[#This Row],[PersonneId]]),SUMIFS(Honoraire[TotalHT],Honoraire[ClientId],Personne[[#This Row],[PersonneId]]))","v":0},{"$f":"Personne[[#This Row],[Facture (HT)]]+ROW()/100000","v":2.5749999999999999E-2},{"$f":"_xlfn.CONCAT(Personne[[#This Row],[Adresse]],\" \",Personne[[#This Row],[CodePostal]],\" \",Personne[[#This Row],[Ville]],\" \",Personne[[#This Row],[CodePays]])","v":"   "}]
[null,null,null,null,null,null,null,null,null,null,null,null,null,null,null,null,null,null,null,null,null,null,null,null,null,null,null,null,null,null,{"$f":"IF(PARAMETRES!$B$3=\"SANS\",SUMIFS(Honoraire[TotalHonoraireHT],Honoraire[ClientId],Personne[[#This Row],[PersonneId]]),SUMIFS(Honoraire[TotalHT],Honoraire[ClientId],Personne[[#This Row],[PersonneId]]))","v":0},{"$f":"Personne[[#This Row],[Facture (HT)]]+ROW()/100000","v":2.5770000000000001E-2},{"$f":"_xlfn.CONCAT(Personne[[#This Row],[Adresse]],\" \",Personne[[#This Row],[CodePostal]],\" \",Personne[[#This Row],[Ville]],\" \",Personne[[#This Row],[CodePays]])","v":"   "}]
[null,null,null,null,null,null,null,null,null,null,null,null,null,null,null,null,null,null,null,null,null,null,null,null,null,null,null,null,null,null,{"$f":"IF(PARAMETRES!$B$3=\"SANS\",SUMIFS(Honoraire[TotalHonoraireHT],Honoraire[ClientId],Personne[[#This Row],[PersonneId]]),SUMIFS(Honoraire[TotalHT],Honoraire[ClientId],Personne[[#This Row],[PersonneId]]))","v":0},{"$f":"Personne[[#This Row],[Facture (HT)]]+ROW()/100000","v":2.58E-2},{"$f":"_xlfn.CONCAT(Personne[[#This Row],[Adresse]],\" \",Personne[[#This Row],[CodePostal]],\" \",Personne[[#This Row],[Ville]],\" \",Personne[[#This Row],[CodePays]])","v":"   "}]
[null,null,null,null,null,null,null,null,null,null,null,null,null,null,null,null,null,null,null,null,null,null,null,null,null,null,null,null,null,null,{"$f":"IF(PARAMETRES!$B$3=\"SANS\",SUMIFS(Honoraire[TotalHonoraireHT],Honoraire[ClientId],Personne[[#This Row],[PersonneId]]),SUMIFS(Honoraire[TotalHT],Honoraire[ClientId],Personne[[#This Row],[PersonneId]]))","v":0},{"$f":"Personne[[#This Row],[Facture (HT)]]+ROW()/100000","v":2.5829999999999999E-2},{"$f":"_xlfn.CONCAT(Personne[[#This Row],[Adresse]],\" \",Personne[[#This Row],[CodePostal]],\" \",Personne[[#This Row],[Ville]],\" \",Personne[[#This Row],[CodePays]])","v":"   "}]
[null,null,null,null,null,null,null,null,null,null,null,null,null,null,null,null,null,null,null,null,null,null,null,null,null,null,null,null,null,null,{"$f":"IF(PARAMETRES!$B$3=\"SANS\",SUMIFS(Honoraire[TotalHonoraireHT],Honoraire[ClientId],Personne[[#This Row],[PersonneId]]),SUMIFS(Honoraire[TotalHT],Honoraire[ClientId],Personne[[#This Row],[PersonneId]]))","v":0},{"$f":"Personne[[#This Row],[Facture (HT)]]+ROW()/100000","v":2.5839999999999998E-2},{"$f":"_xlfn.CONCAT(Personne[[#This Row],[Adresse]],\" \",Personne[[#This Row],[CodePostal]],\" \",Personne[[#This Row],[Ville]],\" \",Personne[[#This Row],[CodePays]])","v":"   "}]
[null,null,null,null,null,null,null,null,null,null,null,null,null,null,null,null,null,null,null,null,null,null,null,null,null,null,null,null,null,null,{"$f":"IF(PARAMETRES!$B$3=\"SANS\",SUMIFS(Honoraire[TotalHonoraireHT],Honoraire[ClientId],Personne[[#This Row],[PersonneId]]),SUMIFS(Honoraire[TotalHT],Honoraire[ClientId],Personne[[#This Row],[PersonneId]]))","v":0},{"$f":"Personne[[#This Row],[Facture (HT)]]+ROW()/100000","v":2.5870000000000001E-2},{"$f":"_xlfn.CONCAT(Personne[[#This Row],[Adresse]],\" \",Personne[[#This Row],[CodePostal]],\" \",Personne[[#This Row],[Ville]],\" \",Personne[[#This Row],[CodePays]])","v":"   "}]
[null,null,null,null,null,null,null,null,null,null,null,null,null,null,null,null,null,null,null,null,null,null,null,null,null,null,null,null,null,null,{"$f":"IF(PARAMETRES!$B$3=\"SANS\",SUMIFS(Honoraire[TotalHonoraireHT],Honoraire[ClientId],Personne[[#This Row],[PersonneId]]),SUMIFS(Honoraire[TotalHT],Honoraire[ClientId],Personne[[#This Row],[PersonneId]]))","v":0},{"$f":"Personne[[#This Row],[Facture (HT)]]+ROW()/100000","v":2.588E-2},{"$f":"_xlfn.CONCAT(Personne[[#This Row],[Adresse]],\" \",Personne[[#This Row],[CodePostal]],\" \",Personne[[#This Row],[Ville]],\" \",Personne[[#This Row],[CodePays]])","v":"   "}]
[null,null,null,null,null,null,null,null,null,null,null,null,null,null,null,null,null,null,null,null,null,null,null,null,null,null,null,null,null,null,{"$f":"IF(PARAMETRES!$B$3=\"SANS\",SUMIFS(Honoraire[TotalHonoraireHT],Honoraire[ClientId],Personne[[#This Row],[PersonneId]]),SUMIFS(Honoraire[TotalHT],Honoraire[ClientId],Personne[[#This Row],[PersonneId]]))","v":0},{"$f":"Personne[[#This Row],[Facture (HT)]]+ROW()/100000","v":2.5899999999999999E-2},{"$f":"_xlfn.CONCAT(Personne[[#This Row],[Adresse]],\" \",Personne[[#This Row],[CodePostal]],\" \",Personne[[#This Row],[Ville]],\" \",Personne[[#This Row],[CodePays]])","v":"   "}]
[null,null,null,null,null,null,null,null,null,null,null,null,null,null,null,null,null,null,null,null,null,null,null,null,null,null,null,null,null,null,{"$f":"IF(PARAMETRES!$B$3=\"SANS\",SUMIFS(Honoraire[TotalHonoraireHT],Honoraire[ClientId],Personne[[#This Row],[PersonneId]]),SUMIFS(Honoraire[TotalHT],Honoraire[ClientId],Personne[[#This Row],[PersonneId]]))","v":0},{"$f":"Personne[[#This Row],[Facture (HT)]]+ROW()/100000","v":2.5930000000000002E-2},{"$f":"_xlfn.CONCAT(Personne[[#This Row],[Adresse]],\" \",Personne[[#This Row],[CodePostal]],\" \",Personne[[#This Row],[Ville]],\" \",Personne[[#This Row],[CodePays]])","v":"   "}]
[null,null,null,null,null,null,null,null,null,null,null,null,null,null,null,null,null,null,null,null,null,null,null,null,null,null,null,null,null,null,{"$f":"IF(PARAMETRES!$B$3=\"SANS\",SUMIFS(Honoraire[TotalHonoraireHT],Honoraire[ClientId],Personne[[#This Row],[PersonneId]]),SUMIFS(Honoraire[TotalHT],Honoraire[ClientId],Personne[[#This Row],[PersonneId]]))","v":0},{"$f":"Personne[[#This Row],[Facture (HT)]]+ROW()/100000","v":2.596E-2},{"$f":"_xlfn.CONCAT(Personne[[#This Row],[Adresse]],\" \",Personne[[#This Row],[CodePostal]],\" \",Personne[[#This Row],[Ville]],\" \",Personne[[#This Row],[CodePays]])","v":"   "}]
[null,null,null,null,null,null,null,null,null,null,null,null,null,null,null,null,null,null,null,null,null,null,null,null,null,null,null,null,null,null,{"$f":"IF(PARAMETRES!$B$3=\"SANS\",SUMIFS(Honoraire[TotalHonoraireHT],Honoraire[ClientId],Personne[[#This Row],[PersonneId]]),SUMIFS(Honoraire[TotalHT],Honoraire[ClientId],Personne[[#This Row],[PersonneId]]))","v":0},{"$f":"Personne[[#This Row],[Facture (HT)]]+ROW()/100000","v":2.597E-2},{"$f":"_xlfn.CONCAT(Personne[[#This Row],[Adresse]],\" \",Personne[[#This Row],[CodePostal]],\" \",Personne[[#This Row],[Ville]],\" \",Personne[[#This Row],[CodePays]])","v":"   "}]
[null,null,null,null,null,null,null,null,null,null,null,null,null,null,null,null,null,null,null,null,null,null,null,null,null,null,null,null,null,null,{"$f":"IF(PARAMETRES!$B$3=\"SANS\",SUMIFS(Honoraire[TotalHonoraireHT],Honoraire[ClientId],Personne[[#This Row],[PersonneId]]),SUMIFS(Honoraire[TotalHT],Honoraire[ClientId],Personne[[#This Row],[PersonneId]]))","v":0},{"$f":"Personne[[#This Row],[Facture (HT)]]+ROW()/100000","v":2.5999999999999999E-2},{"$f":"_xlfn.CONCAT(Personne[[#This Row],[Adresse]],\" \",Personne[[#This Row],[CodePostal]],\" \",Personne[[#This Row],[Ville]],\" \",Personne[[#This Row],[CodePays]])","v":"   "}]
[null,null,null,null,null,null,null,null,null,null,null,null,null,null,null,null,null,null,null,null,null,null,null,null,null,null,null,null,null,null,{"$f":"IF(PARAMETRES!$B$3=\"SANS\",SUMIFS(Honoraire[TotalHonoraireHT],Honoraire[ClientId],Personne[[#This Row],[PersonneId]]),SUMIFS(Honoraire[TotalHT],Honoraire[ClientId],Personne[[#This Row],[PersonneId]]))","v":0},{"$f":"Personne[[#This Row],[Facture (HT)]]+ROW()/100000","v":2.6020000000000001E-2},{"$f":"_xlfn.CONCAT(Personne[[#This Row],[Adresse]],\" \",Personne[[#This Row],[CodePostal]],\" \",Personne[[#This Row],[Ville]],\" \",Personne[[#This Row],[CodePays]])","v":"   "}]
[null,null,null,null,null,null,null,null,null,null,null,null,null,null,null,null,null,null,null,null,null,null,null,null,null,null,null,null,null,null,{"$f":"IF(PARAMETRES!$B$3=\"SANS\",SUMIFS(Honoraire[TotalHonoraireHT],Honoraire[ClientId],Personne[[#This Row],[PersonneId]]),SUMIFS(Honoraire[TotalHT],Honoraire[ClientId],Personne[[#This Row],[PersonneId]]))","v":0},{"$f":"Personne[[#This Row],[Facture (HT)]]+ROW()/100000","v":2.605E-2},{"$f":"_xlfn.CONCAT(Personne[[#This Row],[Adresse]],\" \",Personne[[#This Row],[CodePostal]],\" \",Personne[[#This Row],[Ville]],\" \",Personne[[#This Row],[CodePays]])","v":"   "}]
[null,null,null,null,null,null,null,null,null,null,null,null,null,null,null,null,null,null,null,null,null,null,null,null,null,null,null,null,null,null,{"$f":"IF(PARAMETRES!$B$3=\"SANS\",SUMIFS(Honoraire[TotalHonoraireHT],Honoraire[ClientId],Personne[[#This Row],[PersonneId]]),SUMIFS(Honoraire[TotalHT],Honoraire[ClientId],Personne[[#This Row],[PersonneId]]))","v":0},{"$f":"Personne[[#This Row],[Facture (HT)]]+ROW()/100000","v":2.606E-2},{"$f":"_xlfn.CONCAT(Personne[[#This Row],[Adresse]],\" \",Personne[[#This Row],[CodePostal]],\" \",Personne[[#This Row],[Ville]],\" \",Personne[[#This Row],[CodePays]])","v":"   "}]
[null,null,null,null,null,null,null,null,null,null,null,null,null,null,null,null,null,null,null,null,null,null,null,null,null,null,null,null,null,null,{"$f":"IF(PARAMETRES!$B$3=\"SANS\",SUMIFS(Honoraire[TotalHonoraireHT],Honoraire[ClientId],Personne[[#This Row],[PersonneId]]),SUMIFS(Honoraire[TotalHT],Honoraire[ClientId],Personne[[#This Row],[PersonneId]]))","v":0},{"$f":"Personne[[#This Row],[Facture (HT)]]+ROW()/100000","v":2.6089999999999999E-2},{"$f":"_xlfn.CONCAT(Personne[[#This Row],[Adresse]],\" \",Personne[[#This Row],[CodePostal]],\" \",Personne[[#This Row],[Ville]],\" \",Personne[[#This Row],[CodePays]])","v":"   "}]
[null,null,null,null,null,null,null,null,null,null,null,null,null,null,null,null,null,null,null,null,null,null,null,null,null,null,null,null,null,null,{"$f":"IF(PARAMETRES!$B$3=\"SANS\",SUMIFS(Honoraire[TotalHonoraireHT],Honoraire[ClientId],Personne[[#This Row],[PersonneId]]),SUMIFS(Honoraire[TotalHT],Honoraire[ClientId],Personne[[#This Row],[PersonneId]]))","v":0},{"$f":"Personne[[#This Row],[Facture (HT)]]+ROW()/100000","v":2.6100000000000002E-2},{"$f":"_xlfn.CONCAT(Personne[[#This Row],[Adresse]],\" \",Personne[[#This Row],[CodePostal]],\" \",Personne[[#This Row],[Ville]],\" \",Personne[[#This Row],[CodePays]])","v":"   "}]
[null,null,null,null,null,null,null,null,null,null,null,null,null,null,null,null,null,null,null,null,null,null,null,null,null,null,null,null,null,null,{"$f":"IF(PARAMETRES!$B$3=\"SANS\",SUMIFS(Honoraire[TotalHonoraireHT],Honoraire[ClientId],Personne[[#This Row],[PersonneId]]),SUMIFS(Honoraire[TotalHT],Honoraire[ClientId],Personne[[#This Row],[PersonneId]]))","v":0},{"$f":"Personne[[#This Row],[Facture (HT)]]+ROW()/100000","v":2.613E-2},{"$f":"_xlfn.CONCAT(Personne[[#This Row],[Adresse]],\" \",Personne[[#This Row],[CodePostal]],\" \",Personne[[#This Row],[Ville]],\" \",Personne[[#This Row],[CodePays]])","v":"   "}]
[null,null,null,null,null,null,null,null,null,null,null,null,null,null,null,null,null,null,null,null,null,null,null,null,null,null,null,null,null,null,{"$f":"IF(PARAMETRES!$B$3=\"SANS\",SUMIFS(Honoraire[TotalHonoraireHT],Honoraire[ClientId],Personne[[#This Row],[PersonneId]]),SUMIFS(Honoraire[TotalHT],Honoraire[ClientId],Personne[[#This Row],[PersonneId]]))","v":0},{"$f":"Personne[[#This Row],[Facture (HT)]]+ROW()/100000","v":2.615E-2},{"$f":"_xlfn.CONCAT(Personne[[#This Row],[Adresse]],\" \",Personne[[#This Row],[CodePostal]],\" \",Personne[[#This Row],[Ville]],\" \",Personne[[#This Row],[CodePays]])","v":"   "}]
[null,null,null,null,null,null,null,null,null,null,null,null,null,null,null,null,null,null,null,null,null,null,null,null,null,null,null,null,null,null,{"$f":"IF(PARAMETRES!$B$3=\"SANS\",SUMIFS(Honoraire[TotalHonoraireHT],Honoraire[ClientId],Personne[[#This Row],[PersonneId]]),SUMIFS(Honoraire[TotalHT],Honoraire[ClientId],Personne[[#This Row],[PersonneId]]))","v":0},{"$f":"Personne[[#This Row],[Facture (HT)]]+ROW()/100000","v":2.6179999999999998E-2},{"$f":"_xlfn.CONCAT(Personne[[#This Row],[Adresse]],\" \",Personne[[#This Row],[CodePostal]],\" \",Personne[[#This Row],[Ville]],\" \",Personne[[#This Row],[CodePays]])","v":"   "}]
[null,null,null,null,null,null,null,null,null,null,null,null,null,null,null,null,null,null,null,null,null,null,null,null,null,null,null,null,null,null,{"$f":"IF(PARAMETRES!$B$3=\"SANS\",SUMIFS(Honoraire[TotalHonoraireHT],Honoraire[ClientId],Personne[[#This Row],[PersonneId]]),SUMIFS(Honoraire[TotalHT],Honoraire[ClientId],Personne[[#This Row],[PersonneId]]))","v":0},{"$f":"Personne[[#This Row],[Facture (HT)]]+ROW()/100000","v":2.6190000000000001E-2},{"$f":"_xlfn.CONCAT(Personne[[#This Row],[Adresse]],\" \",Personne[[#This Row],[CodePostal]],\" \",Personne[[#This Row],[Ville]],\" \",Personne[[#This Row],[CodePays]])","v":"   "}]
[null,null,null,null,null,null,null,null,null,null,null,null,null,null,null,null,null,null,null,null,null,null,null,null,null,null,null,null,null,null,{"$f":"IF(PARAMETRES!$B$3=\"SANS\",SUMIFS(Honoraire[TotalHonoraireHT],Honoraire[ClientId],Personne[[#This Row],[PersonneId]]),SUMIFS(Honoraire[TotalHT],Honoraire[ClientId],Personne[[#This Row],[PersonneId]]))","v":0},{"$f":"Personne[[#This Row],[Facture (HT)]]+ROW()/100000","v":2.622E-2},{"$f":"_xlfn.CONCAT(Personne[[#This Row],[Adresse]],\" \",Personne[[#This Row],[CodePostal]],\" \",Personne[[#This Row],[Ville]],\" \",Personne[[#This Row],[CodePays]])","v":"   "}]
[null,null,null,null,null,null,null,null,null,null,null,null,null,null,null,null,null,null,null,null,null,null,null,null,null,null,null,null,null,null,{"$f":"IF(PARAMETRES!$B$3=\"SANS\",SUMIFS(Honoraire[TotalHonoraireHT],Honoraire[ClientId],Personne[[#This Row],[PersonneId]]),SUMIFS(Honoraire[TotalHT],Honoraire[ClientId],Personne[[#This Row],[PersonneId]]))","v":0},{"$f":"Personne[[#This Row],[Facture (HT)]]+ROW()/100000","v":2.623E-2},{"$f":"_xlfn.CONCAT(Personne[[#This Row],[Adresse]],\" \",Personne[[#This Row],[CodePostal]],\" \",Personne[[#This Row],[Ville]],\" \",Personne[[#This Row],[CodePays]])","v":"   "}]
[null,null,null,null,null,null,null,null,null,null,null,null,null,null,null,null,null,null,null,null,null,null,null,null,null,null,null,null,null,null,{"$f":"IF(PARAMETRES!$B$3=\"SANS\",SUMIFS(Honoraire[TotalHonoraireHT],Honoraire[ClientId],Personne[[#This Row],[PersonneId]]),SUMIFS(Honoraire[TotalHT],Honoraire[ClientId],Personne[[#This Row],[PersonneId]]))","v":0},{"$f":"Personne[[#This Row],[Facture (HT)]]+ROW()/100000","v":2.6249999999999999E-2},{"$f":"_xlfn.CONCAT(Personne[[#This Row],[Adresse]],\" \",Personne[[#This Row],[CodePostal]],\" \",Personne[[#This Row],[Ville]],\" \",Personne[[#This Row],[CodePays]])","v":"   "}]
[null,null,null,null,null,null,null,null,null,null,null,null,null,null,null,null,null,null,null,null,null,null,null,null,null,null,null,null,null,null,{"$f":"IF(PARAMETRES!$B$3=\"SANS\",SUMIFS(Honoraire[TotalHonoraireHT],Honoraire[ClientId],Personne[[#This Row],[PersonneId]]),SUMIFS(Honoraire[TotalHT],Honoraire[ClientId],Personne[[#This Row],[PersonneId]]))","v":0},{"$f":"Personne[[#This Row],[Facture (HT)]]+ROW()/100000","v":2.6280000000000001E-2},{"$f":"_xlfn.CONCAT(Personne[[#This Row],[Adresse]],\" \",Personne[[#This Row],[CodePostal]],\" \",Personne[[#This Row],[Ville]],\" \",Personne[[#This Row],[CodePays]])","v":"   "}]
[null,null,null,null,null,null,null,null,null,null,null,null,null,null,null,null,null,null,null,null,null,null,null,null,null,null,null,null,null,null,{"$f":"IF(PARAMETRES!$B$3=\"SANS\",SUMIFS(Honoraire[TotalHonoraireHT],Honoraire[ClientId],Personne[[#This Row],[PersonneId]]),SUMIFS(Honoraire[TotalHT],Honoraire[ClientId],Personne[[#This Row],[PersonneId]]))","v":0},{"$f":"Personne[[#This Row],[Facture (HT)]]+ROW()/100000","v":2.631E-2},{"$f":"_xlfn.CONCAT(Personne[[#This Row],[Adresse]],\" \",Personne[[#This Row],[CodePostal]],\" \",Personne[[#This Row],[Ville]],\" \",Personne[[#This Row],[CodePays]])","v":"   "}]
[null,null,null,null,null,null,null,null,null,null,null,null,null,null,null,null,null,null,null,null,null,null,null,null,null,null,null,null,null,null,{"$f":"IF(PARAMETRES!$B$3=\"SANS\",SUMIFS(Honoraire[TotalHonoraireHT],Honoraire[ClientId],Personne[[#This Row],[PersonneId]]),SUMIFS(Honoraire[TotalHT],Honoraire[ClientId],Personne[[#This Row],[PersonneId]]))","v":0},{"$f":"Personne[[#This Row],[Facture (HT)]]+ROW()/100000","v":2.632E-2},{"$f":"_xlfn.CONCAT(Personne[[#This Row],[Adresse]],\" \",Personne[[#This Row],[CodePostal]],\" \",Personne[[#This Row],[Ville]],\" \",Personne[[#This Row],[CodePays]])","v":"   "}]
[null,null,null,null,null,null,null,null,null,null,null,null,null,null,null,null,null,null,null,null,null,null,null,null,null,null,null,null,null,null,{"$f":"IF(PARAMETRES!$B$3=\"SANS\",SUMIFS(Honoraire[TotalHonoraireHT],Honoraire[ClientId],Personne[[#This Row],[PersonneId]]),SUMIFS(Honoraire[TotalHT],Honoraire[ClientId],Personne[[#This Row],[PersonneId]]))","v":0},{"$f":"Personne[[#This Row],[Facture (HT)]]+ROW()/100000","v":2.6349999999999998E-2},{"$f":"_xlfn.CONCAT(Personne[[#This Row],[Adresse]],\" \",Personne[[#This Row],[CodePostal]],\" \",Personne[[#This Row],[Ville]],\" \",Personne[[#This Row],[CodePays]])","v":"   "}]
[null,null,null,null,null,null,null,null,null,null,null,null,null,null,null,null,null,null,null,null,null,null,null,null,null,null,null,null,null,null,{"$f":"IF(PARAMETRES!$B$3=\"SANS\",SUMIFS(Honoraire[TotalHonoraireHT],Honoraire[ClientId],Personne[[#This Row],[PersonneId]]),SUMIFS(Honoraire[TotalHT],Honoraire[ClientId],Personne[[#This Row],[PersonneId]]))","v":0},{"$f":"Personne[[#This Row],[Facture (HT)]]+ROW()/100000","v":2.6380000000000001E-2},{"$f":"_xlfn.CONCAT(Personne[[#This Row],[Adresse]],\" \",Personne[[#This Row],[CodePostal]],\" \",Personne[[#This Row],[Ville]],\" \",Personne[[#This Row],[CodePays]])","v":"   "}]
[null,null,null,null,null,null,null,null,null,null,null,null,null,null,null,null,null,null,null,null,null,null,null,null,null,null,null,null,null,null,{"$f":"IF(PARAMETRES!$B$3=\"SANS\",SUMIFS(Honoraire[TotalHonoraireHT],Honoraire[ClientId],Personne[[#This Row],[PersonneId]]),SUMIFS(Honoraire[TotalHT],Honoraire[ClientId],Personne[[#This Row],[PersonneId]]))","v":0},{"$f":"Personne[[#This Row],[Facture (HT)]]+ROW()/100000","v":2.64E-2},{"$f":"_xlfn.CONCAT(Personne[[#This Row],[Adresse]],\" \",Personne[[#This Row],[CodePostal]],\" \",Personne[[#This Row],[Ville]],\" \",Personne[[#This Row],[CodePays]])","v":"   "}]
[null,null,null,null,null,null,null,null,null,null,null,null,null,null,null,null,null,null,null,null,null,null,null,null,null,null,null,null,null,null,{"$f":"IF(PARAMETRES!$B$3=\"SANS\",SUMIFS(Honoraire[TotalHonoraireHT],Honoraire[ClientId],Personne[[#This Row],[PersonneId]]),SUMIFS(Honoraire[TotalHT],Honoraire[ClientId],Personne[[#This Row],[PersonneId]]))","v":0},{"$f":"Personne[[#This Row],[Facture (HT)]]+ROW()/100000","v":2.6409999999999999E-2},{"$f":"_xlfn.CONCAT(Personne[[#This Row],[Adresse]],\" \",Personne[[#This Row],[CodePostal]],\" \",Personne[[#This Row],[Ville]],\" \",Personne[[#This Row],[CodePays]])","v":"   "}]
[null,null,null,null,null,null,null,null,null,null,null,null,null,null,null,null,null,null,null,null,null,null,null,null,null,null,null,null,null,null,{"$f":"IF(PARAMETRES!$B$3=\"SANS\",SUMIFS(Honoraire[TotalHonoraireHT],Honoraire[ClientId],Personne[[#This Row],[PersonneId]]),SUMIFS(Honoraire[TotalHT],Honoraire[ClientId],Personne[[#This Row],[PersonneId]]))","v":0},{"$f":"Personne[[#This Row],[Facture (HT)]]+ROW()/100000","v":2.6440000000000002E-2},{"$f":"_xlfn.CONCAT(Personne[[#This Row],[Adresse]],\" \",Personne[[#This Row],[CodePostal]],\" \",Personne[[#This Row],[Ville]],\" \",Personne[[#This Row],[CodePays]])","v":"   "}]
[null,null,null,null,null,null,null,null,null,null,null,null,null,null,null,null,null,null,null,null,null,null,null,null,null,null,null,null,null,null,{"$f":"IF(PARAMETRES!$B$3=\"SANS\",SUMIFS(Honoraire[TotalHonoraireHT],Honoraire[ClientId],Personne[[#This Row],[PersonneId]]),SUMIFS(Honoraire[TotalHT],Honoraire[ClientId],Personne[[#This Row],[PersonneId]]))","v":0},{"$f":"Personne[[#This Row],[Facture (HT)]]+ROW()/100000","v":2.6450000000000001E-2},{"$f":"_xlfn.CONCAT(Personne[[#This Row],[Adresse]],\" \",Personne[[#This Row],[CodePostal]],\" \",Personne[[#This Row],[Ville]],\" \",Personne[[#This Row],[CodePays]])","v":"   "}]
[null,null,null,null,null,null,null,null,null,null,null,null,null,null,null,null,null,null,null,null,null,null,null,null,null,null,null,null,null,null,{"$f":"IF(PARAMETRES!$B$3=\"SANS\",SUMIFS(Honoraire[TotalHonoraireHT],Honoraire[ClientId],Personne[[#This Row],[PersonneId]]),SUMIFS(Honoraire[TotalHT],Honoraire[ClientId],Personne[[#This Row],[PersonneId]]))","v":0},{"$f":"Personne[[#This Row],[Facture (HT)]]+ROW()/100000","v":2.648E-2},{"$f":"_xlfn.CONCAT(Personne[[#This Row],[Adresse]],\" \",Personne[[#This Row],[CodePostal]],\" \",Personne[[#This Row],[Ville]],\" \",Personne[[#This Row],[CodePays]])","v":"   "}]
[null,null,null,null,null,null,null,null,null,null,null,null,null,null,null,null,null,null,null,null,null,null,null,null,null,null,null,null,null,null,{"$f":"IF(PARAMETRES!$B$3=\"SANS\",SUMIFS(Honoraire[TotalHonoraireHT],Honoraire[ClientId],Personne[[#This Row],[PersonneId]]),SUMIFS(Honoraire[TotalHT],Honoraire[ClientId],Personne[[#This Row],[PersonneId]]))","v":0},{"$f":"Personne[[#This Row],[Facture (HT)]]+ROW()/100000","v":2.6499999999999999E-2},{"$f":"_xlfn.CONCAT(Personne[[#This Row],[Adresse]],\" \",Personne[[#This Row],[CodePostal]],\" \",Personne[[#This Row],[Ville]],\" \",Personne[[#This Row],[CodePays]])","v":"   "}]
[null,null,null,null,null,null,null,null,null,null,null,null,null,null,null,null,null,null,null,null,null,null,null,null,null,null,null,null,null,null,{"$f":"IF(PARAMETRES!$B$3=\"SANS\",SUMIFS(Honoraire[TotalHonoraireHT],Honoraire[ClientId],Personne[[#This Row],[PersonneId]]),SUMIFS(Honoraire[TotalHT],Honoraire[ClientId],Personne[[#This Row],[PersonneId]]))","v":0},{"$f":"Personne[[#This Row],[Facture (HT)]]+ROW()/100000","v":2.6530000000000001E-2},{"$f":"_xlfn.CONCAT(Personne[[#This Row],[Adresse]],\" \",Personne[[#This Row],[CodePostal]],\" \",Personne[[#This Row],[Ville]],\" \",Personne[[#This Row],[CodePays]])","v":"   "}]
[null,null,null,null,null,null,null,null,null,null,null,null,null,null,null,null,null,null,null,null,null,null,null,null,null,null,null,null,null,null,{"$f":"IF(PARAMETRES!$B$3=\"SANS\",SUMIFS(Honoraire[TotalHonoraireHT],Honoraire[ClientId],Personne[[#This Row],[PersonneId]]),SUMIFS(Honoraire[TotalHT],Honoraire[ClientId],Personne[[#This Row],[PersonneId]]))","v":0},{"$f":"Personne[[#This Row],[Facture (HT)]]+ROW()/100000","v":2.6540000000000001E-2},{"$f":"_xlfn.CONCAT(Personne[[#This Row],[Adresse]],\" \",Personne[[#This Row],[CodePostal]],\" \",Personne[[#This Row],[Ville]],\" \",Personne[[#This Row],[CodePays]])","v":"   "}]
[null,null,null,null,null,null,null,null,null,null,null,null,null,null,null,null,null,null,null,null,null,null,null,null,null,null,null,null,null,null,{"$f":"IF(PARAMETRES!$B$3=\"SANS\",SUMIFS(Honoraire[TotalHonoraireHT],Honoraire[ClientId],Personne[[#This Row],[PersonneId]]),SUMIFS(Honoraire[TotalHT],Honoraire[ClientId],Personne[[#This Row],[PersonneId]]))","v":0},{"$f":"Personne[[#This Row],[Facture (HT)]]+ROW()/100000","v":2.657E-2},{"$f":"_xlfn.CONCAT(Personne[[#This Row],[Adresse]],\" \",Personne[[#This Row],[CodePostal]],\" \",Personne[[#This Row],[Ville]],\" \",Personne[[#This Row],[CodePays]])","v":"   "}]
[null,null,null,null,null,null,null,null,null,null,null,null,null,null,null,null,null,null,null,null,null,null,null,null,null,null,null,null,null,null,{"$f":"IF(PARAMETRES!$B$3=\"SANS\",SUMIFS(Honoraire[TotalHonoraireHT],Honoraire[ClientId],Personne[[#This Row],[PersonneId]]),SUMIFS(Honoraire[TotalHT],Honoraire[ClientId],Personne[[#This Row],[PersonneId]]))","v":0},{"$f":"Personne[[#This Row],[Facture (HT)]]+ROW()/100000","v":2.6579999999999999E-2},{"$f":"_xlfn.CONCAT(Personne[[#This Row],[Adresse]],\" \",Personne[[#This Row],[CodePostal]],\" \",Personne[[#This Row],[Ville]],\" \",Personne[[#This Row],[CodePays]])","v":"   "}]
[null,null,null,null,null,null,null,null,null,null,null,null,null,null,null,null,null,null,null,null,null,null,null,null,null,null,null,null,null,null,{"$f":"IF(PARAMETRES!$B$3=\"SANS\",SUMIFS(Honoraire[TotalHonoraireHT],Honoraire[ClientId],Personne[[#This Row],[PersonneId]]),SUMIFS(Honoraire[TotalHT],Honoraire[ClientId],Personne[[#This Row],[PersonneId]]))","v":0},{"$f":"Personne[[#This Row],[Facture (HT)]]+ROW()/100000","v":2.6599999999999999E-2},{"$f":"_xlfn.CONCAT(Personne[[#This Row],[Adresse]],\" \",Personne[[#This Row],[CodePostal]],\" \",Personne[[#This Row],[Ville]],\" \",Personne[[#This Row],[CodePays]])","v":"   "}]
[null,null,null,null,null,null,null,null,null,null,null,null,null,null,null,null,null,null,null,null,null,null,null,null,null,null,null,null,null,null,{"$f":"IF(PARAMETRES!$B$3=\"SANS\",SUMIFS(Honoraire[TotalHonoraireHT],Honoraire[ClientId],Personne[[#This Row],[PersonneId]]),SUMIFS(Honoraire[TotalHT],Honoraire[ClientId],Personne[[#This Row],[PersonneId]]))","v":0},{"$f":"Personne[[#This Row],[Facture (HT)]]+ROW()/100000","v":2.6630000000000001E-2},{"$f":"_xlfn.CONCAT(Personne[[#This Row],[Adresse]],\" \",Personne[[#This Row],[CodePostal]],\" \",Personne[[#This Row],[Ville]],\" \",Personne[[#This Row],[CodePays]])","v":"   "}]
[null,null,null,null,null,null,null,null,null,null,null,null,null,null,null,null,null,null,null,null,null,null,null,null,null,null,null,null,null,null,{"$f":"IF(PARAMETRES!$B$3=\"SANS\",SUMIFS(Honoraire[TotalHonoraireHT],Honoraire[ClientId],Personne[[#This Row],[PersonneId]]),SUMIFS(Honoraire[TotalHT],Honoraire[ClientId],Personne[[#This Row],[PersonneId]]))","v":0},{"$f":"Personne[[#This Row],[Facture (HT)]]+ROW()/100000","v":2.666E-2},{"$f":"_xlfn.CONCAT(Personne[[#This Row],[Adresse]],\" \",Personne[[#This Row],[CodePostal]],\" \",Personne[[#This Row],[Ville]],\" \",Personne[[#This Row],[CodePays]])","v":"   "}]
[null,null,null,null,null,null,null,null,null,null,null,null,null,null,null,null,null,null,null,null,null,null,null,null,null,null,null,null,null,null,{"$f":"IF(PARAMETRES!$B$3=\"SANS\",SUMIFS(Honoraire[TotalHonoraireHT],Honoraire[ClientId],Personne[[#This Row],[PersonneId]]),SUMIFS(Honoraire[TotalHT],Honoraire[ClientId],Personne[[#This Row],[PersonneId]]))","v":0},{"$f":"Personne[[#This Row],[Facture (HT)]]+ROW()/100000","v":2.6669999999999999E-2},{"$f":"_xlfn.CONCAT(Personne[[#This Row],[Adresse]],\" \",Personne[[#This Row],[CodePostal]],\" \",Personne[[#This Row],[Ville]],\" \",Personne[[#This Row],[CodePays]])","v":"   "}]
[null,null,null,null,null,null,null,null,null,null,null,null,null,null,null,null,null,null,null,null,null,null,null,null,null,null,null,null,null,null,{"$f":"IF(PARAMETRES!$B$3=\"SANS\",SUMIFS(Honoraire[TotalHonoraireHT],Honoraire[ClientId],Personne[[#This Row],[PersonneId]]),SUMIFS(Honoraire[TotalHT],Honoraire[ClientId],Personne[[#This Row],[PersonneId]]))","v":0},{"$f":"Personne[[#This Row],[Facture (HT)]]+ROW()/100000","v":2.6700000000000002E-2},{"$f":"_xlfn.CONCAT(Personne[[#This Row],[Adresse]],\" \",Personne[[#This Row],[CodePostal]],\" \",Personne[[#This Row],[Ville]],\" \",Personne[[#This Row],[CodePays]])","v":"   "}]
[null,null,null,null,null,null,null,null,null,null,null,null,null,null,null,null,null,null,null,null,null,null,null,null,null,null,null,null,null,null,{"$f":"IF(PARAMETRES!$B$3=\"SANS\",SUMIFS(Honoraire[TotalHonoraireHT],Honoraire[ClientId],Personne[[#This Row],[PersonneId]]),SUMIFS(Honoraire[TotalHT],Honoraire[ClientId],Personne[[#This Row],[PersonneId]]))","v":0},{"$f":"Personne[[#This Row],[Facture (HT)]]+ROW()/100000","v":2.6710000000000001E-2},{"$f":"_xlfn.CONCAT(Personne[[#This Row],[Adresse]],\" \",Personne[[#This Row],[CodePostal]],\" \",Personne[[#This Row],[Ville]],\" \",Personne[[#This Row],[CodePays]])","v":"   "}]
[null,null,null,null,null,null,null,null,null,null,null,null,null,null,null,null,null,null,null,null,null,null,null,null,null,null,null,null,null,null,{"$f":"IF(PARAMETRES!$B$3=\"SANS\",SUMIFS(Honoraire[TotalHonoraireHT],Honoraire[ClientId],Personne[[#This Row],[PersonneId]]),SUMIFS(Honoraire[TotalHT],Honoraire[ClientId],Personne[[#This Row],[PersonneId]]))","v":0},{"$f":"Personne[[#This Row],[Facture (HT)]]+ROW()/100000","v":2.6749999999999999E-2},{"$f":"_xlfn.CONCAT(Personne[[#This Row],[Adresse]],\" \",Personne[[#This Row],[CodePostal]],\" \",Personne[[#This Row],[Ville]],\" \",Personne[[#This Row],[CodePays]])","v":"   "}]
[null,null,null,null,null,null,null,null,null,null,null,null,null,null,null,null,null,null,null,null,null,null,null,null,null,null,null,null,null,null,{"$f":"IF(PARAMETRES!$B$3=\"SANS\",SUMIFS(Honoraire[TotalHonoraireHT],Honoraire[ClientId],Personne[[#This Row],[PersonneId]]),SUMIFS(Honoraire[TotalHT],Honoraire[ClientId],Personne[[#This Row],[PersonneId]]))","v":0},{"$f":"Personne[[#This Row],[Facture (HT)]]+ROW()/100000","v":2.6759999999999999E-2},{"$f":"_xlfn.CONCAT(Personne[[#This Row],[Adresse]],\" \",Personne[[#This Row],[CodePostal]],\" \",Personne[[#This Row],[Ville]],\" \",Personne[[#This Row],[CodePays]])","v":"   "}]
[null,null,null,null,null,null,null,null,null,null,null,null,null,null,null,null,null,null,null,null,null,null,null,null,null,null,null,null,null,null,{"$f":"IF(PARAMETRES!$B$3=\"SANS\",SUMIFS(Honoraire[TotalHonoraireHT],Honoraire[ClientId],Personne[[#This Row],[PersonneId]]),SUMIFS(Honoraire[TotalHT],Honoraire[ClientId],Personne[[#This Row],[PersonneId]]))","v":0},{"$f":"Personne[[#This Row],[Facture (HT)]]+ROW()/100000","v":2.6790000000000001E-2},{"$f":"_xlfn.CONCAT(Personne[[#This Row],[Adresse]],\" \",Personne[[#This Row],[CodePostal]],\" \",Personne[[#This Row],[Ville]],\" \",Personne[[#This Row],[CodePays]])","v":"   "}]
[null,null,null,null,null,null,null,null,null,null,null,null,null,null,null,null,null,null,null,null,null,null,null,null,null,null,null,null,null,null,{"$f":"IF(PARAMETRES!$B$3=\"SANS\",SUMIFS(Honoraire[TotalHonoraireHT],Honoraire[ClientId],Personne[[#This Row],[PersonneId]]),SUMIFS(Honoraire[TotalHT],Honoraire[ClientId],Personne[[#This Row],[PersonneId]]))","v":0},{"$f":"Personne[[#This Row],[Facture (HT)]]+ROW()/100000","v":2.6800000000000001E-2},{"$f":"_xlfn.CONCAT(Personne[[#This Row],[Adresse]],\" \",Personne[[#This Row],[CodePostal]],\" \",Personne[[#This Row],[Ville]],\" \",Personne[[#This Row],[CodePays]])","v":"   "}]
[null,null,null,null,null,null,null,null,null,null,null,null,null,null,null,null,null,null,null,null,null,null,null,null,null,null,null,null,null,null,{"$f":"IF(PARAMETRES!$B$3=\"SANS\",SUMIFS(Honoraire[TotalHonoraireHT],Honoraire[ClientId],Personne[[#This Row],[PersonneId]]),SUMIFS(Honoraire[TotalHT],Honoraire[ClientId],Personne[[#This Row],[PersonneId]]))","v":0},{"$f":"Personne[[#This Row],[Facture (HT)]]+ROW()/100000","v":2.683E-2},{"$f":"_xlfn.CONCAT(Personne[[#This Row],[Adresse]],\" \",Personne[[#This Row],[CodePostal]],\" \",Personne[[#This Row],[Ville]],\" \",Personne[[#This Row],[CodePays]])","v":"   "}]
[null,null,null,null,null,null,null,null,null,null,null,null,null,null,null,null,null,null,null,null,null,null,null,null,null,null,null,null,null,null,{"$f":"IF(PARAMETRES!$B$3=\"SANS\",SUMIFS(Honoraire[TotalHonoraireHT],Honoraire[ClientId],Personne[[#This Row],[PersonneId]]),SUMIFS(Honoraire[TotalHT],Honoraire[ClientId],Personne[[#This Row],[PersonneId]]))","v":0},{"$f":"Personne[[#This Row],[Facture (HT)]]+ROW()/100000","v":2.6849999999999999E-2},{"$f":"_xlfn.CONCAT(Personne[[#This Row],[Adresse]],\" \",Personne[[#This Row],[CodePostal]],\" \",Personne[[#This Row],[Ville]],\" \",Personne[[#This Row],[CodePays]])","v":"   "}]
[null,null,null,null,null,null,null,null,null,null,null,null,null,null,null,null,null,null,null,null,null,null,null,null,null,null,null,null,null,null,{"$f":"IF(PARAMETRES!$B$3=\"SANS\",SUMIFS(Honoraire[TotalHonoraireHT],Honoraire[ClientId],Personne[[#This Row],[PersonneId]]),SUMIFS(Honoraire[TotalHT],Honoraire[ClientId],Personne[[#This Row],[PersonneId]]))","v":0},{"$f":"Personne[[#This Row],[Facture (HT)]]+ROW()/100000","v":2.6880000000000001E-2},{"$f":"_xlfn.CONCAT(Personne[[#This Row],[Adresse]],\" \",Personne[[#This Row],[CodePostal]],\" \",Personne[[#This Row],[Ville]],\" \",Personne[[#This Row],[CodePays]])","v":"   "}]
[null,null,null,null,null,null,null,null,null,null,null,null,null,null,null,null,null,null,null,null,null,null,null,null,null,null,null,null,null,null,{"$f":"IF(PARAMETRES!$B$3=\"SANS\",SUMIFS(Honoraire[TotalHonoraireHT],Honoraire[ClientId],Personne[[#This Row],[PersonneId]]),SUMIFS(Honoraire[TotalHT],Honoraire[ClientId],Personne[[#This Row],[PersonneId]]))","v":0},{"$f":"Personne[[#This Row],[Facture (HT)]]+ROW()/100000","v":2.6890000000000001E-2},{"$f":"_xlfn.CONCAT(Personne[[#This Row],[Adresse]],\" \",Personne[[#This Row],[CodePostal]],\" \",Personne[[#This Row],[Ville]],\" \",Personne[[#This Row],[CodePays]])","v":"   "}]
[null,null,null,null,null,null,null,null,null,null,null,null,null,null,null,null,null,null,null,null,null,null,null,null,null,null,null,null,null,null,{"$f":"IF(PARAMETRES!$B$3=\"SANS\",SUMIFS(Honoraire[TotalHonoraireHT],Honoraire[ClientId],Personne[[#This Row],[PersonneId]]),SUMIFS(Honoraire[TotalHT],Honoraire[ClientId],Personne[[#This Row],[PersonneId]]))","v":0},{"$f":"Personne[[#This Row],[Facture (HT)]]+ROW()/100000","v":2.6919999999999999E-2},{"$f":"_xlfn.CONCAT(Personne[[#This Row],[Adresse]],\" \",Personne[[#This Row],[CodePostal]],\" \",Personne[[#This Row],[Ville]],\" \",Personne[[#This Row],[CodePays]])","v":"   "}]
[null,null,null,null,null,null,null,null,null,null,null,null,null,null,null,null,null,null,null,null,null,null,null,null,null,null,null,null,null,null,{"$f":"IF(PARAMETRES!$B$3=\"SANS\",SUMIFS(Honoraire[TotalHonoraireHT],Honoraire[ClientId],Personne[[#This Row],[PersonneId]]),SUMIFS(Honoraire[TotalHT],Honoraire[ClientId],Personne[[#This Row],[PersonneId]]))","v":0},{"$f":"Personne[[#This Row],[Facture (HT)]]+ROW()/100000","v":2.6929999999999999E-2},{"$f":"_xlfn.CONCAT(Personne[[#This Row],[Adresse]],\" \",Personne[[#This Row],[CodePostal]],\" \",Personne[[#This Row],[Ville]],\" \",Personne[[#This Row],[CodePays]])","v":"   "}]
[null,null,null,null,null,null,null,null,null,null,null,null,null,null,null,null,null,null,null,null,null,null,null,null,null,null,null,null,null,null,{"$f":"IF(PARAMETRES!$B$3=\"SANS\",SUMIFS(Honoraire[TotalHonoraireHT],Honoraire[ClientId],Personne[[#This Row],[PersonneId]]),SUMIFS(Honoraire[TotalHT],Honoraire[ClientId],Personne[[#This Row],[PersonneId]]))","v":0},{"$f":"Personne[[#This Row],[Facture (HT)]]+ROW()/100000","v":2.6960000000000001E-2},{"$f":"_xlfn.CONCAT(Personne[[#This Row],[Adresse]],\" \",Personne[[#This Row],[CodePostal]],\" \",Personne[[#This Row],[Ville]],\" \",Personne[[#This Row],[CodePays]])","v":"   "}]
[null,null,null,null,null,null,null,null,null,null,null,null,null,null,null,null,null,null,null,null,null,null,null,null,null,null,null,null,null,null,{"$f":"IF(PARAMETRES!$B$3=\"SANS\",SUMIFS(Honoraire[TotalHonoraireHT],Honoraire[ClientId],Personne[[#This Row],[PersonneId]]),SUMIFS(Honoraire[TotalHT],Honoraire[ClientId],Personne[[#This Row],[PersonneId]]))","v":0},{"$f":"Personne[[#This Row],[Facture (HT)]]+ROW()/100000","v":2.6970000000000001E-2},{"$f":"_xlfn.CONCAT(Personne[[#This Row],[Adresse]],\" \",Personne[[#This Row],[CodePostal]],\" \",Personne[[#This Row],[Ville]],\" \",Personne[[#This Row],[CodePays]])","v":"   "}]
[null,null,null,null,null,null,null,null,null,null,null,null,null,null,null,null,null,null,null,null,null,null,null,null,null,null,null,null,null,null,{"$f":"IF(PARAMETRES!$B$3=\"SANS\",SUMIFS(Honoraire[TotalHonoraireHT],Honoraire[ClientId],Personne[[#This Row],[PersonneId]]),SUMIFS(Honoraire[TotalHT],Honoraire[ClientId],Personne[[#This Row],[PersonneId]]))","v":0},{"$f":"Personne[[#This Row],[Facture (HT)]]+ROW()/100000","v":2.7009999999999999E-2},{"$f":"_xlfn.CONCAT(Personne[[#This Row],[Adresse]],\" \",Personne[[#This Row],[CodePostal]],\" \",Personne[[#This Row],[Ville]],\" \",Personne[[#This Row],[CodePays]])","v":"   "}]
[null,null,null,null,null,null,null,null,null,null,null,null,null,null,null,null,null,null,null,null,null,null,null,null,null,null,null,null,null,null,{"$f":"IF(PARAMETRES!$B$3=\"SANS\",SUMIFS(Honoraire[TotalHonoraireHT],Honoraire[ClientId],Personne[[#This Row],[PersonneId]]),SUMIFS(Honoraire[TotalHT],Honoraire[ClientId],Personne[[#This Row],[PersonneId]]))","v":0},{"$f":"Personne[[#This Row],[Facture (HT)]]+ROW()/100000","v":2.7019999999999999E-2},{"$f":"_xlfn.CONCAT(Personne[[#This Row],[Adresse]],\" \",Personne[[#This Row],[CodePostal]],\" \",Personne[[#This Row],[Ville]],\" \",Personne[[#This Row],[CodePays]])","v":"   "}]
[null,null,null,null,null,null,null,null,null,null,null,null,null,null,null,null,null,null,null,null,null,null,null,null,null,null,null,null,null,null,{"$f":"IF(PARAMETRES!$B$3=\"SANS\",SUMIFS(Honoraire[TotalHonoraireHT],Honoraire[ClientId],Personne[[#This Row],[PersonneId]]),SUMIFS(Honoraire[TotalHT],Honoraire[ClientId],Personne[[#This Row],[PersonneId]]))","v":0},{"$f":"Personne[[#This Row],[Facture (HT)]]+ROW()/100000","v":2.7050000000000001E-2},{"$f":"_xlfn.CONCAT(Personne[[#This Row],[Adresse]],\" \",Personne[[#This Row],[CodePostal]],\" \",Personne[[#This Row],[Ville]],\" \",Personne[[#This Row],[CodePays]])","v":"   "}]
[null,null,null,null,null,null,null,null,null,null,null,null,null,null,null,null,null,null,null,null,null,null,null,null,null,null,null,null,null,null,{"$f":"IF(PARAMETRES!$B$3=\"SANS\",SUMIFS(Honoraire[TotalHonoraireHT],Honoraire[ClientId],Personne[[#This Row],[PersonneId]]),SUMIFS(Honoraire[TotalHT],Honoraire[ClientId],Personne[[#This Row],[PersonneId]]))","v":0},{"$f":"Personne[[#This Row],[Facture (HT)]]+ROW()/100000","v":2.7060000000000001E-2},{"$f":"_xlfn.CONCAT(Personne[[#This Row],[Adresse]],\" \",Personne[[#This Row],[CodePostal]],\" \",Personne[[#This Row],[Ville]],\" \",Personne[[#This Row],[CodePays]])","v":"   "}]
[null,null,null,null,null,null,null,null,null,null,null,null,null,null,null,null,null,null,null,null,null,null,null,null,null,null,null,null,null,null,{"$f":"IF(PARAMETRES!$B$3=\"SANS\",SUMIFS(Honoraire[TotalHonoraireHT],Honoraire[ClientId],Personne[[#This Row],[PersonneId]]),SUMIFS(Honoraire[TotalHT],Honoraire[ClientId],Personne[[#This Row],[PersonneId]]))","v":0},{"$f":"Personne[[#This Row],[Facture (HT)]]+ROW()/100000","v":2.7099999999999999E-2},{"$f":"_xlfn.CONCAT(Personne[[#This Row],[Adresse]],\" \",Personne[[#This Row],[CodePostal]],\" \",Personne[[#This Row],[Ville]],\" \",Personne[[#This Row],[CodePays]])","v":"   "}]
[null,null,null,null,null,null,null,null,null,null,null,null,null,null,null,null,null,null,null,null,null,null,null,null,null,null,null,null,null,null,{"$f":"IF(PARAMETRES!$B$3=\"SANS\",SUMIFS(Honoraire[TotalHonoraireHT],Honoraire[ClientId],Personne[[#This Row],[PersonneId]]),SUMIFS(Honoraire[TotalHT],Honoraire[ClientId],Personne[[#This Row],[PersonneId]]))","v":0},{"$f":"Personne[[#This Row],[Facture (HT)]]+ROW()/100000","v":2.7109999999999999E-2},{"$f":"_xlfn.CONCAT(Personne[[#This Row],[Adresse]],\" \",Personne[[#This Row],[CodePostal]],\" \",Personne[[#This Row],[Ville]],\" \",Personne[[#This Row],[CodePays]])","v":"   "}]
[null,null,null,null,null,null,null,null,null,null,null,null,null,null,null,null,null,null,null,null,null,null,null,null,null,null,null,null,null,null,{"$f":"IF(PARAMETRES!$B$3=\"SANS\",SUMIFS(Honoraire[TotalHonoraireHT],Honoraire[ClientId],Personne[[#This Row],[PersonneId]]),SUMIFS(Honoraire[TotalHT],Honoraire[ClientId],Personne[[#This Row],[PersonneId]]))","v":0},{"$f":"Personne[[#This Row],[Facture (HT)]]+ROW()/100000","v":2.7140000000000001E-2},{"$f":"_xlfn.CONCAT(Personne[[#This Row],[Adresse]],\" \",Personne[[#This Row],[CodePostal]],\" \",Personne[[#This Row],[Ville]],\" \",Personne[[#This Row],[CodePays]])","v":"   "}]
[null,null,null,null,null,null,null,null,null,null,null,null,null,null,null,null,null,null,null,null,null,null,null,null,null,null,null,null,null,null,{"$f":"IF(PARAMETRES!$B$3=\"SANS\",SUMIFS(Honoraire[TotalHonoraireHT],Honoraire[ClientId],Personne[[#This Row],[PersonneId]]),SUMIFS(Honoraire[TotalHT],Honoraire[ClientId],Personne[[#This Row],[PersonneId]]))","v":0},{"$f":"Personne[[#This Row],[Facture (HT)]]+ROW()/100000","v":2.7150000000000001E-2},{"$f":"_xlfn.CONCAT(Personne[[#This Row],[Adresse]],\" \",Personne[[#This Row],[CodePostal]],\" \",Personne[[#This Row],[Ville]],\" \",Personne[[#This Row],[CodePays]])","v":"   "}]
[null,null,null,null,null,null,null,null,null,null,null,null,null,null,null,null,null,null,null,null,null,null,null,null,null,null,null,null,null,null,{"$f":"IF(PARAMETRES!$B$3=\"SANS\",SUMIFS(Honoraire[TotalHonoraireHT],Honoraire[ClientId],Personne[[#This Row],[PersonneId]]),SUMIFS(Honoraire[TotalHT],Honoraire[ClientId],Personne[[#This Row],[PersonneId]]))","v":0},{"$f":"Personne[[#This Row],[Facture (HT)]]+ROW()/100000","v":2.7179999999999999E-2},{"$f":"_xlfn.CONCAT(Personne[[#This Row],[Adresse]],\" \",Personne[[#This Row],[CodePostal]],\" \",Personne[[#This Row],[Ville]],\" \",Personne[[#This Row],[CodePays]])","v":"   "}]
[null,null,null,null,null,null,null,null,null,null,null,null,null,null,null,null,null,null,null,null,null,null,null,null,null,null,null,null,null,null,{"$f":"IF(PARAMETRES!$B$3=\"SANS\",SUMIFS(Honoraire[TotalHonoraireHT],Honoraire[ClientId],Personne[[#This Row],[PersonneId]]),SUMIFS(Honoraire[TotalHT],Honoraire[ClientId],Personne[[#This Row],[PersonneId]]))","v":0},{"$f":"Personne[[#This Row],[Facture (HT)]]+ROW()/100000","v":2.7189999999999999E-2},{"$f":"_xlfn.CONCAT(Personne[[#This Row],[Adresse]],\" \",Personne[[#This Row],[CodePostal]],\" \",Personne[[#This Row],[Ville]],\" \",Personne[[#This Row],[CodePays]])","v":"   "}]
[null,null,null,null,null,null,null,null,null,null,null,null,null,null,null,null,null,null,null,null,null,null,null,null,null,null,null,null,null,null,{"$f":"IF(PARAMETRES!$B$3=\"SANS\",SUMIFS(Honoraire[TotalHonoraireHT],Honoraire[ClientId],Personne[[#This Row],[PersonneId]]),SUMIFS(Honoraire[TotalHT],Honoraire[ClientId],Personne[[#This Row],[PersonneId]]))","v":0},{"$f":"Personne[[#This Row],[Facture (HT)]]+ROW()/100000","v":2.7220000000000001E-2},{"$f":"_xlfn.CONCAT(Personne[[#This Row],[Adresse]],\" \",Personne[[#This Row],[CodePostal]],\" \",Personne[[#This Row],[Ville]],\" \",Personne[[#This Row],[CodePays]])","v":"   "}]
[null,null,null,null,null,null,null,null,null,null,null,null,null,null,null,null,null,null,null,null,null,null,null,null,null,null,null,null,null,null,{"$f":"IF(PARAMETRES!$B$3=\"SANS\",SUMIFS(Honoraire[TotalHonoraireHT],Honoraire[ClientId],Personne[[#This Row],[PersonneId]]),SUMIFS(Honoraire[TotalHT],Honoraire[ClientId],Personne[[#This Row],[PersonneId]]))","v":0},{"$f":"Personne[[#This Row],[Facture (HT)]]+ROW()/100000","v":2.724E-2},{"$f":"_xlfn.CONCAT(Personne[[#This Row],[Adresse]],\" \",Personne[[#This Row],[CodePostal]],\" \",Personne[[#This Row],[Ville]],\" \",Personne[[#This Row],[CodePays]])","v":"   "}]
[null,null,null,null,null,null,null,null,null,null,null,null,null,null,null,null,null,null,null,null,null,null,null,null,null,null,null,null,null,null,{"$f":"IF(PARAMETRES!$B$3=\"SANS\",SUMIFS(Honoraire[TotalHonoraireHT],Honoraire[ClientId],Personne[[#This Row],[PersonneId]]),SUMIFS(Honoraire[TotalHT],Honoraire[ClientId],Personne[[#This Row],[PersonneId]]))","v":0},{"$f":"Personne[[#This Row],[Facture (HT)]]+ROW()/100000","v":2.7269999999999999E-2},{"$f":"_xlfn.CONCAT(Personne[[#This Row],[Adresse]],\" \",Personne[[#This Row],[CodePostal]],\" \",Personne[[#This Row],[Ville]],\" \",Personne[[#This Row],[CodePays]])","v":"   "}]
[null,null,null,null,null,null,null,null,null,null,null,null,null,null,null,null,null,null,null,null,null,null,null,null,null,null,null,null,null,null,{"$f":"IF(PARAMETRES!$B$3=\"SANS\",SUMIFS(Honoraire[TotalHonoraireHT],Honoraire[ClientId],Personne[[#This Row],[PersonneId]]),SUMIFS(Honoraire[TotalHT],Honoraire[ClientId],Personne[[#This Row],[PersonneId]]))","v":0},{"$f":"Personne[[#This Row],[Facture (HT)]]+ROW()/100000","v":2.7279999999999999E-2},{"$f":"_xlfn.CONCAT(Personne[[#This Row],[Adresse]],\" \",Personne[[#This Row],[CodePostal]],\" \",Personne[[#This Row],[Ville]],\" \",Personne[[#This Row],[CodePays]])","v":"   "}]
[null,null,null,null,null,null,null,null,null,null,null,null,null,null,null,null,null,null,null,null,null,null,null,null,null,null,null,null,null,null,{"$f":"IF(PARAMETRES!$B$3=\"SANS\",SUMIFS(Honoraire[TotalHonoraireHT],Honoraire[ClientId],Personne[[#This Row],[PersonneId]]),SUMIFS(Honoraire[TotalHT],Honoraire[ClientId],Personne[[#This Row],[PersonneId]]))","v":0},{"$f":"Personne[[#This Row],[Facture (HT)]]+ROW()/100000","v":2.7310000000000001E-2},{"$f":"_xlfn.CONCAT(Personne[[#This Row],[Adresse]],\" \",Personne[[#This Row],[CodePostal]],\" \",Personne[[#This Row],[Ville]],\" \",Personne[[#This Row],[CodePays]])","v":"   "}]
[null,null,null,null,null,null,null,null,null,null,null,null,null,null,null,null,null,null,null,null,null,null,null,null,null,null,null,null,null,null,{"$f":"IF(PARAMETRES!$B$3=\"SANS\",SUMIFS(Honoraire[TotalHonoraireHT],Honoraire[ClientId],Personne[[#This Row],[PersonneId]]),SUMIFS(Honoraire[TotalHT],Honoraire[ClientId],Personne[[#This Row],[PersonneId]]))","v":0},{"$f":"Personne[[#This Row],[Facture (HT)]]+ROW()/100000","v":2.7320000000000001E-2},{"$f":"_xlfn.CONCAT(Personne[[#This Row],[Adresse]],\" \",Personne[[#This Row],[CodePostal]],\" \",Personne[[#This Row],[Ville]],\" \",Personne[[#This Row],[CodePays]])","v":"   "}]
[null,null,null,null,null,null,null,null,null,null,null,null,null,null,null,null,null,null,null,null,null,null,null,null,null,null,null,null,null,null,{"$f":"IF(PARAMETRES!$B$3=\"SANS\",SUMIFS(Honoraire[TotalHonoraireHT],Honoraire[ClientId],Personne[[#This Row],[PersonneId]]),SUMIFS(Honoraire[TotalHT],Honoraire[ClientId],Personne[[#This Row],[PersonneId]]))","v":0},{"$f":"Personne[[#This Row],[Facture (HT)]]+ROW()/100000","v":2.7359999999999999E-2},{"$f":"_xlfn.CONCAT(Personne[[#This Row],[Adresse]],\" \",Personne[[#This Row],[CodePostal]],\" \",Personne[[#This Row],[Ville]],\" \",Personne[[#This Row],[CodePays]])","v":"   "}]
[null,null,null,null,null,null,null,null,null,null,null,null,null,null,null,null,null,null,null,null,null,null,null,null,null,null,null,null,null,null,{"$f":"IF(PARAMETRES!$B$3=\"SANS\",SUMIFS(Honoraire[TotalHonoraireHT],Honoraire[ClientId],Personne[[#This Row],[PersonneId]]),SUMIFS(Honoraire[TotalHT],Honoraire[ClientId],Personne[[#This Row],[PersonneId]]))","v":0},{"$f":"Personne[[#This Row],[Facture (HT)]]+ROW()/100000","v":2.7369999999999998E-2},{"$f":"_xlfn.CONCAT(Personne[[#This Row],[Adresse]],\" \",Personne[[#This Row],[CodePostal]],\" \",Personne[[#This Row],[Ville]],\" \",Personne[[#This Row],[CodePays]])","v":"   "}]
[null,null,null,null,null,null,null,null,null,null,null,null,null,null,null,null,null,null,null,null,null,null,null,null,null,null,null,null,null,null,{"$f":"IF(PARAMETRES!$B$3=\"SANS\",SUMIFS(Honoraire[TotalHonoraireHT],Honoraire[ClientId],Personne[[#This Row],[PersonneId]]),SUMIFS(Honoraire[TotalHT],Honoraire[ClientId],Personne[[#This Row],[PersonneId]]))","v":0},{"$f":"Personne[[#This Row],[Facture (HT)]]+ROW()/100000","v":2.7400000000000001E-2},{"$f":"_xlfn.CONCAT(Personne[[#This Row],[Adresse]],\" \",Personne[[#This Row],[CodePostal]],\" \",Personne[[#This Row],[Ville]],\" \",Personne[[#This Row],[CodePays]])","v":"   "}]
[null,null,null,null,null,null,null,null,null,null,null,null,null,null,null,null,null,null,null,null,null,null,null,null,null,null,null,null,null,null,{"$f":"IF(PARAMETRES!$B$3=\"SANS\",SUMIFS(Honoraire[TotalHonoraireHT],Honoraire[ClientId],Personne[[#This Row],[PersonneId]]),SUMIFS(Honoraire[TotalHT],Honoraire[ClientId],Personne[[#This Row],[PersonneId]]))","v":0},{"$f":"Personne[[#This Row],[Facture (HT)]]+ROW()/100000","v":2.741E-2},{"$f":"_xlfn.CONCAT(Personne[[#This Row],[Adresse]],\" \",Personne[[#This Row],[CodePostal]],\" \",Personne[[#This Row],[Ville]],\" \",Personne[[#This Row],[CodePays]])","v":"   "}]
[null,null,null,null,null,null,null,null,null,null,null,null,null,null,null,null,null,null,null,null,null,null,null,null,null,null,null,null,null,null,{"$f":"IF(PARAMETRES!$B$3=\"SANS\",SUMIFS(Honoraire[TotalHonoraireHT],Honoraire[ClientId],Personne[[#This Row],[PersonneId]]),SUMIFS(Honoraire[TotalHT],Honoraire[ClientId],Personne[[#This Row],[PersonneId]]))","v":0},{"$f":"Personne[[#This Row],[Facture (HT)]]+ROW()/100000","v":2.7449999999999999E-2},{"$f":"_xlfn.CONCAT(Personne[[#This Row],[Adresse]],\" \",Personne[[#This Row],[CodePostal]],\" \",Personne[[#This Row],[Ville]],\" \",Personne[[#This Row],[CodePays]])","v":"   "}]
[null,null,null,null,null,null,null,null,null,null,null,null,null,null,null,null,null,null,null,null,null,null,null,null,null,null,null,null,null,null,{"$f":"IF(PARAMETRES!$B$3=\"SANS\",SUMIFS(Honoraire[TotalHonoraireHT],Honoraire[ClientId],Personne[[#This Row],[PersonneId]]),SUMIFS(Honoraire[TotalHT],Honoraire[ClientId],Personne[[#This Row],[PersonneId]]))","v":0},{"$f":"Personne[[#This Row],[Facture (HT)]]+ROW()/100000","v":2.7459999999999998E-2},{"$f":"_xlfn.CONCAT(Personne[[#This Row],[Adresse]],\" \",Personne[[#This Row],[CodePostal]],\" \",Personne[[#This Row],[Ville]],\" \",Personne[[#This Row],[CodePays]])","v":"   "}]
[null,null,null,null,null,null,null,null,null,null,null,null,null,null,null,null,null,null,null,null,null,null,null,null,null,null,null,null,null,null,{"$f":"IF(PARAMETRES!$B$3=\"SANS\",SUMIFS(Honoraire[TotalHonoraireHT],Honoraire[ClientId],Personne[[#This Row],[PersonneId]]),SUMIFS(Honoraire[TotalHT],Honoraire[ClientId],Personne[[#This Row],[PersonneId]]))","v":0},{"$f":"Personne[[#This Row],[Facture (HT)]]+ROW()/100000","v":2.7490000000000001E-2},{"$f":"_xlfn.CONCAT(Personne[[#This Row],[Adresse]],\" \",Personne[[#This Row],[CodePostal]],\" \",Personne[[#This Row],[Ville]],\" \",Personne[[#This Row],[CodePays]])","v":"   "}]
[null,null,null,null,null,null,null,null,null,null,null,null,null,null,null,null,null,null,null,null,null,null,null,null,null,null,null,null,null,null,{"$f":"IF(PARAMETRES!$B$3=\"SANS\",SUMIFS(Honoraire[TotalHonoraireHT],Honoraire[ClientId],Personne[[#This Row],[PersonneId]]),SUMIFS(Honoraire[TotalHT],Honoraire[ClientId],Personne[[#This Row],[PersonneId]]))","v":0},{"$f":"Personne[[#This Row],[Facture (HT)]]+ROW()/100000","v":2.75E-2},{"$f":"_xlfn.CONCAT(Personne[[#This Row],[Adresse]],\" \",Personne[[#This Row],[CodePostal]],\" \",Personne[[#This Row],[Ville]],\" \",Personne[[#This Row],[CodePays]])","v":"   "}]
[null,null,null,null,null,null,null,null,null,null,null,null,null,null,null,null,null,null,null,null,null,null,null,null,null,null,null,null,null,null,{"$f":"IF(PARAMETRES!$B$3=\"SANS\",SUMIFS(Honoraire[TotalHonoraireHT],Honoraire[ClientId],Personne[[#This Row],[PersonneId]]),SUMIFS(Honoraire[TotalHT],Honoraire[ClientId],Personne[[#This Row],[PersonneId]]))","v":0},{"$f":"Personne[[#This Row],[Facture (HT)]]+ROW()/100000","v":2.7529999999999999E-2},{"$f":"_xlfn.CONCAT(Personne[[#This Row],[Adresse]],\" \",Personne[[#This Row],[CodePostal]],\" \",Personne[[#This Row],[Ville]],\" \",Personne[[#This Row],[CodePays]])","v":"   "}]
[null,null,null,null,null,null,null,null,null,null,null,null,null,null,null,null,null,null,null,null,null,null,null,null,null,null,null,null,null,null,{"$f":"IF(PARAMETRES!$B$3=\"SANS\",SUMIFS(Honoraire[TotalHonoraireHT],Honoraire[ClientId],Personne[[#This Row],[PersonneId]]),SUMIFS(Honoraire[TotalHT],Honoraire[ClientId],Personne[[#This Row],[PersonneId]]))","v":0},{"$f":"Personne[[#This Row],[Facture (HT)]]+ROW()/100000","v":2.7539999999999999E-2},{"$f":"_xlfn.CONCAT(Personne[[#This Row],[Adresse]],\" \",Personne[[#This Row],[CodePostal]],\" \",Personne[[#This Row],[Ville]],\" \",Personne[[#This Row],[CodePays]])","v":"   "}]
[null,null,null,null,null,null,null,null,null,null,null,null,null,null,null,null,null,null,null,null,null,null,null,null,null,null,null,null,null,null,{"$f":"IF(PARAMETRES!$B$3=\"SANS\",SUMIFS(Honoraire[TotalHonoraireHT],Honoraire[ClientId],Personne[[#This Row],[PersonneId]]),SUMIFS(Honoraire[TotalHT],Honoraire[ClientId],Personne[[#This Row],[PersonneId]]))","v":0},{"$f":"Personne[[#This Row],[Facture (HT)]]+ROW()/100000","v":2.758E-2},{"$f":"_xlfn.CONCAT(Personne[[#This Row],[Adresse]],\" \",Personne[[#This Row],[CodePostal]],\" \",Personne[[#This Row],[Ville]],\" \",Personne[[#This Row],[CodePays]])","v":"   "}]
[null,null,null,null,null,null,null,null,null,null,null,null,null,null,null,null,null,null,null,null,null,null,null,null,null,null,null,null,null,null,{"$f":"IF(PARAMETRES!$B$3=\"SANS\",SUMIFS(Honoraire[TotalHonoraireHT],Honoraire[ClientId],Personne[[#This Row],[PersonneId]]),SUMIFS(Honoraire[TotalHT],Honoraire[ClientId],Personne[[#This Row],[PersonneId]]))","v":0},{"$f":"Personne[[#This Row],[Facture (HT)]]+ROW()/100000","v":2.759E-2},{"$f":"_xlfn.CONCAT(Personne[[#This Row],[Adresse]],\" \",Personne[[#This Row],[CodePostal]],\" \",Personne[[#This Row],[Ville]],\" \",Personne[[#This Row],[CodePays]])","v":"   "}]
[null,null,null,null,null,null,null,null,null,null,null,null,null,null,null,null,null,null,null,null,null,null,null,null,null,null,null,null,null,null,{"$f":"IF(PARAMETRES!$B$3=\"SANS\",SUMIFS(Honoraire[TotalHonoraireHT],Honoraire[ClientId],Personne[[#This Row],[PersonneId]]),SUMIFS(Honoraire[TotalHT],Honoraire[ClientId],Personne[[#This Row],[PersonneId]]))","v":0},{"$f":"Personne[[#This Row],[Facture (HT)]]+ROW()/100000","v":2.7619999999999999E-2},{"$f":"_xlfn.CONCAT(Personne[[#This Row],[Adresse]],\" \",Personne[[#This Row],[CodePostal]],\" \",Personne[[#This Row],[Ville]],\" \",Personne[[#This Row],[CodePays]])","v":"   "}]
[null,null,null,null,null,null,null,null,null,null,null,null,null,null,null,null,null,null,null,null,null,null,null,null,null,null,null,null,null,null,{"$f":"IF(PARAMETRES!$B$3=\"SANS\",SUMIFS(Honoraire[TotalHonoraireHT],Honoraire[ClientId],Personne[[#This Row],[PersonneId]]),SUMIFS(Honoraire[TotalHT],Honoraire[ClientId],Personne[[#This Row],[PersonneId]]))","v":0},{"$f":"Personne[[#This Row],[Facture (HT)]]+ROW()/100000","v":2.7629999999999998E-2},{"$f":"_xlfn.CONCAT(Personne[[#This Row],[Adresse]],\" \",Personne[[#This Row],[CodePostal]],\" \",Personne[[#This Row],[Ville]],\" \",Personne[[#This Row],[CodePays]])","v":"   "}]
[null,null,null,null,null,null,null,null,null,null,null,null,null,null,null,null,null,null,null,null,null,null,null,null,null,null,null,null,null,null,{"$f":"IF(PARAMETRES!$B$3=\"SANS\",SUMIFS(Honoraire[TotalHonoraireHT],Honoraire[ClientId],Personne[[#This Row],[PersonneId]]),SUMIFS(Honoraire[TotalHT],Honoraire[ClientId],Personne[[#This Row],[PersonneId]]))","v":0},{"$f":"Personne[[#This Row],[Facture (HT)]]+ROW()/100000","v":2.7660000000000001E-2},{"$f":"_xlfn.CONCAT(Personne[[#This Row],[Adresse]],\" \",Personne[[#This Row],[CodePostal]],\" \",Personne[[#This Row],[Ville]],\" \",Personne[[#This Row],[CodePays]])","v":"   "}]
[null,null,null,null,null,null,null,null,null,null,null,null,null,null,null,null,null,null,null,null,null,null,null,null,null,null,null,null,null,null,{"$f":"IF(PARAMETRES!$B$3=\"SANS\",SUMIFS(Honoraire[TotalHonoraireHT],Honoraire[ClientId],Personne[[#This Row],[PersonneId]]),SUMIFS(Honoraire[TotalHT],Honoraire[ClientId],Personne[[#This Row],[PersonneId]]))","v":0},{"$f":"Personne[[#This Row],[Facture (HT)]]+ROW()/100000","v":2.768E-2},{"$f":"_xlfn.CONCAT(Personne[[#This Row],[Adresse]],\" \",Personne[[#This Row],[CodePostal]],\" \",Personne[[#This Row],[Ville]],\" \",Personne[[#This Row],[CodePays]])","v":"   "}]
[null,null,null,null,null,null,null,null,null,null,null,null,null,null,null,null,null,null,null,null,null,null,null,null,null,null,null,null,null,null,{"$f":"IF(PARAMETRES!$B$3=\"SANS\",SUMIFS(Honoraire[TotalHonoraireHT],Honoraire[ClientId],Personne[[#This Row],[PersonneId]]),SUMIFS(Honoraire[TotalHT],Honoraire[ClientId],Personne[[#This Row],[PersonneId]]))","v":0},{"$f":"Personne[[#This Row],[Facture (HT)]]+ROW()/100000","v":2.7709999999999999E-2},{"$f":"_xlfn.CONCAT(Personne[[#This Row],[Adresse]],\" \",Personne[[#This Row],[CodePostal]],\" \",Personne[[#This Row],[Ville]],\" \",Personne[[#This Row],[CodePays]])","v":"   "}]
[null,null,null,null,null,null,null,null,null,null,null,null,null,null,null,null,null,null,null,null,null,null,null,null,null,null,null,null,null,null,{"$f":"IF(PARAMETRES!$B$3=\"SANS\",SUMIFS(Honoraire[TotalHonoraireHT],Honoraire[ClientId],Personne[[#This Row],[PersonneId]]),SUMIFS(Honoraire[TotalHT],Honoraire[ClientId],Personne[[#This Row],[PersonneId]]))","v":0},{"$f":"Personne[[#This Row],[Facture (HT)]]+ROW()/100000","v":2.7720000000000002E-2},{"$f":"_xlfn.CONCAT(Personne[[#This Row],[Adresse]],\" \",Personne[[#This Row],[CodePostal]],\" \",Personne[[#This Row],[Ville]],\" \",Personne[[#This Row],[CodePays]])","v":"   "}]
[null,null,null,null,null,null,null,null,null,null,null,null,null,null,null,null,null,null,null,null,null,null,null,null,null,null,null,null,null,null,{"$f":"IF(PARAMETRES!$B$3=\"SANS\",SUMIFS(Honoraire[TotalHonoraireHT],Honoraire[ClientId],Personne[[#This Row],[PersonneId]]),SUMIFS(Honoraire[TotalHT],Honoraire[ClientId],Personne[[#This Row],[PersonneId]]))","v":0},{"$f":"Personne[[#This Row],[Facture (HT)]]+ROW()/100000","v":2.775E-2},{"$f":"_xlfn.CONCAT(Personne[[#This Row],[Adresse]],\" \",Personne[[#This Row],[CodePostal]],\" \",Personne[[#This Row],[Ville]],\" \",Personne[[#This Row],[CodePays]])","v":"   "}]
[null,null,null,null,null,null,null,null,null,null,null,null,null,null,null,null,null,null,null,null,null,null,null,null,null,null,null,null,null,null,{"$f":"IF(PARAMETRES!$B$3=\"SANS\",SUMIFS(Honoraire[TotalHonoraireHT],Honoraire[ClientId],Personne[[#This Row],[PersonneId]]),SUMIFS(Honoraire[TotalHT],Honoraire[ClientId],Personne[[#This Row],[PersonneId]]))","v":0},{"$f":"Personne[[#This Row],[Facture (HT)]]+ROW()/100000","v":2.776E-2},{"$f":"_xlfn.CONCAT(Personne[[#This Row],[Adresse]],\" \",Personne[[#This Row],[CodePostal]],\" \",Personne[[#This Row],[Ville]],\" \",Personne[[#This Row],[CodePays]])","v":"   "}]
[null,null,null,null,null,null,null,null,null,null,null,null,null,null,null,null,null,null,null,null,null,null,null,null,null,null,null,null,null,null,{"$f":"IF(PARAMETRES!$B$3=\"SANS\",SUMIFS(Honoraire[TotalHonoraireHT],Honoraire[ClientId],Personne[[#This Row],[PersonneId]]),SUMIFS(Honoraire[TotalHT],Honoraire[ClientId],Personne[[#This Row],[PersonneId]]))","v":0},{"$f":"Personne[[#This Row],[Facture (HT)]]+ROW()/100000","v":2.7789999999999999E-2},{"$f":"_xlfn.CONCAT(Personne[[#This Row],[Adresse]],\" \",Personne[[#This Row],[CodePostal]],\" \",Personne[[#This Row],[Ville]],\" \",Personne[[#This Row],[CodePays]])","v":"   "}]
[null,null,null,null,null,null,null,null,null,null,null,null,null,null,null,null,null,null,null,null,null,null,null,null,null,null,null,null,null,null,{"$f":"IF(PARAMETRES!$B$3=\"SANS\",SUMIFS(Honoraire[TotalHonoraireHT],Honoraire[ClientId],Personne[[#This Row],[PersonneId]]),SUMIFS(Honoraire[TotalHT],Honoraire[ClientId],Personne[[#This Row],[PersonneId]]))","v":0},{"$f":"Personne[[#This Row],[Facture (HT)]]+ROW()/100000","v":2.7799999999999998E-2},{"$f":"_xlfn.CONCAT(Personne[[#This Row],[Adresse]],\" \",Personne[[#This Row],[CodePostal]],\" \",Personne[[#This Row],[Ville]],\" \",Personne[[#This Row],[CodePays]])","v":"   "}]
[null,null,null,null,null,null,null,null,null,null,null,null,null,null,null,null,null,null,null,null,null,null,null,null,null,null,null,null,null,null,{"$f":"IF(PARAMETRES!$B$3=\"SANS\",SUMIFS(Honoraire[TotalHonoraireHT],Honoraire[ClientId],Personne[[#This Row],[PersonneId]]),SUMIFS(Honoraire[TotalHT],Honoraire[ClientId],Personne[[#This Row],[PersonneId]]))","v":0},{"$f":"Personne[[#This Row],[Facture (HT)]]+ROW()/100000","v":2.784E-2},{"$f":"_xlfn.CONCAT(Personne[[#This Row],[Adresse]],\" \",Personne[[#This Row],[CodePostal]],\" \",Personne[[#This Row],[Ville]],\" \",Personne[[#This Row],[CodePays]])","v":"   "}]
[null,null,null,null,null,null,null,null,null,null,null,null,null,null,null,null,null,null,null,null,null,null,null,null,null,null,null,null,null,null,{"$f":"IF(PARAMETRES!$B$3=\"SANS\",SUMIFS(Honoraire[TotalHonoraireHT],Honoraire[ClientId],Personne[[#This Row],[PersonneId]]),SUMIFS(Honoraire[TotalHT],Honoraire[ClientId],Personne[[#This Row],[PersonneId]]))","v":0},{"$f":"Personne[[#This Row],[Facture (HT)]]+ROW()/100000","v":2.785E-2},{"$f":"_xlfn.CONCAT(Personne[[#This Row],[Adresse]],\" \",Personne[[#This Row],[CodePostal]],\" \",Personne[[#This Row],[Ville]],\" \",Personne[[#This Row],[CodePays]])","v":"   "}]
[null,null,null,null,null,null,null,null,null,null,null,null,null,null,null,null,null,null,null,null,null,null,null,null,null,null,null,null,null,null,{"$f":"IF(PARAMETRES!$B$3=\"SANS\",SUMIFS(Honoraire[TotalHonoraireHT],Honoraire[ClientId],Personne[[#This Row],[PersonneId]]),SUMIFS(Honoraire[TotalHT],Honoraire[ClientId],Personne[[#This Row],[PersonneId]]))","v":0},{"$f":"Personne[[#This Row],[Facture (HT)]]+ROW()/100000","v":2.7879999999999999E-2},{"$f":"_xlfn.CONCAT(Personne[[#This Row],[Adresse]],\" \",Personne[[#This Row],[CodePostal]],\" \",Personne[[#This Row],[Ville]],\" \",Personne[[#This Row],[CodePays]])","v":"   "}]
[null,null,null,null,null,null,null,null,null,null,null,null,null,null,null,null,null,null,null,null,null,null,null,null,null,null,null,null,null,null,{"$f":"IF(PARAMETRES!$B$3=\"SANS\",SUMIFS(Honoraire[TotalHonoraireHT],Honoraire[ClientId],Personne[[#This Row],[PersonneId]]),SUMIFS(Honoraire[TotalHT],Honoraire[ClientId],Personne[[#This Row],[PersonneId]]))","v":0},{"$f":"Personne[[#This Row],[Facture (HT)]]+ROW()/100000","v":2.7890000000000002E-2},{"$f":"_xlfn.CONCAT(Personne[[#This Row],[Adresse]],\" \",Personne[[#This Row],[CodePostal]],\" \",Personne[[#This Row],[Ville]],\" \",Personne[[#This Row],[CodePays]])","v":"   "}]
[null,null,null,null,null,null,null,null,null,null,null,null,null,null,null,null,null,null,null,null,null,null,null,null,null,null,null,null,null,null,{"$f":"IF(PARAMETRES!$B$3=\"SANS\",SUMIFS(Honoraire[TotalHonoraireHT],Honoraire[ClientId],Personne[[#This Row],[PersonneId]]),SUMIFS(Honoraire[TotalHT],Honoraire[ClientId],Personne[[#This Row],[PersonneId]]))","v":0},{"$f":"Personne[[#This Row],[Facture (HT)]]+ROW()/100000","v":2.793E-2},{"$f":"_xlfn.CONCAT(Personne[[#This Row],[Adresse]],\" \",Personne[[#This Row],[CodePostal]],\" \",Personne[[#This Row],[Ville]],\" \",Personne[[#This Row],[CodePays]])","v":"   "}]
[null,null,null,null,null,null,null,null,null,null,null,null,null,null,null,null,null,null,null,null,null,null,null,null,null,null,null,null,null,null,{"$f":"IF(PARAMETRES!$B$3=\"SANS\",SUMIFS(Honoraire[TotalHonoraireHT],Honoraire[ClientId],Personne[[#This Row],[PersonneId]]),SUMIFS(Honoraire[TotalHT],Honoraire[ClientId],Personne[[#This Row],[PersonneId]]))","v":0},{"$f":"Personne[[#This Row],[Facture (HT)]]+ROW()/100000","v":2.794E-2},{"$f":"_xlfn.CONCAT(Personne[[#This Row],[Adresse]],\" \",Personne[[#This Row],[CodePostal]],\" \",Personne[[#This Row],[Ville]],\" \",Personne[[#This Row],[CodePays]])","v":"   "}]
[null,null,null,null,null,null,null,null,null,null,null,null,null,null,null,null,null,null,null,null,null,null,null,null,null,null,null,null,null,null,{"$f":"IF(PARAMETRES!$B$3=\"SANS\",SUMIFS(Honoraire[TotalHonoraireHT],Honoraire[ClientId],Personne[[#This Row],[PersonneId]]),SUMIFS(Honoraire[TotalHT],Honoraire[ClientId],Personne[[#This Row],[PersonneId]]))","v":0},{"$f":"Personne[[#This Row],[Facture (HT)]]+ROW()/100000","v":2.7969999999999998E-2},{"$f":"_xlfn.CONCAT(Personne[[#This Row],[Adresse]],\" \",Personne[[#This Row],[CodePostal]],\" \",Personne[[#This Row],[Ville]],\" \",Personne[[#This Row],[CodePays]])","v":"   "}]
[null,null,null,null,null,null,null,null,null,null,null,null,null,null,null,null,null,null,null,null,null,null,null,null,null,null,null,null,null,null,{"$f":"IF(PARAMETRES!$B$3=\"SANS\",SUMIFS(Honoraire[TotalHonoraireHT],Honoraire[ClientId],Personne[[#This Row],[PersonneId]]),SUMIFS(Honoraire[TotalHT],Honoraire[ClientId],Personne[[#This Row],[PersonneId]]))","v":0},{"$f":"Personne[[#This Row],[Facture (HT)]]+ROW()/100000","v":2.7980000000000001E-2},{"$f":"_xlfn.CONCAT(Personne[[#This Row],[Adresse]],\" \",Personne[[#This Row],[CodePostal]],\" \",Personne[[#This Row],[Ville]],\" \",Personne[[#This Row],[CodePays]])","v":"   "}]
[null,null,null,null,null,null,null,null,null,null,null,null,null,null,null,null,null,null,null,null,null,null,null,null,null,null,null,null,null,null,{"$f":"IF(PARAMETRES!$B$3=\"SANS\",SUMIFS(Honoraire[TotalHonoraireHT],Honoraire[ClientId],Personne[[#This Row],[PersonneId]]),SUMIFS(Honoraire[TotalHT],Honoraire[ClientId],Personne[[#This Row],[PersonneId]]))","v":0},{"$f":"Personne[[#This Row],[Facture (HT)]]+ROW()/100000","v":2.801E-2},{"$f":"_xlfn.CONCAT(Personne[[#This Row],[Adresse]],\" \",Personne[[#This Row],[CodePostal]],\" \",Personne[[#This Row],[Ville]],\" \",Personne[[#This Row],[CodePays]])","v":"   "}]
[null,null,null,null,null,null,null,null,null,null,null,null,null,null,null,null,null,null,null,null,null,null,null,null,null,null,null,null,null,null,{"$f":"IF(PARAMETRES!$B$3=\"SANS\",SUMIFS(Honoraire[TotalHonoraireHT],Honoraire[ClientId],Personne[[#This Row],[PersonneId]]),SUMIFS(Honoraire[TotalHT],Honoraire[ClientId],Personne[[#This Row],[PersonneId]]))","v":0},{"$f":"Personne[[#This Row],[Facture (HT)]]+ROW()/100000","v":2.802E-2},{"$f":"_xlfn.CONCAT(Personne[[#This Row],[Adresse]],\" \",Personne[[#This Row],[CodePostal]],\" \",Personne[[#This Row],[Ville]],\" \",Personne[[#This Row],[CodePays]])","v":"   "}]
[null,null,null,null,null,null,null,null,null,null,null,null,null,null,null,null,null,null,null,null,null,null,null,null,null,null,null,null,null,null,{"$f":"IF(PARAMETRES!$B$3=\"SANS\",SUMIFS(Honoraire[TotalHonoraireHT],Honoraire[ClientId],Personne[[#This Row],[PersonneId]]),SUMIFS(Honoraire[TotalHT],Honoraire[ClientId],Personne[[#This Row],[PersonneId]]))","v":0},{"$f":"Personne[[#This Row],[Facture (HT)]]+ROW()/100000","v":2.8049999999999999E-2},{"$f":"_xlfn.CONCAT(Personne[[#This Row],[Adresse]],\" \",Personne[[#This Row],[CodePostal]],\" \",Personne[[#This Row],[Ville]],\" \",Personne[[#This Row],[CodePays]])","v":"   "}]
[null,null,null,null,null,null,null,null,null,null,null,null,null,null,null,null,null,null,null,null,null,null,null,null,null,null,null,null,null,null,{"$f":"IF(PARAMETRES!$B$3=\"SANS\",SUMIFS(Honoraire[TotalHonoraireHT],Honoraire[ClientId],Personne[[#This Row],[PersonneId]]),SUMIFS(Honoraire[TotalHT],Honoraire[ClientId],Personne[[#This Row],[PersonneId]]))","v":0},{"$f":"Personne[[#This Row],[Facture (HT)]]+ROW()/100000","v":2.8070000000000001E-2},{"$f":"_xlfn.CONCAT(Personne[[#This Row],[Adresse]],\" \",Personne[[#This Row],[CodePostal]],\" \",Personne[[#This Row],[Ville]],\" \",Personne[[#This Row],[CodePays]])","v":"   "}]
[null,null,null,null,null,null,null,null,null,null,null,null,null,null,null,null,null,null,null,null,null,null,null,null,null,null,null,null,null,null,{"$f":"IF(PARAMETRES!$B$3=\"SANS\",SUMIFS(Honoraire[TotalHonoraireHT],Honoraire[ClientId],Personne[[#This Row],[PersonneId]]),SUMIFS(Honoraire[TotalHT],Honoraire[ClientId],Personne[[#This Row],[PersonneId]]))","v":0},{"$f":"Personne[[#This Row],[Facture (HT)]]+ROW()/100000","v":2.81E-2},{"$f":"_xlfn.CONCAT(Personne[[#This Row],[Adresse]],\" \",Personne[[#This Row],[CodePostal]],\" \",Personne[[#This Row],[Ville]],\" \",Personne[[#This Row],[CodePays]])","v":"   "}]
[null,null,null,null,null,null,null,null,null,null,null,null,null,null,null,null,null,null,null,null,null,null,null,null,null,null,null,null,null,null,{"$f":"IF(PARAMETRES!$B$3=\"SANS\",SUMIFS(Honoraire[TotalHonoraireHT],Honoraire[ClientId],Personne[[#This Row],[PersonneId]]),SUMIFS(Honoraire[TotalHT],Honoraire[ClientId],Personne[[#This Row],[PersonneId]]))","v":0},{"$f":"Personne[[#This Row],[Facture (HT)]]+ROW()/100000","v":2.811E-2},{"$f":"_xlfn.CONCAT(Personne[[#This Row],[Adresse]],\" \",Personne[[#This Row],[CodePostal]],\" \",Personne[[#This Row],[Ville]],\" \",Personne[[#This Row],[CodePays]])","v":"   "}]
[null,null,null,null,null,null,null,null,null,null,null,null,null,null,null,null,null,null,null,null,null,null,null,null,null,null,null,null,null,null,{"$f":"IF(PARAMETRES!$B$3=\"SANS\",SUMIFS(Honoraire[TotalHonoraireHT],Honoraire[ClientId],Personne[[#This Row],[PersonneId]]),SUMIFS(Honoraire[TotalHT],Honoraire[ClientId],Personne[[#This Row],[PersonneId]]))","v":0},{"$f":"Personne[[#This Row],[Facture (HT)]]+ROW()/100000","v":2.8139999999999998E-2},{"$f":"_xlfn.CONCAT(Personne[[#This Row],[Adresse]],\" \",Personne[[#This Row],[CodePostal]],\" \",Personne[[#This Row],[Ville]],\" \",Personne[[#This Row],[CodePays]])","v":"   "}]
[null,null,null,null,null,null,null,null,null,null,null,null,null,null,null,null,null,null,null,null,null,null,null,null,null,null,null,null,null,null,{"$f":"IF(PARAMETRES!$B$3=\"SANS\",SUMIFS(Honoraire[TotalHonoraireHT],Honoraire[ClientId],Personne[[#This Row],[PersonneId]]),SUMIFS(Honoraire[TotalHT],Honoraire[ClientId],Personne[[#This Row],[PersonneId]]))","v":0},{"$f":"Personne[[#This Row],[Facture (HT)]]+ROW()/100000","v":2.8150000000000001E-2},{"$f":"_xlfn.CONCAT(Personne[[#This Row],[Adresse]],\" \",Personne[[#This Row],[CodePostal]],\" \",Personne[[#This Row],[Ville]],\" \",Personne[[#This Row],[CodePays]])","v":"   "}]
[null,null,null,null,null,null,null,null,null,null,null,null,null,null,null,null,null,null,null,null,null,null,null,null,null,null,null,null,null,null,{"$f":"IF(PARAMETRES!$B$3=\"SANS\",SUMIFS(Honoraire[TotalHonoraireHT],Honoraire[ClientId],Personne[[#This Row],[PersonneId]]),SUMIFS(Honoraire[TotalHT],Honoraire[ClientId],Personne[[#This Row],[PersonneId]]))","v":0},{"$f":"Personne[[#This Row],[Facture (HT)]]+ROW()/100000","v":2.819E-2},{"$f":"_xlfn.CONCAT(Personne[[#This Row],[Adresse]],\" \",Personne[[#This Row],[CodePostal]],\" \",Personne[[#This Row],[Ville]],\" \",Personne[[#This Row],[CodePays]])","v":"   "}]
[null,null,null,null,null,null,null,null,null,null,null,null,null,null,null,null,null,null,null,null,null,null,null,null,null,null,null,null,null,null,{"$f":"IF(PARAMETRES!$B$3=\"SANS\",SUMIFS(Honoraire[TotalHonoraireHT],Honoraire[ClientId],Personne[[#This Row],[PersonneId]]),SUMIFS(Honoraire[TotalHT],Honoraire[ClientId],Personne[[#This Row],[PersonneId]]))","v":0},{"$f":"Personne[[#This Row],[Facture (HT)]]+ROW()/100000","v":2.8199999999999999E-2},{"$f":"_xlfn.CONCAT(Personne[[#This Row],[Adresse]],\" \",Personne[[#This Row],[CodePostal]],\" \",Personne[[#This Row],[Ville]],\" \",Personne[[#This Row],[CodePays]])","v":"   "}]
[null,null,null,null,null,null,null,null,null,null,null,null,null,null,null,null,null,null,null,null,null,null,null,null,null,null,null,null,null,null,{"$f":"IF(PARAMETRES!$B$3=\"SANS\",SUMIFS(Honoraire[TotalHonoraireHT],Honoraire[ClientId],Personne[[#This Row],[PersonneId]]),SUMIFS(Honoraire[TotalHT],Honoraire[ClientId],Personne[[#This Row],[PersonneId]]))","v":0},{"$f":"Personne[[#This Row],[Facture (HT)]]+ROW()/100000","v":2.8230000000000002E-2},{"$f":"_xlfn.CONCAT(Personne[[#This Row],[Adresse]],\" \",Personne[[#This Row],[CodePostal]],\" \",Personne[[#This Row],[Ville]],\" \",Personne[[#This Row],[CodePays]])","v":"   "}]
[null,null,null,null,null,null,null,null,null,null,null,null,null,null,null,null,null,null,null,null,null,null,null,null,null,null,null,null,null,null,{"$f":"IF(PARAMETRES!$B$3=\"SANS\",SUMIFS(Honoraire[TotalHonoraireHT],Honoraire[ClientId],Personne[[#This Row],[PersonneId]]),SUMIFS(Honoraire[TotalHT],Honoraire[ClientId],Personne[[#This Row],[PersonneId]]))","v":0},{"$f":"Personne[[#This Row],[Facture (HT)]]+ROW()/100000","v":2.8240000000000001E-2},{"$f":"_xlfn.CONCAT(Personne[[#This Row],[Adresse]],\" \",Personne[[#This Row],[CodePostal]],\" \",Personne[[#This Row],[Ville]],\" \",Personne[[#This Row],[CodePays]])","v":"   "}]
[null,null,null,null,null,null,null,null,null,null,null,null,null,null,null,null,null,null,null,null,null,null,null,null,null,null,null,null,null,null,{"$f":"IF(PARAMETRES!$B$3=\"SANS\",SUMIFS(Honoraire[TotalHonoraireHT],Honoraire[ClientId],Personne[[#This Row],[PersonneId]]),SUMIFS(Honoraire[TotalHT],Honoraire[ClientId],Personne[[#This Row],[PersonneId]]))","v":0},{"$f":"Personne[[#This Row],[Facture (HT)]]+ROW()/100000","v":2.828E-2},{"$f":"_xlfn.CONCAT(Personne[[#This Row],[Adresse]],\" \",Personne[[#This Row],[CodePostal]],\" \",Personne[[#This Row],[Ville]],\" \",Personne[[#This Row],[CodePays]])","v":"   "}]
[null,null,null,null,null,null,null,null,null,null,null,null,null,null,null,null,null,null,null,null,null,null,null,null,null,null,null,null,null,null,{"$f":"IF(PARAMETRES!$B$3=\"SANS\",SUMIFS(Honoraire[TotalHonoraireHT],Honoraire[ClientId],Personne[[#This Row],[PersonneId]]),SUMIFS(Honoraire[TotalHT],Honoraire[ClientId],Personne[[#This Row],[PersonneId]]))","v":0},{"$f":"Personne[[#This Row],[Facture (HT)]]+ROW()/100000","v":2.8289999999999999E-2},{"$f":"_xlfn.CONCAT(Personne[[#This Row],[Adresse]],\" \",Personne[[#This Row],[CodePostal]],\" \",Personne[[#This Row],[Ville]],\" \",Personne[[#This Row],[CodePays]])","v":"   "}]
[null,null,null,null,null,null,null,null,null,null,null,null,null,null,null,null,null,null,null,null,null,null,null,null,null,null,null,null,null,null,{"$f":"IF(PARAMETRES!$B$3=\"SANS\",SUMIFS(Honoraire[TotalHonoraireHT],Honoraire[ClientId],Personne[[#This Row],[PersonneId]]),SUMIFS(Honoraire[TotalHT],Honoraire[ClientId],Personne[[#This Row],[PersonneId]]))","v":0},{"$f":"Personne[[#This Row],[Facture (HT)]]+ROW()/100000","v":2.8320000000000001E-2},{"$f":"_xlfn.CONCAT(Personne[[#This Row],[Adresse]],\" \",Personne[[#This Row],[CodePostal]],\" \",Personne[[#This Row],[Ville]],\" \",Personne[[#This Row],[CodePays]])","v":"   "}]
[null,null,null,null,null,null,null,null,null,null,null,null,null,null,null,null,null,null,null,null,null,null,null,null,null,null,null,null,null,null,{"$f":"IF(PARAMETRES!$B$3=\"SANS\",SUMIFS(Honoraire[TotalHonoraireHT],Honoraire[ClientId],Personne[[#This Row],[PersonneId]]),SUMIFS(Honoraire[TotalHT],Honoraire[ClientId],Personne[[#This Row],[PersonneId]]))","v":0},{"$f":"Personne[[#This Row],[Facture (HT)]]+ROW()/100000","v":2.8330000000000001E-2},{"$f":"_xlfn.CONCAT(Personne[[#This Row],[Adresse]],\" \",Personne[[#This Row],[CodePostal]],\" \",Personne[[#This Row],[Ville]],\" \",Personne[[#This Row],[CodePays]])","v":"   "}]
[null,null,null,null,null,null,null,null,null,null,null,null,null,null,null,null,null,null,null,null,null,null,null,null,null,null,null,null,null,null,{"$f":"IF(PARAMETRES!$B$3=\"SANS\",SUMIFS(Honoraire[TotalHonoraireHT],Honoraire[ClientId],Personne[[#This Row],[PersonneId]]),SUMIFS(Honoraire[TotalHT],Honoraire[ClientId],Personne[[#This Row],[PersonneId]]))","v":0},{"$f":"Personne[[#This Row],[Facture (HT)]]+ROW()/100000","v":2.836E-2},{"$f":"_xlfn.CONCAT(Personne[[#This Row],[Adresse]],\" \",Personne[[#This Row],[CodePostal]],\" \",Personne[[#This Row],[Ville]],\" \",Personne[[#This Row],[CodePays]])","v":"   "}]
[null,null,null,null,null,null,null,null,null,null,null,null,null,null,null,null,null,null,null,null,null,null,null,null,null,null,null,null,null,null,{"$f":"IF(PARAMETRES!$B$3=\"SANS\",SUMIFS(Honoraire[TotalHonoraireHT],Honoraire[ClientId],Personne[[#This Row],[PersonneId]]),SUMIFS(Honoraire[TotalHT],Honoraire[ClientId],Personne[[#This Row],[PersonneId]]))","v":0},{"$f":"Personne[[#This Row],[Facture (HT)]]+ROW()/100000","v":2.8369999999999999E-2},{"$f":"_xlfn.CONCAT(Personne[[#This Row],[Adresse]],\" \",Personne[[#This Row],[CodePostal]],\" \",Personne[[#This Row],[Ville]],\" \",Personne[[#This Row],[CodePays]])","v":"   "}]
[null,null,null,null,null,null,null,null,null,null,null,null,null,null,null,null,null,null,null,null,null,null,null,null,null,null,null,null,null,null,{"$f":"IF(PARAMETRES!$B$3=\"SANS\",SUMIFS(Honoraire[TotalHonoraireHT],Honoraire[ClientId],Personne[[#This Row],[PersonneId]]),SUMIFS(Honoraire[TotalHT],Honoraire[ClientId],Personne[[#This Row],[PersonneId]]))","v":0},{"$f":"Personne[[#This Row],[Facture (HT)]]+ROW()/100000","v":2.8400000000000002E-2},{"$f":"_xlfn.CONCAT(Personne[[#This Row],[Adresse]],\" \",Personne[[#This Row],[CodePostal]],\" \",Personne[[#This Row],[Ville]],\" \",Personne[[#This Row],[CodePays]])","v":"   "}]
[null,null,null,null,null,null,null,null,null,null,null,null,null,null,null,null,null,null,null,null,null,null,null,null,null,null,null,null,null,null,{"$f":"IF(PARAMETRES!$B$3=\"SANS\",SUMIFS(Honoraire[TotalHonoraireHT],Honoraire[ClientId],Personne[[#This Row],[PersonneId]]),SUMIFS(Honoraire[TotalHT],Honoraire[ClientId],Personne[[#This Row],[PersonneId]]))","v":0},{"$f":"Personne[[#This Row],[Facture (HT)]]+ROW()/100000","v":2.8420000000000001E-2},{"$f":"_xlfn.CONCAT(Personne[[#This Row],[Adresse]],\" \",Personne[[#This Row],[CodePostal]],\" \",Personne[[#This Row],[Ville]],\" \",Personne[[#This Row],[CodePays]])","v":"   "}]
[null,null,null,null,null,null,null,null,null,null,null,null,null,null,null,null,null,null,null,null,null,null,null,null,null,null,null,null,null,null,{"$f":"IF(PARAMETRES!$B$3=\"SANS\",SUMIFS(Honoraire[TotalHonoraireHT],Honoraire[ClientId],Personne[[#This Row],[PersonneId]]),SUMIFS(Honoraire[TotalHT],Honoraire[ClientId],Personne[[#This Row],[PersonneId]]))","v":0},{"$f":"Personne[[#This Row],[Facture (HT)]]+ROW()/100000","v":2.845E-2},{"$f":"_xlfn.CONCAT(Personne[[#This Row],[Adresse]],\" \",Personne[[#This Row],[CodePostal]],\" \",Personne[[#This Row],[Ville]],\" \",Personne[[#This Row],[CodePays]])","v":"   "}]
[null,null,null,null,null,null,null,null,null,null,null,null,null,null,null,null,null,null,null,null,null,null,null,null,null,null,null,null,null,null,{"$f":"IF(PARAMETRES!$B$3=\"SANS\",SUMIFS(Honoraire[TotalHonoraireHT],Honoraire[ClientId],Personne[[#This Row],[PersonneId]]),SUMIFS(Honoraire[TotalHT],Honoraire[ClientId],Personne[[#This Row],[PersonneId]]))","v":0},{"$f":"Personne[[#This Row],[Facture (HT)]]+ROW()/100000","v":2.8459999999999999E-2},{"$f":"_xlfn.CONCAT(Personne[[#This Row],[Adresse]],\" \",Personne[[#This Row],[CodePostal]],\" \",Personne[[#This Row],[Ville]],\" \",Personne[[#This Row],[CodePays]])","v":"   "}]
[null,null,null,null,null,null,null,null,null,null,null,null,null,null,null,null,null,null,null,null,null,null,null,null,null,null,null,null,null,null,{"$f":"IF(PARAMETRES!$B$3=\"SANS\",SUMIFS(Honoraire[TotalHonoraireHT],Honoraire[ClientId],Personne[[#This Row],[PersonneId]]),SUMIFS(Honoraire[TotalHT],Honoraire[ClientId],Personne[[#This Row],[PersonneId]]))","v":0},{"$f":"Personne[[#This Row],[Facture (HT)]]+ROW()/100000","v":2.8490000000000001E-2},{"$f":"_xlfn.CONCAT(Personne[[#This Row],[Adresse]],\" \",Personne[[#This Row],[CodePostal]],\" \",Personne[[#This Row],[Ville]],\" \",Personne[[#This Row],[CodePays]])","v":"   "}]
[null,null,null,null,null,null,null,null,null,null,null,null,null,null,null,null,null,null,null,null,null,null,null,null,null,null,null,null,null,null,{"$f":"IF(PARAMETRES!$B$3=\"SANS\",SUMIFS(Honoraire[TotalHonoraireHT],Honoraire[ClientId],Personne[[#This Row],[PersonneId]]),SUMIFS(Honoraire[TotalHT],Honoraire[ClientId],Personne[[#This Row],[PersonneId]]))","v":0},{"$f":"Personne[[#This Row],[Facture (HT)]]+ROW()/100000","v":2.8500000000000001E-2},{"$f":"_xlfn.CONCAT(Personne[[#This Row],[Adresse]],\" \",Personne[[#This Row],[CodePostal]],\" \",Personne[[#This Row],[Ville]],\" \",Personne[[#This Row],[CodePays]])","v":"   "}]
[null,null,null,null,null,null,null,null,null,null,null,null,null,null,null,null,null,null,null,null,null,null,null,null,null,null,null,null,null,null,{"$f":"IF(PARAMETRES!$B$3=\"SANS\",SUMIFS(Honoraire[TotalHonoraireHT],Honoraire[ClientId],Personne[[#This Row],[PersonneId]]),SUMIFS(Honoraire[TotalHT],Honoraire[ClientId],Personne[[#This Row],[PersonneId]]))","v":0},{"$f":"Personne[[#This Row],[Facture (HT)]]+ROW()/100000","v":2.8539999999999999E-2},{"$f":"_xlfn.CONCAT(Personne[[#This Row],[Adresse]],\" \",Personne[[#This Row],[CodePostal]],\" \",Personne[[#This Row],[Ville]],\" \",Personne[[#This Row],[CodePays]])","v":"   "}]
[null,null,null,null,null,null,null,null,null,null,null,null,null,null,null,null,null,null,null,null,null,null,null,null,null,null,null,null,null,null,{"$f":"IF(PARAMETRES!$B$3=\"SANS\",SUMIFS(Honoraire[TotalHonoraireHT],Honoraire[ClientId],Personne[[#This Row],[PersonneId]]),SUMIFS(Honoraire[TotalHT],Honoraire[ClientId],Personne[[#This Row],[PersonneId]]))","v":0},{"$f":"Personne[[#This Row],[Facture (HT)]]+ROW()/100000","v":2.8549999999999999E-2},{"$f":"_xlfn.CONCAT(Personne[[#This Row],[Adresse]],\" \",Personne[[#This Row],[CodePostal]],\" \",Personne[[#This Row],[Ville]],\" \",Personne[[#This Row],[CodePays]])","v":"   "}]
[null,null,null,null,null,null,null,null,null,null,null,null,null,null,null,null,null,null,null,null,null,null,null,null,null,null,null,null,null,null,{"$f":"IF(PARAMETRES!$B$3=\"SANS\",SUMIFS(Honoraire[TotalHonoraireHT],Honoraire[ClientId],Personne[[#This Row],[PersonneId]]),SUMIFS(Honoraire[TotalHT],Honoraire[ClientId],Personne[[#This Row],[PersonneId]]))","v":0},{"$f":"Personne[[#This Row],[Facture (HT)]]+ROW()/100000","v":2.8580000000000001E-2},{"$f":"_xlfn.CONCAT(Personne[[#This Row],[Adresse]],\" \",Personne[[#This Row],[CodePostal]],\" \",Personne[[#This Row],[Ville]],\" \",Personne[[#This Row],[CodePays]])","v":"   "}]
[null,null,null,null,null,null,null,null,null,null,null,null,null,null,null,null,null,null,null,null,null,null,null,null,null,null,null,null,null,null,{"$f":"IF(PARAMETRES!$B$3=\"SANS\",SUMIFS(Honoraire[TotalHonoraireHT],Honoraire[ClientId],Personne[[#This Row],[PersonneId]]),SUMIFS(Honoraire[TotalHT],Honoraire[ClientId],Personne[[#This Row],[PersonneId]]))","v":0},{"$f":"Personne[[#This Row],[Facture (HT)]]+ROW()/100000","v":2.8590000000000001E-2},{"$f":"_xlfn.CONCAT(Personne[[#This Row],[Adresse]],\" \",Personne[[#This Row],[CodePostal]],\" \",Personne[[#This Row],[Ville]],\" \",Personne[[#This Row],[CodePays]])","v":"   "}]
[null,null,null,null,null,null,null,null,null,null,null,null,null,null,null,null,null,null,null,null,null,null,null,null,null,null,null,null,null,null,{"$f":"IF(PARAMETRES!$B$3=\"SANS\",SUMIFS(Honoraire[TotalHonoraireHT],Honoraire[ClientId],Personne[[#This Row],[PersonneId]]),SUMIFS(Honoraire[TotalHT],Honoraire[ClientId],Personne[[#This Row],[PersonneId]]))","v":0},{"$f":"Personne[[#This Row],[Facture (HT)]]+ROW()/100000","v":2.862E-2},{"$f":"_xlfn.CONCAT(Personne[[#This Row],[Adresse]],\" \",Personne[[#This Row],[CodePostal]],\" \",Personne[[#This Row],[Ville]],\" \",Personne[[#This Row],[CodePays]])","v":"   "}]
[null,null,null,null,null,null,null,null,null,null,null,null,null,null,null,null,null,null,null,null,null,null,null,null,null,null,null,null,null,null,{"$f":"IF(PARAMETRES!$B$3=\"SANS\",SUMIFS(Honoraire[TotalHonoraireHT],Honoraire[ClientId],Personne[[#This Row],[PersonneId]]),SUMIFS(Honoraire[TotalHT],Honoraire[ClientId],Personne[[#This Row],[PersonneId]]))","v":0},{"$f":"Personne[[#This Row],[Facture (HT)]]+ROW()/100000","v":2.8649999999999998E-2},{"$f":"_xlfn.CONCAT(Personne[[#This Row],[Adresse]],\" \",Personne[[#This Row],[CodePostal]],\" \",Personne[[#This Row],[Ville]],\" \",Personne[[#This Row],[CodePays]])","v":"   "}]
[null,null,null,null,null,null,null,null,null,null,null,null,null,null,null,null,null,null,null,null,null,null,null,null,null,null,null,null,null,null,{"$f":"IF(PARAMETRES!$B$3=\"SANS\",SUMIFS(Honoraire[TotalHonoraireHT],Honoraire[ClientId],Personne[[#This Row],[PersonneId]]),SUMIFS(Honoraire[TotalHT],Honoraire[ClientId],Personne[[#This Row],[PersonneId]]))","v":0},{"$f":"Personne[[#This Row],[Facture (HT)]]+ROW()/100000","v":2.8670000000000001E-2},{"$f":"_xlfn.CONCAT(Personne[[#This Row],[Adresse]],\" \",Personne[[#This Row],[CodePostal]],\" \",Personne[[#This Row],[Ville]],\" \",Personne[[#This Row],[CodePays]])","v":"   "}]
[null,null,null,null,null,null,null,null,null,null,null,null,null,null,null,null,null,null,null,null,null,null,null,null,null,null,null,null,null,null,{"$f":"IF(PARAMETRES!$B$3=\"SANS\",SUMIFS(Honoraire[TotalHonoraireHT],Honoraire[ClientId],Personne[[#This Row],[PersonneId]]),SUMIFS(Honoraire[TotalHT],Honoraire[ClientId],Personne[[#This Row],[PersonneId]]))","v":0},{"$f":"Personne[[#This Row],[Facture (HT)]]+ROW()/100000","v":2.8680000000000001E-2},{"$f":"_xlfn.CONCAT(Personne[[#This Row],[Adresse]],\" \",Personne[[#This Row],[CodePostal]],\" \",Personne[[#This Row],[Ville]],\" \",Personne[[#This Row],[CodePays]])","v":"   "}]
[null,null,null,null,null,null,null,null,null,null,null,null,null,null,null,null,null,null,null,null,null,null,null,null,null,null,null,null,null,null,{"$f":"IF(PARAMETRES!$B$3=\"SANS\",SUMIFS(Honoraire[TotalHonoraireHT],Honoraire[ClientId],Personne[[#This Row],[PersonneId]]),SUMIFS(Honoraire[TotalHT],Honoraire[ClientId],Personne[[#This Row],[PersonneId]]))","v":0},{"$f":"Personne[[#This Row],[Facture (HT)]]+ROW()/100000","v":2.8709999999999999E-2},{"$f":"_xlfn.CONCAT(Personne[[#This Row],[Adresse]],\" \",Personne[[#This Row],[CodePostal]],\" \",Personne[[#This Row],[Ville]],\" \",Personne[[#This Row],[CodePays]])","v":"   "}]
[null,null,null,null,null,null,null,null,null,null,null,null,null,null,null,null,null,null,null,null,null,null,null,null,null,null,null,null,null,null,{"$f":"IF(PARAMETRES!$B$3=\"SANS\",SUMIFS(Honoraire[TotalHonoraireHT],Honoraire[ClientId],Personne[[#This Row],[PersonneId]]),SUMIFS(Honoraire[TotalHT],Honoraire[ClientId],Personne[[#This Row],[PersonneId]]))","v":0},{"$f":"Personne[[#This Row],[Facture (HT)]]+ROW()/100000","v":2.8719999999999999E-2},{"$f":"_xlfn.CONCAT(Personne[[#This Row],[Adresse]],\" \",Personne[[#This Row],[CodePostal]],\" \",Personne[[#This Row],[Ville]],\" \",Personne[[#This Row],[CodePays]])","v":"   "}]
[null,null,null,null,null,null,null,null,null,null,null,null,null,null,null,null,null,null,null,null,null,null,null,null,null,null,null,null,null,null,{"$f":"IF(PARAMETRES!$B$3=\"SANS\",SUMIFS(Honoraire[TotalHonoraireHT],Honoraire[ClientId],Personne[[#This Row],[PersonneId]]),SUMIFS(Honoraire[TotalHT],Honoraire[ClientId],Personne[[#This Row],[PersonneId]]))","v":0},{"$f":"Personne[[#This Row],[Facture (HT)]]+ROW()/100000","v":2.8750000000000001E-2},{"$f":"_xlfn.CONCAT(Personne[[#This Row],[Adresse]],\" \",Personne[[#This Row],[CodePostal]],\" \",Personne[[#This Row],[Ville]],\" \",Personne[[#This Row],[CodePays]])","v":"   "}]
[null,null,null,null,null,null,null,null,null,null,null,null,null,null,null,null,null,null,null,null,null,null,null,null,null,null,null,null,null,null,{"$f":"IF(PARAMETRES!$B$3=\"SANS\",SUMIFS(Honoraire[TotalHonoraireHT],Honoraire[ClientId],Personne[[#This Row],[PersonneId]]),SUMIFS(Honoraire[TotalHT],Honoraire[ClientId],Personne[[#This Row],[PersonneId]]))","v":0},{"$f":"Personne[[#This Row],[Facture (HT)]]+ROW()/100000","v":2.877E-2},{"$f":"_xlfn.CONCAT(Personne[[#This Row],[Adresse]],\" \",Personne[[#This Row],[CodePostal]],\" \",Personne[[#This Row],[Ville]],\" \",Personne[[#This Row],[CodePays]])","v":"   "}]
[null,null,null,null,null,null,null,null,null,null,null,null,null,null,null,null,null,null,null,null,null,null,null,null,null,null,null,null,null,null,{"$f":"IF(PARAMETRES!$B$3=\"SANS\",SUMIFS(Honoraire[TotalHonoraireHT],Honoraire[ClientId],Personne[[#This Row],[PersonneId]]),SUMIFS(Honoraire[TotalHT],Honoraire[ClientId],Personne[[#This Row],[PersonneId]]))","v":0},{"$f":"Personne[[#This Row],[Facture (HT)]]+ROW()/100000","v":2.8799999999999999E-2},{"$f":"_xlfn.CONCAT(Personne[[#This Row],[Adresse]],\" \",Personne[[#This Row],[CodePostal]],\" \",Personne[[#This Row],[Ville]],\" \",Personne[[#This Row],[CodePays]])","v":"   "}]
[null,null,null,null,null,null,null,null,null,null,null,null,null,null,null,null,null,null,null,null,null,null,null,null,null,null,null,null,null,null,{"$f":"IF(PARAMETRES!$B$3=\"SANS\",SUMIFS(Honoraire[TotalHonoraireHT],Honoraire[ClientId],Personne[[#This Row],[PersonneId]]),SUMIFS(Honoraire[TotalHT],Honoraire[ClientId],Personne[[#This Row],[PersonneId]]))","v":0},{"$f":"Personne[[#This Row],[Facture (HT)]]+ROW()/100000","v":2.8809999999999999E-2},{"$f":"_xlfn.CONCAT(Personne[[#This Row],[Adresse]],\" \",Personne[[#This Row],[CodePostal]],\" \",Personne[[#This Row],[Ville]],\" \",Personne[[#This Row],[CodePays]])","v":"   "}]
[null,null,null,null,null,null,null,null,null,null,null,null,null,null,null,null,null,null,null,null,null,null,null,null,null,null,null,null,null,null,{"$f":"IF(PARAMETRES!$B$3=\"SANS\",SUMIFS(Honoraire[TotalHonoraireHT],Honoraire[ClientId],Personne[[#This Row],[PersonneId]]),SUMIFS(Honoraire[TotalHT],Honoraire[ClientId],Personne[[#This Row],[PersonneId]]))","v":0},{"$f":"Personne[[#This Row],[Facture (HT)]]+ROW()/100000","v":2.8840000000000001E-2},{"$f":"_xlfn.CONCAT(Personne[[#This Row],[Adresse]],\" \",Personne[[#This Row],[CodePostal]],\" \",Personne[[#This Row],[Ville]],\" \",Personne[[#This Row],[CodePays]])","v":"   "}]
[null,null,null,null,null,null,null,null,null,null,null,null,null,null,null,null,null,null,null,null,null,null,null,null,null,null,null,null,null,null,{"$f":"IF(PARAMETRES!$B$3=\"SANS\",SUMIFS(Honoraire[TotalHonoraireHT],Honoraire[ClientId],Personne[[#This Row],[PersonneId]]),SUMIFS(Honoraire[TotalHT],Honoraire[ClientId],Personne[[#This Row],[PersonneId]]))","v":0},{"$f":"Personne[[#This Row],[Facture (HT)]]+ROW()/100000","v":2.8850000000000001E-2},{"$f":"_xlfn.CONCAT(Personne[[#This Row],[Adresse]],\" \",Personne[[#This Row],[CodePostal]],\" \",Personne[[#This Row],[Ville]],\" \",Personne[[#This Row],[CodePays]])","v":"   "}]
[null,null,null,null,null,null,null,null,null,null,null,null,null,null,null,null,null,null,null,null,null,null,null,null,null,null,null,null,null,null,{"$f":"IF(PARAMETRES!$B$3=\"SANS\",SUMIFS(Honoraire[TotalHonoraireHT],Honoraire[ClientId],Personne[[#This Row],[PersonneId]]),SUMIFS(Honoraire[TotalHT],Honoraire[ClientId],Personne[[#This Row],[PersonneId]]))","v":0},{"$f":"Personne[[#This Row],[Facture (HT)]]+ROW()/100000","v":2.8879999999999999E-2},{"$f":"_xlfn.CONCAT(Personne[[#This Row],[Adresse]],\" \",Personne[[#This Row],[CodePostal]],\" \",Personne[[#This Row],[Ville]],\" \",Personne[[#This Row],[CodePays]])","v":"   "}]
[null,null,null,null,null,null,null,null,null,null,null,null,null,null,null,null,null,null,null,null,null,null,null,null,null,null,null,null,null,null,{"$f":"IF(PARAMETRES!$B$3=\"SANS\",SUMIFS(Honoraire[TotalHonoraireHT],Honoraire[ClientId],Personne[[#This Row],[PersonneId]]),SUMIFS(Honoraire[TotalHT],Honoraire[ClientId],Personne[[#This Row],[PersonneId]]))","v":0},{"$f":"Personne[[#This Row],[Facture (HT)]]+ROW()/100000","v":2.8899999999999999E-2},{"$f":"_xlfn.CONCAT(Personne[[#This Row],[Adresse]],\" \",Personne[[#This Row],[CodePostal]],\" \",Personne[[#This Row],[Ville]],\" \",Personne[[#This Row],[CodePays]])","v":"   "}]
[null,null,null,null,null,null,null,null,null,null,null,null,null,null,null,null,null,null,null,null,null,null,null,null,null,null,null,null,null,null,{"$f":"IF(PARAMETRES!$B$3=\"SANS\",SUMIFS(Honoraire[TotalHonoraireHT],Honoraire[ClientId],Personne[[#This Row],[PersonneId]]),SUMIFS(Honoraire[TotalHT],Honoraire[ClientId],Personne[[#This Row],[PersonneId]]))","v":0},{"$f":"Personne[[#This Row],[Facture (HT)]]+ROW()/100000","v":2.8930000000000001E-2},{"$f":"_xlfn.CONCAT(Personne[[#This Row],[Adresse]],\" \",Personne[[#This Row],[CodePostal]],\" \",Personne[[#This Row],[Ville]],\" \",Personne[[#This Row],[CodePays]])","v":"   "}]
[null,null,null,null,null,null,null,null,null,null,null,null,null,null,null,null,null,null,null,null,null,null,null,null,null,null,null,null,null,null,{"$f":"IF(PARAMETRES!$B$3=\"SANS\",SUMIFS(Honoraire[TotalHonoraireHT],Honoraire[ClientId],Personne[[#This Row],[PersonneId]]),SUMIFS(Honoraire[TotalHT],Honoraire[ClientId],Personne[[#This Row],[PersonneId]]))","v":0},{"$f":"Personne[[#This Row],[Facture (HT)]]+ROW()/100000","v":2.894E-2},{"$f":"_xlfn.CONCAT(Personne[[#This Row],[Adresse]],\" \",Personne[[#This Row],[CodePostal]],\" \",Personne[[#This Row],[Ville]],\" \",Personne[[#This Row],[CodePays]])","v":"   "}]
[null,null,null,null,null,null,null,null,null,null,null,null,null,null,null,null,null,null,null,null,null,null,null,null,null,null,null,null,null,null,{"$f":"IF(PARAMETRES!$B$3=\"SANS\",SUMIFS(Honoraire[TotalHonoraireHT],Honoraire[ClientId],Personne[[#This Row],[PersonneId]]),SUMIFS(Honoraire[TotalHT],Honoraire[ClientId],Personne[[#This Row],[PersonneId]]))","v":0},{"$f":"Personne[[#This Row],[Facture (HT)]]+ROW()/100000","v":2.8969999999999999E-2},{"$f":"_xlfn.CONCAT(Personne[[#This Row],[Adresse]],\" \",Personne[[#This Row],[CodePostal]],\" \",Personne[[#This Row],[Ville]],\" \",Personne[[#This Row],[CodePays]])","v":"   "}]
[null,null,null,null,null,null,null,null,null,null,null,null,null,null,null,null,null,null,null,null,null,null,null,null,null,null,null,null,null,null,{"$f":"IF(PARAMETRES!$B$3=\"SANS\",SUMIFS(Honoraire[TotalHonoraireHT],Honoraire[ClientId],Personne[[#This Row],[PersonneId]]),SUMIFS(Honoraire[TotalHT],Honoraire[ClientId],Personne[[#This Row],[PersonneId]]))","v":0},{"$f":"Personne[[#This Row],[Facture (HT)]]+ROW()/100000","v":2.9000000000000001E-2},{"$f":"_xlfn.CONCAT(Personne[[#This Row],[Adresse]],\" \",Personne[[#This Row],[CodePostal]],\" \",Personne[[#This Row],[Ville]],\" \",Personne[[#This Row],[CodePays]])","v":"   "}]
[null,null,null,null,null,null,null,null,null,null,null,null,null,null,null,null,null,null,null,null,null,null,null,null,null,null,null,null,null,null,{"$f":"IF(PARAMETRES!$B$3=\"SANS\",SUMIFS(Honoraire[TotalHonoraireHT],Honoraire[ClientId],Personne[[#This Row],[PersonneId]]),SUMIFS(Honoraire[TotalHT],Honoraire[ClientId],Personne[[#This Row],[PersonneId]]))","v":0},{"$f":"Personne[[#This Row],[Facture (HT)]]+ROW()/100000","v":2.9020000000000001E-2},{"$f":"_xlfn.CONCAT(Personne[[#This Row],[Adresse]],\" \",Personne[[#This Row],[CodePostal]],\" \",Personne[[#This Row],[Ville]],\" \",Personne[[#This Row],[CodePays]])","v":"   "}]
[null,null,null,null,null,null,null,null,null,null,null,null,null,null,null,null,null,null,null,null,null,null,null,null,null,null,null,null,null,null,{"$f":"IF(PARAMETRES!$B$3=\"SANS\",SUMIFS(Honoraire[TotalHonoraireHT],Honoraire[ClientId],Personne[[#This Row],[PersonneId]]),SUMIFS(Honoraire[TotalHT],Honoraire[ClientId],Personne[[#This Row],[PersonneId]]))","v":0},{"$f":"Personne[[#This Row],[Facture (HT)]]+ROW()/100000","v":2.903E-2},{"$f":"_xlfn.CONCAT(Personne[[#This Row],[Adresse]],\" \",Personne[[#This Row],[CodePostal]],\" \",Personne[[#This Row],[Ville]],\" \",Personne[[#This Row],[CodePays]])","v":"   "}]
[null,null,null,null,null,null,null,null,null,null,null,null,null,null,null,null,null,null,null,null,null,null,null,null,null,null,null,null,null,null,{"$f":"IF(PARAMETRES!$B$3=\"SANS\",SUMIFS(Honoraire[TotalHonoraireHT],Honoraire[ClientId],Personne[[#This Row],[PersonneId]]),SUMIFS(Honoraire[TotalHT],Honoraire[ClientId],Personne[[#This Row],[PersonneId]]))","v":0},{"$f":"Personne[[#This Row],[Facture (HT)]]+ROW()/100000","v":2.9059999999999999E-2},{"$f":"_xlfn.CONCAT(Personne[[#This Row],[Adresse]],\" \",Personne[[#This Row],[CodePostal]],\" \",Personne[[#This Row],[Ville]],\" \",Personne[[#This Row],[CodePays]])","v":"   "}]
[null,null,null,null,null,null,null,null,null,null,null,null,null,null,null,null,null,null,null,null,null,null,null,null,null,null,null,null,null,null,{"$f":"IF(PARAMETRES!$B$3=\"SANS\",SUMIFS(Honoraire[TotalHonoraireHT],Honoraire[ClientId],Personne[[#This Row],[PersonneId]]),SUMIFS(Honoraire[TotalHT],Honoraire[ClientId],Personne[[#This Row],[PersonneId]]))","v":0},{"$f":"Personne[[#This Row],[Facture (HT)]]+ROW()/100000","v":2.9069999999999999E-2},{"$f":"_xlfn.CONCAT(Personne[[#This Row],[Adresse]],\" \",Personne[[#This Row],[CodePostal]],\" \",Personne[[#This Row],[Ville]],\" \",Personne[[#This Row],[CodePays]])","v":"   "}]
[null,null,null,null,null,null,null,null,null,null,null,null,null,null,null,null,null,null,null,null,null,null,null,null,null,null,null,null,null,null,{"$f":"IF(PARAMETRES!$B$3=\"SANS\",SUMIFS(Honoraire[TotalHonoraireHT],Honoraire[ClientId],Personne[[#This Row],[PersonneId]]),SUMIFS(Honoraire[TotalHT],Honoraire[ClientId],Personne[[#This Row],[PersonneId]]))","v":0},{"$f":"Personne[[#This Row],[Facture (HT)]]+ROW()/100000","v":2.9100000000000001E-2},{"$f":"_xlfn.CONCAT(Personne[[#This Row],[Adresse]],\" \",Personne[[#This Row],[CodePostal]],\" \",Personne[[#This Row],[Ville]],\" \",Personne[[#This Row],[CodePays]])","v":"   "}]
[null,null,null,null,null,null,null,null,null,null,null,null,null,null,null,null,null,null,null,null,null,null,null,null,null,null,null,null,null,null,{"$f":"IF(PARAMETRES!$B$3=\"SANS\",SUMIFS(Honoraire[TotalHonoraireHT],Honoraire[ClientId],Personne[[#This Row],[PersonneId]]),SUMIFS(Honoraire[TotalHT],Honoraire[ClientId],Personne[[#This Row],[PersonneId]]))","v":0},{"$f":"Personne[[#This Row],[Facture (HT)]]+ROW()/100000","v":2.912E-2},{"$f":"_xlfn.CONCAT(Personne[[#This Row],[Adresse]],\" \",Personne[[#This Row],[CodePostal]],\" \",Personne[[#This Row],[Ville]],\" \",Personne[[#This Row],[CodePays]])","v":"   "}]
[null,null,null,null,null,null,null,null,null,null,null,null,null,null,null,null,null,null,null,null,null,null,null,null,null,null,null,null,null,null,{"$f":"IF(PARAMETRES!$B$3=\"SANS\",SUMIFS(Honoraire[TotalHonoraireHT],Honoraire[ClientId],Personne[[#This Row],[PersonneId]]),SUMIFS(Honoraire[TotalHT],Honoraire[ClientId],Personne[[#This Row],[PersonneId]]))","v":0},{"$f":"Personne[[#This Row],[Facture (HT)]]+ROW()/100000","v":2.9149999999999999E-2},{"$f":"_xlfn.CONCAT(Personne[[#This Row],[Adresse]],\" \",Personne[[#This Row],[CodePostal]],\" \",Personne[[#This Row],[Ville]],\" \",Personne[[#This Row],[CodePays]])","v":"   "}]
[null,null,null,null,null,null,null,null,null,null,null,null,null,null,null,null,null,null,null,null,null,null,null,null,null,null,null,null,null,null,{"$f":"IF(PARAMETRES!$B$3=\"SANS\",SUMIFS(Honoraire[TotalHonoraireHT],Honoraire[ClientId],Personne[[#This Row],[PersonneId]]),SUMIFS(Honoraire[TotalHT],Honoraire[ClientId],Personne[[#This Row],[PersonneId]]))","v":0},{"$f":"Personne[[#This Row],[Facture (HT)]]+ROW()/100000","v":2.9159999999999998E-2},{"$f":"_xlfn.CONCAT(Personne[[#This Row],[Adresse]],\" \",Personne[[#This Row],[CodePostal]],\" \",Personne[[#This Row],[Ville]],\" \",Personne[[#This Row],[CodePays]])","v":"   "}]
[null,null,null,null,null,null,null,null,null,null,null,null,null,null,null,null,null,null,null,null,null,null,null,null,null,null,null,null,null,null,{"$f":"IF(PARAMETRES!$B$3=\"SANS\",SUMIFS(Honoraire[TotalHonoraireHT],Honoraire[ClientId],Personne[[#This Row],[PersonneId]]),SUMIFS(Honoraire[TotalHT],Honoraire[ClientId],Personne[[#This Row],[PersonneId]]))","v":0},{"$f":"Personne[[#This Row],[Facture (HT)]]+ROW()/100000","v":2.9190000000000001E-2},{"$f":"_xlfn.CONCAT(Personne[[#This Row],[Adresse]],\" \",Personne[[#This Row],[CodePostal]],\" \",Personne[[#This Row],[Ville]],\" \",Personne[[#This Row],[CodePays]])","v":"   "}]
[null,null,null,null,null,null,null,null,null,null,null,null,null,null,null,null,null,null,null,null,null,null,null,null,null,null,null,null,null,null,{"$f":"IF(PARAMETRES!$B$3=\"SANS\",SUMIFS(Honoraire[TotalHonoraireHT],Honoraire[ClientId],Personne[[#This Row],[PersonneId]]),SUMIFS(Honoraire[TotalHT],Honoraire[ClientId],Personne[[#This Row],[PersonneId]]))","v":0},{"$f":"Personne[[#This Row],[Facture (HT)]]+ROW()/100000","v":2.92E-2},{"$f":"_xlfn.CONCAT(Personne[[#This Row],[Adresse]],\" \",Personne[[#This Row],[CodePostal]],\" \",Personne[[#This Row],[Ville]],\" \",Personne[[#This Row],[CodePays]])","v":"   "}]
[null,null,null,null,null,null,null,null,null,null,null,null,null,null,null,null,null,null,null,null,null,null,null,null,null,null,null,null,null,null,{"$f":"IF(PARAMETRES!$B$3=\"SANS\",SUMIFS(Honoraire[TotalHonoraireHT],Honoraire[ClientId],Personne[[#This Row],[PersonneId]]),SUMIFS(Honoraire[TotalHT],Honoraire[ClientId],Personne[[#This Row],[PersonneId]]))","v":0},{"$f":"Personne[[#This Row],[Facture (HT)]]+ROW()/100000","v":2.9229999999999999E-2},{"$f":"_xlfn.CONCAT(Personne[[#This Row],[Adresse]],\" \",Personne[[#This Row],[CodePostal]],\" \",Personne[[#This Row],[Ville]],\" \",Personne[[#This Row],[CodePays]])","v":"   "}]
[null,null,null,null,null,null,null,null,null,null,null,null,null,null,null,null,null,null,null,null,null,null,null,null,null,null,null,null,null,null,{"$f":"IF(PARAMETRES!$B$3=\"SANS\",SUMIFS(Honoraire[TotalHonoraireHT],Honoraire[ClientId],Personne[[#This Row],[PersonneId]]),SUMIFS(Honoraire[TotalHT],Honoraire[ClientId],Personne[[#This Row],[PersonneId]]))","v":0},{"$f":"Personne[[#This Row],[Facture (HT)]]+ROW()/100000","v":2.9250000000000002E-2},{"$f":"_xlfn.CONCAT(Personne[[#This Row],[Adresse]],\" \",Personne[[#This Row],[CodePostal]],\" \",Personne[[#This Row],[Ville]],\" \",Personne[[#This Row],[CodePays]])","v":"   "}]
[null,null,null,null,null,null,null,null,null,null,null,null,null,null,null,null,null,null,null,null,null,null,null,null,null,null,null,null,null,null,{"$f":"IF(PARAMETRES!$B$3=\"SANS\",SUMIFS(Honoraire[TotalHonoraireHT],Honoraire[ClientId],Personne[[#This Row],[PersonneId]]),SUMIFS(Honoraire[TotalHT],Honoraire[ClientId],Personne[[#This Row],[PersonneId]]))","v":0},{"$f":"Personne[[#This Row],[Facture (HT)]]+ROW()/100000","v":2.928E-2},{"$f":"_xlfn.CONCAT(Personne[[#This Row],[Adresse]],\" \",Personne[[#This Row],[CodePostal]],\" \",Personne[[#This Row],[Ville]],\" \",Personne[[#This Row],[CodePays]])","v":"   "}]
[null,null,null,null,null,null,null,null,null,null,null,null,null,null,null,null,null,null,null,null,null,null,null,null,null,null,null,null,null,null,{"$f":"IF(PARAMETRES!$B$3=\"SANS\",SUMIFS(Honoraire[TotalHonoraireHT],Honoraire[ClientId],Personne[[#This Row],[PersonneId]]),SUMIFS(Honoraire[TotalHT],Honoraire[ClientId],Personne[[#This Row],[PersonneId]]))","v":0},{"$f":"Personne[[#This Row],[Facture (HT)]]+ROW()/100000","v":2.929E-2},{"$f":"_xlfn.CONCAT(Personne[[#This Row],[Adresse]],\" \",Personne[[#This Row],[CodePostal]],\" \",Personne[[#This Row],[Ville]],\" \",Personne[[#This Row],[CodePays]])","v":"   "}]
[null,null,null,null,null,null,null,null,null,null,null,null,null,null,null,null,null,null,null,null,null,null,null,null,null,null,null,null,null,null,{"$f":"IF(PARAMETRES!$B$3=\"SANS\",SUMIFS(Honoraire[TotalHonoraireHT],Honoraire[ClientId],Personne[[#This Row],[PersonneId]]),SUMIFS(Honoraire[TotalHT],Honoraire[ClientId],Personne[[#This Row],[PersonneId]]))","v":0},{"$f":"Personne[[#This Row],[Facture (HT)]]+ROW()/100000","v":2.9319999999999999E-2},{"$f":"_xlfn.CONCAT(Personne[[#This Row],[Adresse]],\" \",Personne[[#This Row],[CodePostal]],\" \",Personne[[#This Row],[Ville]],\" \",Personne[[#This Row],[CodePays]])","v":"   "}]
[null,null,null,null,null,null,null,null,null,null,null,null,null,null,null,null,null,null,null,null,null,null,null,null,null,null,null,null,null,null,{"$f":"IF(PARAMETRES!$B$3=\"SANS\",SUMIFS(Honoraire[TotalHonoraireHT],Honoraire[ClientId],Personne[[#This Row],[PersonneId]]),SUMIFS(Honoraire[TotalHT],Honoraire[ClientId],Personne[[#This Row],[PersonneId]]))","v":0},{"$f":"Personne[[#This Row],[Facture (HT)]]+ROW()/100000","v":2.9329999999999998E-2},{"$f":"_xlfn.CONCAT(Personne[[#This Row],[Adresse]],\" \",Personne[[#This Row],[CodePostal]],\" \",Personne[[#This Row],[Ville]],\" \",Personne[[#This Row],[CodePays]])","v":"   "}]
[null,null,null,null,null,null,null,null,null,null,null,null,null,null,null,null,null,null,null,null,null,null,null,null,null,null,null,null,null,null,{"$f":"IF(PARAMETRES!$B$3=\"SANS\",SUMIFS(Honoraire[TotalHonoraireHT],Honoraire[ClientId],Personne[[#This Row],[PersonneId]]),SUMIFS(Honoraire[TotalHT],Honoraire[ClientId],Personne[[#This Row],[PersonneId]]))","v":0},{"$f":"Personne[[#This Row],[Facture (HT)]]+ROW()/100000","v":2.937E-2},{"$f":"_xlfn.CONCAT(Personne[[#This Row],[Adresse]],\" \",Personne[[#This Row],[CodePostal]],\" \",Personne[[#This Row],[Ville]],\" \",Personne[[#This Row],[CodePays]])","v":"   "}]
[null,null,null,null,null,null,null,null,null,null,null,null,null,null,null,null,null,null,null,null,null,null,null,null,null,null,null,null,null,null,{"$f":"IF(PARAMETRES!$B$3=\"SANS\",SUMIFS(Honoraire[TotalHonoraireHT],Honoraire[ClientId],Personne[[#This Row],[PersonneId]]),SUMIFS(Honoraire[TotalHT],Honoraire[ClientId],Personne[[#This Row],[PersonneId]]))","v":0},{"$f":"Personne[[#This Row],[Facture (HT)]]+ROW()/100000","v":2.938E-2},{"$f":"_xlfn.CONCAT(Personne[[#This Row],[Adresse]],\" \",Personne[[#This Row],[CodePostal]],\" \",Personne[[#This Row],[Ville]],\" \",Personne[[#This Row],[CodePays]])","v":"   "}]
[null,null,null,null,null,null,null,null,null,null,null,null,null,null,null,null,null,null,null,null,null,null,null,null,null,null,null,null,null,null,{"$f":"IF(PARAMETRES!$B$3=\"SANS\",SUMIFS(Honoraire[TotalHonoraireHT],Honoraire[ClientId],Personne[[#This Row],[PersonneId]]),SUMIFS(Honoraire[TotalHT],Honoraire[ClientId],Personne[[#This Row],[PersonneId]]))","v":0},{"$f":"Personne[[#This Row],[Facture (HT)]]+ROW()/100000","v":2.9409999999999999E-2},{"$f":"_xlfn.CONCAT(Personne[[#This Row],[Adresse]],\" \",Personne[[#This Row],[CodePostal]],\" \",Personne[[#This Row],[Ville]],\" \",Personne[[#This Row],[CodePays]])","v":"   "}]
[null,null,null,null,null,null,null,null,null,null,null,null,null,null,null,null,null,null,null,null,null,null,null,null,null,null,null,null,null,null,{"$f":"IF(PARAMETRES!$B$3=\"SANS\",SUMIFS(Honoraire[TotalHonoraireHT],Honoraire[ClientId],Personne[[#This Row],[PersonneId]]),SUMIFS(Honoraire[TotalHT],Honoraire[ClientId],Personne[[#This Row],[PersonneId]]))","v":0},{"$f":"Personne[[#This Row],[Facture (HT)]]+ROW()/100000","v":2.9420000000000002E-2},{"$f":"_xlfn.CONCAT(Personne[[#This Row],[Adresse]],\" \",Personne[[#This Row],[CodePostal]],\" \",Personne[[#This Row],[Ville]],\" \",Personne[[#This Row],[CodePays]])","v":"   "}]
[null,null,null,null,null,null,null,null,null,null,null,null,null,null,null,null,null,null,null,null,null,null,null,null,null,null,null,null,null,null,{"$f":"IF(PARAMETRES!$B$3=\"SANS\",SUMIFS(Honoraire[TotalHonoraireHT],Honoraire[ClientId],Personne[[#This Row],[PersonneId]]),SUMIFS(Honoraire[TotalHT],Honoraire[ClientId],Personne[[#This Row],[PersonneId]]))","v":0},{"$f":"Personne[[#This Row],[Facture (HT)]]+ROW()/100000","v":2.945E-2},{"$f":"_xlfn.CONCAT(Personne[[#This Row],[Adresse]],\" \",Personne[[#This Row],[CodePostal]],\" \",Personne[[#This Row],[Ville]],\" \",Personne[[#This Row],[CodePays]])","v":"   "}]
[null,null,null,null,null,null,null,null,null,null,null,null,null,null,null,null,null,null,null,null,null,null,null,null,null,null,null,null,null,null,{"$f":"IF(PARAMETRES!$B$3=\"SANS\",SUMIFS(Honoraire[TotalHonoraireHT],Honoraire[ClientId],Personne[[#This Row],[PersonneId]]),SUMIFS(Honoraire[TotalHT],Honoraire[ClientId],Personne[[#This Row],[PersonneId]]))","v":0},{"$f":"Personne[[#This Row],[Facture (HT)]]+ROW()/100000","v":2.9479999999999999E-2},{"$f":"_xlfn.CONCAT(Personne[[#This Row],[Adresse]],\" \",Personne[[#This Row],[CodePostal]],\" \",Personne[[#This Row],[Ville]],\" \",Personne[[#This Row],[CodePays]])","v":"   "}]
[null,null,null,null,null,null,null,null,null,null,null,null,null,null,null,null,null,null,null,null,null,null,null,null,null,null,null,null,null,null,{"$f":"IF(PARAMETRES!$B$3=\"SANS\",SUMIFS(Honoraire[TotalHonoraireHT],Honoraire[ClientId],Personne[[#This Row],[PersonneId]]),SUMIFS(Honoraire[TotalHT],Honoraire[ClientId],Personne[[#This Row],[PersonneId]]))","v":0},{"$f":"Personne[[#This Row],[Facture (HT)]]+ROW()/100000","v":2.9499999999999998E-2},{"$f":"_xlfn.CONCAT(Personne[[#This Row],[Adresse]],\" \",Personne[[#This Row],[CodePostal]],\" \",Personne[[#This Row],[Ville]],\" \",Personne[[#This Row],[CodePays]])","v":"   "}]
[null,null,null,null,null,null,null,null,null,null,null,null,null,null,null,null,null,null,null,null,null,null,null,null,null,null,null,null,null,null,{"$f":"IF(PARAMETRES!$B$3=\"SANS\",SUMIFS(Honoraire[TotalHonoraireHT],Honoraire[ClientId],Personne[[#This Row],[PersonneId]]),SUMIFS(Honoraire[TotalHT],Honoraire[ClientId],Personne[[#This Row],[PersonneId]]))","v":0},{"$f":"Personne[[#This Row],[Facture (HT)]]+ROW()/100000","v":2.9510000000000002E-2},{"$f":"_xlfn.CONCAT(Personne[[#This Row],[Adresse]],\" \",Personne[[#This Row],[CodePostal]],\" \",Personne[[#This Row],[Ville]],\" \",Personne[[#This Row],[CodePays]])","v":"   "}]
[null,null,null,null,null,null,null,null,null,null,null,null,null,null,null,null,null,null,null,null,null,null,null,null,null,null,null,null,null,null,{"$f":"IF(PARAMETRES!$B$3=\"SANS\",SUMIFS(Honoraire[TotalHonoraireHT],Honoraire[ClientId],Personne[[#This Row],[PersonneId]]),SUMIFS(Honoraire[TotalHT],Honoraire[ClientId],Personne[[#This Row],[PersonneId]]))","v":0},{"$f":"Personne[[#This Row],[Facture (HT)]]+ROW()/100000","v":2.954E-2},{"$f":"_xlfn.CONCAT(Personne[[#This Row],[Adresse]],\" \",Personne[[#This Row],[CodePostal]],\" \",Personne[[#This Row],[Ville]],\" \",Personne[[#This Row],[CodePays]])","v":"   "}]
[null,null,null,null,null,null,null,null,null,null,null,null,null,null,null,null,null,null,null,null,null,null,null,null,null,null,null,null,null,null,{"$f":"IF(PARAMETRES!$B$3=\"SANS\",SUMIFS(Honoraire[TotalHonoraireHT],Honoraire[ClientId],Personne[[#This Row],[PersonneId]]),SUMIFS(Honoraire[TotalHT],Honoraire[ClientId],Personne[[#This Row],[PersonneId]]))","v":0},{"$f":"Personne[[#This Row],[Facture (HT)]]+ROW()/100000","v":2.955E-2},{"$f":"_xlfn.CONCAT(Personne[[#This Row],[Adresse]],\" \",Personne[[#This Row],[CodePostal]],\" \",Personne[[#This Row],[Ville]],\" \",Personne[[#This Row],[CodePays]])","v":"   "}]
[null,null,null,null,null,null,null,null,null,null,null,null,null,null,null,null,null,null,null,null,null,null,null,null,null,null,null,null,null,null,{"$f":"IF(PARAMETRES!$B$3=\"SANS\",SUMIFS(Honoraire[TotalHonoraireHT],Honoraire[ClientId],Personne[[#This Row],[PersonneId]]),SUMIFS(Honoraire[TotalHT],Honoraire[ClientId],Personne[[#This Row],[PersonneId]]))","v":0},{"$f":"Personne[[#This Row],[Facture (HT)]]+ROW()/100000","v":2.9579999999999999E-2},{"$f":"_xlfn.CONCAT(Personne[[#This Row],[Adresse]],\" \",Personne[[#This Row],[CodePostal]],\" \",Personne[[#This Row],[Ville]],\" \",Personne[[#This Row],[CodePays]])","v":"   "}]
[null,null,null,null,null,null,null,null,null,null,null,null,null,null,null,null,null,null,null,null,null,null,null,null,null,null,null,null,null,null,{"$f":"IF(PARAMETRES!$B$3=\"SANS\",SUMIFS(Honoraire[TotalHonoraireHT],Honoraire[ClientId],Personne[[#This Row],[PersonneId]]),SUMIFS(Honoraire[TotalHT],Honoraire[ClientId],Personne[[#This Row],[PersonneId]]))","v":0},{"$f":"Personne[[#This Row],[Facture (HT)]]+ROW()/100000","v":2.9600000000000001E-2},{"$f":"_xlfn.CONCAT(Personne[[#This Row],[Adresse]],\" \",Personne[[#This Row],[CodePostal]],\" \",Personne[[#This Row],[Ville]],\" \",Personne[[#This Row],[CodePays]])","v":"   "}]
[null,null,null,null,null,null,null,null,null,null,null,null,null,null,null,null,null,null,null,null,null,null,null,null,null,null,null,null,null,null,{"$f":"IF(PARAMETRES!$B$3=\"SANS\",SUMIFS(Honoraire[TotalHonoraireHT],Honoraire[ClientId],Personne[[#This Row],[PersonneId]]),SUMIFS(Honoraire[TotalHT],Honoraire[ClientId],Personne[[#This Row],[PersonneId]]))","v":0},{"$f":"Personne[[#This Row],[Facture (HT)]]+ROW()/100000","v":2.963E-2},{"$f":"_xlfn.CONCAT(Personne[[#This Row],[Adresse]],\" \",Personne[[#This Row],[CodePostal]],\" \",Personne[[#This Row],[Ville]],\" \",Personne[[#This Row],[CodePays]])","v":"   "}]
[null,null,null,null,null,null,null,null,null,null,null,null,null,null,null,null,null,null,null,null,null,null,null,null,null,null,null,null,null,null,{"$f":"IF(PARAMETRES!$B$3=\"SANS\",SUMIFS(Honoraire[TotalHonoraireHT],Honoraire[ClientId],Personne[[#This Row],[PersonneId]]),SUMIFS(Honoraire[TotalHT],Honoraire[ClientId],Personne[[#This Row],[PersonneId]]))","v":0},{"$f":"Personne[[#This Row],[Facture (HT)]]+ROW()/100000","v":2.964E-2},{"$f":"_xlfn.CONCAT(Personne[[#This Row],[Adresse]],\" \",Personne[[#This Row],[CodePostal]],\" \",Personne[[#This Row],[Ville]],\" \",Personne[[#This Row],[CodePays]])","v":"   "}]
[null,null,null,null,null,null,null,null,null,null,null,null,null,null,null,null,null,null,null,null,null,null,null,null,null,null,null,null,null,null,{"$f":"IF(PARAMETRES!$B$3=\"SANS\",SUMIFS(Honoraire[TotalHonoraireHT],Honoraire[ClientId],Personne[[#This Row],[PersonneId]]),SUMIFS(Honoraire[TotalHT],Honoraire[ClientId],Personne[[#This Row],[PersonneId]]))","v":0},{"$f":"Personne[[#This Row],[Facture (HT)]]+ROW()/100000","v":2.9669999999999998E-2},{"$f":"_xlfn.CONCAT(Personne[[#This Row],[Adresse]],\" \",Personne[[#This Row],[CodePostal]],\" \",Personne[[#This Row],[Ville]],\" \",Personne[[#This Row],[CodePays]])","v":"   "}]
[null,null,null,null,null,null,null,null,null,null,null,null,null,null,null,null,null,null,null,null,null,null,null,null,null,null,null,null,null,null,{"$f":"IF(PARAMETRES!$B$3=\"SANS\",SUMIFS(Honoraire[TotalHonoraireHT],Honoraire[ClientId],Personne[[#This Row],[PersonneId]]),SUMIFS(Honoraire[TotalHT],Honoraire[ClientId],Personne[[#This Row],[PersonneId]]))","v":0},{"$f":"Personne[[#This Row],[Facture (HT)]]+ROW()/100000","v":2.9680000000000002E-2},{"$f":"_xlfn.CONCAT(Personne[[#This Row],[Adresse]],\" \",Personne[[#This Row],[CodePostal]],\" \",Personne[[#This Row],[Ville]],\" \",Personne[[#This Row],[CodePays]])","v":"   "}]
[null,null,null,null,null,null,null,null,null,null,null,null,null,null,null,null,null,null,null,null,null,null,null,null,null,null,null,null,null,null,{"$f":"IF(PARAMETRES!$B$3=\"SANS\",SUMIFS(Honoraire[TotalHonoraireHT],Honoraire[ClientId],Personne[[#This Row],[PersonneId]]),SUMIFS(Honoraire[TotalHT],Honoraire[ClientId],Personne[[#This Row],[PersonneId]]))","v":0},{"$f":"Personne[[#This Row],[Facture (HT)]]+ROW()/100000","v":2.9700000000000001E-2},{"$f":"_xlfn.CONCAT(Personne[[#This Row],[Adresse]],\" \",Personne[[#This Row],[CodePostal]],\" \",Personne[[#This Row],[Ville]],\" \",Personne[[#This Row],[CodePays]])","v":"   "}]
[null,null,null,null,null,null,null,null,null,null,null,null,null,null,null,null,null,null,null,null,null,null,null,null,null,null,null,null,null,null,{"$f":"IF(PARAMETRES!$B$3=\"SANS\",SUMIFS(Honoraire[TotalHonoraireHT],Honoraire[ClientId],Personne[[#This Row],[PersonneId]]),SUMIFS(Honoraire[TotalHT],Honoraire[ClientId],Personne[[#This Row],[PersonneId]]))","v":0},{"$f":"Personne[[#This Row],[Facture (HT)]]+ROW()/100000","v":2.9729999999999999E-2},{"$f":"_xlfn.CONCAT(Personne[[#This Row],[Adresse]],\" \",Personne[[#This Row],[CodePostal]],\" \",Personne[[#This Row],[Ville]],\" \",Personne[[#This Row],[CodePays]])","v":"   "}]
[null,null,null,null,null,null,null,null,null,null,null,null,null,null,null,null,null,null,null,null,null,null,null,null,null,null,null,null,null,null,{"$f":"IF(PARAMETRES!$B$3=\"SANS\",SUMIFS(Honoraire[TotalHonoraireHT],Honoraire[ClientId],Personne[[#This Row],[PersonneId]]),SUMIFS(Honoraire[TotalHT],Honoraire[ClientId],Personne[[#This Row],[PersonneId]]))","v":0},{"$f":"Personne[[#This Row],[Facture (HT)]]+ROW()/100000","v":2.9760000000000002E-2},{"$f":"_xlfn.CONCAT(Personne[[#This Row],[Adresse]],\" \",Personne[[#This Row],[CodePostal]],\" \",Personne[[#This Row],[Ville]],\" \",Personne[[#This Row],[CodePays]])","v":"   "}]
[null,null,null,null,null,null,null,null,null,null,null,null,null,null,null,null,null,null,null,null,null,null,null,null,null,null,null,null,null,null,{"$f":"IF(PARAMETRES!$B$3=\"SANS\",SUMIFS(Honoraire[TotalHonoraireHT],Honoraire[ClientId],Personne[[#This Row],[PersonneId]]),SUMIFS(Honoraire[TotalHT],Honoraire[ClientId],Personne[[#This Row],[PersonneId]]))","v":0},{"$f":"Personne[[#This Row],[Facture (HT)]]+ROW()/100000","v":2.9770000000000001E-2},{"$f":"_xlfn.CONCAT(Personne[[#This Row],[Adresse]],\" \",Personne[[#This Row],[CodePostal]],\" \",Personne[[#This Row],[Ville]],\" \",Personne[[#This Row],[CodePays]])","v":"   "}]
[null,null,null,null,null,null,null,null,null,null,null,null,null,null,null,null,null,null,null,null,null,null,null,null,null,null,null,null,null,null,{"$f":"IF(PARAMETRES!$B$3=\"SANS\",SUMIFS(Honoraire[TotalHonoraireHT],Honoraire[ClientId],Personne[[#This Row],[PersonneId]]),SUMIFS(Honoraire[TotalHT],Honoraire[ClientId],Personne[[#This Row],[PersonneId]]))","v":0},{"$f":"Personne[[#This Row],[Facture (HT)]]+ROW()/100000","v":2.98E-2},{"$f":"_xlfn.CONCAT(Personne[[#This Row],[Adresse]],\" \",Personne[[#This Row],[CodePostal]],\" \",Personne[[#This Row],[Ville]],\" \",Personne[[#This Row],[CodePays]])","v":"   "}]
[null,null,null,null,null,null,null,null,null,null,null,null,null,null,null,null,null,null,null,null,null,null,null,null,null,null,null,null,null,null,{"$f":"IF(PARAMETRES!$B$3=\"SANS\",SUMIFS(Honoraire[TotalHonoraireHT],Honoraire[ClientId],Personne[[#This Row],[PersonneId]]),SUMIFS(Honoraire[TotalHT],Honoraire[ClientId],Personne[[#This Row],[PersonneId]]))","v":0},{"$f":"Personne[[#This Row],[Facture (HT)]]+ROW()/100000","v":2.9829999999999999E-2},{"$f":"_xlfn.CONCAT(Personne[[#This Row],[Adresse]],\" \",Personne[[#This Row],[CodePostal]],\" \",Personne[[#This Row],[Ville]],\" \",Personne[[#This Row],[CodePays]])","v":"   "}]
[null,null,null,null,null,null,null,null,null,null,null,null,null,null,null,null,null,null,null,null,null,null,null,null,null,null,null,null,null,null,{"$f":"IF(PARAMETRES!$B$3=\"SANS\",SUMIFS(Honoraire[TotalHonoraireHT],Honoraire[ClientId],Personne[[#This Row],[PersonneId]]),SUMIFS(Honoraire[TotalHT],Honoraire[ClientId],Personne[[#This Row],[PersonneId]]))","v":0},{"$f":"Personne[[#This Row],[Facture (HT)]]+ROW()/100000","v":2.9850000000000002E-2},{"$f":"_xlfn.CONCAT(Personne[[#This Row],[Adresse]],\" \",Personne[[#This Row],[CodePostal]],\" \",Personne[[#This Row],[Ville]],\" \",Personne[[#This Row],[CodePays]])","v":"   "}]
[null,null,null,null,null,null,null,null,null,null,null,null,null,null,null,null,null,null,null,null,null,null,null,null,null,null,null,null,null,null,{"$f":"IF(PARAMETRES!$B$3=\"SANS\",SUMIFS(Honoraire[TotalHonoraireHT],Honoraire[ClientId],Personne[[#This Row],[PersonneId]]),SUMIFS(Honoraire[TotalHT],Honoraire[ClientId],Personne[[#This Row],[PersonneId]]))","v":0},{"$f":"Personne[[#This Row],[Facture (HT)]]+ROW()/100000","v":2.9860000000000001E-2},{"$f":"_xlfn.CONCAT(Personne[[#This Row],[Adresse]],\" \",Personne[[#This Row],[CodePostal]],\" \",Personne[[#This Row],[Ville]],\" \",Personne[[#This Row],[CodePays]])","v":"   "}]
[null,null,null,null,null,null,null,null,null,null,null,null,null,null,null,null,null,null,null,null,null,null,null,null,null,null,null,null,null,null,{"$f":"IF(PARAMETRES!$B$3=\"SANS\",SUMIFS(Honoraire[TotalHonoraireHT],Honoraire[ClientId],Personne[[#This Row],[PersonneId]]),SUMIFS(Honoraire[TotalHT],Honoraire[ClientId],Personne[[#This Row],[PersonneId]]))","v":0},{"$f":"Personne[[#This Row],[Facture (HT)]]+ROW()/100000","v":2.989E-2},{"$f":"_xlfn.CONCAT(Personne[[#This Row],[Adresse]],\" \",Personne[[#This Row],[CodePostal]],\" \",Personne[[#This Row],[Ville]],\" \",Personne[[#This Row],[CodePays]])","v":"   "}]
[null,null,null,null,null,null,null,null,null,null,null,null,null,null,null,null,null,null,null,null,null,null,null,null,null,null,null,null,null,null,{"$f":"IF(PARAMETRES!$B$3=\"SANS\",SUMIFS(Honoraire[TotalHonoraireHT],Honoraire[ClientId],Personne[[#This Row],[PersonneId]]),SUMIFS(Honoraire[TotalHT],Honoraire[ClientId],Personne[[#This Row],[PersonneId]]))","v":0},{"$f":"Personne[[#This Row],[Facture (HT)]]+ROW()/100000","v":2.9899999999999999E-2},{"$f":"_xlfn.CONCAT(Personne[[#This Row],[Adresse]],\" \",Personne[[#This Row],[CodePostal]],\" \",Personne[[#This Row],[Ville]],\" \",Personne[[#This Row],[CodePays]])","v":"   "}]
[null,null,null,null,null,null,null,null,null,null,null,null,null,null,null,null,null,null,null,null,null,null,null,null,null,null,null,null,null,null,{"$f":"IF(PARAMETRES!$B$3=\"SANS\",SUMIFS(Honoraire[TotalHonoraireHT],Honoraire[ClientId],Personne[[#This Row],[PersonneId]]),SUMIFS(Honoraire[TotalHT],Honoraire[ClientId],Personne[[#This Row],[PersonneId]]))","v":0},{"$f":"Personne[[#This Row],[Facture (HT)]]+ROW()/100000","v":2.9929999999999998E-2},{"$f":"_xlfn.CONCAT(Personne[[#This Row],[Adresse]],\" \",Personne[[#This Row],[CodePostal]],\" \",Personne[[#This Row],[Ville]],\" \",Personne[[#This Row],[CodePays]])","v":"   "}]
[null,null,null,null,null,null,null,null,null,null,null,null,null,null,null,null,null,null,null,null,null,null,null,null,null,null,null,null,null,null,{"$f":"IF(PARAMETRES!$B$3=\"SANS\",SUMIFS(Honoraire[TotalHonoraireHT],Honoraire[ClientId],Personne[[#This Row],[PersonneId]]),SUMIFS(Honoraire[TotalHT],Honoraire[ClientId],Personne[[#This Row],[PersonneId]]))","v":0},{"$f":"Personne[[#This Row],[Facture (HT)]]+ROW()/100000","v":2.9950000000000001E-2},{"$f":"_xlfn.CONCAT(Personne[[#This Row],[Adresse]],\" \",Personne[[#This Row],[CodePostal]],\" \",Personne[[#This Row],[Ville]],\" \",Personne[[#This Row],[CodePays]])","v":"   "}]
[null,null,null,null,null,null,null,null,null,null,null,null,null,null,null,null,null,null,null,null,null,null,null,null,null,null,null,null,null,null,{"$f":"IF(PARAMETRES!$B$3=\"SANS\",SUMIFS(Honoraire[TotalHonoraireHT],Honoraire[ClientId],Personne[[#This Row],[PersonneId]]),SUMIFS(Honoraire[TotalHT],Honoraire[ClientId],Personne[[#This Row],[PersonneId]]))","v":0},{"$f":"Personne[[#This Row],[Facture (HT)]]+ROW()/100000","v":2.998E-2},{"$f":"_xlfn.CONCAT(Personne[[#This Row],[Adresse]],\" \",Personne[[#This Row],[CodePostal]],\" \",Personne[[#This Row],[Ville]],\" \",Personne[[#This Row],[CodePays]])","v":"   "}]
[null,null,null,null,null,null,null,null,null,null,null,null,null,null,null,null,null,null,null,null,null,null,null,null,null,null,null,null,null,null,{"$f":"IF(PARAMETRES!$B$3=\"SANS\",SUMIFS(Honoraire[TotalHonoraireHT],Honoraire[ClientId],Personne[[#This Row],[PersonneId]]),SUMIFS(Honoraire[TotalHT],Honoraire[ClientId],Personne[[#This Row],[PersonneId]]))","v":0},{"$f":"Personne[[#This Row],[Facture (HT)]]+ROW()/100000","v":2.9989999999999999E-2},{"$f":"_xlfn.CONCAT(Personne[[#This Row],[Adresse]],\" \",Personne[[#This Row],[CodePostal]],\" \",Personne[[#This Row],[Ville]],\" \",Personne[[#This Row],[CodePays]])","v":"   "}]
[null,null,null,null,null,null,null,null,null,null,null,null,null,null,null,null,null,null,null,null,null,null,null,null,null,null,null,null,null,null,{"$f":"IF(PARAMETRES!$B$3=\"SANS\",SUMIFS(Honoraire[TotalHonoraireHT],Honoraire[ClientId],Personne[[#This Row],[PersonneId]]),SUMIFS(Honoraire[TotalHT],Honoraire[ClientId],Personne[[#This Row],[PersonneId]]))","v":0},{"$f":"Personne[[#This Row],[Facture (HT)]]+ROW()/100000","v":3.0020000000000002E-2},{"$f":"_xlfn.CONCAT(Personne[[#This Row],[Adresse]],\" \",Personne[[#This Row],[CodePostal]],\" \",Personne[[#This Row],[Ville]],\" \",Personne[[#This Row],[CodePays]])","v":"   "}]
[null,null,null,null,null,null,null,null,null,null,null,null,null,null,null,null,null,null,null,null,null,null,null,null,null,null,null,null,null,null,{"$f":"IF(PARAMETRES!$B$3=\"SANS\",SUMIFS(Honoraire[TotalHonoraireHT],Honoraire[ClientId],Personne[[#This Row],[PersonneId]]),SUMIFS(Honoraire[TotalHT],Honoraire[ClientId],Personne[[#This Row],[PersonneId]]))","v":0},{"$f":"Personne[[#This Row],[Facture (HT)]]+ROW()/100000","v":3.0030000000000001E-2},{"$f":"_xlfn.CONCAT(Personne[[#This Row],[Adresse]],\" \",Personne[[#This Row],[CodePostal]],\" \",Personne[[#This Row],[Ville]],\" \",Personne[[#This Row],[CodePays]])","v":"   "}]
[null,null,null,null,null,null,null,null,null,null,null,null,null,null,null,null,null,null,null,null,null,null,null,null,null,null,null,null,null,null,{"$f":"IF(PARAMETRES!$B$3=\"SANS\",SUMIFS(Honoraire[TotalHonoraireHT],Honoraire[ClientId],Personne[[#This Row],[PersonneId]]),SUMIFS(Honoraire[TotalHT],Honoraire[ClientId],Personne[[#This Row],[PersonneId]]))","v":0},{"$f":"Personne[[#This Row],[Facture (HT)]]+ROW()/100000","v":3.005E-2},{"$f":"_xlfn.CONCAT(Personne[[#This Row],[Adresse]],\" \",Personne[[#This Row],[CodePostal]],\" \",Personne[[#This Row],[Ville]],\" \",Personne[[#This Row],[CodePays]])","v":"   "}]
[null,null,null,null,null,null,null,null,null,null,null,null,null,null,null,null,null,null,null,null,null,null,null,null,null,null,null,null,null,null,{"$f":"IF(PARAMETRES!$B$3=\"SANS\",SUMIFS(Honoraire[TotalHonoraireHT],Honoraire[ClientId],Personne[[#This Row],[PersonneId]]),SUMIFS(Honoraire[TotalHT],Honoraire[ClientId],Personne[[#This Row],[PersonneId]]))","v":0},{"$f":"Personne[[#This Row],[Facture (HT)]]+ROW()/100000","v":3.0079999999999999E-2},{"$f":"_xlfn.CONCAT(Personne[[#This Row],[Adresse]],\" \",Personne[[#This Row],[CodePostal]],\" \",Personne[[#This Row],[Ville]],\" \",Personne[[#This Row],[CodePays]])","v":"   "}]
[null,null,null,null,null,null,null,null,null,null,null,null,null,null,null,null,null,null,null,null,null,null,null,null,null,null,null,null,null,null,{"$f":"IF(PARAMETRES!$B$3=\"SANS\",SUMIFS(Honoraire[TotalHonoraireHT],Honoraire[ClientId],Personne[[#This Row],[PersonneId]]),SUMIFS(Honoraire[TotalHT],Honoraire[ClientId],Personne[[#This Row],[PersonneId]]))","v":0},{"$f":"Personne[[#This Row],[Facture (HT)]]+ROW()/100000","v":3.0110000000000001E-2},{"$f":"_xlfn.CONCAT(Personne[[#This Row],[Adresse]],\" \",Personne[[#This Row],[CodePostal]],\" \",Personne[[#This Row],[Ville]],\" \",Personne[[#This Row],[CodePays]])","v":"   "}]
[null,null,null,null,null,null,null,null,null,null,null,null,null,null,null,null,null,null,null,null,null,null,null,null,null,null,null,null,null,null,{"$f":"IF(PARAMETRES!$B$3=\"SANS\",SUMIFS(Honoraire[TotalHonoraireHT],Honoraire[ClientId],Personne[[#This Row],[PersonneId]]),SUMIFS(Honoraire[TotalHT],Honoraire[ClientId],Personne[[#This Row],[PersonneId]]))","v":0},{"$f":"Personne[[#This Row],[Facture (HT)]]+ROW()/100000","v":3.0120000000000001E-2},{"$f":"_xlfn.CONCAT(Personne[[#This Row],[Adresse]],\" \",Personne[[#This Row],[CodePostal]],\" \",Personne[[#This Row],[Ville]],\" \",Personne[[#This Row],[CodePays]])","v":"   "}]
[null,null,null,null,null,null,null,null,null,null,null,null,null,null,null,null,null,null,null,null,null,null,null,null,null,null,null,null,null,null,{"$f":"IF(PARAMETRES!$B$3=\"SANS\",SUMIFS(Honoraire[TotalHonoraireHT],Honoraire[ClientId],Personne[[#This Row],[PersonneId]]),SUMIFS(Honoraire[TotalHT],Honoraire[ClientId],Personne[[#This Row],[PersonneId]]))","v":0},{"$f":"Personne[[#This Row],[Facture (HT)]]+ROW()/100000","v":3.015E-2},{"$f":"_xlfn.CONCAT(Personne[[#This Row],[Adresse]],\" \",Personne[[#This Row],[CodePostal]],\" \",Personne[[#This Row],[Ville]],\" \",Personne[[#This Row],[CodePays]])","v":"   "}]
[null,null,null,null,null,null,null,null,null,null,null,null,null,null,null,null,null,null,null,null,null,null,null,null,null,null,null,null,null,null,{"$f":"IF(PARAMETRES!$B$3=\"SANS\",SUMIFS(Honoraire[TotalHonoraireHT],Honoraire[ClientId],Personne[[#This Row],[PersonneId]]),SUMIFS(Honoraire[TotalHT],Honoraire[ClientId],Personne[[#This Row],[PersonneId]]))","v":0},{"$f":"Personne[[#This Row],[Facture (HT)]]+ROW()/100000","v":3.0179999999999998E-2},{"$f":"_xlfn.CONCAT(Personne[[#This Row],[Adresse]],\" \",Personne[[#This Row],[CodePostal]],\" \",Personne[[#This Row],[Ville]],\" \",Personne[[#This Row],[CodePays]])","v":"   "}]
[null,null,null,null,null,null,null,null,null,null,null,null,null,null,null,null,null,null,null,null,null,null,null,null,null,null,null,null,null,null,{"$f":"IF(PARAMETRES!$B$3=\"SANS\",SUMIFS(Honoraire[TotalHonoraireHT],Honoraire[ClientId],Personne[[#This Row],[PersonneId]]),SUMIFS(Honoraire[TotalHT],Honoraire[ClientId],Personne[[#This Row],[PersonneId]]))","v":0},{"$f":"Personne[[#This Row],[Facture (HT)]]+ROW()/100000","v":3.0200000000000001E-2},{"$f":"_xlfn.CONCAT(Personne[[#This Row],[Adresse]],\" \",Personne[[#This Row],[CodePostal]],\" \",Personne[[#This Row],[Ville]],\" \",Personne[[#This Row],[CodePays]])","v":"   "}]
[null,null,null,null,null,null,null,null,null,null,null,null,null,null,null,null,null,null,null,null,null,null,null,null,null,null,null,null,null,null,{"$f":"IF(PARAMETRES!$B$3=\"SANS\",SUMIFS(Honoraire[TotalHonoraireHT],Honoraire[ClientId],Personne[[#This Row],[PersonneId]]),SUMIFS(Honoraire[TotalHT],Honoraire[ClientId],Personne[[#This Row],[PersonneId]]))","v":0},{"$f":"Personne[[#This Row],[Facture (HT)]]+ROW()/100000","v":3.0210000000000001E-2},{"$f":"_xlfn.CONCAT(Personne[[#This Row],[Adresse]],\" \",Personne[[#This Row],[CodePostal]],\" \",Personne[[#This Row],[Ville]],\" \",Personne[[#This Row],[CodePays]])","v":"   "}]
[null,null,null,null,null,null,null,null,null,null,null,null,null,null,null,null,null,null,null,null,null,null,null,null,null,null,null,null,null,null,{"$f":"IF(PARAMETRES!$B$3=\"SANS\",SUMIFS(Honoraire[TotalHonoraireHT],Honoraire[ClientId],Personne[[#This Row],[PersonneId]]),SUMIFS(Honoraire[TotalHT],Honoraire[ClientId],Personne[[#This Row],[PersonneId]]))","v":0},{"$f":"Personne[[#This Row],[Facture (HT)]]+ROW()/100000","v":3.024E-2},{"$f":"_xlfn.CONCAT(Personne[[#This Row],[Adresse]],\" \",Personne[[#This Row],[CodePostal]],\" \",Personne[[#This Row],[Ville]],\" \",Personne[[#This Row],[CodePays]])","v":"   "}]
[null,null,null,null,null,null,null,null,null,null,null,null,null,null,null,null,null,null,null,null,null,null,null,null,null,null,null,null,null,null,{"$f":"IF(PARAMETRES!$B$3=\"SANS\",SUMIFS(Honoraire[TotalHonoraireHT],Honoraire[ClientId],Personne[[#This Row],[PersonneId]]),SUMIFS(Honoraire[TotalHT],Honoraire[ClientId],Personne[[#This Row],[PersonneId]]))","v":0},{"$f":"Personne[[#This Row],[Facture (HT)]]+ROW()/100000","v":3.0249999999999999E-2},{"$f":"_xlfn.CONCAT(Personne[[#This Row],[Adresse]],\" \",Personne[[#This Row],[CodePostal]],\" \",Personne[[#This Row],[Ville]],\" \",Personne[[#This Row],[CodePays]])","v":"   "}]
[null,null,null,null,null,null,null,null,null,null,null,null,null,null,null,null,null,null,null,null,null,null,null,null,null,null,null,null,null,null,{"$f":"IF(PARAMETRES!$B$3=\"SANS\",SUMIFS(Honoraire[TotalHonoraireHT],Honoraire[ClientId],Personne[[#This Row],[PersonneId]]),SUMIFS(Honoraire[TotalHT],Honoraire[ClientId],Personne[[#This Row],[PersonneId]]))","v":0},{"$f":"Personne[[#This Row],[Facture (HT)]]+ROW()/100000","v":3.0280000000000001E-2},{"$f":"_xlfn.CONCAT(Personne[[#This Row],[Adresse]],\" \",Personne[[#This Row],[CodePostal]],\" \",Personne[[#This Row],[Ville]],\" \",Personne[[#This Row],[CodePays]])","v":"   "}]
[null,null,null,null,null,null,null,null,null,null,null,null,null,null,null,null,null,null,null,null,null,null,null,null,null,null,null,null,null,null,{"$f":"IF(PARAMETRES!$B$3=\"SANS\",SUMIFS(Honoraire[TotalHonoraireHT],Honoraire[ClientId],Personne[[#This Row],[PersonneId]]),SUMIFS(Honoraire[TotalHT],Honoraire[ClientId],Personne[[#This Row],[PersonneId]]))","v":0},{"$f":"Personne[[#This Row],[Facture (HT)]]+ROW()/100000","v":3.0300000000000001E-2},{"$f":"_xlfn.CONCAT(Personne[[#This Row],[Adresse]],\" \",Personne[[#This Row],[CodePostal]],\" \",Personne[[#This Row],[Ville]],\" \",Personne[[#This Row],[CodePays]])","v":"   "}]
[null,null,null,null,null,null,null,null,null,null,null,null,null,null,null,null,null,null,null,null,null,null,null,null,null,null,null,null,null,null,{"$f":"IF(PARAMETRES!$B$3=\"SANS\",SUMIFS(Honoraire[TotalHonoraireHT],Honoraire[ClientId],Personne[[#This Row],[PersonneId]]),SUMIFS(Honoraire[TotalHT],Honoraire[ClientId],Personne[[#This Row],[PersonneId]]))","v":0},{"$f":"Personne[[#This Row],[Facture (HT)]]+ROW()/100000","v":3.0329999999999999E-2},{"$f":"_xlfn.CONCAT(Personne[[#This Row],[Adresse]],\" \",Personne[[#This Row],[CodePostal]],\" \",Personne[[#This Row],[Ville]],\" \",Personne[[#This Row],[CodePays]])","v":"   "}]
[null,null,null,null,null,null,null,null,null,null,null,null,null,null,null,null,null,null,null,null,null,null,null,null,null,null,null,null,null,null,{"$f":"IF(PARAMETRES!$B$3=\"SANS\",SUMIFS(Honoraire[TotalHonoraireHT],Honoraire[ClientId],Personne[[#This Row],[PersonneId]]),SUMIFS(Honoraire[TotalHT],Honoraire[ClientId],Personne[[#This Row],[PersonneId]]))","v":0},{"$f":"Personne[[#This Row],[Facture (HT)]]+ROW()/100000","v":3.0339999999999999E-2},{"$f":"_xlfn.CONCAT(Personne[[#This Row],[Adresse]],\" \",Personne[[#This Row],[CodePostal]],\" \",Personne[[#This Row],[Ville]],\" \",Personne[[#This Row],[CodePays]])","v":"   "}]
[null,null,null,null,null,null,null,null,null,null,null,null,null,null,null,null,null,null,null,null,null,null,null,null,null,null,null,null,null,null,{"$f":"IF(PARAMETRES!$B$3=\"SANS\",SUMIFS(Honoraire[TotalHonoraireHT],Honoraire[ClientId],Personne[[#This Row],[PersonneId]]),SUMIFS(Honoraire[TotalHT],Honoraire[ClientId],Personne[[#This Row],[PersonneId]]))","v":0},{"$f":"Personne[[#This Row],[Facture (HT)]]+ROW()/100000","v":3.0370000000000001E-2},{"$f":"_xlfn.CONCAT(Personne[[#This Row],[Adresse]],\" \",Personne[[#This Row],[CodePostal]],\" \",Personne[[#This Row],[Ville]],\" \",Personne[[#This Row],[CodePays]])","v":"   "}]
[null,null,null,null,null,null,null,null,null,null,null,null,null,null,null,null,null,null,null,null,null,null,null,null,null,null,null,null,null,null,{"$f":"IF(PARAMETRES!$B$3=\"SANS\",SUMIFS(Honoraire[TotalHonoraireHT],Honoraire[ClientId],Personne[[#This Row],[PersonneId]]),SUMIFS(Honoraire[TotalHT],Honoraire[ClientId],Personne[[#This Row],[PersonneId]]))","v":0},{"$f":"Personne[[#This Row],[Facture (HT)]]+ROW()/100000","v":3.0380000000000001E-2},{"$f":"_xlfn.CONCAT(Personne[[#This Row],[Adresse]],\" \",Personne[[#This Row],[CodePostal]],\" \",Personne[[#This Row],[Ville]],\" \",Personne[[#This Row],[CodePays]])","v":"   "}]
[null,null,null,null,null,null,null,null,null,null,null,null,null,null,null,null,null,null,null,null,null,null,null,null,null,null,null,null,null,null,{"$f":"IF(PARAMETRES!$B$3=\"SANS\",SUMIFS(Honoraire[TotalHonoraireHT],Honoraire[ClientId],Personne[[#This Row],[PersonneId]]),SUMIFS(Honoraire[TotalHT],Honoraire[ClientId],Personne[[#This Row],[PersonneId]]))","v":0},{"$f":"Personne[[#This Row],[Facture (HT)]]+ROW()/100000","v":3.04E-2},{"$f":"_xlfn.CONCAT(Personne[[#This Row],[Adresse]],\" \",Personne[[#This Row],[CodePostal]],\" \",Personne[[#This Row],[Ville]],\" \",Personne[[#This Row],[CodePays]])","v":"   "}]
[null,null,null,null,null,null,null,null,null,null,null,null,null,null,null,null,null,null,null,null,null,null,null,null,null,null,null,null,null,null,{"$f":"IF(PARAMETRES!$B$3=\"SANS\",SUMIFS(Honoraire[TotalHonoraireHT],Honoraire[ClientId],Personne[[#This Row],[PersonneId]]),SUMIFS(Honoraire[TotalHT],Honoraire[ClientId],Personne[[#This Row],[PersonneId]]))","v":0},{"$f":"Personne[[#This Row],[Facture (HT)]]+ROW()/100000","v":3.0429999999999999E-2},{"$f":"_xlfn.CONCAT(Personne[[#This Row],[Adresse]],\" \",Personne[[#This Row],[CodePostal]],\" \",Personne[[#This Row],[Ville]],\" \",Personne[[#This Row],[CodePays]])","v":"   "}]
[null,null,null,null,null,null,null,null,null,null,null,null,null,null,null,null,null,null,null,null,null,null,null,null,null,null,null,null,null,null,{"$f":"IF(PARAMETRES!$B$3=\"SANS\",SUMIFS(Honoraire[TotalHonoraireHT],Honoraire[ClientId],Personne[[#This Row],[PersonneId]]),SUMIFS(Honoraire[TotalHT],Honoraire[ClientId],Personne[[#This Row],[PersonneId]]))","v":0},{"$f":"Personne[[#This Row],[Facture (HT)]]+ROW()/100000","v":3.0460000000000001E-2},{"$f":"_xlfn.CONCAT(Personne[[#This Row],[Adresse]],\" \",Personne[[#This Row],[CodePostal]],\" \",Personne[[#This Row],[Ville]],\" \",Personne[[#This Row],[CodePays]])","v":"   "}]
[null,null,null,null,null,null,null,null,null,null,null,null,null,null,null,null,null,null,null,null,null,null,null,null,null,null,null,null,null,null,{"$f":"IF(PARAMETRES!$B$3=\"SANS\",SUMIFS(Honoraire[TotalHonoraireHT],Honoraire[ClientId],Personne[[#This Row],[PersonneId]]),SUMIFS(Honoraire[TotalHT],Honoraire[ClientId],Personne[[#This Row],[PersonneId]]))","v":0},{"$f":"Personne[[#This Row],[Facture (HT)]]+ROW()/100000","v":3.0470000000000001E-2},{"$f":"_xlfn.CONCAT(Personne[[#This Row],[Adresse]],\" \",Personne[[#This Row],[CodePostal]],\" \",Personne[[#This Row],[Ville]],\" \",Personne[[#This Row],[CodePays]])","v":"   "}]
[null,null,null,null,null,null,null,null,null,null,null,null,null,null,null,null,null,null,null,null,null,null,null,null,null,null,null,null,null,null,{"$f":"IF(PARAMETRES!$B$3=\"SANS\",SUMIFS(Honoraire[TotalHonoraireHT],Honoraire[ClientId],Personne[[#This Row],[PersonneId]]),SUMIFS(Honoraire[TotalHT],Honoraire[ClientId],Personne[[#This Row],[PersonneId]]))","v":0},{"$f":"Personne[[#This Row],[Facture (HT)]]+ROW()/100000","v":3.0499999999999999E-2},{"$f":"_xlfn.CONCAT(Personne[[#This Row],[Adresse]],\" \",Personne[[#This Row],[CodePostal]],\" \",Personne[[#This Row],[Ville]],\" \",Personne[[#This Row],[CodePays]])","v":"   "}]
[null,null,null,null,null,null,null,null,null,null,null,null,null,null,null,null,null,null,null,null,null,null,null,null,null,null,null,null,null,null,{"$f":"IF(PARAMETRES!$B$3=\"SANS\",SUMIFS(Honoraire[TotalHonoraireHT],Honoraire[ClientId],Personne[[#This Row],[PersonneId]]),SUMIFS(Honoraire[TotalHT],Honoraire[ClientId],Personne[[#This Row],[PersonneId]]))","v":0},{"$f":"Personne[[#This Row],[Facture (HT)]]+ROW()/100000","v":3.0509999999999999E-2},{"$f":"_xlfn.CONCAT(Personne[[#This Row],[Adresse]],\" \",Personne[[#This Row],[CodePostal]],\" \",Personne[[#This Row],[Ville]],\" \",Personne[[#This Row],[CodePays]])","v":"   "}]
[null,null,null,null,null,null,null,null,null,null,null,null,null,null,null,null,null,null,null,null,null,null,null,null,null,null,null,null,null,null,{"$f":"IF(PARAMETRES!$B$3=\"SANS\",SUMIFS(Honoraire[TotalHonoraireHT],Honoraire[ClientId],Personne[[#This Row],[PersonneId]]),SUMIFS(Honoraire[TotalHT],Honoraire[ClientId],Personne[[#This Row],[PersonneId]]))","v":0},{"$f":"Personne[[#This Row],[Facture (HT)]]+ROW()/100000","v":3.0530000000000002E-2},{"$f":"_xlfn.CONCAT(Personne[[#This Row],[Adresse]],\" \",Personne[[#This Row],[CodePostal]],\" \",Personne[[#This Row],[Ville]],\" \",Personne[[#This Row],[CodePays]])","v":"   "}]
[null,null,null,null,null,null,null,null,null,null,null,null,null,null,null,null,null,null,null,null,null,null,null,null,null,null,null,null,null,null,{"$f":"IF(PARAMETRES!$B$3=\"SANS\",SUMIFS(Honoraire[TotalHonoraireHT],Honoraire[ClientId],Personne[[#This Row],[PersonneId]]),SUMIFS(Honoraire[TotalHT],Honoraire[ClientId],Personne[[#This Row],[PersonneId]]))","v":0},{"$f":"Personne[[#This Row],[Facture (HT)]]+ROW()/100000","v":3.056E-2},{"$f":"_xlfn.CONCAT(Personne[[#This Row],[Adresse]],\" \",Personne[[#This Row],[CodePostal]],\" \",Personne[[#This Row],[Ville]],\" \",Personne[[#This Row],[CodePays]])","v":"   "}]
[null,null,null,null,null,null,null,null,null,null,null,null,null,null,null,null,null,null,null,null,null,null,null,null,null,null,null,null,null,null,{"$f":"IF(PARAMETRES!$B$3=\"SANS\",SUMIFS(Honoraire[TotalHonoraireHT],Honoraire[ClientId],Personne[[#This Row],[PersonneId]]),SUMIFS(Honoraire[TotalHT],Honoraire[ClientId],Personne[[#This Row],[PersonneId]]))","v":0},{"$f":"Personne[[#This Row],[Facture (HT)]]+ROW()/100000","v":3.0589999999999999E-2},{"$f":"_xlfn.CONCAT(Personne[[#This Row],[Adresse]],\" \",Personne[[#This Row],[CodePostal]],\" \",Personne[[#This Row],[Ville]],\" \",Personne[[#This Row],[CodePays]])","v":"   "}]
[null,null,null,null,null,null,null,null,null,null,null,null,null,null,null,null,null,null,null,null,null,null,null,null,null,null,null,null,null,null,{"$f":"IF(PARAMETRES!$B$3=\"SANS\",SUMIFS(Honoraire[TotalHonoraireHT],Honoraire[ClientId],Personne[[#This Row],[PersonneId]]),SUMIFS(Honoraire[TotalHT],Honoraire[ClientId],Personne[[#This Row],[PersonneId]]))","v":0},{"$f":"Personne[[#This Row],[Facture (HT)]]+ROW()/100000","v":3.0599999999999999E-2},{"$f":"_xlfn.CONCAT(Personne[[#This Row],[Adresse]],\" \",Personne[[#This Row],[CodePostal]],\" \",Personne[[#This Row],[Ville]],\" \",Personne[[#This Row],[CodePays]])","v":"   "}]
[null,null,null,null,null,null,null,null,null,null,null,null,null,null,null,null,null,null,null,null,null,null,null,null,null,null,null,null,null,null,{"$f":"IF(PARAMETRES!$B$3=\"SANS\",SUMIFS(Honoraire[TotalHonoraireHT],Honoraire[ClientId],Personne[[#This Row],[PersonneId]]),SUMIFS(Honoraire[TotalHT],Honoraire[ClientId],Personne[[#This Row],[PersonneId]]))","v":0},{"$f":"Personne[[#This Row],[Facture (HT)]]+ROW()/100000","v":3.0630000000000001E-2},{"$f":"_xlfn.CONCAT(Personne[[#This Row],[Adresse]],\" \",Personne[[#This Row],[CodePostal]],\" \",Personne[[#This Row],[Ville]],\" \",Personne[[#This Row],[CodePays]])","v":"   "}]
[null,null,null,null,null,null,null,null,null,null,null,null,null,null,null,null,null,null,null,null,null,null,null,null,null,null,null,null,null,null,{"$f":"IF(PARAMETRES!$B$3=\"SANS\",SUMIFS(Honoraire[TotalHonoraireHT],Honoraire[ClientId],Personne[[#This Row],[PersonneId]]),SUMIFS(Honoraire[TotalHT],Honoraire[ClientId],Personne[[#This Row],[PersonneId]]))","v":0},{"$f":"Personne[[#This Row],[Facture (HT)]]+ROW()/100000","v":3.065E-2},{"$f":"_xlfn.CONCAT(Personne[[#This Row],[Adresse]],\" \",Personne[[#This Row],[CodePostal]],\" \",Personne[[#This Row],[Ville]],\" \",Personne[[#This Row],[CodePays]])","v":"   "}]
[null,null,null,null,null,null,null,null,null,null,null,null,null,null,null,null,null,null,null,null,null,null,null,null,null,null,null,null,null,null,{"$f":"IF(PARAMETRES!$B$3=\"SANS\",SUMIFS(Honoraire[TotalHonoraireHT],Honoraire[ClientId],Personne[[#This Row],[PersonneId]]),SUMIFS(Honoraire[TotalHT],Honoraire[ClientId],Personne[[#This Row],[PersonneId]]))","v":0},{"$f":"Personne[[#This Row],[Facture (HT)]]+ROW()/100000","v":3.0679999999999999E-2},{"$f":"_xlfn.CONCAT(Personne[[#This Row],[Adresse]],\" \",Personne[[#This Row],[CodePostal]],\" \",Personne[[#This Row],[Ville]],\" \",Personne[[#This Row],[CodePays]])","v":"   "}]
[null,null,null,null,null,null,null,null,null,null,null,null,null,null,null,null,null,null,null,null,null,null,null,null,null,null,null,null,null,null,{"$f":"IF(PARAMETRES!$B$3=\"SANS\",SUMIFS(Honoraire[TotalHonoraireHT],Honoraire[ClientId],Personne[[#This Row],[PersonneId]]),SUMIFS(Honoraire[TotalHT],Honoraire[ClientId],Personne[[#This Row],[PersonneId]]))","v":0},{"$f":"Personne[[#This Row],[Facture (HT)]]+ROW()/100000","v":3.0689999999999999E-2},{"$f":"_xlfn.CONCAT(Personne[[#This Row],[Adresse]],\" \",Personne[[#This Row],[CodePostal]],\" \",Personne[[#This Row],[Ville]],\" \",Personne[[#This Row],[CodePays]])","v":"   "}]
[null,null,null,null,null,null,null,null,null,null,null,null,null,null,null,null,null,null,null,null,null,null,null,null,null,null,null,null,null,null,{"$f":"IF(PARAMETRES!$B$3=\"SANS\",SUMIFS(Honoraire[TotalHonoraireHT],Honoraire[ClientId],Personne[[#This Row],[PersonneId]]),SUMIFS(Honoraire[TotalHT],Honoraire[ClientId],Personne[[#This Row],[PersonneId]]))","v":0},{"$f":"Personne[[#This Row],[Facture (HT)]]+ROW()/100000","v":3.0720000000000001E-2},{"$f":"_xlfn.CONCAT(Personne[[#This Row],[Adresse]],\" \",Personne[[#This Row],[CodePostal]],\" \",Personne[[#This Row],[Ville]],\" \",Personne[[#This Row],[CodePays]])","v":"   "}]
[null,null,null,null,null,null,null,null,null,null,null,null,null,null,null,null,null,null,null,null,null,null,null,null,null,null,null,null,null,null,{"$f":"IF(PARAMETRES!$B$3=\"SANS\",SUMIFS(Honoraire[TotalHonoraireHT],Honoraire[ClientId],Personne[[#This Row],[PersonneId]]),SUMIFS(Honoraire[TotalHT],Honoraire[ClientId],Personne[[#This Row],[PersonneId]]))","v":0},{"$f":"Personne[[#This Row],[Facture (HT)]]+ROW()/100000","v":3.073E-2},{"$f":"_xlfn.CONCAT(Personne[[#This Row],[Adresse]],\" \",Personne[[#This Row],[CodePostal]],\" \",Personne[[#This Row],[Ville]],\" \",Personne[[#This Row],[CodePays]])","v":"   "}]
[null,null,null,null,null,null,null,null,null,null,null,null,null,null,null,null,null,null,null,null,null,null,null,null,null,null,null,null,null,null,{"$f":"IF(PARAMETRES!$B$3=\"SANS\",SUMIFS(Honoraire[TotalHonoraireHT],Honoraire[ClientId],Personne[[#This Row],[PersonneId]]),SUMIFS(Honoraire[TotalHT],Honoraire[ClientId],Personne[[#This Row],[PersonneId]]))","v":0},{"$f":"Personne[[#This Row],[Facture (HT)]]+ROW()/100000","v":3.0759999999999999E-2},{"$f":"_xlfn.CONCAT(Personne[[#This Row],[Adresse]],\" \",Personne[[#This Row],[CodePostal]],\" \",Personne[[#This Row],[Ville]],\" \",Personne[[#This Row],[CodePays]])","v":"   "}]
[null,null,null,null,null,null,null,null,null,null,null,null,null,null,null,null,null,null,null,null,null,null,null,null,null,null,null,null,null,null,{"$f":"IF(PARAMETRES!$B$3=\"SANS\",SUMIFS(Honoraire[TotalHonoraireHT],Honoraire[ClientId],Personne[[#This Row],[PersonneId]]),SUMIFS(Honoraire[TotalHT],Honoraire[ClientId],Personne[[#This Row],[PersonneId]]))","v":0},{"$f":"Personne[[#This Row],[Facture (HT)]]+ROW()/100000","v":3.0779999999999998E-2},{"$f":"_xlfn.CONCAT(Personne[[#This Row],[Adresse]],\" \",Personne[[#This Row],[CodePostal]],\" \",Personne[[#This Row],[Ville]],\" \",Personne[[#This Row],[CodePays]])","v":"   "}]
[null,null,null,null,null,null,null,null,null,null,null,null,null,null,null,null,null,null,null,null,null,null,null,null,null,null,null,null,null,null,{"$f":"IF(PARAMETRES!$B$3=\"SANS\",SUMIFS(Honoraire[TotalHonoraireHT],Honoraire[ClientId],Personne[[#This Row],[PersonneId]]),SUMIFS(Honoraire[TotalHT],Honoraire[ClientId],Personne[[#This Row],[PersonneId]]))","v":0},{"$f":"Personne[[#This Row],[Facture (HT)]]+ROW()/100000","v":3.0810000000000001E-2},{"$f":"_xlfn.CONCAT(Personne[[#This Row],[Adresse]],\" \",Personne[[#This Row],[CodePostal]],\" \",Personne[[#This Row],[Ville]],\" \",Personne[[#This Row],[CodePays]])","v":"   "}]
[null,null,null,null,null,null,null,null,null,null,null,null,null,null,null,null,null,null,null,null,null,null,null,null,null,null,null,null,null,null,{"$f":"IF(PARAMETRES!$B$3=\"SANS\",SUMIFS(Honoraire[TotalHonoraireHT],Honoraire[ClientId],Personne[[#This Row],[PersonneId]]),SUMIFS(Honoraire[TotalHT],Honoraire[ClientId],Personne[[#This Row],[PersonneId]]))","v":0},{"$f":"Personne[[#This Row],[Facture (HT)]]+ROW()/100000","v":3.082E-2},{"$f":"_xlfn.CONCAT(Personne[[#This Row],[Adresse]],\" \",Personne[[#This Row],[CodePostal]],\" \",Personne[[#This Row],[Ville]],\" \",Personne[[#This Row],[CodePays]])","v":"   "}]
[null,null,null,null,null,null,null,null,null,null,null,null,null,null,null,null,null,null,null,null,null,null,null,null,null,null,null,null,null,null,{"$f":"IF(PARAMETRES!$B$3=\"SANS\",SUMIFS(Honoraire[TotalHonoraireHT],Honoraire[ClientId],Personne[[#This Row],[PersonneId]]),SUMIFS(Honoraire[TotalHT],Honoraire[ClientId],Personne[[#This Row],[PersonneId]]))","v":0},{"$f":"Personne[[#This Row],[Facture (HT)]]+ROW()/100000","v":3.0849999999999999E-2},{"$f":"_xlfn.CONCAT(Personne[[#This Row],[Adresse]],\" \",Personne[[#This Row],[CodePostal]],\" \",Personne[[#This Row],[Ville]],\" \",Personne[[#This Row],[CodePays]])","v":"   "}]
[null,null,null,null,null,null,null,null,null,null,null,null,null,null,null,null,null,null,null,null,null,null,null,null,null,null,null,null,null,null,{"$f":"IF(PARAMETRES!$B$3=\"SANS\",SUMIFS(Honoraire[TotalHonoraireHT],Honoraire[ClientId],Personne[[#This Row],[PersonneId]]),SUMIFS(Honoraire[TotalHT],Honoraire[ClientId],Personne[[#This Row],[PersonneId]]))","v":0},{"$f":"Personne[[#This Row],[Facture (HT)]]+ROW()/100000","v":3.0859999999999999E-2},{"$f":"_xlfn.CONCAT(Personne[[#This Row],[Adresse]],\" \",Personne[[#This Row],[CodePostal]],\" \",Personne[[#This Row],[Ville]],\" \",Personne[[#This Row],[CodePays]])","v":"   "}]
[null,null,null,null,null,null,null,null,null,null,null,null,null,null,null,null,null,null,null,null,null,null,null,null,null,null,null,null,null,null,{"$f":"IF(PARAMETRES!$B$3=\"SANS\",SUMIFS(Honoraire[TotalHonoraireHT],Honoraire[ClientId],Personne[[#This Row],[PersonneId]]),SUMIFS(Honoraire[TotalHT],Honoraire[ClientId],Personne[[#This Row],[PersonneId]]))","v":0},{"$f":"Personne[[#This Row],[Facture (HT)]]+ROW()/100000","v":3.0880000000000001E-2},{"$f":"_xlfn.CONCAT(Personne[[#This Row],[Adresse]],\" \",Personne[[#This Row],[CodePostal]],\" \",Personne[[#This Row],[Ville]],\" \",Personne[[#This Row],[CodePays]])","v":"   "}]
[null,null,null,null,null,null,null,null,null,null,null,null,null,null,null,null,null,null,null,null,null,null,null,null,null,null,null,null,null,null,{"$f":"IF(PARAMETRES!$B$3=\"SANS\",SUMIFS(Honoraire[TotalHonoraireHT],Honoraire[ClientId],Personne[[#This Row],[PersonneId]]),SUMIFS(Honoraire[TotalHT],Honoraire[ClientId],Personne[[#This Row],[PersonneId]]))","v":0},{"$f":"Personne[[#This Row],[Facture (HT)]]+ROW()/100000","v":3.091E-2},{"$f":"_xlfn.CONCAT(Personne[[#This Row],[Adresse]],\" \",Personne[[#This Row],[CodePostal]],\" \",Personne[[#This Row],[Ville]],\" \",Personne[[#This Row],[CodePays]])","v":"   "}]
[null,null,null,null,null,null,null,null,null,null,null,null,null,null,null,null,null,null,null,null,null,null,null,null,null,null,null,null,null,null,{"$f":"IF(PARAMETRES!$B$3=\"SANS\",SUMIFS(Honoraire[TotalHonoraireHT],Honoraire[ClientId],Personne[[#This Row],[PersonneId]]),SUMIFS(Honoraire[TotalHT],Honoraire[ClientId],Personne[[#This Row],[PersonneId]]))","v":0},{"$f":"Personne[[#This Row],[Facture (HT)]]+ROW()/100000","v":3.0939999999999999E-2},{"$f":"_xlfn.CONCAT(Personne[[#This Row],[Adresse]],\" \",Personne[[#This Row],[CodePostal]],\" \",Personne[[#This Row],[Ville]],\" \",Personne[[#This Row],[CodePays]])","v":"   "}]
[null,null,null,null,null,null,null,null,null,null,null,null,null,null,null,null,null,null,null,null,null,null,null,null,null,null,null,null,null,null,{"$f":"IF(PARAMETRES!$B$3=\"SANS\",SUMIFS(Honoraire[TotalHonoraireHT],Honoraire[ClientId],Personne[[#This Row],[PersonneId]]),SUMIFS(Honoraire[TotalHT],Honoraire[ClientId],Personne[[#This Row],[PersonneId]]))","v":0},{"$f":"Personne[[#This Row],[Facture (HT)]]+ROW()/100000","v":3.0949999999999998E-2},{"$f":"_xlfn.CONCAT(Personne[[#This Row],[Adresse]],\" \",Personne[[#This Row],[CodePostal]],\" \",Personne[[#This Row],[Ville]],\" \",Personne[[#This Row],[CodePays]])","v":"   "}]
[null,null,null,null,null,null,null,null,null,null,null,null,null,null,null,null,null,null,null,null,null,null,null,null,null,null,null,null,null,null,{"$f":"IF(PARAMETRES!$B$3=\"SANS\",SUMIFS(Honoraire[TotalHonoraireHT],Honoraire[ClientId],Personne[[#This Row],[PersonneId]]),SUMIFS(Honoraire[TotalHT],Honoraire[ClientId],Personne[[#This Row],[PersonneId]]))","v":0},{"$f":"Personne[[#This Row],[Facture (HT)]]+ROW()/100000","v":3.0980000000000001E-2},{"$f":"_xlfn.CONCAT(Personne[[#This Row],[Adresse]],\" \",Personne[[#This Row],[CodePostal]],\" \",Personne[[#This Row],[Ville]],\" \",Personne[[#This Row],[CodePays]])","v":"   "}]
[null,null,null,null,null,null,null,null,null,null,null,null,null,null,null,null,null,null,null,null,null,null,null,null,null,null,null,null,null,null,{"$f":"IF(PARAMETRES!$B$3=\"SANS\",SUMIFS(Honoraire[TotalHonoraireHT],Honoraire[ClientId],Personne[[#This Row],[PersonneId]]),SUMIFS(Honoraire[TotalHT],Honoraire[ClientId],Personne[[#This Row],[PersonneId]]))","v":0},{"$f":"Personne[[#This Row],[Facture (HT)]]+ROW()/100000","v":3.1009999999999999E-2},{"$f":"_xlfn.CONCAT(Personne[[#This Row],[Adresse]],\" \",Personne[[#This Row],[CodePostal]],\" \",Personne[[#This Row],[Ville]],\" \",Personne[[#This Row],[CodePays]])","v":"   "}]
[null,null,null,null,null,null,null,null,null,null,null,null,null,null,null,null,null,null,null,null,null,null,null,null,null,null,null,null,null,null,{"$f":"IF(PARAMETRES!$B$3=\"SANS\",SUMIFS(Honoraire[TotalHonoraireHT],Honoraire[ClientId],Personne[[#This Row],[PersonneId]]),SUMIFS(Honoraire[TotalHT],Honoraire[ClientId],Personne[[#This Row],[PersonneId]]))","v":0},{"$f":"Personne[[#This Row],[Facture (HT)]]+ROW()/100000","v":3.1029999999999999E-2},{"$f":"_xlfn.CONCAT(Personne[[#This Row],[Adresse]],\" \",Personne[[#This Row],[CodePostal]],\" \",Personne[[#This Row],[Ville]],\" \",Personne[[#This Row],[CodePays]])","v":"   "}]
[null,null,null,null,null,null,null,null,null,null,null,null,null,null,null,null,null,null,null,null,null,null,null,null,null,null,null,null,null,null,{"$f":"IF(PARAMETRES!$B$3=\"SANS\",SUMIFS(Honoraire[TotalHonoraireHT],Honoraire[ClientId],Personne[[#This Row],[PersonneId]]),SUMIFS(Honoraire[TotalHT],Honoraire[ClientId],Personne[[#This Row],[PersonneId]]))","v":0},{"$f":"Personne[[#This Row],[Facture (HT)]]+ROW()/100000","v":3.1040000000000002E-2},{"$f":"_xlfn.CONCAT(Personne[[#This Row],[Adresse]],\" \",Personne[[#This Row],[CodePostal]],\" \",Personne[[#This Row],[Ville]],\" \",Personne[[#This Row],[CodePays]])","v":"   "}]
[null,null,null,null,null,null,null,null,null,null,null,null,null,null,null,null,null,null,null,null,null,null,null,null,null,null,null,null,null,null,{"$f":"IF(PARAMETRES!$B$3=\"SANS\",SUMIFS(Honoraire[TotalHonoraireHT],Honoraire[ClientId],Personne[[#This Row],[PersonneId]]),SUMIFS(Honoraire[TotalHT],Honoraire[ClientId],Personne[[#This Row],[PersonneId]]))","v":0},{"$f":"Personne[[#This Row],[Facture (HT)]]+ROW()/100000","v":3.107E-2},{"$f":"_xlfn.CONCAT(Personne[[#This Row],[Adresse]],\" \",Personne[[#This Row],[CodePostal]],\" \",Personne[[#This Row],[Ville]],\" \",Personne[[#This Row],[CodePays]])","v":"   "}]
[null,null,null,null,null,null,null,null,null,null,null,null,null,null,null,null,null,null,null,null,null,null,null,null,null,null,null,null,null,null,{"$f":"IF(PARAMETRES!$B$3=\"SANS\",SUMIFS(Honoraire[TotalHonoraireHT],Honoraire[ClientId],Personne[[#This Row],[PersonneId]]),SUMIFS(Honoraire[TotalHT],Honoraire[ClientId],Personne[[#This Row],[PersonneId]]))","v":0},{"$f":"Personne[[#This Row],[Facture (HT)]]+ROW()/100000","v":3.108E-2},{"$f":"_xlfn.CONCAT(Personne[[#This Row],[Adresse]],\" \",Personne[[#This Row],[CodePostal]],\" \",Personne[[#This Row],[Ville]],\" \",Personne[[#This Row],[CodePays]])","v":"   "}]
[null,null,null,null,null,null,null,null,null,null,null,null,null,null,null,null,null,null,null,null,null,null,null,null,null,null,null,null,null,null,{"$f":"IF(PARAMETRES!$B$3=\"SANS\",SUMIFS(Honoraire[TotalHonoraireHT],Honoraire[ClientId],Personne[[#This Row],[PersonneId]]),SUMIFS(Honoraire[TotalHT],Honoraire[ClientId],Personne[[#This Row],[PersonneId]]))","v":0},{"$f":"Personne[[#This Row],[Facture (HT)]]+ROW()/100000","v":3.1109999999999999E-2},{"$f":"_xlfn.CONCAT(Personne[[#This Row],[Adresse]],\" \",Personne[[#This Row],[CodePostal]],\" \",Personne[[#This Row],[Ville]],\" \",Personne[[#This Row],[CodePays]])","v":"   "}]
[null,null,null,null,null,null,null,null,null,null,null,null,null,null,null,null,null,null,null,null,null,null,null,null,null,null,null,null,null,null,{"$f":"IF(PARAMETRES!$B$3=\"SANS\",SUMIFS(Honoraire[TotalHonoraireHT],Honoraire[ClientId],Personne[[#This Row],[PersonneId]]),SUMIFS(Honoraire[TotalHT],Honoraire[ClientId],Personne[[#This Row],[PersonneId]]))","v":0},{"$f":"Personne[[#This Row],[Facture (HT)]]+ROW()/100000","v":3.1130000000000001E-2},{"$f":"_xlfn.CONCAT(Personne[[#This Row],[Adresse]],\" \",Personne[[#This Row],[CodePostal]],\" \",Personne[[#This Row],[Ville]],\" \",Personne[[#This Row],[CodePays]])","v":"   "}]
[null,null,null,null,null,null,null,null,null,null,null,null,null,null,null,null,null,null,null,null,null,null,null,null,null,null,null,null,null,null,{"$f":"IF(PARAMETRES!$B$3=\"SANS\",SUMIFS(Honoraire[TotalHonoraireHT],Honoraire[ClientId],Personne[[#This Row],[PersonneId]]),SUMIFS(Honoraire[TotalHT],Honoraire[ClientId],Personne[[#This Row],[PersonneId]]))","v":0},{"$f":"Personne[[#This Row],[Facture (HT)]]+ROW()/100000","v":3.116E-2},{"$f":"_xlfn.CONCAT(Personne[[#This Row],[Adresse]],\" \",Personne[[#This Row],[CodePostal]],\" \",Personne[[#This Row],[Ville]],\" \",Personne[[#This Row],[CodePays]])","v":"   "}]
[null,null,null,null,null,null,null,null,null,null,null,null,null,null,null,null,null,null,null,null,null,null,null,null,null,null,null,null,null,null,{"$f":"IF(PARAMETRES!$B$3=\"SANS\",SUMIFS(Honoraire[TotalHonoraireHT],Honoraire[ClientId],Personne[[#This Row],[PersonneId]]),SUMIFS(Honoraire[TotalHT],Honoraire[ClientId],Personne[[#This Row],[PersonneId]]))","v":0},{"$f":"Personne[[#This Row],[Facture (HT)]]+ROW()/100000","v":3.117E-2},{"$f":"_xlfn.CONCAT(Personne[[#This Row],[Adresse]],\" \",Personne[[#This Row],[CodePostal]],\" \",Personne[[#This Row],[Ville]],\" \",Personne[[#This Row],[CodePays]])","v":"   "}]
[null,null,null,null,null,null,null,null,null,null,null,null,null,null,null,null,null,null,null,null,null,null,null,null,null,null,null,null,null,null,{"$f":"IF(PARAMETRES!$B$3=\"SANS\",SUMIFS(Honoraire[TotalHonoraireHT],Honoraire[ClientId],Personne[[#This Row],[PersonneId]]),SUMIFS(Honoraire[TotalHT],Honoraire[ClientId],Personne[[#This Row],[PersonneId]]))","v":0},{"$f":"Personne[[#This Row],[Facture (HT)]]+ROW()/100000","v":3.1199999999999999E-2},{"$f":"_xlfn.CONCAT(Personne[[#This Row],[Adresse]],\" \",Personne[[#This Row],[CodePostal]],\" \",Personne[[#This Row],[Ville]],\" \",Personne[[#This Row],[CodePays]])","v":"   "}]
[null,null,null,null,null,null,null,null,null,null,null,null,null,null,null,null,null,null,null,null,null,null,null,null,null,null,null,null,null,null,{"$f":"IF(PARAMETRES!$B$3=\"SANS\",SUMIFS(Honoraire[TotalHonoraireHT],Honoraire[ClientId],Personne[[#This Row],[PersonneId]]),SUMIFS(Honoraire[TotalHT],Honoraire[ClientId],Personne[[#This Row],[PersonneId]]))","v":0},{"$f":"Personne[[#This Row],[Facture (HT)]]+ROW()/100000","v":3.1210000000000002E-2},{"$f":"_xlfn.CONCAT(Personne[[#This Row],[Adresse]],\" \",Personne[[#This Row],[CodePostal]],\" \",Personne[[#This Row],[Ville]],\" \",Personne[[#This Row],[CodePays]])","v":"   "}]
[null,null,null,null,null,null,null,null,null,null,null,null,null,null,null,null,null,null,null,null,null,null,null,null,null,null,null,null,null,null,{"$f":"IF(PARAMETRES!$B$3=\"SANS\",SUMIFS(Honoraire[TotalHonoraireHT],Honoraire[ClientId],Personne[[#This Row],[PersonneId]]),SUMIFS(Honoraire[TotalHT],Honoraire[ClientId],Personne[[#This Row],[PersonneId]]))","v":0},{"$f":"Personne[[#This Row],[Facture (HT)]]+ROW()/100000","v":3.1230000000000001E-2},{"$f":"_xlfn.CONCAT(Personne[[#This Row],[Adresse]],\" \",Personne[[#This Row],[CodePostal]],\" \",Personne[[#This Row],[Ville]],\" \",Personne[[#This Row],[CodePays]])","v":"   "}]
[null,null,null,null,null,null,null,null,null,null,null,null,null,null,null,null,null,null,null,null,null,null,null,null,null,null,null,null,null,null,{"$f":"IF(PARAMETRES!$B$3=\"SANS\",SUMIFS(Honoraire[TotalHonoraireHT],Honoraire[ClientId],Personne[[#This Row],[PersonneId]]),SUMIFS(Honoraire[TotalHT],Honoraire[ClientId],Personne[[#This Row],[PersonneId]]))","v":0},{"$f":"Personne[[#This Row],[Facture (HT)]]+ROW()/100000","v":3.1260000000000003E-2},{"$f":"_xlfn.CONCAT(Personne[[#This Row],[Adresse]],\" \",Personne[[#This Row],[CodePostal]],\" \",Personne[[#This Row],[Ville]],\" \",Personne[[#This Row],[CodePays]])","v":"   "}]
[null,null,null,null,null,null,null,null,null,null,null,null,null,null,null,null,null,null,null,null,null,null,null,null,null,null,null,null,null,null,{"$f":"IF(PARAMETRES!$B$3=\"SANS\",SUMIFS(Honoraire[TotalHonoraireHT],Honoraire[ClientId],Personne[[#This Row],[PersonneId]]),SUMIFS(Honoraire[TotalHT],Honoraire[ClientId],Personne[[#This Row],[PersonneId]]))","v":0},{"$f":"Personne[[#This Row],[Facture (HT)]]+ROW()/100000","v":3.1289999999999998E-2},{"$f":"_xlfn.CONCAT(Personne[[#This Row],[Adresse]],\" \",Personne[[#This Row],[CodePostal]],\" \",Personne[[#This Row],[Ville]],\" \",Personne[[#This Row],[CodePays]])","v":"   "}]
[null,null,null,null,null,null,null,null,null,null,null,null,null,null,null,null,null,null,null,null,null,null,null,null,null,null,null,null,null,null,{"$f":"IF(PARAMETRES!$B$3=\"SANS\",SUMIFS(Honoraire[TotalHonoraireHT],Honoraire[ClientId],Personne[[#This Row],[PersonneId]]),SUMIFS(Honoraire[TotalHT],Honoraire[ClientId],Personne[[#This Row],[PersonneId]]))","v":0},{"$f":"Personne[[#This Row],[Facture (HT)]]+ROW()/100000","v":3.1300000000000001E-2},{"$f":"_xlfn.CONCAT(Personne[[#This Row],[Adresse]],\" \",Personne[[#This Row],[CodePostal]],\" \",Personne[[#This Row],[Ville]],\" \",Personne[[#This Row],[CodePays]])","v":"   "}]
[null,null,null,null,null,null,null,null,null,null,null,null,null,null,null,null,null,null,null,null,null,null,null,null,null,null,null,null,null,null,{"$f":"IF(PARAMETRES!$B$3=\"SANS\",SUMIFS(Honoraire[TotalHonoraireHT],Honoraire[ClientId],Personne[[#This Row],[PersonneId]]),SUMIFS(Honoraire[TotalHT],Honoraire[ClientId],Personne[[#This Row],[PersonneId]]))","v":0},{"$f":"Personne[[#This Row],[Facture (HT)]]+ROW()/100000","v":3.1329999999999997E-2},{"$f":"_xlfn.CONCAT(Personne[[#This Row],[Adresse]],\" \",Personne[[#This Row],[CodePostal]],\" \",Personne[[#This Row],[Ville]],\" \",Personne[[#This Row],[CodePays]])","v":"   "}]
[null,null,null,null,null,null,null,null,null,null,null,null,null,null,null,null,null,null,null,null,null,null,null,null,null,null,null,null,null,null,{"$f":"IF(PARAMETRES!$B$3=\"SANS\",SUMIFS(Honoraire[TotalHonoraireHT],Honoraire[ClientId],Personne[[#This Row],[PersonneId]]),SUMIFS(Honoraire[TotalHT],Honoraire[ClientId],Personne[[#This Row],[PersonneId]]))","v":0},{"$f":"Personne[[#This Row],[Facture (HT)]]+ROW()/100000","v":3.134E-2},{"$f":"_xlfn.CONCAT(Personne[[#This Row],[Adresse]],\" \",Personne[[#This Row],[CodePostal]],\" \",Personne[[#This Row],[Ville]],\" \",Personne[[#This Row],[CodePays]])","v":"   "}]
[null,null,null,null,null,null,null,null,null,null,null,null,null,null,null,null,null,null,null,null,null,null,null,null,null,null,null,null,null,null,{"$f":"IF(PARAMETRES!$B$3=\"SANS\",SUMIFS(Honoraire[TotalHonoraireHT],Honoraire[ClientId],Personne[[#This Row],[PersonneId]]),SUMIFS(Honoraire[TotalHT],Honoraire[ClientId],Personne[[#This Row],[PersonneId]]))","v":0},{"$f":"Personne[[#This Row],[Facture (HT)]]+ROW()/100000","v":3.1379999999999998E-2},{"$f":"_xlfn.CONCAT(Personne[[#This Row],[Adresse]],\" \",Personne[[#This Row],[CodePostal]],\" \",Personne[[#This Row],[Ville]],\" \",Personne[[#This Row],[CodePays]])","v":"   "}]
[null,null,null,null,null,null,null,null,null,null,null,null,null,null,null,null,null,null,null,null,null,null,null,null,null,null,null,null,null,null,{"$f":"IF(PARAMETRES!$B$3=\"SANS\",SUMIFS(Honoraire[TotalHonoraireHT],Honoraire[ClientId],Personne[[#This Row],[PersonneId]]),SUMIFS(Honoraire[TotalHT],Honoraire[ClientId],Personne[[#This Row],[PersonneId]]))","v":0},{"$f":"Personne[[#This Row],[Facture (HT)]]+ROW()/100000","v":3.1390000000000001E-2},{"$f":"_xlfn.CONCAT(Personne[[#This Row],[Adresse]],\" \",Personne[[#This Row],[CodePostal]],\" \",Personne[[#This Row],[Ville]],\" \",Personne[[#This Row],[CodePays]])","v":"   "}]
[null,null,null,null,null,null,null,null,null,null,null,null,null,null,null,null,null,null,null,null,null,null,null,null,null,null,null,null,null,null,{"$f":"IF(PARAMETRES!$B$3=\"SANS\",SUMIFS(Honoraire[TotalHonoraireHT],Honoraire[ClientId],Personne[[#This Row],[PersonneId]]),SUMIFS(Honoraire[TotalHT],Honoraire[ClientId],Personne[[#This Row],[PersonneId]]))","v":0},{"$f":"Personne[[#This Row],[Facture (HT)]]+ROW()/100000","v":3.1419999999999997E-2},{"$f":"_xlfn.CONCAT(Personne[[#This Row],[Adresse]],\" \",Personne[[#This Row],[CodePostal]],\" \",Personne[[#This Row],[Ville]],\" \",Personne[[#This Row],[CodePays]])","v":"   "}]
[null,null,null,null,null,null,null,null,null,null,null,null,null,null,null,null,null,null,null,null,null,null,null,null,null,null,null,null,null,null,{"$f":"IF(PARAMETRES!$B$3=\"SANS\",SUMIFS(Honoraire[TotalHonoraireHT],Honoraire[ClientId],Personne[[#This Row],[PersonneId]]),SUMIFS(Honoraire[TotalHT],Honoraire[ClientId],Personne[[#This Row],[PersonneId]]))","v":0},{"$f":"Personne[[#This Row],[Facture (HT)]]+ROW()/100000","v":3.143E-2},{"$f":"_xlfn.CONCAT(Personne[[#This Row],[Adresse]],\" \",Personne[[#This Row],[CodePostal]],\" \",Personne[[#This Row],[Ville]],\" \",Personne[[#This Row],[CodePays]])","v":"   "}]
[null,null,null,null,null,null,null,null,null,null,null,null,null,null,null,null,null,null,null,null,null,null,null,null,null,null,null,null,null,null,{"$f":"IF(PARAMETRES!$B$3=\"SANS\",SUMIFS(Honoraire[TotalHonoraireHT],Honoraire[ClientId],Personne[[#This Row],[PersonneId]]),SUMIFS(Honoraire[TotalHT],Honoraire[ClientId],Personne[[#This Row],[PersonneId]]))","v":0},{"$f":"Personne[[#This Row],[Facture (HT)]]+ROW()/100000","v":3.1460000000000002E-2},{"$f":"_xlfn.CONCAT(Personne[[#This Row],[Adresse]],\" \",Personne[[#This Row],[CodePostal]],\" \",Personne[[#This Row],[Ville]],\" \",Personne[[#This Row],[CodePays]])","v":"   "}]
[null,null,null,null,null,null,null,null,null,null,null,null,null,null,null,null,null,null,null,null,null,null,null,null,null,null,null,null,null,null,{"$f":"IF(PARAMETRES!$B$3=\"SANS\",SUMIFS(Honoraire[TotalHonoraireHT],Honoraire[ClientId],Personne[[#This Row],[PersonneId]]),SUMIFS(Honoraire[TotalHT],Honoraire[ClientId],Personne[[#This Row],[PersonneId]]))","v":0},{"$f":"Personne[[#This Row],[Facture (HT)]]+ROW()/100000","v":3.1480000000000001E-2},{"$f":"_xlfn.CONCAT(Personne[[#This Row],[Adresse]],\" \",Personne[[#This Row],[CodePostal]],\" \",Personne[[#This Row],[Ville]],\" \",Personne[[#This Row],[CodePays]])","v":"   "}]
[null,null,null,null,null,null,null,null,null,null,null,null,null,null,null,null,null,null,null,null,null,null,null,null,null,null,null,null,null,null,{"$f":"IF(PARAMETRES!$B$3=\"SANS\",SUMIFS(Honoraire[TotalHonoraireHT],Honoraire[ClientId],Personne[[#This Row],[PersonneId]]),SUMIFS(Honoraire[TotalHT],Honoraire[ClientId],Personne[[#This Row],[PersonneId]]))","v":0},{"$f":"Personne[[#This Row],[Facture (HT)]]+ROW()/100000","v":3.1510000000000003E-2},{"$f":"_xlfn.CONCAT(Personne[[#This Row],[Adresse]],\" \",Personne[[#This Row],[CodePostal]],\" \",Personne[[#This Row],[Ville]],\" \",Personne[[#This Row],[CodePays]])","v":"   "}]
[null,null,null,null,null,null,null,null,null,null,null,null,null,null,null,null,null,null,null,null,null,null,null,null,null,null,null,null,null,null,{"$f":"IF(PARAMETRES!$B$3=\"SANS\",SUMIFS(Honoraire[TotalHonoraireHT],Honoraire[ClientId],Personne[[#This Row],[PersonneId]]),SUMIFS(Honoraire[TotalHT],Honoraire[ClientId],Personne[[#This Row],[PersonneId]]))","v":0},{"$f":"Personne[[#This Row],[Facture (HT)]]+ROW()/100000","v":3.1519999999999999E-2},{"$f":"_xlfn.CONCAT(Personne[[#This Row],[Adresse]],\" \",Personne[[#This Row],[CodePostal]],\" \",Personne[[#This Row],[Ville]],\" \",Personne[[#This Row],[CodePays]])","v":"   "}]
[null,null,null,null,null,null,null,null,null,null,null,null,null,null,null,null,null,null,null,null,null,null,null,null,null,null,null,null,null,null,{"$f":"IF(PARAMETRES!$B$3=\"SANS\",SUMIFS(Honoraire[TotalHonoraireHT],Honoraire[ClientId],Personne[[#This Row],[PersonneId]]),SUMIFS(Honoraire[TotalHT],Honoraire[ClientId],Personne[[#This Row],[PersonneId]]))","v":0},{"$f":"Personne[[#This Row],[Facture (HT)]]+ROW()/100000","v":3.1550000000000002E-2},{"$f":"_xlfn.CONCAT(Personne[[#This Row],[Adresse]],\" \",Personne[[#This Row],[CodePostal]],\" \",Personne[[#This Row],[Ville]],\" \",Personne[[#This Row],[CodePays]])","v":"   "}]
[null,null,null,null,null,null,null,null,null,null,null,null,null,null,null,null,null,null,null,null,null,null,null,null,null,null,null,null,null,null,{"$f":"IF(PARAMETRES!$B$3=\"SANS\",SUMIFS(Honoraire[TotalHonoraireHT],Honoraire[ClientId],Personne[[#This Row],[PersonneId]]),SUMIFS(Honoraire[TotalHT],Honoraire[ClientId],Personne[[#This Row],[PersonneId]]))","v":0},{"$f":"Personne[[#This Row],[Facture (HT)]]+ROW()/100000","v":3.1559999999999998E-2},{"$f":"_xlfn.CONCAT(Personne[[#This Row],[Adresse]],\" \",Personne[[#This Row],[CodePostal]],\" \",Personne[[#This Row],[Ville]],\" \",Personne[[#This Row],[CodePays]])","v":"   "}]
[null,null,null,null,null,null,null,null,null,null,null,null,null,null,null,null,null,null,null,null,null,null,null,null,null,null,null,null,null,null,{"$f":"IF(PARAMETRES!$B$3=\"SANS\",SUMIFS(Honoraire[TotalHonoraireHT],Honoraire[ClientId],Personne[[#This Row],[PersonneId]]),SUMIFS(Honoraire[TotalHT],Honoraire[ClientId],Personne[[#This Row],[PersonneId]]))","v":0},{"$f":"Personne[[#This Row],[Facture (HT)]]+ROW()/100000","v":3.159E-2},{"$f":"_xlfn.CONCAT(Personne[[#This Row],[Adresse]],\" \",Personne[[#This Row],[CodePostal]],\" \",Personne[[#This Row],[Ville]],\" \",Personne[[#This Row],[CodePays]])","v":"   "}]
[null,null,null,null,null,null,null,null,null,null,null,null,null,null,null,null,null,null,null,null,null,null,null,null,null,null,null,null,null,null,{"$f":"IF(PARAMETRES!$B$3=\"SANS\",SUMIFS(Honoraire[TotalHonoraireHT],Honoraire[ClientId],Personne[[#This Row],[PersonneId]]),SUMIFS(Honoraire[TotalHT],Honoraire[ClientId],Personne[[#This Row],[PersonneId]]))","v":0},{"$f":"Personne[[#This Row],[Facture (HT)]]+ROW()/100000","v":3.1600000000000003E-2},{"$f":"_xlfn.CONCAT(Personne[[#This Row],[Adresse]],\" \",Personne[[#This Row],[CodePostal]],\" \",Personne[[#This Row],[Ville]],\" \",Personne[[#This Row],[CodePays]])","v":"   "}]
[null,null,null,null,null,null,null,null,null,null,null,null,null,null,null,null,null,null,null,null,null,null,null,null,null,null,null,null,null,null,{"$f":"IF(PARAMETRES!$B$3=\"SANS\",SUMIFS(Honoraire[TotalHonoraireHT],Honoraire[ClientId],Personne[[#This Row],[PersonneId]]),SUMIFS(Honoraire[TotalHT],Honoraire[ClientId],Personne[[#This Row],[PersonneId]]))","v":0},{"$f":"Personne[[#This Row],[Facture (HT)]]+ROW()/100000","v":3.1640000000000001E-2},{"$f":"_xlfn.CONCAT(Personne[[#This Row],[Adresse]],\" \",Personne[[#This Row],[CodePostal]],\" \",Personne[[#This Row],[Ville]],\" \",Personne[[#This Row],[CodePays]])","v":"   "}]
[null,null,null,null,null,null,null,null,null,null,null,null,null,null,null,null,null,null,null,null,null,null,null,null,null,null,null,null,null,null,{"$f":"IF(PARAMETRES!$B$3=\"SANS\",SUMIFS(Honoraire[TotalHonoraireHT],Honoraire[ClientId],Personne[[#This Row],[PersonneId]]),SUMIFS(Honoraire[TotalHT],Honoraire[ClientId],Personne[[#This Row],[PersonneId]]))","v":0},{"$f":"Personne[[#This Row],[Facture (HT)]]+ROW()/100000","v":3.1649999999999998E-2},{"$f":"_xlfn.CONCAT(Personne[[#This Row],[Adresse]],\" \",Personne[[#This Row],[CodePostal]],\" \",Personne[[#This Row],[Ville]],\" \",Personne[[#This Row],[CodePays]])","v":"   "}]
[null,null,null,null,null,null,null,null,null,null,null,null,null,null,null,null,null,null,null,null,null,null,null,null,null,null,null,null,null,null,{"$f":"IF(PARAMETRES!$B$3=\"SANS\",SUMIFS(Honoraire[TotalHonoraireHT],Honoraire[ClientId],Personne[[#This Row],[PersonneId]]),SUMIFS(Honoraire[TotalHT],Honoraire[ClientId],Personne[[#This Row],[PersonneId]]))","v":0},{"$f":"Personne[[#This Row],[Facture (HT)]]+ROW()/100000","v":3.168E-2},{"$f":"_xlfn.CONCAT(Personne[[#This Row],[Adresse]],\" \",Personne[[#This Row],[CodePostal]],\" \",Personne[[#This Row],[Ville]],\" \",Personne[[#This Row],[CodePays]])","v":"   "}]
[null,null,null,null,null,null,null,null,null,null,null,null,null,null,null,null,null,null,null,null,null,null,null,null,null,null,null,null,null,null,{"$f":"IF(PARAMETRES!$B$3=\"SANS\",SUMIFS(Honoraire[TotalHonoraireHT],Honoraire[ClientId],Personne[[#This Row],[PersonneId]]),SUMIFS(Honoraire[TotalHT],Honoraire[ClientId],Personne[[#This Row],[PersonneId]]))","v":0},{"$f":"Personne[[#This Row],[Facture (HT)]]+ROW()/100000","v":3.1690000000000003E-2},{"$f":"_xlfn.CONCAT(Personne[[#This Row],[Adresse]],\" \",Personne[[#This Row],[CodePostal]],\" \",Personne[[#This Row],[Ville]],\" \",Personne[[#This Row],[CodePays]])","v":"   "}]
[null,null,null,null,null,null,null,null,null,null,null,null,null,null,null,null,null,null,null,null,null,null,null,null,null,null,null,null,null,null,{"$f":"IF(PARAMETRES!$B$3=\"SANS\",SUMIFS(Honoraire[TotalHonoraireHT],Honoraire[ClientId],Personne[[#This Row],[PersonneId]]),SUMIFS(Honoraire[TotalHT],Honoraire[ClientId],Personne[[#This Row],[PersonneId]]))","v":0},{"$f":"Personne[[#This Row],[Facture (HT)]]+ROW()/100000","v":3.1730000000000001E-2},{"$f":"_xlfn.CONCAT(Personne[[#This Row],[Adresse]],\" \",Personne[[#This Row],[CodePostal]],\" \",Personne[[#This Row],[Ville]],\" \",Personne[[#This Row],[CodePays]])","v":"   "}]
[null,null,null,null,null,null,null,null,null,null,null,null,null,null,null,null,null,null,null,null,null,null,null,null,null,null,null,null,null,null,{"$f":"IF(PARAMETRES!$B$3=\"SANS\",SUMIFS(Honoraire[TotalHonoraireHT],Honoraire[ClientId],Personne[[#This Row],[PersonneId]]),SUMIFS(Honoraire[TotalHT],Honoraire[ClientId],Personne[[#This Row],[PersonneId]]))","v":0},{"$f":"Personne[[#This Row],[Facture (HT)]]+ROW()/100000","v":3.1739999999999997E-2},{"$f":"_xlfn.CONCAT(Personne[[#This Row],[Adresse]],\" \",Personne[[#This Row],[CodePostal]],\" \",Personne[[#This Row],[Ville]],\" \",Personne[[#This Row],[CodePays]])","v":"   "}]
[null,null,null,null,null,null,null,null,null,null,null,null,null,null,null,null,null,null,null,null,null,null,null,null,null,null,null,null,null,null,{"$f":"IF(PARAMETRES!$B$3=\"SANS\",SUMIFS(Honoraire[TotalHonoraireHT],Honoraire[ClientId],Personne[[#This Row],[PersonneId]]),SUMIFS(Honoraire[TotalHT],Honoraire[ClientId],Personne[[#This Row],[PersonneId]]))","v":0},{"$f":"Personne[[#This Row],[Facture (HT)]]+ROW()/100000","v":3.177E-2},{"$f":"_xlfn.CONCAT(Personne[[#This Row],[Adresse]],\" \",Personne[[#This Row],[CodePostal]],\" \",Personne[[#This Row],[Ville]],\" \",Personne[[#This Row],[CodePays]])","v":"   "}]
[null,null,null,null,null,null,null,null,null,null,null,null,null,null,null,null,null,null,null,null,null,null,null,null,null,null,null,null,null,null,{"$f":"IF(PARAMETRES!$B$3=\"SANS\",SUMIFS(Honoraire[TotalHonoraireHT],Honoraire[ClientId],Personne[[#This Row],[PersonneId]]),SUMIFS(Honoraire[TotalHT],Honoraire[ClientId],Personne[[#This Row],[PersonneId]]))","v":0},{"$f":"Personne[[#This Row],[Facture (HT)]]+ROW()/100000","v":3.1780000000000003E-2},{"$f":"_xlfn.CONCAT(Personne[[#This Row],[Adresse]],\" \",Personne[[#This Row],[CodePostal]],\" \",Personne[[#This Row],[Ville]],\" \",Personne[[#This Row],[CodePays]])","v":"   "}]
[null,null,null,null,null,null,null,null,null,null,null,null,null,null,null,null,null,null,null,null,null,null,null,null,null,null,null,null,null,null,{"$f":"IF(PARAMETRES!$B$3=\"SANS\",SUMIFS(Honoraire[TotalHonoraireHT],Honoraire[ClientId],Personne[[#This Row],[PersonneId]]),SUMIFS(Honoraire[TotalHT],Honoraire[ClientId],Personne[[#This Row],[PersonneId]]))","v":0},{"$f":"Personne[[#This Row],[Facture (HT)]]+ROW()/100000","v":3.1809999999999998E-2},{"$f":"_xlfn.CONCAT(Personne[[#This Row],[Adresse]],\" \",Personne[[#This Row],[CodePostal]],\" \",Personne[[#This Row],[Ville]],\" \",Personne[[#This Row],[CodePays]])","v":"   "}]
[null,null,null,null,null,null,null,null,null,null,null,null,null,null,null,null,null,null,null,null,null,null,null,null,null,null,null,null,null,null,{"$f":"IF(PARAMETRES!$B$3=\"SANS\",SUMIFS(Honoraire[TotalHonoraireHT],Honoraire[ClientId],Personne[[#This Row],[PersonneId]]),SUMIFS(Honoraire[TotalHT],Honoraire[ClientId],Personne[[#This Row],[PersonneId]]))","v":0},{"$f":"Personne[[#This Row],[Facture (HT)]]+ROW()/100000","v":3.1829999999999997E-2},{"$f":"_xlfn.CONCAT(Personne[[#This Row],[Adresse]],\" \",Personne[[#This Row],[CodePostal]],\" \",Personne[[#This Row],[Ville]],\" \",Personne[[#This Row],[CodePays]])","v":"   "}]
[null,null,null,null,null,null,null,null,null,null,null,null,null,null,null,null,null,null,null,null,null,null,null,null,null,null,null,null,null,null,{"$f":"IF(PARAMETRES!$B$3=\"SANS\",SUMIFS(Honoraire[TotalHonoraireHT],Honoraire[ClientId],Personne[[#This Row],[PersonneId]]),SUMIFS(Honoraire[TotalHT],Honoraire[ClientId],Personne[[#This Row],[PersonneId]]))","v":0},{"$f":"Personne[[#This Row],[Facture (HT)]]+ROW()/100000","v":3.1850000000000003E-2},{"$f":"_xlfn.CONCAT(Personne[[#This Row],[Adresse]],\" \",Personne[[#This Row],[CodePostal]],\" \",Personne[[#This Row],[Ville]],\" \",Personne[[#This Row],[CodePays]])","v":"   "}]
[null,null,null,null,null,null,null,null,null,null,null,null,null,null,null,null,null,null,null,null,null,null,null,null,null,null,null,null,null,null,{"$f":"IF(PARAMETRES!$B$3=\"SANS\",SUMIFS(Honoraire[TotalHonoraireHT],Honoraire[ClientId],Personne[[#This Row],[PersonneId]]),SUMIFS(Honoraire[TotalHT],Honoraire[ClientId],Personne[[#This Row],[PersonneId]]))","v":0},{"$f":"Personne[[#This Row],[Facture (HT)]]+ROW()/100000","v":3.1859999999999999E-2},{"$f":"_xlfn.CONCAT(Personne[[#This Row],[Adresse]],\" \",Personne[[#This Row],[CodePostal]],\" \",Personne[[#This Row],[Ville]],\" \",Personne[[#This Row],[CodePays]])","v":"   "}]
[null,null,null,null,null,null,null,null,null,null,null,null,null,null,null,null,null,null,null,null,null,null,null,null,null,null,null,null,null,null,{"$f":"IF(PARAMETRES!$B$3=\"SANS\",SUMIFS(Honoraire[TotalHonoraireHT],Honoraire[ClientId],Personne[[#This Row],[PersonneId]]),SUMIFS(Honoraire[TotalHT],Honoraire[ClientId],Personne[[#This Row],[PersonneId]]))","v":0},{"$f":"Personne[[#This Row],[Facture (HT)]]+ROW()/100000","v":3.1870000000000002E-2},{"$f":"_xlfn.CONCAT(Personne[[#This Row],[Adresse]],\" \",Personne[[#This Row],[CodePostal]],\" \",Personne[[#This Row],[Ville]],\" \",Personne[[#This Row],[CodePays]])","v":"   "}]
[null,null,null,null,null,null,null,null,null,null,null,null,null,null,null,null,null,null,null,null,null,null,null,null,null,null,null,null,null,null,{"$f":"IF(PARAMETRES!$B$3=\"SANS\",SUMIFS(Honoraire[TotalHonoraireHT],Honoraire[ClientId],Personne[[#This Row],[PersonneId]]),SUMIFS(Honoraire[TotalHT],Honoraire[ClientId],Personne[[#This Row],[PersonneId]]))","v":0},{"$f":"Personne[[#This Row],[Facture (HT)]]+ROW()/100000","v":3.1879999999999999E-2},{"$f":"_xlfn.CONCAT(Personne[[#This Row],[Adresse]],\" \",Personne[[#This Row],[CodePostal]],\" \",Personne[[#This Row],[Ville]],\" \",Personne[[#This Row],[CodePays]])","v":"   "}]
[null,null,null,null,null,null,null,null,null,null,null,null,null,null,null,null,null,null,null,null,null,null,null,null,null,null,null,null,null,null,{"$f":"IF(PARAMETRES!$B$3=\"SANS\",SUMIFS(Honoraire[TotalHonoraireHT],Honoraire[ClientId],Personne[[#This Row],[PersonneId]]),SUMIFS(Honoraire[TotalHT],Honoraire[ClientId],Personne[[#This Row],[PersonneId]]))","v":0},{"$f":"Personne[[#This Row],[Facture (HT)]]+ROW()/100000","v":3.1890000000000002E-2},{"$f":"_xlfn.CONCAT(Personne[[#This Row],[Adresse]],\" \",Personne[[#This Row],[CodePostal]],\" \",Personne[[#This Row],[Ville]],\" \",Personne[[#This Row],[CodePays]])","v":"   "}]
[null,null,null,null,null,null,null,null,null,null,null,null,null,null,null,null,null,null,null,null,null,null,null,null,null,null,null,null,null,null,{"$f":"IF(PARAMETRES!$B$3=\"SANS\",SUMIFS(Honoraire[TotalHonoraireHT],Honoraire[ClientId],Personne[[#This Row],[PersonneId]]),SUMIFS(Honoraire[TotalHT],Honoraire[ClientId],Personne[[#This Row],[PersonneId]]))","v":0},{"$f":"Personne[[#This Row],[Facture (HT)]]+ROW()/100000","v":3.1899999999999998E-2},{"$f":"_xlfn.CONCAT(Personne[[#This Row],[Adresse]],\" \",Personne[[#This Row],[CodePostal]],\" \",Personne[[#This Row],[Ville]],\" \",Personne[[#This Row],[CodePays]])","v":"   "}]
[null,null,null,null,null,null,null,null,null,null,null,null,null,null,null,null,null,null,null,null,null,null,null,null,null,null,null,null,null,null,{"$f":"IF(PARAMETRES!$B$3=\"SANS\",SUMIFS(Honoraire[TotalHonoraireHT],Honoraire[ClientId],Personne[[#This Row],[PersonneId]]),SUMIFS(Honoraire[TotalHT],Honoraire[ClientId],Personne[[#This Row],[PersonneId]]))","v":0},{"$f":"Personne[[#This Row],[Facture (HT)]]+ROW()/100000","v":3.1910000000000001E-2},{"$f":"_xlfn.CONCAT(Personne[[#This Row],[Adresse]],\" \",Personne[[#This Row],[CodePostal]],\" \",Personne[[#This Row],[Ville]],\" \",Personne[[#This Row],[CodePays]])","v":"   "}]
[null,null,null,null,null,null,null,null,null,null,null,null,null,null,null,null,null,null,null,null,null,null,null,null,null,null,null,null,null,null,{"$f":"IF(PARAMETRES!$B$3=\"SANS\",SUMIFS(Honoraire[TotalHonoraireHT],Honoraire[ClientId],Personne[[#This Row],[PersonneId]]),SUMIFS(Honoraire[TotalHT],Honoraire[ClientId],Personne[[#This Row],[PersonneId]]))","v":0},{"$f":"Personne[[#This Row],[Facture (HT)]]+ROW()/100000","v":3.1919999999999997E-2},{"$f":"_xlfn.CONCAT(Personne[[#This Row],[Adresse]],\" \",Personne[[#This Row],[CodePostal]],\" \",Personne[[#This Row],[Ville]],\" \",Personne[[#This Row],[CodePays]])","v":"   "}]
[null,null,null,null,null,null,null,null,null,null,null,null,null,null,null,null,null,null,null,null,null,null,null,null,null,null,null,null,null,null,{"$f":"IF(PARAMETRES!$B$3=\"SANS\",SUMIFS(Honoraire[TotalHonoraireHT],Honoraire[ClientId],Personne[[#This Row],[PersonneId]]),SUMIFS(Honoraire[TotalHT],Honoraire[ClientId],Personne[[#This Row],[PersonneId]]))","v":0},{"$f":"Personne[[#This Row],[Facture (HT)]]+ROW()/100000","v":3.193E-2},{"$f":"_xlfn.CONCAT(Personne[[#This Row],[Adresse]],\" \",Personne[[#This Row],[CodePostal]],\" \",Personne[[#This Row],[Ville]],\" \",Personne[[#This Row],[CodePays]])","v":"   "}]
[null,null,null,null,null,null,null,null,null,null,null,null,null,null,null,null,null,null,null,null,null,null,null,null,null,null,null,null,null,null,{"$f":"IF(PARAMETRES!$B$3=\"SANS\",SUMIFS(Honoraire[TotalHonoraireHT],Honoraire[ClientId],Personne[[#This Row],[PersonneId]]),SUMIFS(Honoraire[TotalHT],Honoraire[ClientId],Personne[[#This Row],[PersonneId]]))","v":0},{"$f":"Personne[[#This Row],[Facture (HT)]]+ROW()/100000","v":3.1940000000000003E-2},{"$f":"_xlfn.CONCAT(Personne[[#This Row],[Adresse]],\" \",Personne[[#This Row],[CodePostal]],\" \",Personne[[#This Row],[Ville]],\" \",Personne[[#This Row],[CodePays]])","v":"   "}]
[null,null,null,null,null,null,null,null,null,null,null,null,null,null,null,null,null,null,null,null,null,null,null,null,null,null,null,null,null,null,{"$f":"IF(PARAMETRES!$B$3=\"SANS\",SUMIFS(Honoraire[TotalHonoraireHT],Honoraire[ClientId],Personne[[#This Row],[PersonneId]]),SUMIFS(Honoraire[TotalHT],Honoraire[ClientId],Personne[[#This Row],[PersonneId]]))","v":0},{"$f":"Personne[[#This Row],[Facture (HT)]]+ROW()/100000","v":3.1949999999999999E-2},{"$f":"_xlfn.CONCAT(Personne[[#This Row],[Adresse]],\" \",Personne[[#This Row],[CodePostal]],\" \",Personne[[#This Row],[Ville]],\" \",Personne[[#This Row],[CodePays]])","v":"   "}]
[null,null,null,null,null,null,null,null,null,null,null,null,null,null,null,null,null,null,null,null,null,null,null,null,null,null,null,null,null,null,{"$f":"IF(PARAMETRES!$B$3=\"SANS\",SUMIFS(Honoraire[TotalHonoraireHT],Honoraire[ClientId],Personne[[#This Row],[PersonneId]]),SUMIFS(Honoraire[TotalHT],Honoraire[ClientId],Personne[[#This Row],[PersonneId]]))","v":0},{"$f":"Personne[[#This Row],[Facture (HT)]]+ROW()/100000","v":3.1960000000000002E-2},{"$f":"_xlfn.CONCAT(Personne[[#This Row],[Adresse]],\" \",Personne[[#This Row],[CodePostal]],\" \",Personne[[#This Row],[Ville]],\" \",Personne[[#This Row],[CodePays]])","v":"   "}]
[null,null,null,null,null,null,null,null,null,null,null,null,null,null,null,null,null,null,null,null,null,null,null,null,null,null,null,null,null,null,{"$f":"IF(PARAMETRES!$B$3=\"SANS\",SUMIFS(Honoraire[TotalHonoraireHT],Honoraire[ClientId],Personne[[#This Row],[PersonneId]]),SUMIFS(Honoraire[TotalHT],Honoraire[ClientId],Personne[[#This Row],[PersonneId]]))","v":0},{"$f":"Personne[[#This Row],[Facture (HT)]]+ROW()/100000","v":3.1969999999999998E-2},{"$f":"_xlfn.CONCAT(Personne[[#This Row],[Adresse]],\" \",Personne[[#This Row],[CodePostal]],\" \",Personne[[#This Row],[Ville]],\" \",Personne[[#This Row],[CodePays]])","v":"   "}]
[null,null,null,null,null,null,null,null,null,null,null,null,null,null,null,null,null,null,null,null,null,null,null,null,null,null,null,null,null,null,{"$f":"IF(PARAMETRES!$B$3=\"SANS\",SUMIFS(Honoraire[TotalHonoraireHT],Honoraire[ClientId],Personne[[#This Row],[PersonneId]]),SUMIFS(Honoraire[TotalHT],Honoraire[ClientId],Personne[[#This Row],[PersonneId]]))","v":0},{"$f":"Personne[[#This Row],[Facture (HT)]]+ROW()/100000","v":3.1980000000000001E-2},{"$f":"_xlfn.CONCAT(Personne[[#This Row],[Adresse]],\" \",Personne[[#This Row],[CodePostal]],\" \",Personne[[#This Row],[Ville]],\" \",Personne[[#This Row],[CodePays]])","v":"   "}]
[null,null,null,null,null,null,null,null,null,null,null,null,null,null,null,null,null,null,null,null,null,null,null,null,null,null,null,null,null,null,{"$f":"IF(PARAMETRES!$B$3=\"SANS\",SUMIFS(Honoraire[TotalHonoraireHT],Honoraire[ClientId],Personne[[#This Row],[PersonneId]]),SUMIFS(Honoraire[TotalHT],Honoraire[ClientId],Personne[[#This Row],[PersonneId]]))","v":0},{"$f":"Personne[[#This Row],[Facture (HT)]]+ROW()/100000","v":3.1989999999999998E-2},{"$f":"_xlfn.CONCAT(Personne[[#This Row],[Adresse]],\" \",Personne[[#This Row],[CodePostal]],\" \",Personne[[#This Row],[Ville]],\" \",Personne[[#This Row],[CodePays]])","v":"   "}]
[null,null,null,null,null,null,null,null,null,null,null,null,null,null,null,null,null,null,null,null,null,null,null,null,null,null,null,null,null,null,{"$f":"IF(PARAMETRES!$B$3=\"SANS\",SUMIFS(Honoraire[TotalHonoraireHT],Honoraire[ClientId],Personne[[#This Row],[PersonneId]]),SUMIFS(Honoraire[TotalHT],Honoraire[ClientId],Personne[[#This Row],[PersonneId]]))","v":0},{"$f":"Personne[[#This Row],[Facture (HT)]]+ROW()/100000","v":3.2000000000000001E-2},{"$f":"_xlfn.CONCAT(Personne[[#This Row],[Adresse]],\" \",Personne[[#This Row],[CodePostal]],\" \",Personne[[#This Row],[Ville]],\" \",Personne[[#This Row],[CodePays]])","v":"   "}]
[null,null,null,null,null,null,null,null,null,null,null,null,null,null,null,null,null,null,null,null,null,null,null,null,null,null,null,null,null,null,{"$f":"IF(PARAMETRES!$B$3=\"SANS\",SUMIFS(Honoraire[TotalHonoraireHT],Honoraire[ClientId],Personne[[#This Row],[PersonneId]]),SUMIFS(Honoraire[TotalHT],Honoraire[ClientId],Personne[[#This Row],[PersonneId]]))","v":0},{"$f":"Personne[[#This Row],[Facture (HT)]]+ROW()/100000","v":3.2009999999999997E-2},{"$f":"_xlfn.CONCAT(Personne[[#This Row],[Adresse]],\" \",Personne[[#This Row],[CodePostal]],\" \",Personne[[#This Row],[Ville]],\" \",Personne[[#This Row],[CodePays]])","v":"   "}]
[null,null,null,null,null,null,null,null,null,null,null,null,null,null,null,null,null,null,null,null,null,null,null,null,null,null,null,null,null,null,{"$f":"IF(PARAMETRES!$B$3=\"SANS\",SUMIFS(Honoraire[TotalHonoraireHT],Honoraire[ClientId],Personne[[#This Row],[PersonneId]]),SUMIFS(Honoraire[TotalHT],Honoraire[ClientId],Personne[[#This Row],[PersonneId]]))","v":0},{"$f":"Personne[[#This Row],[Facture (HT)]]+ROW()/100000","v":3.202E-2},{"$f":"_xlfn.CONCAT(Personne[[#This Row],[Adresse]],\" \",Personne[[#This Row],[CodePostal]],\" \",Personne[[#This Row],[Ville]],\" \",Personne[[#This Row],[CodePays]])","v":"   "}]
[null,null,null,null,null,null,null,null,null,null,null,null,null,null,null,null,null,null,null,null,null,null,null,null,null,null,null,null,null,null,{"$f":"IF(PARAMETRES!$B$3=\"SANS\",SUMIFS(Honoraire[TotalHonoraireHT],Honoraire[ClientId],Personne[[#This Row],[PersonneId]]),SUMIFS(Honoraire[TotalHT],Honoraire[ClientId],Personne[[#This Row],[PersonneId]]))","v":0},{"$f":"Personne[[#This Row],[Facture (HT)]]+ROW()/100000","v":3.2030000000000003E-2},{"$f":"_xlfn.CONCAT(Personne[[#This Row],[Adresse]],\" \",Personne[[#This Row],[CodePostal]],\" \",Personne[[#This Row],[Ville]],\" \",Personne[[#This Row],[CodePays]])","v":"   "}]
[null,null,null,null,null,null,null,null,null,null,null,null,null,null,null,null,null,null,null,null,null,null,null,null,null,null,null,null,null,null,{"$f":"IF(PARAMETRES!$B$3=\"SANS\",SUMIFS(Honoraire[TotalHonoraireHT],Honoraire[ClientId],Personne[[#This Row],[PersonneId]]),SUMIFS(Honoraire[TotalHT],Honoraire[ClientId],Personne[[#This Row],[PersonneId]]))","v":0},{"$f":"Personne[[#This Row],[Facture (HT)]]+ROW()/100000","v":3.2039999999999999E-2},{"$f":"_xlfn.CONCAT(Personne[[#This Row],[Adresse]],\" \",Personne[[#This Row],[CodePostal]],\" \",Personne[[#This Row],[Ville]],\" \",Personne[[#This Row],[CodePays]])","v":"   "}]
[null,null,null,null,null,null,null,null,null,null,null,null,null,null,null,null,null,null,null,null,null,null,null,null,null,null,null,null,null,null,{"$f":"IF(PARAMETRES!$B$3=\"SANS\",SUMIFS(Honoraire[TotalHonoraireHT],Honoraire[ClientId],Personne[[#This Row],[PersonneId]]),SUMIFS(Honoraire[TotalHT],Honoraire[ClientId],Personne[[#This Row],[PersonneId]]))","v":0},{"$f":"Personne[[#This Row],[Facture (HT)]]+ROW()/100000","v":3.2050000000000002E-2},{"$f":"_xlfn.CONCAT(Personne[[#This Row],[Adresse]],\" \",Personne[[#This Row],[CodePostal]],\" \",Personne[[#This Row],[Ville]],\" \",Personne[[#This Row],[CodePays]])","v":"   "}]
[null,null,null,null,null,null,null,null,null,null,null,null,null,null,null,null,null,null,null,null,null,null,null,null,null,null,null,null,null,null,{"$f":"IF(PARAMETRES!$B$3=\"SANS\",SUMIFS(Honoraire[TotalHonoraireHT],Honoraire[ClientId],Personne[[#This Row],[PersonneId]]),SUMIFS(Honoraire[TotalHT],Honoraire[ClientId],Personne[[#This Row],[PersonneId]]))","v":0},{"$f":"Personne[[#This Row],[Facture (HT)]]+ROW()/100000","v":3.2059999999999998E-2},{"$f":"_xlfn.CONCAT(Personne[[#This Row],[Adresse]],\" \",Personne[[#This Row],[CodePostal]],\" \",Personne[[#This Row],[Ville]],\" \",Personne[[#This Row],[CodePays]])","v":"   "}]
[null,null,null,null,null,null,null,null,null,null,null,null,null,null,null,null,null,null,null,null,null,null,null,null,null,null,null,null,null,null,{"$f":"IF(PARAMETRES!$B$3=\"SANS\",SUMIFS(Honoraire[TotalHonoraireHT],Honoraire[ClientId],Personne[[#This Row],[PersonneId]]),SUMIFS(Honoraire[TotalHT],Honoraire[ClientId],Personne[[#This Row],[PersonneId]]))","v":0},{"$f":"Personne[[#This Row],[Facture (HT)]]+ROW()/100000","v":3.2070000000000001E-2},{"$f":"_xlfn.CONCAT(Personne[[#This Row],[Adresse]],\" \",Personne[[#This Row],[CodePostal]],\" \",Personne[[#This Row],[Ville]],\" \",Personne[[#This Row],[CodePays]])","v":"   "}]
[null,null,null,null,null,null,null,null,null,null,null,null,null,null,null,null,null,null,null,null,null,null,null,null,null,null,null,null,null,null,{"$f":"IF(PARAMETRES!$B$3=\"SANS\",SUMIFS(Honoraire[TotalHonoraireHT],Honoraire[ClientId],Personne[[#This Row],[PersonneId]]),SUMIFS(Honoraire[TotalHT],Honoraire[ClientId],Personne[[#This Row],[PersonneId]]))","v":0},{"$f":"Personne[[#This Row],[Facture (HT)]]+ROW()/100000","v":3.2079999999999997E-2},{"$f":"_xlfn.CONCAT(Personne[[#This Row],[Adresse]],\" \",Personne[[#This Row],[CodePostal]],\" \",Personne[[#This Row],[Ville]],\" \",Personne[[#This Row],[CodePays]])","v":"   "}]
[null,null,null,null,null,null,null,null,null,null,null,null,null,null,null,null,null,null,null,null,null,null,null,null,null,null,null,null,null,null,{"$f":"IF(PARAMETRES!$B$3=\"SANS\",SUMIFS(Honoraire[TotalHonoraireHT],Honoraire[ClientId],Personne[[#This Row],[PersonneId]]),SUMIFS(Honoraire[TotalHT],Honoraire[ClientId],Personne[[#This Row],[PersonneId]]))","v":0},{"$f":"Personne[[#This Row],[Facture (HT)]]+ROW()/100000","v":3.209E-2},{"$f":"_xlfn.CONCAT(Personne[[#This Row],[Adresse]],\" \",Personne[[#This Row],[CodePostal]],\" \",Personne[[#This Row],[Ville]],\" \",Personne[[#This Row],[CodePays]])","v":"   "}]
[null,null,null,null,null,null,null,null,null,null,null,null,null,null,null,null,null,null,null,null,null,null,null,null,null,null,null,null,null,null,{"$f":"IF(PARAMETRES!$B$3=\"SANS\",SUMIFS(Honoraire[TotalHonoraireHT],Honoraire[ClientId],Personne[[#This Row],[PersonneId]]),SUMIFS(Honoraire[TotalHT],Honoraire[ClientId],Personne[[#This Row],[PersonneId]]))","v":0},{"$f":"Personne[[#This Row],[Facture (HT)]]+ROW()/100000","v":3.2099999999999997E-2},{"$f":"_xlfn.CONCAT(Personne[[#This Row],[Adresse]],\" \",Personne[[#This Row],[CodePostal]],\" \",Personne[[#This Row],[Ville]],\" \",Personne[[#This Row],[CodePays]])","v":"   "}]
[null,null,null,null,null,null,null,null,null,null,null,null,null,null,null,null,null,null,null,null,null,null,null,null,null,null,null,null,null,null,{"$f":"IF(PARAMETRES!$B$3=\"SANS\",SUMIFS(Honoraire[TotalHonoraireHT],Honoraire[ClientId],Personne[[#This Row],[PersonneId]]),SUMIFS(Honoraire[TotalHT],Honoraire[ClientId],Personne[[#This Row],[PersonneId]]))","v":0},{"$f":"Personne[[#This Row],[Facture (HT)]]+ROW()/100000","v":3.211E-2},{"$f":"_xlfn.CONCAT(Personne[[#This Row],[Adresse]],\" \",Personne[[#This Row],[CodePostal]],\" \",Personne[[#This Row],[Ville]],\" \",Personne[[#This Row],[CodePays]])","v":"   "}]
[null,null,null,null,null,null,null,null,null,null,null,null,null,null,null,null,null,null,null,null,null,null,null,null,null,null,null,null,null,null,{"$f":"IF(PARAMETRES!$B$3=\"SANS\",SUMIFS(Honoraire[TotalHonoraireHT],Honoraire[ClientId],Personne[[#This Row],[PersonneId]]),SUMIFS(Honoraire[TotalHT],Honoraire[ClientId],Personne[[#This Row],[PersonneId]]))","v":0},{"$f":"Personne[[#This Row],[Facture (HT)]]+ROW()/100000","v":3.2120000000000003E-2},{"$f":"_xlfn.CONCAT(Personne[[#This Row],[Adresse]],\" \",Personne[[#This Row],[CodePostal]],\" \",Personne[[#This Row],[Ville]],\" \",Personne[[#This Row],[CodePays]])","v":"   "}]
[null,null,null,null,null,null,null,null,null,null,null,null,null,null,null,null,null,null,null,null,null,null,null,null,null,null,null,null,null,null,{"$f":"IF(PARAMETRES!$B$3=\"SANS\",SUMIFS(Honoraire[TotalHonoraireHT],Honoraire[ClientId],Personne[[#This Row],[PersonneId]]),SUMIFS(Honoraire[TotalHT],Honoraire[ClientId],Personne[[#This Row],[PersonneId]]))","v":0},{"$f":"Personne[[#This Row],[Facture (HT)]]+ROW()/100000","v":3.2129999999999999E-2},{"$f":"_xlfn.CONCAT(Personne[[#This Row],[Adresse]],\" \",Personne[[#This Row],[CodePostal]],\" \",Personne[[#This Row],[Ville]],\" \",Personne[[#This Row],[CodePays]])","v":"   "}]
[null,null,null,null,null,null,null,null,null,null,null,null,null,null,null,null,null,null,null,null,null,null,null,null,null,null,null,null,null,null,{"$f":"IF(PARAMETRES!$B$3=\"SANS\",SUMIFS(Honoraire[TotalHonoraireHT],Honoraire[ClientId],Personne[[#This Row],[PersonneId]]),SUMIFS(Honoraire[TotalHT],Honoraire[ClientId],Personne[[#This Row],[PersonneId]]))","v":0},{"$f":"Personne[[#This Row],[Facture (HT)]]+ROW()/100000","v":3.2140000000000002E-2},{"$f":"_xlfn.CONCAT(Personne[[#This Row],[Adresse]],\" \",Personne[[#This Row],[CodePostal]],\" \",Personne[[#This Row],[Ville]],\" \",Personne[[#This Row],[CodePays]])","v":"   "}]
[null,null,null,null,null,null,null,null,null,null,null,null,null,null,null,null,null,null,null,null,null,null,null,null,null,null,null,null,null,null,{"$f":"IF(PARAMETRES!$B$3=\"SANS\",SUMIFS(Honoraire[TotalHonoraireHT],Honoraire[ClientId],Personne[[#This Row],[PersonneId]]),SUMIFS(Honoraire[TotalHT],Honoraire[ClientId],Personne[[#This Row],[PersonneId]]))","v":0},{"$f":"Personne[[#This Row],[Facture (HT)]]+ROW()/100000","v":3.2149999999999998E-2},{"$f":"_xlfn.CONCAT(Personne[[#This Row],[Adresse]],\" \",Personne[[#This Row],[CodePostal]],\" \",Personne[[#This Row],[Ville]],\" \",Personne[[#This Row],[CodePays]])","v":"   "}]
[null,null,null,null,null,null,null,null,null,null,null,null,null,null,null,null,null,null,null,null,null,null,null,null,null,null,null,null,null,null,{"$f":"IF(PARAMETRES!$B$3=\"SANS\",SUMIFS(Honoraire[TotalHonoraireHT],Honoraire[ClientId],Personne[[#This Row],[PersonneId]]),SUMIFS(Honoraire[TotalHT],Honoraire[ClientId],Personne[[#This Row],[PersonneId]]))","v":0},{"$f":"Personne[[#This Row],[Facture (HT)]]+ROW()/100000","v":3.2160000000000001E-2},{"$f":"_xlfn.CONCAT(Personne[[#This Row],[Adresse]],\" \",Personne[[#This Row],[CodePostal]],\" \",Personne[[#This Row],[Ville]],\" \",Personne[[#This Row],[CodePays]])","v":"   "}]
[null,null,null,null,null,null,null,null,null,null,null,null,null,null,null,null,null,null,null,null,null,null,null,null,null,null,null,null,null,null,{"$f":"IF(PARAMETRES!$B$3=\"SANS\",SUMIFS(Honoraire[TotalHonoraireHT],Honoraire[ClientId],Personne[[#This Row],[PersonneId]]),SUMIFS(Honoraire[TotalHT],Honoraire[ClientId],Personne[[#This Row],[PersonneId]]))","v":0},{"$f":"Personne[[#This Row],[Facture (HT)]]+ROW()/100000","v":3.2169999999999997E-2},{"$f":"_xlfn.CONCAT(Personne[[#This Row],[Adresse]],\" \",Personne[[#This Row],[CodePostal]],\" \",Personne[[#This Row],[Ville]],\" \",Personne[[#This Row],[CodePays]])","v":"   "}]
[null,null,null,null,null,null,null,null,null,null,null,null,null,null,null,null,null,null,null,null,null,null,null,null,null,null,null,null,null,null,{"$f":"IF(PARAMETRES!$B$3=\"SANS\",SUMIFS(Honoraire[TotalHonoraireHT],Honoraire[ClientId],Personne[[#This Row],[PersonneId]]),SUMIFS(Honoraire[TotalHT],Honoraire[ClientId],Personne[[#This Row],[PersonneId]]))","v":0},{"$f":"Personne[[#This Row],[Facture (HT)]]+ROW()/100000","v":3.218E-2},{"$f":"_xlfn.CONCAT(Personne[[#This Row],[Adresse]],\" \",Personne[[#This Row],[CodePostal]],\" \",Personne[[#This Row],[Ville]],\" \",Personne[[#This Row],[CodePays]])","v":"   "}]
[null,null,null,null,null,null,null,null,null,null,null,null,null,null,null,null,null,null,null,null,null,null,null,null,null,null,null,null,null,null,{"$f":"IF(PARAMETRES!$B$3=\"SANS\",SUMIFS(Honoraire[TotalHonoraireHT],Honoraire[ClientId],Personne[[#This Row],[PersonneId]]),SUMIFS(Honoraire[TotalHT],Honoraire[ClientId],Personne[[#This Row],[PersonneId]]))","v":0},{"$f":"Personne[[#This Row],[Facture (HT)]]+ROW()/100000","v":3.2190000000000003E-2},{"$f":"_xlfn.CONCAT(Personne[[#This Row],[Adresse]],\" \",Personne[[#This Row],[CodePostal]],\" \",Personne[[#This Row],[Ville]],\" \",Personne[[#This Row],[CodePays]])","v":"   "}]
[null,null,null,null,null,null,null,null,null,null,null,null,null,null,null,null,null,null,null,null,null,null,null,null,null,null,null,null,null,null,{"$f":"IF(PARAMETRES!$B$3=\"SANS\",SUMIFS(Honoraire[TotalHonoraireHT],Honoraire[ClientId],Personne[[#This Row],[PersonneId]]),SUMIFS(Honoraire[TotalHT],Honoraire[ClientId],Personne[[#This Row],[PersonneId]]))","v":0},{"$f":"Personne[[#This Row],[Facture (HT)]]+ROW()/100000","v":3.2199999999999999E-2},{"$f":"_xlfn.CONCAT(Personne[[#This Row],[Adresse]],\" \",Personne[[#This Row],[CodePostal]],\" \",Personne[[#This Row],[Ville]],\" \",Personne[[#This Row],[CodePays]])","v":"   "}]
[null,null,null,null,null,null,null,null,null,null,null,null,null,null,null,null,null,null,null,null,null,null,null,null,null,null,null,null,null,null,{"$f":"IF(PARAMETRES!$B$3=\"SANS\",SUMIFS(Honoraire[TotalHonoraireHT],Honoraire[ClientId],Personne[[#This Row],[PersonneId]]),SUMIFS(Honoraire[TotalHT],Honoraire[ClientId],Personne[[#This Row],[PersonneId]]))","v":0},{"$f":"Personne[[#This Row],[Facture (HT)]]+ROW()/100000","v":3.2210000000000003E-2},{"$f":"_xlfn.CONCAT(Personne[[#This Row],[Adresse]],\" \",Personne[[#This Row],[CodePostal]],\" \",Personne[[#This Row],[Ville]],\" \",Personne[[#This Row],[CodePays]])","v":"   "}]
[null,null,null,null,null,null,null,null,null,null,null,null,null,null,null,null,null,null,null,null,null,null,null,null,null,null,null,null,null,null,{"$f":"IF(PARAMETRES!$B$3=\"SANS\",SUMIFS(Honoraire[TotalHonoraireHT],Honoraire[ClientId],Personne[[#This Row],[PersonneId]]),SUMIFS(Honoraire[TotalHT],Honoraire[ClientId],Personne[[#This Row],[PersonneId]]))","v":0},{"$f":"Personne[[#This Row],[Facture (HT)]]+ROW()/100000","v":3.2219999999999999E-2},{"$f":"_xlfn.CONCAT(Personne[[#This Row],[Adresse]],\" \",Personne[[#This Row],[CodePostal]],\" \",Personne[[#This Row],[Ville]],\" \",Personne[[#This Row],[CodePays]])","v":"   "}]
[null,null,null,null,null,null,null,null,null,null,null,null,null,null,null,null,null,null,null,null,null,null,null,null,null,null,null,null,null,null,{"$f":"IF(PARAMETRES!$B$3=\"SANS\",SUMIFS(Honoraire[TotalHonoraireHT],Honoraire[ClientId],Personne[[#This Row],[PersonneId]]),SUMIFS(Honoraire[TotalHT],Honoraire[ClientId],Personne[[#This Row],[PersonneId]]))","v":0},{"$f":"Personne[[#This Row],[Facture (HT)]]+ROW()/100000","v":3.2230000000000002E-2},{"$f":"_xlfn.CONCAT(Personne[[#This Row],[Adresse]],\" \",Personne[[#This Row],[CodePostal]],\" \",Personne[[#This Row],[Ville]],\" \",Personne[[#This Row],[CodePays]])","v":"   "}]
[null,null,null,null,null,null,null,null,null,null,null,null,null,null,null,null,null,null,null,null,null,null,null,null,null,null,null,null,null,null,{"$f":"IF(PARAMETRES!$B$3=\"SANS\",SUMIFS(Honoraire[TotalHonoraireHT],Honoraire[ClientId],Personne[[#This Row],[PersonneId]]),SUMIFS(Honoraire[TotalHT],Honoraire[ClientId],Personne[[#This Row],[PersonneId]]))","v":0},{"$f":"Personne[[#This Row],[Facture (HT)]]+ROW()/100000","v":3.2239999999999998E-2},{"$f":"_xlfn.CONCAT(Personne[[#This Row],[Adresse]],\" \",Personne[[#This Row],[CodePostal]],\" \",Personne[[#This Row],[Ville]],\" \",Personne[[#This Row],[CodePays]])","v":"   "}]
[null,null,null,null,null,null,null,null,null,null,null,null,null,null,null,null,null,null,null,null,null,null,null,null,null,null,null,null,null,null,{"$f":"IF(PARAMETRES!$B$3=\"SANS\",SUMIFS(Honoraire[TotalHonoraireHT],Honoraire[ClientId],Personne[[#This Row],[PersonneId]]),SUMIFS(Honoraire[TotalHT],Honoraire[ClientId],Personne[[#This Row],[PersonneId]]))","v":0},{"$f":"Personne[[#This Row],[Facture (HT)]]+ROW()/100000","v":3.2250000000000001E-2},{"$f":"_xlfn.CONCAT(Personne[[#This Row],[Adresse]],\" \",Personne[[#This Row],[CodePostal]],\" \",Personne[[#This Row],[Ville]],\" \",Personne[[#This Row],[CodePays]])","v":"   "}]
[null,null,null,null,null,null,null,null,null,null,null,null,null,null,null,null,null,null,null,null,null,null,null,null,null,null,null,null,null,null,{"$f":"IF(PARAMETRES!$B$3=\"SANS\",SUMIFS(Honoraire[TotalHonoraireHT],Honoraire[ClientId],Personne[[#This Row],[PersonneId]]),SUMIFS(Honoraire[TotalHT],Honoraire[ClientId],Personne[[#This Row],[PersonneId]]))","v":0},{"$f":"Personne[[#This Row],[Facture (HT)]]+ROW()/100000","v":3.2259999999999997E-2},{"$f":"_xlfn.CONCAT(Personne[[#This Row],[Adresse]],\" \",Personne[[#This Row],[CodePostal]],\" \",Personne[[#This Row],[Ville]],\" \",Personne[[#This Row],[CodePays]])","v":"   "}]
[null,null,null,null,null,null,null,null,null,null,null,null,null,null,null,null,null,null,null,null,null,null,null,null,null,null,null,null,null,null,{"$f":"IF(PARAMETRES!$B$3=\"SANS\",SUMIFS(Honoraire[TotalHonoraireHT],Honoraire[ClientId],Personne[[#This Row],[PersonneId]]),SUMIFS(Honoraire[TotalHT],Honoraire[ClientId],Personne[[#This Row],[PersonneId]]))","v":0},{"$f":"Personne[[#This Row],[Facture (HT)]]+ROW()/100000","v":3.227E-2},{"$f":"_xlfn.CONCAT(Personne[[#This Row],[Adresse]],\" \",Personne[[#This Row],[CodePostal]],\" \",Personne[[#This Row],[Ville]],\" \",Personne[[#This Row],[CodePays]])","v":"   "}]
[null,null,null,null,null,null,null,null,null,null,null,null,null,null,null,null,null,null,null,null,null,null,null,null,null,null,null,null,null,null,{"$f":"IF(PARAMETRES!$B$3=\"SANS\",SUMIFS(Honoraire[TotalHonoraireHT],Honoraire[ClientId],Personne[[#This Row],[PersonneId]]),SUMIFS(Honoraire[TotalHT],Honoraire[ClientId],Personne[[#This Row],[PersonneId]]))","v":0},{"$f":"Personne[[#This Row],[Facture (HT)]]+ROW()/100000","v":3.2280000000000003E-2},{"$f":"_xlfn.CONCAT(Personne[[#This Row],[Adresse]],\" \",Personne[[#This Row],[CodePostal]],\" \",Personne[[#This Row],[Ville]],\" \",Personne[[#This Row],[CodePays]])","v":"   "}]
[null,null,null,null,null,null,null,null,null,null,null,null,null,null,null,null,null,null,null,null,null,null,null,null,null,null,null,null,null,null,{"$f":"IF(PARAMETRES!$B$3=\"SANS\",SUMIFS(Honoraire[TotalHonoraireHT],Honoraire[ClientId],Personne[[#This Row],[PersonneId]]),SUMIFS(Honoraire[TotalHT],Honoraire[ClientId],Personne[[#This Row],[PersonneId]]))","v":0},{"$f":"Personne[[#This Row],[Facture (HT)]]+ROW()/100000","v":3.2289999999999999E-2},{"$f":"_xlfn.CONCAT(Personne[[#This Row],[Adresse]],\" \",Personne[[#This Row],[CodePostal]],\" \",Personne[[#This Row],[Ville]],\" \",Personne[[#This Row],[CodePays]])","v":"   "}]
[null,null,null,null,null,null,null,null,null,null,null,null,null,null,null,null,null,null,null,null,null,null,null,null,null,null,null,null,null,null,{"$f":"IF(PARAMETRES!$B$3=\"SANS\",SUMIFS(Honoraire[TotalHonoraireHT],Honoraire[ClientId],Personne[[#This Row],[PersonneId]]),SUMIFS(Honoraire[TotalHT],Honoraire[ClientId],Personne[[#This Row],[PersonneId]]))","v":0},{"$f":"Personne[[#This Row],[Facture (HT)]]+ROW()/100000","v":3.2300000000000002E-2},{"$f":"_xlfn.CONCAT(Personne[[#This Row],[Adresse]],\" \",Personne[[#This Row],[CodePostal]],\" \",Personne[[#This Row],[Ville]],\" \",Personne[[#This Row],[CodePays]])","v":"   "}]
[null,null,null,null,null,null,null,null,null,null,null,null,null,null,null,null,null,null,null,null,null,null,null,null,null,null,null,null,null,null,{"$f":"IF(PARAMETRES!$B$3=\"SANS\",SUMIFS(Honoraire[TotalHonoraireHT],Honoraire[ClientId],Personne[[#This Row],[PersonneId]]),SUMIFS(Honoraire[TotalHT],Honoraire[ClientId],Personne[[#This Row],[PersonneId]]))","v":0},{"$f":"Personne[[#This Row],[Facture (HT)]]+ROW()/100000","v":3.2309999999999998E-2},{"$f":"_xlfn.CONCAT(Personne[[#This Row],[Adresse]],\" \",Personne[[#This Row],[CodePostal]],\" \",Personne[[#This Row],[Ville]],\" \",Personne[[#This Row],[CodePays]])","v":"   "}]
[null,null,null,null,null,null,null,null,null,null,null,null,null,null,null,null,null,null,null,null,null,null,null,null,null,null,null,null,null,null,{"$f":"IF(PARAMETRES!$B$3=\"SANS\",SUMIFS(Honoraire[TotalHonoraireHT],Honoraire[ClientId],Personne[[#This Row],[PersonneId]]),SUMIFS(Honoraire[TotalHT],Honoraire[ClientId],Personne[[#This Row],[PersonneId]]))","v":0},{"$f":"Personne[[#This Row],[Facture (HT)]]+ROW()/100000","v":3.2320000000000002E-2},{"$f":"_xlfn.CONCAT(Personne[[#This Row],[Adresse]],\" \",Personne[[#This Row],[CodePostal]],\" \",Personne[[#This Row],[Ville]],\" \",Personne[[#This Row],[CodePays]])","v":"   "}]
[null,null,null,null,null,null,null,null,null,null,null,null,null,null,null,null,null,null,null,null,null,null,null,null,null,null,null,null,null,null,{"$f":"IF(PARAMETRES!$B$3=\"SANS\",SUMIFS(Honoraire[TotalHonoraireHT],Honoraire[ClientId],Personne[[#This Row],[PersonneId]]),SUMIFS(Honoraire[TotalHT],Honoraire[ClientId],Personne[[#This Row],[PersonneId]]))","v":0},{"$f":"Personne[[#This Row],[Facture (HT)]]+ROW()/100000","v":3.2329999999999998E-2},{"$f":"_xlfn.CONCAT(Personne[[#This Row],[Adresse]],\" \",Personne[[#This Row],[CodePostal]],\" \",Personne[[#This Row],[Ville]],\" \",Personne[[#This Row],[CodePays]])","v":"   "}]
[null,null,null,null,null,null,null,null,null,null,null,null,null,null,null,null,null,null,null,null,null,null,null,null,null,null,null,null,null,null,{"$f":"IF(PARAMETRES!$B$3=\"SANS\",SUMIFS(Honoraire[TotalHonoraireHT],Honoraire[ClientId],Personne[[#This Row],[PersonneId]]),SUMIFS(Honoraire[TotalHT],Honoraire[ClientId],Personne[[#This Row],[PersonneId]]))","v":0},{"$f":"Personne[[#This Row],[Facture (HT)]]+ROW()/100000","v":3.2340000000000001E-2},{"$f":"_xlfn.CONCAT(Personne[[#This Row],[Adresse]],\" \",Personne[[#This Row],[CodePostal]],\" \",Personne[[#This Row],[Ville]],\" \",Personne[[#This Row],[CodePays]])","v":"   "}]
[null,null,null,null,null,null,null,null,null,null,null,null,null,null,null,null,null,null,null,null,null,null,null,null,null,null,null,null,null,null,{"$f":"IF(PARAMETRES!$B$3=\"SANS\",SUMIFS(Honoraire[TotalHonoraireHT],Honoraire[ClientId],Personne[[#This Row],[PersonneId]]),SUMIFS(Honoraire[TotalHT],Honoraire[ClientId],Personne[[#This Row],[PersonneId]]))","v":0},{"$f":"Personne[[#This Row],[Facture (HT)]]+ROW()/100000","v":3.2349999999999997E-2},{"$f":"_xlfn.CONCAT(Personne[[#This Row],[Adresse]],\" \",Personne[[#This Row],[CodePostal]],\" \",Personne[[#This Row],[Ville]],\" \",Personne[[#This Row],[CodePays]])","v":"   "}]
[null,null,null,null,null,null,null,null,null,null,null,null,null,null,null,null,null,null,null,null,null,null,null,null,null,null,null,null,null,null,{"$f":"IF(PARAMETRES!$B$3=\"SANS\",SUMIFS(Honoraire[TotalHonoraireHT],Honoraire[ClientId],Personne[[#This Row],[PersonneId]]),SUMIFS(Honoraire[TotalHT],Honoraire[ClientId],Personne[[#This Row],[PersonneId]]))","v":0},{"$f":"Personne[[#This Row],[Facture (HT)]]+ROW()/100000","v":3.236E-2},{"$f":"_xlfn.CONCAT(Personne[[#This Row],[Adresse]],\" \",Personne[[#This Row],[CodePostal]],\" \",Personne[[#This Row],[Ville]],\" \",Personne[[#This Row],[CodePays]])","v":"   "}]
[null,null,null,null,null,null,null,null,null,null,null,null,null,null,null,null,null,null,null,null,null,null,null,null,null,null,null,null,null,null,{"$f":"IF(PARAMETRES!$B$3=\"SANS\",SUMIFS(Honoraire[TotalHonoraireHT],Honoraire[ClientId],Personne[[#This Row],[PersonneId]]),SUMIFS(Honoraire[TotalHT],Honoraire[ClientId],Personne[[#This Row],[PersonneId]]))","v":0},{"$f":"Personne[[#This Row],[Facture (HT)]]+ROW()/100000","v":3.2370000000000003E-2},{"$f":"_xlfn.CONCAT(Personne[[#This Row],[Adresse]],\" \",Personne[[#This Row],[CodePostal]],\" \",Personne[[#This Row],[Ville]],\" \",Personne[[#This Row],[CodePays]])","v":"   "}]
[null,null,null,null,null,null,null,null,null,null,null,null,null,null,null,null,null,null,null,null,null,null,null,null,null,null,null,null,null,null,{"$f":"IF(PARAMETRES!$B$3=\"SANS\",SUMIFS(Honoraire[TotalHonoraireHT],Honoraire[ClientId],Personne[[#This Row],[PersonneId]]),SUMIFS(Honoraire[TotalHT],Honoraire[ClientId],Personne[[#This Row],[PersonneId]]))","v":0},{"$f":"Personne[[#This Row],[Facture (HT)]]+ROW()/100000","v":3.2379999999999999E-2},{"$f":"_xlfn.CONCAT(Personne[[#This Row],[Adresse]],\" \",Personne[[#This Row],[CodePostal]],\" \",Personne[[#This Row],[Ville]],\" \",Personne[[#This Row],[CodePays]])","v":"   "}]
[null,null,null,null,null,null,null,null,null,null,null,null,null,null,null,null,null,null,null,null,null,null,null,null,null,null,null,null,null,null,{"$f":"IF(PARAMETRES!$B$3=\"SANS\",SUMIFS(Honoraire[TotalHonoraireHT],Honoraire[ClientId],Personne[[#This Row],[PersonneId]]),SUMIFS(Honoraire[TotalHT],Honoraire[ClientId],Personne[[#This Row],[PersonneId]]))","v":0},{"$f":"Personne[[#This Row],[Facture (HT)]]+ROW()/100000","v":3.2390000000000002E-2},{"$f":"_xlfn.CONCAT(Personne[[#This Row],[Adresse]],\" \",Personne[[#This Row],[CodePostal]],\" \",Personne[[#This Row],[Ville]],\" \",Personne[[#This Row],[CodePays]])","v":"   "}]
[null,null,null,null,null,null,null,null,null,null,null,null,null,null,null,null,null,null,null,null,null,null,null,null,null,null,null,null,null,null,{"$f":"IF(PARAMETRES!$B$3=\"SANS\",SUMIFS(Honoraire[TotalHonoraireHT],Honoraire[ClientId],Personne[[#This Row],[PersonneId]]),SUMIFS(Honoraire[TotalHT],Honoraire[ClientId],Personne[[#This Row],[PersonneId]]))","v":0},{"$f":"Personne[[#This Row],[Facture (HT)]]+ROW()/100000","v":3.2399999999999998E-2},{"$f":"_xlfn.CONCAT(Personne[[#This Row],[Adresse]],\" \",Personne[[#This Row],[CodePostal]],\" \",Personne[[#This Row],[Ville]],\" \",Personne[[#This Row],[CodePays]])","v":"   "}]
[null,null,null,null,null,null,null,null,null,null,null,null,null,null,null,null,null,null,null,null,null,null,null,null,null,null,null,null,null,null,{"$f":"IF(PARAMETRES!$B$3=\"SANS\",SUMIFS(Honoraire[TotalHonoraireHT],Honoraire[ClientId],Personne[[#This Row],[PersonneId]]),SUMIFS(Honoraire[TotalHT],Honoraire[ClientId],Personne[[#This Row],[PersonneId]]))","v":0},{"$f":"Personne[[#This Row],[Facture (HT)]]+ROW()/100000","v":3.2410000000000001E-2},{"$f":"_xlfn.CONCAT(Personne[[#This Row],[Adresse]],\" \",Personne[[#This Row],[CodePostal]],\" \",Personne[[#This Row],[Ville]],\" \",Personne[[#This Row],[CodePays]])","v":"   "}]
[null,null,null,null,null,null,null,null,null,null,null,null,null,null,null,null,null,null,null,null,null,null,null,null,null,null,null,null,null,null,{"$f":"IF(PARAMETRES!$B$3=\"SANS\",SUMIFS(Honoraire[TotalHonoraireHT],Honoraire[ClientId],Personne[[#This Row],[PersonneId]]),SUMIFS(Honoraire[TotalHT],Honoraire[ClientId],Personne[[#This Row],[PersonneId]]))","v":0},{"$f":"Personne[[#This Row],[Facture (HT)]]+ROW()/100000","v":3.2419999999999997E-2},{"$f":"_xlfn.CONCAT(Personne[[#This Row],[Adresse]],\" \",Personne[[#This Row],[CodePostal]],\" \",Personne[[#This Row],[Ville]],\" \",Personne[[#This Row],[CodePays]])","v":"   "}]
[null,null,null,null,null,null,null,null,null,null,null,null,null,null,null,null,null,null,null,null,null,null,null,null,null,null,null,null,null,null,{"$f":"IF(PARAMETRES!$B$3=\"SANS\",SUMIFS(Honoraire[TotalHonoraireHT],Honoraire[ClientId],Personne[[#This Row],[PersonneId]]),SUMIFS(Honoraire[TotalHT],Honoraire[ClientId],Personne[[#This Row],[PersonneId]]))","v":0},{"$f":"Personne[[#This Row],[Facture (HT)]]+ROW()/100000","v":3.243E-2},{"$f":"_xlfn.CONCAT(Personne[[#This Row],[Adresse]],\" \",Personne[[#This Row],[CodePostal]],\" \",Personne[[#This Row],[Ville]],\" \",Personne[[#This Row],[CodePays]])","v":"   "}]
[null,null,null,null,null,null,null,null,null,null,null,null,null,null,null,null,null,null,null,null,null,null,null,null,null,null,null,null,null,null,{"$f":"IF(PARAMETRES!$B$3=\"SANS\",SUMIFS(Honoraire[TotalHonoraireHT],Honoraire[ClientId],Personne[[#This Row],[PersonneId]]),SUMIFS(Honoraire[TotalHT],Honoraire[ClientId],Personne[[#This Row],[PersonneId]]))","v":0},{"$f":"Personne[[#This Row],[Facture (HT)]]+ROW()/100000","v":3.2439999999999997E-2},{"$f":"_xlfn.CONCAT(Personne[[#This Row],[Adresse]],\" \",Personne[[#This Row],[CodePostal]],\" \",Personne[[#This Row],[Ville]],\" \",Personne[[#This Row],[CodePays]])","v":"   "}]
[null,null,null,null,null,null,null,null,null,null,null,null,null,null,null,null,null,null,null,null,null,null,null,null,null,null,null,null,null,null,{"$f":"IF(PARAMETRES!$B$3=\"SANS\",SUMIFS(Honoraire[TotalHonoraireHT],Honoraire[ClientId],Personne[[#This Row],[PersonneId]]),SUMIFS(Honoraire[TotalHT],Honoraire[ClientId],Personne[[#This Row],[PersonneId]]))","v":0},{"$f":"Personne[[#This Row],[Facture (HT)]]+ROW()/100000","v":3.245E-2},{"$f":"_xlfn.CONCAT(Personne[[#This Row],[Adresse]],\" \",Personne[[#This Row],[CodePostal]],\" \",Personne[[#This Row],[Ville]],\" \",Personne[[#This Row],[CodePays]])","v":"   "}]
[null,null,null,null,null,null,null,null,null,null,null,null,null,null,null,null,null,null,null,null,null,null,null,null,null,null,null,null,null,null,{"$f":"IF(PARAMETRES!$B$3=\"SANS\",SUMIFS(Honoraire[TotalHonoraireHT],Honoraire[ClientId],Personne[[#This Row],[PersonneId]]),SUMIFS(Honoraire[TotalHT],Honoraire[ClientId],Personne[[#This Row],[PersonneId]]))","v":0},{"$f":"Personne[[#This Row],[Facture (HT)]]+ROW()/100000","v":3.2460000000000003E-2},{"$f":"_xlfn.CONCAT(Personne[[#This Row],[Adresse]],\" \",Personne[[#This Row],[CodePostal]],\" \",Personne[[#This Row],[Ville]],\" \",Personne[[#This Row],[CodePays]])","v":"   "}]
[null,null,null,null,null,null,null,null,null,null,null,null,null,null,null,null,null,null,null,null,null,null,null,null,null,null,null,null,null,null,{"$f":"IF(PARAMETRES!$B$3=\"SANS\",SUMIFS(Honoraire[TotalHonoraireHT],Honoraire[ClientId],Personne[[#This Row],[PersonneId]]),SUMIFS(Honoraire[TotalHT],Honoraire[ClientId],Personne[[#This Row],[PersonneId]]))","v":0},{"$f":"Personne[[#This Row],[Facture (HT)]]+ROW()/100000","v":3.2469999999999999E-2},{"$f":"_xlfn.CONCAT(Personne[[#This Row],[Adresse]],\" \",Personne[[#This Row],[CodePostal]],\" \",Personne[[#This Row],[Ville]],\" \",Personne[[#This Row],[CodePays]])","v":"   "}]
[null,null,null,null,null,null,null,null,null,null,null,null,null,null,null,null,null,null,null,null,null,null,null,null,null,null,null,null,null,null,{"$f":"IF(PARAMETRES!$B$3=\"SANS\",SUMIFS(Honoraire[TotalHonoraireHT],Honoraire[ClientId],Personne[[#This Row],[PersonneId]]),SUMIFS(Honoraire[TotalHT],Honoraire[ClientId],Personne[[#This Row],[PersonneId]]))","v":0},{"$f":"Personne[[#This Row],[Facture (HT)]]+ROW()/100000","v":3.2480000000000002E-2},{"$f":"_xlfn.CONCAT(Personne[[#This Row],[Adresse]],\" \",Personne[[#This Row],[CodePostal]],\" \",Personne[[#This Row],[Ville]],\" \",Personne[[#This Row],[CodePays]])","v":"   "}]
[null,null,null,null,null,null,null,null,null,null,null,null,null,null,null,null,null,null,null,null,null,null,null,null,null,null,null,null,null,null,{"$f":"IF(PARAMETRES!$B$3=\"SANS\",SUMIFS(Honoraire[TotalHonoraireHT],Honoraire[ClientId],Personne[[#This Row],[PersonneId]]),SUMIFS(Honoraire[TotalHT],Honoraire[ClientId],Personne[[#This Row],[PersonneId]]))","v":0},{"$f":"Personne[[#This Row],[Facture (HT)]]+ROW()/100000","v":3.2489999999999998E-2},{"$f":"_xlfn.CONCAT(Personne[[#This Row],[Adresse]],\" \",Personne[[#This Row],[CodePostal]],\" \",Personne[[#This Row],[Ville]],\" \",Personne[[#This Row],[CodePays]])","v":"   "}]
[null,null,null,null,null,null,null,null,null,null,null,null,null,null,null,null,null,null,null,null,null,null,null,null,null,null,null,null,null,null,{"$f":"IF(PARAMETRES!$B$3=\"SANS\",SUMIFS(Honoraire[TotalHonoraireHT],Honoraire[ClientId],Personne[[#This Row],[PersonneId]]),SUMIFS(Honoraire[TotalHT],Honoraire[ClientId],Personne[[#This Row],[PersonneId]]))","v":0},{"$f":"Personne[[#This Row],[Facture (HT)]]+ROW()/100000","v":3.2500000000000001E-2},{"$f":"_xlfn.CONCAT(Personne[[#This Row],[Adresse]],\" \",Personne[[#This Row],[CodePostal]],\" \",Personne[[#This Row],[Ville]],\" \",Personne[[#This Row],[CodePays]])","v":"   "}]
[null,null,null,null,null,null,null,null,null,null,null,null,null,null,null,null,null,null,null,null,null,null,null,null,null,null,null,null,null,null,{"$f":"IF(PARAMETRES!$B$3=\"SANS\",SUMIFS(Honoraire[TotalHonoraireHT],Honoraire[ClientId],Personne[[#This Row],[PersonneId]]),SUMIFS(Honoraire[TotalHT],Honoraire[ClientId],Personne[[#This Row],[PersonneId]]))","v":0},{"$f":"Personne[[#This Row],[Facture (HT)]]+ROW()/100000","v":3.2509999999999997E-2},{"$f":"_xlfn.CONCAT(Personne[[#This Row],[Adresse]],\" \",Personne[[#This Row],[CodePostal]],\" \",Personne[[#This Row],[Ville]],\" \",Personne[[#This Row],[CodePays]])","v":"   "}]
[null,null,null,null,null,null,null,null,null,null,null,null,null,null,null,null,null,null,null,null,null,null,null,null,null,null,null,null,null,null,{"$f":"IF(PARAMETRES!$B$3=\"SANS\",SUMIFS(Honoraire[TotalHonoraireHT],Honoraire[ClientId],Personne[[#This Row],[PersonneId]]),SUMIFS(Honoraire[TotalHT],Honoraire[ClientId],Personne[[#This Row],[PersonneId]]))","v":0},{"$f":"Personne[[#This Row],[Facture (HT)]]+ROW()/100000","v":3.252E-2},{"$f":"_xlfn.CONCAT(Personne[[#This Row],[Adresse]],\" \",Personne[[#This Row],[CodePostal]],\" \",Personne[[#This Row],[Ville]],\" \",Personne[[#This Row],[CodePays]])","v":"   "}]
[null,null,null,null,null,null,null,null,null,null,null,null,null,null,null,null,null,null,null,null,null,null,null,null,null,null,null,null,null,null,{"$f":"IF(PARAMETRES!$B$3=\"SANS\",SUMIFS(Honoraire[TotalHonoraireHT],Honoraire[ClientId],Personne[[#This Row],[PersonneId]]),SUMIFS(Honoraire[TotalHT],Honoraire[ClientId],Personne[[#This Row],[PersonneId]]))","v":0},{"$f":"Personne[[#This Row],[Facture (HT)]]+ROW()/100000","v":3.2530000000000003E-2},{"$f":"_xlfn.CONCAT(Personne[[#This Row],[Adresse]],\" \",Personne[[#This Row],[CodePostal]],\" \",Personne[[#This Row],[Ville]],\" \",Personne[[#This Row],[CodePays]])","v":"   "}]
[null,null,null,null,null,null,null,null,null,null,null,null,null,null,null,null,null,null,null,null,null,null,null,null,null,null,null,null,null,null,{"$f":"IF(PARAMETRES!$B$3=\"SANS\",SUMIFS(Honoraire[TotalHonoraireHT],Honoraire[ClientId],Personne[[#This Row],[PersonneId]]),SUMIFS(Honoraire[TotalHT],Honoraire[ClientId],Personne[[#This Row],[PersonneId]]))","v":0},{"$f":"Personne[[#This Row],[Facture (HT)]]+ROW()/100000","v":3.2539999999999999E-2},{"$f":"_xlfn.CONCAT(Personne[[#This Row],[Adresse]],\" \",Personne[[#This Row],[CodePostal]],\" \",Personne[[#This Row],[Ville]],\" \",Personne[[#This Row],[CodePays]])","v":"   "}]
[null,null,null,null,null,null,null,null,null,null,null,null,null,null,null,null,null,null,null,null,null,null,null,null,null,null,null,null,null,null,{"$f":"IF(PARAMETRES!$B$3=\"SANS\",SUMIFS(Honoraire[TotalHonoraireHT],Honoraire[ClientId],Personne[[#This Row],[PersonneId]]),SUMIFS(Honoraire[TotalHT],Honoraire[ClientId],Personne[[#This Row],[PersonneId]]))","v":0},{"$f":"Personne[[#This Row],[Facture (HT)]]+ROW()/100000","v":3.2550000000000003E-2},{"$f":"_xlfn.CONCAT(Personne[[#This Row],[Adresse]],\" \",Personne[[#This Row],[CodePostal]],\" \",Personne[[#This Row],[Ville]],\" \",Personne[[#This Row],[CodePays]])","v":"   "}]
[null,null,null,null,null,null,null,null,null,null,null,null,null,null,null,null,null,null,null,null,null,null,null,null,null,null,null,null,null,null,{"$f":"IF(PARAMETRES!$B$3=\"SANS\",SUMIFS(Honoraire[TotalHonoraireHT],Honoraire[ClientId],Personne[[#This Row],[PersonneId]]),SUMIFS(Honoraire[TotalHT],Honoraire[ClientId],Personne[[#This Row],[PersonneId]]))","v":0},{"$f":"Personne[[#This Row],[Facture (HT)]]+ROW()/100000","v":3.2559999999999999E-2},{"$f":"_xlfn.CONCAT(Personne[[#This Row],[Adresse]],\" \",Personne[[#This Row],[CodePostal]],\" \",Personne[[#This Row],[Ville]],\" \",Personne[[#This Row],[CodePays]])","v":"   "}]
[null,null,null,null,null,null,null,null,null,null,null,null,null,null,null,null,null,null,null,null,null,null,null,null,null,null,null,null,null,null,{"$f":"IF(PARAMETRES!$B$3=\"SANS\",SUMIFS(Honoraire[TotalHonoraireHT],Honoraire[ClientId],Personne[[#This Row],[PersonneId]]),SUMIFS(Honoraire[TotalHT],Honoraire[ClientId],Personne[[#This Row],[PersonneId]]))","v":0},{"$f":"Personne[[#This Row],[Facture (HT)]]+ROW()/100000","v":3.2570000000000002E-2},{"$f":"_xlfn.CONCAT(Personne[[#This Row],[Adresse]],\" \",Personne[[#This Row],[CodePostal]],\" \",Personne[[#This Row],[Ville]],\" \",Personne[[#This Row],[CodePays]])","v":"   "}]
[null,null,null,null,null,null,null,null,null,null,null,null,null,null,null,null,null,null,null,null,null,null,null,null,null,null,null,null,null,null,{"$f":"IF(PARAMETRES!$B$3=\"SANS\",SUMIFS(Honoraire[TotalHonoraireHT],Honoraire[ClientId],Personne[[#This Row],[PersonneId]]),SUMIFS(Honoraire[TotalHT],Honoraire[ClientId],Personne[[#This Row],[PersonneId]]))","v":0},{"$f":"Personne[[#This Row],[Facture (HT)]]+ROW()/100000","v":3.2579999999999998E-2},{"$f":"_xlfn.CONCAT(Personne[[#This Row],[Adresse]],\" \",Personne[[#This Row],[CodePostal]],\" \",Personne[[#This Row],[Ville]],\" \",Personne[[#This Row],[CodePays]])","v":"   "}]
[null,null,null,null,null,null,null,null,null,null,null,null,null,null,null,null,null,null,null,null,null,null,null,null,null,null,null,null,null,null,{"$f":"IF(PARAMETRES!$B$3=\"SANS\",SUMIFS(Honoraire[TotalHonoraireHT],Honoraire[ClientId],Personne[[#This Row],[PersonneId]]),SUMIFS(Honoraire[TotalHT],Honoraire[ClientId],Personne[[#This Row],[PersonneId]]))","v":0},{"$f":"Personne[[#This Row],[Facture (HT)]]+ROW()/100000","v":3.2590000000000001E-2},{"$f":"_xlfn.CONCAT(Personne[[#This Row],[Adresse]],\" \",Personne[[#This Row],[CodePostal]],\" \",Personne[[#This Row],[Ville]],\" \",Personne[[#This Row],[CodePays]])","v":"   "}]
[null,null,null,null,null,null,null,null,null,null,null,null,null,null,null,null,null,null,null,null,null,null,null,null,null,null,null,null,null,null,{"$f":"IF(PARAMETRES!$B$3=\"SANS\",SUMIFS(Honoraire[TotalHonoraireHT],Honoraire[ClientId],Personne[[#This Row],[PersonneId]]),SUMIFS(Honoraire[TotalHT],Honoraire[ClientId],Personne[[#This Row],[PersonneId]]))","v":0},{"$f":"Personne[[#This Row],[Facture (HT)]]+ROW()/100000","v":3.2599999999999997E-2},{"$f":"_xlfn.CONCAT(Personne[[#This Row],[Adresse]],\" \",Personne[[#This Row],[CodePostal]],\" \",Personne[[#This Row],[Ville]],\" \",Personne[[#This Row],[CodePays]])","v":"   "}]
[null,null,null,null,null,null,null,null,null,null,null,null,null,null,null,null,null,null,null,null,null,null,null,null,null,null,null,null,null,null,{"$f":"IF(PARAMETRES!$B$3=\"SANS\",SUMIFS(Honoraire[TotalHonoraireHT],Honoraire[ClientId],Personne[[#This Row],[PersonneId]]),SUMIFS(Honoraire[TotalHT],Honoraire[ClientId],Personne[[#This Row],[PersonneId]]))","v":0},{"$f":"Personne[[#This Row],[Facture (HT)]]+ROW()/100000","v":3.261E-2},{"$f":"_xlfn.CONCAT(Personne[[#This Row],[Adresse]],\" \",Personne[[#This Row],[CodePostal]],\" \",Personne[[#This Row],[Ville]],\" \",Personne[[#This Row],[CodePays]])","v":"   "}]
[null,null,null,null,null,null,null,null,null,null,null,null,null,null,null,null,null,null,null,null,null,null,null,null,null,null,null,null,null,null,{"$f":"IF(PARAMETRES!$B$3=\"SANS\",SUMIFS(Honoraire[TotalHonoraireHT],Honoraire[ClientId],Personne[[#This Row],[PersonneId]]),SUMIFS(Honoraire[TotalHT],Honoraire[ClientId],Personne[[#This Row],[PersonneId]]))","v":0},{"$f":"Personne[[#This Row],[Facture (HT)]]+ROW()/100000","v":3.2620000000000003E-2},{"$f":"_xlfn.CONCAT(Personne[[#This Row],[Adresse]],\" \",Personne[[#This Row],[CodePostal]],\" \",Personne[[#This Row],[Ville]],\" \",Personne[[#This Row],[CodePays]])","v":"   "}]
[null,null,null,null,null,null,null,null,null,null,null,null,null,null,null,null,null,null,null,null,null,null,null,null,null,null,null,null,null,null,{"$f":"IF(PARAMETRES!$B$3=\"SANS\",SUMIFS(Honoraire[TotalHonoraireHT],Honoraire[ClientId],Personne[[#This Row],[PersonneId]]),SUMIFS(Honoraire[TotalHT],Honoraire[ClientId],Personne[[#This Row],[PersonneId]]))","v":0},{"$f":"Personne[[#This Row],[Facture (HT)]]+ROW()/100000","v":3.2629999999999999E-2},{"$f":"_xlfn.CONCAT(Personne[[#This Row],[Adresse]],\" \",Personne[[#This Row],[CodePostal]],\" \",Personne[[#This Row],[Ville]],\" \",Personne[[#This Row],[CodePays]])","v":"   "}]
[null,null,null,null,null,null,null,null,null,null,null,null,null,null,null,null,null,null,null,null,null,null,null,null,null,null,null,null,null,null,{"$f":"IF(PARAMETRES!$B$3=\"SANS\",SUMIFS(Honoraire[TotalHonoraireHT],Honoraire[ClientId],Personne[[#This Row],[PersonneId]]),SUMIFS(Honoraire[TotalHT],Honoraire[ClientId],Personne[[#This Row],[PersonneId]]))","v":0},{"$f":"Personne[[#This Row],[Facture (HT)]]+ROW()/100000","v":3.2640000000000002E-2},{"$f":"_xlfn.CONCAT(Personne[[#This Row],[Adresse]],\" \",Personne[[#This Row],[CodePostal]],\" \",Personne[[#This Row],[Ville]],\" \",Personne[[#This Row],[CodePays]])","v":"   "}]
[null,null,null,null,null,null,null,null,null,null,null,null,null,null,null,null,null,null,null,null,null,null,null,null,null,null,null,null,null,null,{"$f":"IF(PARAMETRES!$B$3=\"SANS\",SUMIFS(Honoraire[TotalHonoraireHT],Honoraire[ClientId],Personne[[#This Row],[PersonneId]]),SUMIFS(Honoraire[TotalHT],Honoraire[ClientId],Personne[[#This Row],[PersonneId]]))","v":0},{"$f":"Personne[[#This Row],[Facture (HT)]]+ROW()/100000","v":3.2649999999999998E-2},{"$f":"_xlfn.CONCAT(Personne[[#This Row],[Adresse]],\" \",Personne[[#This Row],[CodePostal]],\" \",Personne[[#This Row],[Ville]],\" \",Personne[[#This Row],[CodePays]])","v":"   "}]
[null,null,null,null,null,null,null,null,null,null,null,null,null,null,null,null,null,null,null,null,null,null,null,null,null,null,null,null,null,null,{"$f":"IF(PARAMETRES!$B$3=\"SANS\",SUMIFS(Honoraire[TotalHonoraireHT],Honoraire[ClientId],Personne[[#This Row],[PersonneId]]),SUMIFS(Honoraire[TotalHT],Honoraire[ClientId],Personne[[#This Row],[PersonneId]]))","v":0},{"$f":"Personne[[#This Row],[Facture (HT)]]+ROW()/100000","v":3.2660000000000002E-2},{"$f":"_xlfn.CONCAT(Personne[[#This Row],[Adresse]],\" \",Personne[[#This Row],[CodePostal]],\" \",Personne[[#This Row],[Ville]],\" \",Personne[[#This Row],[CodePays]])","v":"   "}]
[null,null,null,null,null,null,null,null,null,null,null,null,null,null,null,null,null,null,null,null,null,null,null,null,null,null,null,null,null,null,{"$f":"IF(PARAMETRES!$B$3=\"SANS\",SUMIFS(Honoraire[TotalHonoraireHT],Honoraire[ClientId],Personne[[#This Row],[PersonneId]]),SUMIFS(Honoraire[TotalHT],Honoraire[ClientId],Personne[[#This Row],[PersonneId]]))","v":0},{"$f":"Personne[[#This Row],[Facture (HT)]]+ROW()/100000","v":3.2669999999999998E-2},{"$f":"_xlfn.CONCAT(Personne[[#This Row],[Adresse]],\" \",Personne[[#This Row],[CodePostal]],\" \",Personne[[#This Row],[Ville]],\" \",Personne[[#This Row],[CodePays]])","v":"   "}]
[null,null,null,null,null,null,null,null,null,null,null,null,null,null,null,null,null,null,null,null,null,null,null,null,null,null,null,null,null,null,{"$f":"IF(PARAMETRES!$B$3=\"SANS\",SUMIFS(Honoraire[TotalHonoraireHT],Honoraire[ClientId],Personne[[#This Row],[PersonneId]]),SUMIFS(Honoraire[TotalHT],Honoraire[ClientId],Personne[[#This Row],[PersonneId]]))","v":0},{"$f":"Personne[[#This Row],[Facture (HT)]]+ROW()/100000","v":3.2680000000000001E-2},{"$f":"_xlfn.CONCAT(Personne[[#This Row],[Adresse]],\" \",Personne[[#This Row],[CodePostal]],\" \",Personne[[#This Row],[Ville]],\" \",Personne[[#This Row],[CodePays]])","v":"   "}]
[null,null,null,null,null,null,null,null,null,null,null,null,null,null,null,null,null,null,null,null,null,null,null,null,null,null,null,null,null,null,{"$f":"IF(PARAMETRES!$B$3=\"SANS\",SUMIFS(Honoraire[TotalHonoraireHT],Honoraire[ClientId],Personne[[#This Row],[PersonneId]]),SUMIFS(Honoraire[TotalHT],Honoraire[ClientId],Personne[[#This Row],[PersonneId]]))","v":0},{"$f":"Personne[[#This Row],[Facture (HT)]]+ROW()/100000","v":3.2689999999999997E-2},{"$f":"_xlfn.CONCAT(Personne[[#This Row],[Adresse]],\" \",Personne[[#This Row],[CodePostal]],\" \",Personne[[#This Row],[Ville]],\" \",Personne[[#This Row],[CodePays]])","v":"   "}]
[null,null,null,null,null,null,null,null,null,null,null,null,null,null,null,null,null,null,null,null,null,null,null,null,null,null,null,null,null,null,{"$f":"IF(PARAMETRES!$B$3=\"SANS\",SUMIFS(Honoraire[TotalHonoraireHT],Honoraire[ClientId],Personne[[#This Row],[PersonneId]]),SUMIFS(Honoraire[TotalHT],Honoraire[ClientId],Personne[[#This Row],[PersonneId]]))","v":0},{"$f":"Personne[[#This Row],[Facture (HT)]]+ROW()/100000","v":3.27E-2},{"$f":"_xlfn.CONCAT(Personne[[#This Row],[Adresse]],\" \",Personne[[#This Row],[CodePostal]],\" \",Personne[[#This Row],[Ville]],\" \",Personne[[#This Row],[CodePays]])","v":"   "}]
[null,null,null,null,null,null,null,null,null,null,null,null,null,null,null,null,null,null,null,null,null,null,null,null,null,null,null,null,null,null,{"$f":"IF(PARAMETRES!$B$3=\"SANS\",SUMIFS(Honoraire[TotalHonoraireHT],Honoraire[ClientId],Personne[[#This Row],[PersonneId]]),SUMIFS(Honoraire[TotalHT],Honoraire[ClientId],Personne[[#This Row],[PersonneId]]))","v":0},{"$f":"Personne[[#This Row],[Facture (HT)]]+ROW()/100000","v":3.2710000000000003E-2},{"$f":"_xlfn.CONCAT(Personne[[#This Row],[Adresse]],\" \",Personne[[#This Row],[CodePostal]],\" \",Personne[[#This Row],[Ville]],\" \",Personne[[#This Row],[CodePays]])","v":"   "}]
[null,null,null,null,null,null,null,null,null,null,null,null,null,null,null,null,null,null,null,null,null,null,null,null,null,null,null,null,null,null,{"$f":"IF(PARAMETRES!$B$3=\"SANS\",SUMIFS(Honoraire[TotalHonoraireHT],Honoraire[ClientId],Personne[[#This Row],[PersonneId]]),SUMIFS(Honoraire[TotalHT],Honoraire[ClientId],Personne[[#This Row],[PersonneId]]))","v":0},{"$f":"Personne[[#This Row],[Facture (HT)]]+ROW()/100000","v":3.2719999999999999E-2},{"$f":"_xlfn.CONCAT(Personne[[#This Row],[Adresse]],\" \",Personne[[#This Row],[CodePostal]],\" \",Personne[[#This Row],[Ville]],\" \",Personne[[#This Row],[CodePays]])","v":"   "}]
[null,null,null,null,null,null,null,null,null,null,null,null,null,null,null,null,null,null,null,null,null,null,null,null,null,null,null,null,null,null,{"$f":"IF(PARAMETRES!$B$3=\"SANS\",SUMIFS(Honoraire[TotalHonoraireHT],Honoraire[ClientId],Personne[[#This Row],[PersonneId]]),SUMIFS(Honoraire[TotalHT],Honoraire[ClientId],Personne[[#This Row],[PersonneId]]))","v":0},{"$f":"Personne[[#This Row],[Facture (HT)]]+ROW()/100000","v":3.2730000000000002E-2},{"$f":"_xlfn.CONCAT(Personne[[#This Row],[Adresse]],\" \",Personne[[#This Row],[CodePostal]],\" \",Personne[[#This Row],[Ville]],\" \",Personne[[#This Row],[CodePays]])","v":"   "}]
[null,null,null,null,null,null,null,null,null,null,null,null,null,null,null,null,null,null,null,null,null,null,null,null,null,null,null,null,null,null,{"$f":"IF(PARAMETRES!$B$3=\"SANS\",SUMIFS(Honoraire[TotalHonoraireHT],Honoraire[ClientId],Personne[[#This Row],[PersonneId]]),SUMIFS(Honoraire[TotalHT],Honoraire[ClientId],Personne[[#This Row],[PersonneId]]))","v":0},{"$f":"Personne[[#This Row],[Facture (HT)]]+ROW()/100000","v":3.2739999999999998E-2},{"$f":"_xlfn.CONCAT(Personne[[#This Row],[Adresse]],\" \",Personne[[#This Row],[CodePostal]],\" \",Personne[[#This Row],[Ville]],\" \",Personne[[#This Row],[CodePays]])","v":"   "}]
[null,null,null,null,null,null,null,null,null,null,null,null,null,null,null,null,null,null,null,null,null,null,null,null,null,null,null,null,null,null,{"$f":"IF(PARAMETRES!$B$3=\"SANS\",SUMIFS(Honoraire[TotalHonoraireHT],Honoraire[ClientId],Personne[[#This Row],[PersonneId]]),SUMIFS(Honoraire[TotalHT],Honoraire[ClientId],Personne[[#This Row],[PersonneId]]))","v":0},{"$f":"Personne[[#This Row],[Facture (HT)]]+ROW()/100000","v":3.2750000000000001E-2},{"$f":"_xlfn.CONCAT(Personne[[#This Row],[Adresse]],\" \",Personne[[#This Row],[CodePostal]],\" \",Personne[[#This Row],[Ville]],\" \",Personne[[#This Row],[CodePays]])","v":"   "}]
[null,null,null,null,null,null,null,null,null,null,null,null,null,null,null,null,null,null,null,null,null,null,null,null,null,null,null,null,null,null,{"$f":"IF(PARAMETRES!$B$3=\"SANS\",SUMIFS(Honoraire[TotalHonoraireHT],Honoraire[ClientId],Personne[[#This Row],[PersonneId]]),SUMIFS(Honoraire[TotalHT],Honoraire[ClientId],Personne[[#This Row],[PersonneId]]))","v":0},{"$f":"Personne[[#This Row],[Facture (HT)]]+ROW()/100000","v":3.2759999999999997E-2},{"$f":"_xlfn.CONCAT(Personne[[#This Row],[Adresse]],\" \",Personne[[#This Row],[CodePostal]],\" \",Personne[[#This Row],[Ville]],\" \",Personne[[#This Row],[CodePays]])","v":"   "}]
[null,null,null,null,null,null,null,null,null,null,null,null,null,null,null,null,null,null,null,null,null,null,null,null,null,null,null,null,null,null,{"$f":"IF(PARAMETRES!$B$3=\"SANS\",SUMIFS(Honoraire[TotalHonoraireHT],Honoraire[ClientId],Personne[[#This Row],[PersonneId]]),SUMIFS(Honoraire[TotalHT],Honoraire[ClientId],Personne[[#This Row],[PersonneId]]))","v":0},{"$f":"Personne[[#This Row],[Facture (HT)]]+ROW()/100000","v":3.2770000000000001E-2},{"$f":"_xlfn.CONCAT(Personne[[#This Row],[Adresse]],\" \",Personne[[#This Row],[CodePostal]],\" \",Personne[[#This Row],[Ville]],\" \",Personne[[#This Row],[CodePays]])","v":"   "}]
[null,null,null,null,null,null,null,null,null,null,null,null,null,null,null,null,null,null,null,null,null,null,null,null,null,null,null,null,null,null,{"$f":"IF(PARAMETRES!$B$3=\"SANS\",SUMIFS(Honoraire[TotalHonoraireHT],Honoraire[ClientId],Personne[[#This Row],[PersonneId]]),SUMIFS(Honoraire[TotalHT],Honoraire[ClientId],Personne[[#This Row],[PersonneId]]))","v":0},{"$f":"Personne[[#This Row],[Facture (HT)]]+ROW()/100000","v":3.2779999999999997E-2},{"$f":"_xlfn.CONCAT(Personne[[#This Row],[Adresse]],\" \",Personne[[#This Row],[CodePostal]],\" \",Personne[[#This Row],[Ville]],\" \",Personne[[#This Row],[CodePays]])","v":"   "}]
[null,null,null,null,null,null,null,null,null,null,null,null,null,null,null,null,null,null,null,null,null,null,null,null,null,null,null,null,null,null,{"$f":"IF(PARAMETRES!$B$3=\"SANS\",SUMIFS(Honoraire[TotalHonoraireHT],Honoraire[ClientId],Personne[[#This Row],[PersonneId]]),SUMIFS(Honoraire[TotalHT],Honoraire[ClientId],Personne[[#This Row],[PersonneId]]))","v":0},{"$f":"Personne[[#This Row],[Facture (HT)]]+ROW()/100000","v":3.279E-2},{"$f":"_xlfn.CONCAT(Personne[[#This Row],[Adresse]],\" \",Personne[[#This Row],[CodePostal]],\" \",Personne[[#This Row],[Ville]],\" \",Personne[[#This Row],[CodePays]])","v":"   "}]
[null,null,null,null,null,null,null,null,null,null,null,null,null,null,null,null,null,null,null,null,null,null,null,null,null,null,null,null,null,null,{"$f":"IF(PARAMETRES!$B$3=\"SANS\",SUMIFS(Honoraire[TotalHonoraireHT],Honoraire[ClientId],Personne[[#This Row],[PersonneId]]),SUMIFS(Honoraire[TotalHT],Honoraire[ClientId],Personne[[#This Row],[PersonneId]]))","v":0},{"$f":"Personne[[#This Row],[Facture (HT)]]+ROW()/100000","v":3.2800000000000003E-2},{"$f":"_xlfn.CONCAT(Personne[[#This Row],[Adresse]],\" \",Personne[[#This Row],[CodePostal]],\" \",Personne[[#This Row],[Ville]],\" \",Personne[[#This Row],[CodePays]])","v":"   "}]
[null,null,null,null,null,null,null,null,null,null,null,null,null,null,null,null,null,null,null,null,null,null,null,null,null,null,null,null,null,null,{"$f":"IF(PARAMETRES!$B$3=\"SANS\",SUMIFS(Honoraire[TotalHonoraireHT],Honoraire[ClientId],Personne[[#This Row],[PersonneId]]),SUMIFS(Honoraire[TotalHT],Honoraire[ClientId],Personne[[#This Row],[PersonneId]]))","v":0},{"$f":"Personne[[#This Row],[Facture (HT)]]+ROW()/100000","v":3.2809999999999999E-2},{"$f":"_xlfn.CONCAT(Personne[[#This Row],[Adresse]],\" \",Personne[[#This Row],[CodePostal]],\" \",Personne[[#This Row],[Ville]],\" \",Personne[[#This Row],[CodePays]])","v":"   "}]
[null,null,null,null,null,null,null,null,null,null,null,null,null,null,null,null,null,null,null,null,null,null,null,null,null,null,null,null,null,null,{"$f":"IF(PARAMETRES!$B$3=\"SANS\",SUMIFS(Honoraire[TotalHonoraireHT],Honoraire[ClientId],Personne[[#This Row],[PersonneId]]),SUMIFS(Honoraire[TotalHT],Honoraire[ClientId],Personne[[#This Row],[PersonneId]]))","v":0},{"$f":"Personne[[#This Row],[Facture (HT)]]+ROW()/100000","v":3.2820000000000002E-2},{"$f":"_xlfn.CONCAT(Personne[[#This Row],[Adresse]],\" \",Personne[[#This Row],[CodePostal]],\" \",Personne[[#This Row],[Ville]],\" \",Personne[[#This Row],[CodePays]])","v":"   "}]
[null,null,null,null,null,null,null,null,null,null,null,null,null,null,null,null,null,null,null,null,null,null,null,null,null,null,null,null,null,null,{"$f":"IF(PARAMETRES!$B$3=\"SANS\",SUMIFS(Honoraire[TotalHonoraireHT],Honoraire[ClientId],Personne[[#This Row],[PersonneId]]),SUMIFS(Honoraire[TotalHT],Honoraire[ClientId],Personne[[#This Row],[PersonneId]]))","v":0},{"$f":"Personne[[#This Row],[Facture (HT)]]+ROW()/100000","v":3.2829999999999998E-2},{"$f":"_xlfn.CONCAT(Personne[[#This Row],[Adresse]],\" \",Personne[[#This Row],[CodePostal]],\" \",Personne[[#This Row],[Ville]],\" \",Personne[[#This Row],[CodePays]])","v":"   "}]
[null,null,null,null,null,null,null,null,null,null,null,null,null,null,null,null,null,null,null,null,null,null,null,null,null,null,null,null,null,null,{"$f":"IF(PARAMETRES!$B$3=\"SANS\",SUMIFS(Honoraire[TotalHonoraireHT],Honoraire[ClientId],Personne[[#This Row],[PersonneId]]),SUMIFS(Honoraire[TotalHT],Honoraire[ClientId],Personne[[#This Row],[PersonneId]]))","v":0},{"$f":"Personne[[#This Row],[Facture (HT)]]+ROW()/100000","v":3.2840000000000001E-2},{"$f":"_xlfn.CONCAT(Personne[[#This Row],[Adresse]],\" \",Personne[[#This Row],[CodePostal]],\" \",Personne[[#This Row],[Ville]],\" \",Personne[[#This Row],[CodePays]])","v":"   "}]
[null,null,null,null,null,null,null,null,null,null,null,null,null,null,null,null,null,null,null,null,null,null,null,null,null,null,null,null,null,null,{"$f":"IF(PARAMETRES!$B$3=\"SANS\",SUMIFS(Honoraire[TotalHonoraireHT],Honoraire[ClientId],Personne[[#This Row],[PersonneId]]),SUMIFS(Honoraire[TotalHT],Honoraire[ClientId],Personne[[#This Row],[PersonneId]]))","v":0},{"$f":"Personne[[#This Row],[Facture (HT)]]+ROW()/100000","v":3.2849999999999997E-2},{"$f":"_xlfn.CONCAT(Personne[[#This Row],[Adresse]],\" \",Personne[[#This Row],[CodePostal]],\" \",Personne[[#This Row],[Ville]],\" \",Personne[[#This Row],[CodePays]])","v":"   "}]
[null,null,null,null,null,null,null,null,null,null,null,null,null,null,null,null,null,null,null,null,null,null,null,null,null,null,null,null,null,null,{"$f":"IF(PARAMETRES!$B$3=\"SANS\",SUMIFS(Honoraire[TotalHonoraireHT],Honoraire[ClientId],Personne[[#This Row],[PersonneId]]),SUMIFS(Honoraire[TotalHT],Honoraire[ClientId],Personne[[#This Row],[PersonneId]]))","v":0},{"$f":"Personne[[#This Row],[Facture (HT)]]+ROW()/100000","v":3.286E-2},{"$f":"_xlfn.CONCAT(Personne[[#This Row],[Adresse]],\" \",Personne[[#This Row],[CodePostal]],\" \",Personne[[#This Row],[Ville]],\" \",Personne[[#This Row],[CodePays]])","v":"   "}]
[null,null,null,null,null,null,null,null,null,null,null,null,null,null,null,null,null,null,null,null,null,null,null,null,null,null,null,null,null,null,{"$f":"IF(PARAMETRES!$B$3=\"SANS\",SUMIFS(Honoraire[TotalHonoraireHT],Honoraire[ClientId],Personne[[#This Row],[PersonneId]]),SUMIFS(Honoraire[TotalHT],Honoraire[ClientId],Personne[[#This Row],[PersonneId]]))","v":0},{"$f":"Personne[[#This Row],[Facture (HT)]]+ROW()/100000","v":3.2870000000000003E-2},{"$f":"_xlfn.CONCAT(Personne[[#This Row],[Adresse]],\" \",Personne[[#This Row],[CodePostal]],\" \",Personne[[#This Row],[Ville]],\" \",Personne[[#This Row],[CodePays]])","v":"   "}]
[null,null,null,null,null,null,null,null,null,null,null,null,null,null,null,null,null,null,null,null,null,null,null,null,null,null,null,null,null,null,{"$f":"IF(PARAMETRES!$B$3=\"SANS\",SUMIFS(Honoraire[TotalHonoraireHT],Honoraire[ClientId],Personne[[#This Row],[PersonneId]]),SUMIFS(Honoraire[TotalHT],Honoraire[ClientId],Personne[[#This Row],[PersonneId]]))","v":0},{"$f":"Personne[[#This Row],[Facture (HT)]]+ROW()/100000","v":3.288E-2},{"$f":"_xlfn.CONCAT(Personne[[#This Row],[Adresse]],\" \",Personne[[#This Row],[CodePostal]],\" \",Personne[[#This Row],[Ville]],\" \",Personne[[#This Row],[CodePays]])","v":"   "}]
[null,null,null,null,null,null,null,null,null,null,null,null,null,null,null,null,null,null,null,null,null,null,null,null,null,null,null,null,null,null,{"$f":"IF(PARAMETRES!$B$3=\"SANS\",SUMIFS(Honoraire[TotalHonoraireHT],Honoraire[ClientId],Personne[[#This Row],[PersonneId]]),SUMIFS(Honoraire[TotalHT],Honoraire[ClientId],Personne[[#This Row],[PersonneId]]))","v":0},{"$f":"Personne[[#This Row],[Facture (HT)]]+ROW()/100000","v":3.2890000000000003E-2},{"$f":"_xlfn.CONCAT(Personne[[#This Row],[Adresse]],\" \",Personne[[#This Row],[CodePostal]],\" \",Personne[[#This Row],[Ville]],\" \",Personne[[#This Row],[CodePays]])","v":"   "}]
[null,null,null,null,null,null,null,null,null,null,null,null,null,null,null,null,null,null,null,null,null,null,null,null,null,null,null,null,null,null,{"$f":"IF(PARAMETRES!$B$3=\"SANS\",SUMIFS(Honoraire[TotalHonoraireHT],Honoraire[ClientId],Personne[[#This Row],[PersonneId]]),SUMIFS(Honoraire[TotalHT],Honoraire[ClientId],Personne[[#This Row],[PersonneId]]))","v":0},{"$f":"Personne[[#This Row],[Facture (HT)]]+ROW()/100000","v":3.2899999999999999E-2},{"$f":"_xlfn.CONCAT(Personne[[#This Row],[Adresse]],\" \",Personne[[#This Row],[CodePostal]],\" \",Personne[[#This Row],[Ville]],\" \",Personne[[#This Row],[CodePays]])","v":"   "}]
[null,null,null,null,null,null,null,null,null,null,null,null,null,null,null,null,null,null,null,null,null,null,null,null,null,null,null,null,null,null,{"$f":"IF(PARAMETRES!$B$3=\"SANS\",SUMIFS(Honoraire[TotalHonoraireHT],Honoraire[ClientId],Personne[[#This Row],[PersonneId]]),SUMIFS(Honoraire[TotalHT],Honoraire[ClientId],Personne[[#This Row],[PersonneId]]))","v":0},{"$f":"Personne[[#This Row],[Facture (HT)]]+ROW()/100000","v":3.2910000000000002E-2},{"$f":"_xlfn.CONCAT(Personne[[#This Row],[Adresse]],\" \",Personne[[#This Row],[CodePostal]],\" \",Personne[[#This Row],[Ville]],\" \",Personne[[#This Row],[CodePays]])","v":"   "}]
[null,null,null,null,null,null,null,null,null,null,null,null,null,null,null,null,null,null,null,null,null,null,null,null,null,null,null,null,null,null,{"$f":"IF(PARAMETRES!$B$3=\"SANS\",SUMIFS(Honoraire[TotalHonoraireHT],Honoraire[ClientId],Personne[[#This Row],[PersonneId]]),SUMIFS(Honoraire[TotalHT],Honoraire[ClientId],Personne[[#This Row],[PersonneId]]))","v":0},{"$f":"Personne[[#This Row],[Facture (HT)]]+ROW()/100000","v":3.2919999999999998E-2},{"$f":"_xlfn.CONCAT(Personne[[#This Row],[Adresse]],\" \",Personne[[#This Row],[CodePostal]],\" \",Personne[[#This Row],[Ville]],\" \",Personne[[#This Row],[CodePays]])","v":"   "}]
[null,null,null,null,null,null,null,null,null,null,null,null,null,null,null,null,null,null,null,null,null,null,null,null,null,null,null,null,null,null,{"$f":"IF(PARAMETRES!$B$3=\"SANS\",SUMIFS(Honoraire[TotalHonoraireHT],Honoraire[ClientId],Personne[[#This Row],[PersonneId]]),SUMIFS(Honoraire[TotalHT],Honoraire[ClientId],Personne[[#This Row],[PersonneId]]))","v":0},{"$f":"Personne[[#This Row],[Facture (HT)]]+ROW()/100000","v":3.2930000000000001E-2},{"$f":"_xlfn.CONCAT(Personne[[#This Row],[Adresse]],\" \",Personne[[#This Row],[CodePostal]],\" \",Personne[[#This Row],[Ville]],\" \",Personne[[#This Row],[CodePays]])","v":"   "}]
[null,null,null,null,null,null,null,null,null,null,null,null,null,null,null,null,null,null,null,null,null,null,null,null,null,null,null,null,null,null,{"$f":"IF(PARAMETRES!$B$3=\"SANS\",SUMIFS(Honoraire[TotalHonoraireHT],Honoraire[ClientId],Personne[[#This Row],[PersonneId]]),SUMIFS(Honoraire[TotalHT],Honoraire[ClientId],Personne[[#This Row],[PersonneId]]))","v":0},{"$f":"Personne[[#This Row],[Facture (HT)]]+ROW()/100000","v":3.2939999999999997E-2},{"$f":"_xlfn.CONCAT(Personne[[#This Row],[Adresse]],\" \",Personne[[#This Row],[CodePostal]],\" \",Personne[[#This Row],[Ville]],\" \",Personne[[#This Row],[CodePays]])","v":"   "}]
[null,null,null,null,null,null,null,null,null,null,null,null,null,null,null,null,null,null,null,null,null,null,null,null,null,null,null,null,null,null,{"$f":"IF(PARAMETRES!$B$3=\"SANS\",SUMIFS(Honoraire[TotalHonoraireHT],Honoraire[ClientId],Personne[[#This Row],[PersonneId]]),SUMIFS(Honoraire[TotalHT],Honoraire[ClientId],Personne[[#This Row],[PersonneId]]))","v":0},{"$f":"Personne[[#This Row],[Facture (HT)]]+ROW()/100000","v":3.295E-2},{"$f":"_xlfn.CONCAT(Personne[[#This Row],[Adresse]],\" \",Personne[[#This Row],[CodePostal]],\" \",Personne[[#This Row],[Ville]],\" \",Personne[[#This Row],[CodePays]])","v":"   "}]
[null,null,null,null,null,null,null,null,null,null,null,null,null,null,null,null,null,null,null,null,null,null,null,null,null,null,null,null,null,null,{"$f":"IF(PARAMETRES!$B$3=\"SANS\",SUMIFS(Honoraire[TotalHonoraireHT],Honoraire[ClientId],Personne[[#This Row],[PersonneId]]),SUMIFS(Honoraire[TotalHT],Honoraire[ClientId],Personne[[#This Row],[PersonneId]]))","v":0},{"$f":"Personne[[#This Row],[Facture (HT)]]+ROW()/100000","v":3.2960000000000003E-2},{"$f":"_xlfn.CONCAT(Personne[[#This Row],[Adresse]],\" \",Personne[[#This Row],[CodePostal]],\" \",Personne[[#This Row],[Ville]],\" \",Personne[[#This Row],[CodePays]])","v":"   "}]
[null,null,null,null,null,null,null,null,null,null,null,null,null,null,null,null,null,null,null,null,null,null,null,null,null,null,null,null,null,null,{"$f":"IF(PARAMETRES!$B$3=\"SANS\",SUMIFS(Honoraire[TotalHonoraireHT],Honoraire[ClientId],Personne[[#This Row],[PersonneId]]),SUMIFS(Honoraire[TotalHT],Honoraire[ClientId],Personne[[#This Row],[PersonneId]]))","v":0},{"$f":"Personne[[#This Row],[Facture (HT)]]+ROW()/100000","v":3.2969999999999999E-2},{"$f":"_xlfn.CONCAT(Personne[[#This Row],[Adresse]],\" \",Personne[[#This Row],[CodePostal]],\" \",Personne[[#This Row],[Ville]],\" \",Personne[[#This Row],[CodePays]])","v":"   "}]
[null,null,null,null,null,null,null,null,null,null,null,null,null,null,null,null,null,null,null,null,null,null,null,null,null,null,null,null,null,null,{"$f":"IF(PARAMETRES!$B$3=\"SANS\",SUMIFS(Honoraire[TotalHonoraireHT],Honoraire[ClientId],Personne[[#This Row],[PersonneId]]),SUMIFS(Honoraire[TotalHT],Honoraire[ClientId],Personne[[#This Row],[PersonneId]]))","v":0},{"$f":"Personne[[#This Row],[Facture (HT)]]+ROW()/100000","v":3.2980000000000002E-2},{"$f":"_xlfn.CONCAT(Personne[[#This Row],[Adresse]],\" \",Personne[[#This Row],[CodePostal]],\" \",Personne[[#This Row],[Ville]],\" \",Personne[[#This Row],[CodePays]])","v":"   "}]
[null,null,null,null,null,null,null,null,null,null,null,null,null,null,null,null,null,null,null,null,null,null,null,null,null,null,null,null,null,null,{"$f":"IF(PARAMETRES!$B$3=\"SANS\",SUMIFS(Honoraire[TotalHonoraireHT],Honoraire[ClientId],Personne[[#This Row],[PersonneId]]),SUMIFS(Honoraire[TotalHT],Honoraire[ClientId],Personne[[#This Row],[PersonneId]]))","v":0},{"$f":"Personne[[#This Row],[Facture (HT)]]+ROW()/100000","v":3.2989999999999998E-2},{"$f":"_xlfn.CONCAT(Personne[[#This Row],[Adresse]],\" \",Personne[[#This Row],[CodePostal]],\" \",Personne[[#This Row],[Ville]],\" \",Personne[[#This Row],[CodePays]])","v":"   "}]
[null,null,null,null,null,null,null,null,null,null,null,null,null,null,null,null,null,null,null,null,null,null,null,null,null,null,null,null,null,null,{"$f":"IF(PARAMETRES!$B$3=\"SANS\",SUMIFS(Honoraire[TotalHonoraireHT],Honoraire[ClientId],Personne[[#This Row],[PersonneId]]),SUMIFS(Honoraire[TotalHT],Honoraire[ClientId],Personne[[#This Row],[PersonneId]]))","v":0},{"$f":"Personne[[#This Row],[Facture (HT)]]+ROW()/100000","v":3.3000000000000002E-2},{"$f":"_xlfn.CONCAT(Personne[[#This Row],[Adresse]],\" \",Personne[[#This Row],[CodePostal]],\" \",Personne[[#This Row],[Ville]],\" \",Personne[[#This Row],[CodePays]])","v":"   "}]
[null,null,null,null,null,null,null,null,null,null,null,null,null,null,null,null,null,null,null,null,null,null,null,null,null,null,null,null,null,null,{"$f":"IF(PARAMETRES!$B$3=\"SANS\",SUMIFS(Honoraire[TotalHonoraireHT],Honoraire[ClientId],Personne[[#This Row],[PersonneId]]),SUMIFS(Honoraire[TotalHT],Honoraire[ClientId],Personne[[#This Row],[PersonneId]]))","v":0},{"$f":"Personne[[#This Row],[Facture (HT)]]+ROW()/100000","v":3.3009999999999998E-2},{"$f":"_xlfn.CONCAT(Personne[[#This Row],[Adresse]],\" \",Personne[[#This Row],[CodePostal]],\" \",Personne[[#This Row],[Ville]],\" \",Personne[[#This Row],[CodePays]])","v":"   "}]
[null,null,null,null,null,null,null,null,null,null,null,null,null,null,null,null,null,null,null,null,null,null,null,null,null,null,null,null,null,null,{"$f":"IF(PARAMETRES!$B$3=\"SANS\",SUMIFS(Honoraire[TotalHonoraireHT],Honoraire[ClientId],Personne[[#This Row],[PersonneId]]),SUMIFS(Honoraire[TotalHT],Honoraire[ClientId],Personne[[#This Row],[PersonneId]]))","v":0},{"$f":"Personne[[#This Row],[Facture (HT)]]+ROW()/100000","v":3.3020000000000001E-2},{"$f":"_xlfn.CONCAT(Personne[[#This Row],[Adresse]],\" \",Personne[[#This Row],[CodePostal]],\" \",Personne[[#This Row],[Ville]],\" \",Personne[[#This Row],[CodePays]])","v":"   "}]
[null,null,null,null,null,null,null,null,null,null,null,null,null,null,null,null,null,null,null,null,null,null,null,null,null,null,null,null,null,null,{"$f":"IF(PARAMETRES!$B$3=\"SANS\",SUMIFS(Honoraire[TotalHonoraireHT],Honoraire[ClientId],Personne[[#This Row],[PersonneId]]),SUMIFS(Honoraire[TotalHT],Honoraire[ClientId],Personne[[#This Row],[PersonneId]]))","v":0},{"$f":"Personne[[#This Row],[Facture (HT)]]+ROW()/100000","v":3.3029999999999997E-2},{"$f":"_xlfn.CONCAT(Personne[[#This Row],[Adresse]],\" \",Personne[[#This Row],[CodePostal]],\" \",Personne[[#This Row],[Ville]],\" \",Personne[[#This Row],[CodePays]])","v":"   "}]
[null,null,null,null,null,null,null,null,null,null,null,null,null,null,null,null,null,null,null,null,null,null,null,null,null,null,null,null,null,null,{"$f":"IF(PARAMETRES!$B$3=\"SANS\",SUMIFS(Honoraire[TotalHonoraireHT],Honoraire[ClientId],Personne[[#This Row],[PersonneId]]),SUMIFS(Honoraire[TotalHT],Honoraire[ClientId],Personne[[#This Row],[PersonneId]]))","v":0},{"$f":"Personne[[#This Row],[Facture (HT)]]+ROW()/100000","v":3.304E-2},{"$f":"_xlfn.CONCAT(Personne[[#This Row],[Adresse]],\" \",Personne[[#This Row],[CodePostal]],\" \",Personne[[#This Row],[Ville]],\" \",Personne[[#This Row],[CodePays]])","v":"   "}]
[null,null,null,null,null,null,null,null,null,null,null,null,null,null,null,null,null,null,null,null,null,null,null,null,null,null,null,null,null,null,{"$f":"IF(PARAMETRES!$B$3=\"SANS\",SUMIFS(Honoraire[TotalHonoraireHT],Honoraire[ClientId],Personne[[#This Row],[PersonneId]]),SUMIFS(Honoraire[TotalHT],Honoraire[ClientId],Personne[[#This Row],[PersonneId]]))","v":0},{"$f":"Personne[[#This Row],[Facture (HT)]]+ROW()/100000","v":3.3050000000000003E-2},{"$f":"_xlfn.CONCAT(Personne[[#This Row],[Adresse]],\" \",Personne[[#This Row],[CodePostal]],\" \",Personne[[#This Row],[Ville]],\" \",Personne[[#This Row],[CodePays]])","v":"   "}]
[null,null,null,null,null,null,null,null,null,null,null,null,null,null,null,null,null,null,null,null,null,null,null,null,null,null,null,null,null,null,{"$f":"IF(PARAMETRES!$B$3=\"SANS\",SUMIFS(Honoraire[TotalHonoraireHT],Honoraire[ClientId],Personne[[#This Row],[PersonneId]]),SUMIFS(Honoraire[TotalHT],Honoraire[ClientId],Personne[[#This Row],[PersonneId]]))","v":0},{"$f":"Personne[[#This Row],[Facture (HT)]]+ROW()/100000","v":3.3059999999999999E-2},{"$f":"_xlfn.CONCAT(Personne[[#This Row],[Adresse]],\" \",Personne[[#This Row],[CodePostal]],\" \",Personne[[#This Row],[Ville]],\" \",Personne[[#This Row],[CodePays]])","v":"   "}]
[null,null,null,null,null,null,null,null,null,null,null,null,null,null,null,null,null,null,null,null,null,null,null,null,null,null,null,null,null,null,{"$f":"IF(PARAMETRES!$B$3=\"SANS\",SUMIFS(Honoraire[TotalHonoraireHT],Honoraire[ClientId],Personne[[#This Row],[PersonneId]]),SUMIFS(Honoraire[TotalHT],Honoraire[ClientId],Personne[[#This Row],[PersonneId]]))","v":0},{"$f":"Personne[[#This Row],[Facture (HT)]]+ROW()/100000","v":3.3070000000000002E-2},{"$f":"_xlfn.CONCAT(Personne[[#This Row],[Adresse]],\" \",Personne[[#This Row],[CodePostal]],\" \",Personne[[#This Row],[Ville]],\" \",Personne[[#This Row],[CodePays]])","v":"   "}]
[null,null,null,null,null,null,null,null,null,null,null,null,null,null,null,null,null,null,null,null,null,null,null,null,null,null,null,null,null,null,{"$f":"IF(PARAMETRES!$B$3=\"SANS\",SUMIFS(Honoraire[TotalHonoraireHT],Honoraire[ClientId],Personne[[#This Row],[PersonneId]]),SUMIFS(Honoraire[TotalHT],Honoraire[ClientId],Personne[[#This Row],[PersonneId]]))","v":0},{"$f":"Personne[[#This Row],[Facture (HT)]]+ROW()/100000","v":3.3079999999999998E-2},{"$f":"_xlfn.CONCAT(Personne[[#This Row],[Adresse]],\" \",Personne[[#This Row],[CodePostal]],\" \",Personne[[#This Row],[Ville]],\" \",Personne[[#This Row],[CodePays]])","v":"   "}]
[null,null,null,null,null,null,null,null,null,null,null,null,null,null,null,null,null,null,null,null,null,null,null,null,null,null,null,null,null,null,{"$f":"IF(PARAMETRES!$B$3=\"SANS\",SUMIFS(Honoraire[TotalHonoraireHT],Honoraire[ClientId],Personne[[#This Row],[PersonneId]]),SUMIFS(Honoraire[TotalHT],Honoraire[ClientId],Personne[[#This Row],[PersonneId]]))","v":0},{"$f":"Personne[[#This Row],[Facture (HT)]]+ROW()/100000","v":3.3090000000000001E-2},{"$f":"_xlfn.CONCAT(Personne[[#This Row],[Adresse]],\" \",Personne[[#This Row],[CodePostal]],\" \",Personne[[#This Row],[Ville]],\" \",Personne[[#This Row],[CodePays]])","v":"   "}]
[null,null,null,null,null,null,null,null,null,null,null,null,null,null,null,null,null,null,null,null,null,null,null,null,null,null,null,null,null,null,{"$f":"IF(PARAMETRES!$B$3=\"SANS\",SUMIFS(Honoraire[TotalHonoraireHT],Honoraire[ClientId],Personne[[#This Row],[PersonneId]]),SUMIFS(Honoraire[TotalHT],Honoraire[ClientId],Personne[[#This Row],[PersonneId]]))","v":0},{"$f":"Personne[[#This Row],[Facture (HT)]]+ROW()/100000","v":3.3099999999999997E-2},{"$f":"_xlfn.CONCAT(Personne[[#This Row],[Adresse]],\" \",Personne[[#This Row],[CodePostal]],\" \",Personne[[#This Row],[Ville]],\" \",Personne[[#This Row],[CodePays]])","v":"   "}]
[null,null,null,null,null,null,null,null,null,null,null,null,null,null,null,null,null,null,null,null,null,null,null,null,null,null,null,null,null,null,{"$f":"IF(PARAMETRES!$B$3=\"SANS\",SUMIFS(Honoraire[TotalHonoraireHT],Honoraire[ClientId],Personne[[#This Row],[PersonneId]]),SUMIFS(Honoraire[TotalHT],Honoraire[ClientId],Personne[[#This Row],[PersonneId]]))","v":0},{"$f":"Personne[[#This Row],[Facture (HT)]]+ROW()/100000","v":3.3110000000000001E-2},{"$f":"_xlfn.CONCAT(Personne[[#This Row],[Adresse]],\" \",Personne[[#This Row],[CodePostal]],\" \",Personne[[#This Row],[Ville]],\" \",Personne[[#This Row],[CodePays]])","v":"   "}]
[null,null,null,null,null,null,null,null,null,null,null,null,null,null,null,null,null,null,null,null,null,null,null,null,null,null,null,null,null,null,{"$f":"IF(PARAMETRES!$B$3=\"SANS\",SUMIFS(Honoraire[TotalHonoraireHT],Honoraire[ClientId],Personne[[#This Row],[PersonneId]]),SUMIFS(Honoraire[TotalHT],Honoraire[ClientId],Personne[[#This Row],[PersonneId]]))","v":0},{"$f":"Personne[[#This Row],[Facture (HT)]]+ROW()/100000","v":3.3119999999999997E-2},{"$f":"_xlfn.CONCAT(Personne[[#This Row],[Adresse]],\" \",Personne[[#This Row],[CodePostal]],\" \",Personne[[#This Row],[Ville]],\" \",Personne[[#This Row],[CodePays]])","v":"   "}]
[null,null,null,null,null,null,null,null,null,null,null,null,null,null,null,null,null,null,null,null,null,null,null,null,null,null,null,null,null,null,{"$f":"IF(PARAMETRES!$B$3=\"SANS\",SUMIFS(Honoraire[TotalHonoraireHT],Honoraire[ClientId],Personne[[#This Row],[PersonneId]]),SUMIFS(Honoraire[TotalHT],Honoraire[ClientId],Personne[[#This Row],[PersonneId]]))","v":0},{"$f":"Personne[[#This Row],[Facture (HT)]]+ROW()/100000","v":3.313E-2},{"$f":"_xlfn.CONCAT(Personne[[#This Row],[Adresse]],\" \",Personne[[#This Row],[CodePostal]],\" \",Personne[[#This Row],[Ville]],\" \",Personne[[#This Row],[CodePays]])","v":"   "}]
[null,null,null,null,null,null,null,null,null,null,null,null,null,null,null,null,null,null,null,null,null,null,null,null,null,null,null,null,null,null,{"$f":"IF(PARAMETRES!$B$3=\"SANS\",SUMIFS(Honoraire[TotalHonoraireHT],Honoraire[ClientId],Personne[[#This Row],[PersonneId]]),SUMIFS(Honoraire[TotalHT],Honoraire[ClientId],Personne[[#This Row],[PersonneId]]))","v":0},{"$f":"Personne[[#This Row],[Facture (HT)]]+ROW()/100000","v":3.3140000000000003E-2},{"$f":"_xlfn.CONCAT(Personne[[#This Row],[Adresse]],\" \",Personne[[#This Row],[CodePostal]],\" \",Personne[[#This Row],[Ville]],\" \",Personne[[#This Row],[CodePays]])","v":"   "}]
[null,null,null,null,null,null,null,null,null,null,null,null,null,null,null,null,null,null,null,null,null,null,null,null,null,null,null,null,null,null,{"$f":"IF(PARAMETRES!$B$3=\"SANS\",SUMIFS(Honoraire[TotalHonoraireHT],Honoraire[ClientId],Personne[[#This Row],[PersonneId]]),SUMIFS(Honoraire[TotalHT],Honoraire[ClientId],Personne[[#This Row],[PersonneId]]))","v":0},{"$f":"Personne[[#This Row],[Facture (HT)]]+ROW()/100000","v":3.3149999999999999E-2},{"$f":"_xlfn.CONCAT(Personne[[#This Row],[Adresse]],\" \",Personne[[#This Row],[CodePostal]],\" \",Personne[[#This Row],[Ville]],\" \",Personne[[#This Row],[CodePays]])","v":"   "}]
[null,null,null,null,null,null,null,null,null,null,null,null,null,null,null,null,null,null,null,null,null,null,null,null,null,null,null,null,null,null,{"$f":"IF(PARAMETRES!$B$3=\"SANS\",SUMIFS(Honoraire[TotalHonoraireHT],Honoraire[ClientId],Personne[[#This Row],[PersonneId]]),SUMIFS(Honoraire[TotalHT],Honoraire[ClientId],Personne[[#This Row],[PersonneId]]))","v":0},{"$f":"Personne[[#This Row],[Facture (HT)]]+ROW()/100000","v":3.3160000000000002E-2},{"$f":"_xlfn.CONCAT(Personne[[#This Row],[Adresse]],\" \",Personne[[#This Row],[CodePostal]],\" \",Personne[[#This Row],[Ville]],\" \",Personne[[#This Row],[CodePays]])","v":"   "}]
[null,null,null,null,null,null,null,null,null,null,null,null,null,null,null,null,null,null,null,null,null,null,null,null,null,null,null,null,null,null,{"$f":"IF(PARAMETRES!$B$3=\"SANS\",SUMIFS(Honoraire[TotalHonoraireHT],Honoraire[ClientId],Personne[[#This Row],[PersonneId]]),SUMIFS(Honoraire[TotalHT],Honoraire[ClientId],Personne[[#This Row],[PersonneId]]))","v":0},{"$f":"Personne[[#This Row],[Facture (HT)]]+ROW()/100000","v":3.3169999999999998E-2},{"$f":"_xlfn.CONCAT(Personne[[#This Row],[Adresse]],\" \",Personne[[#This Row],[CodePostal]],\" \",Personne[[#This Row],[Ville]],\" \",Personne[[#This Row],[CodePays]])","v":"   "}]
[null,null,null,null,null,null,null,null,null,null,null,null,null,null,null,null,null,null,null,null,null,null,null,null,null,null,null,null,null,null,{"$f":"IF(PARAMETRES!$B$3=\"SANS\",SUMIFS(Honoraire[TotalHonoraireHT],Honoraire[ClientId],Personne[[#This Row],[PersonneId]]),SUMIFS(Honoraire[TotalHT],Honoraire[ClientId],Personne[[#This Row],[PersonneId]]))","v":0},{"$f":"Personne[[#This Row],[Facture (HT)]]+ROW()/100000","v":3.3180000000000001E-2},{"$f":"_xlfn.CONCAT(Personne[[#This Row],[Adresse]],\" \",Personne[[#This Row],[CodePostal]],\" \",Personne[[#This Row],[Ville]],\" \",Personne[[#This Row],[CodePays]])","v":"   "}]
[null,null,null,null,null,null,null,null,null,null,null,null,null,null,null,null,null,null,null,null,null,null,null,null,null,null,null,null,null,null,{"$f":"IF(PARAMETRES!$B$3=\"SANS\",SUMIFS(Honoraire[TotalHonoraireHT],Honoraire[ClientId],Personne[[#This Row],[PersonneId]]),SUMIFS(Honoraire[TotalHT],Honoraire[ClientId],Personne[[#This Row],[PersonneId]]))","v":0},{"$f":"Personne[[#This Row],[Facture (HT)]]+ROW()/100000","v":3.3189999999999997E-2},{"$f":"_xlfn.CONCAT(Personne[[#This Row],[Adresse]],\" \",Personne[[#This Row],[CodePostal]],\" \",Personne[[#This Row],[Ville]],\" \",Personne[[#This Row],[CodePays]])","v":"   "}]
[null,null,null,null,null,null,null,null,null,null,null,null,null,null,null,null,null,null,null,null,null,null,null,null,null,null,null,null,null,null,{"$f":"IF(PARAMETRES!$B$3=\"SANS\",SUMIFS(Honoraire[TotalHonoraireHT],Honoraire[ClientId],Personne[[#This Row],[PersonneId]]),SUMIFS(Honoraire[TotalHT],Honoraire[ClientId],Personne[[#This Row],[PersonneId]]))","v":0},{"$f":"Personne[[#This Row],[Facture (HT)]]+ROW()/100000","v":3.32E-2},{"$f":"_xlfn.CONCAT(Personne[[#This Row],[Adresse]],\" \",Personne[[#This Row],[CodePostal]],\" \",Personne[[#This Row],[Ville]],\" \",Personne[[#This Row],[CodePays]])","v":"   "}]
[null,null,null,null,null,null,null,null,null,null,null,null,null,null,null,null,null,null,null,null,null,null,null,null,null,null,null,null,null,null,{"$f":"IF(PARAMETRES!$B$3=\"SANS\",SUMIFS(Honoraire[TotalHonoraireHT],Honoraire[ClientId],Personne[[#This Row],[PersonneId]]),SUMIFS(Honoraire[TotalHT],Honoraire[ClientId],Personne[[#This Row],[PersonneId]]))","v":0},{"$f":"Personne[[#This Row],[Facture (HT)]]+ROW()/100000","v":3.3210000000000003E-2},{"$f":"_xlfn.CONCAT(Personne[[#This Row],[Adresse]],\" \",Personne[[#This Row],[CodePostal]],\" \",Personne[[#This Row],[Ville]],\" \",Personne[[#This Row],[CodePays]])","v":"   "}]
[null,null,null,null,null,null,null,null,null,null,null,null,null,null,null,null,null,null,null,null,null,null,null,null,null,null,null,null,null,null,{"$f":"IF(PARAMETRES!$B$3=\"SANS\",SUMIFS(Honoraire[TotalHonoraireHT],Honoraire[ClientId],Personne[[#This Row],[PersonneId]]),SUMIFS(Honoraire[TotalHT],Honoraire[ClientId],Personne[[#This Row],[PersonneId]]))","v":0},{"$f":"Personne[[#This Row],[Facture (HT)]]+ROW()/100000","v":3.322E-2},{"$f":"_xlfn.CONCAT(Personne[[#This Row],[Adresse]],\" \",Personne[[#This Row],[CodePostal]],\" \",Personne[[#This Row],[Ville]],\" \",Personne[[#This Row],[CodePays]])","v":"   "}]
[null,null,null,null,null,null,null,null,null,null,null,null,null,null,null,null,null,null,null,null,null,null,null,null,null,null,null,null,null,null,{"$f":"IF(PARAMETRES!$B$3=\"SANS\",SUMIFS(Honoraire[TotalHonoraireHT],Honoraire[ClientId],Personne[[#This Row],[PersonneId]]),SUMIFS(Honoraire[TotalHT],Honoraire[ClientId],Personne[[#This Row],[PersonneId]]))","v":0},{"$f":"Personne[[#This Row],[Facture (HT)]]+ROW()/100000","v":3.3230000000000003E-2},{"$f":"_xlfn.CONCAT(Personne[[#This Row],[Adresse]],\" \",Personne[[#This Row],[CodePostal]],\" \",Personne[[#This Row],[Ville]],\" \",Personne[[#This Row],[CodePays]])","v":"   "}]
[null,null,null,null,null,null,null,null,null,null,null,null,null,null,null,null,null,null,null,null,null,null,null,null,null,null,null,null,null,null,{"$f":"IF(PARAMETRES!$B$3=\"SANS\",SUMIFS(Honoraire[TotalHonoraireHT],Honoraire[ClientId],Personne[[#This Row],[PersonneId]]),SUMIFS(Honoraire[TotalHT],Honoraire[ClientId],Personne[[#This Row],[PersonneId]]))","v":0},{"$f":"Personne[[#This Row],[Facture (HT)]]+ROW()/100000","v":3.3239999999999999E-2},{"$f":"_xlfn.CONCAT(Personne[[#This Row],[Adresse]],\" \",Personne[[#This Row],[CodePostal]],\" \",Personne[[#This Row],[Ville]],\" \",Personne[[#This Row],[CodePays]])","v":"   "}]
[null,null,null,null,null,null,null,null,null,null,null,null,null,null,null,null,null,null,null,null,null,null,null,null,null,null,null,null,null,null,{"$f":"IF(PARAMETRES!$B$3=\"SANS\",SUMIFS(Honoraire[TotalHonoraireHT],Honoraire[ClientId],Personne[[#This Row],[PersonneId]]),SUMIFS(Honoraire[TotalHT],Honoraire[ClientId],Personne[[#This Row],[PersonneId]]))","v":0},{"$f":"Personne[[#This Row],[Facture (HT)]]+ROW()/100000","v":3.3250000000000002E-2},{"$f":"_xlfn.CONCAT(Personne[[#This Row],[Adresse]],\" \",Personne[[#This Row],[CodePostal]],\" \",Personne[[#This Row],[Ville]],\" \",Personne[[#This Row],[CodePays]])","v":"   "}]
[null,null,null,null,null,null,null,null,null,null,null,null,null,null,null,null,null,null,null,null,null,null,null,null,null,null,null,null,null,null,{"$f":"IF(PARAMETRES!$B$3=\"SANS\",SUMIFS(Honoraire[TotalHonoraireHT],Honoraire[ClientId],Personne[[#This Row],[PersonneId]]),SUMIFS(Honoraire[TotalHT],Honoraire[ClientId],Personne[[#This Row],[PersonneId]]))","v":0},{"$f":"Personne[[#This Row],[Facture (HT)]]+ROW()/100000","v":3.3259999999999998E-2},{"$f":"_xlfn.CONCAT(Personne[[#This Row],[Adresse]],\" \",Personne[[#This Row],[CodePostal]],\" \",Personne[[#This Row],[Ville]],\" \",Personne[[#This Row],[CodePays]])","v":"   "}]
[null,null,null,null,null,null,null,null,null,null,null,null,null,null,null,null,null,null,null,null,null,null,null,null,null,null,null,null,null,null,{"$f":"IF(PARAMETRES!$B$3=\"SANS\",SUMIFS(Honoraire[TotalHonoraireHT],Honoraire[ClientId],Personne[[#This Row],[PersonneId]]),SUMIFS(Honoraire[TotalHT],Honoraire[ClientId],Personne[[#This Row],[PersonneId]]))","v":0},{"$f":"Personne[[#This Row],[Facture (HT)]]+ROW()/100000","v":3.3270000000000001E-2},{"$f":"_xlfn.CONCAT(Personne[[#This Row],[Adresse]],\" \",Personne[[#This Row],[CodePostal]],\" \",Personne[[#This Row],[Ville]],\" \",Personne[[#This Row],[CodePays]])","v":"   "}]
[null,null,null,null,null,null,null,null,null,null,null,null,null,null,null,null,null,null,null,null,null,null,null,null,null,null,null,null,null,null,{"$f":"IF(PARAMETRES!$B$3=\"SANS\",SUMIFS(Honoraire[TotalHonoraireHT],Honoraire[ClientId],Personne[[#This Row],[PersonneId]]),SUMIFS(Honoraire[TotalHT],Honoraire[ClientId],Personne[[#This Row],[PersonneId]]))","v":0},{"$f":"Personne[[#This Row],[Facture (HT)]]+ROW()/100000","v":3.3279999999999997E-2},{"$f":"_xlfn.CONCAT(Personne[[#This Row],[Adresse]],\" \",Personne[[#This Row],[CodePostal]],\" \",Personne[[#This Row],[Ville]],\" \",Personne[[#This Row],[CodePays]])","v":"   "}]
[null,null,null,null,null,null,null,null,null,null,null,null,null,null,null,null,null,null,null,null,null,null,null,null,null,null,null,null,null,null,{"$f":"IF(PARAMETRES!$B$3=\"SANS\",SUMIFS(Honoraire[TotalHonoraireHT],Honoraire[ClientId],Personne[[#This Row],[PersonneId]]),SUMIFS(Honoraire[TotalHT],Honoraire[ClientId],Personne[[#This Row],[PersonneId]]))","v":0},{"$f":"Personne[[#This Row],[Facture (HT)]]+ROW()/100000","v":3.329E-2},{"$f":"_xlfn.CONCAT(Personne[[#This Row],[Adresse]],\" \",Personne[[#This Row],[CodePostal]],\" \",Personne[[#This Row],[Ville]],\" \",Personne[[#This Row],[CodePays]])","v":"   "}]
[null,null,null,null,null,null,null,null,null,null,null,null,null,null,null,null,null,null,null,null,null,null,null,null,null,null,null,null,null,null,{"$f":"IF(PARAMETRES!$B$3=\"SANS\",SUMIFS(Honoraire[TotalHonoraireHT],Honoraire[ClientId],Personne[[#This Row],[PersonneId]]),SUMIFS(Honoraire[TotalHT],Honoraire[ClientId],Personne[[#This Row],[PersonneId]]))","v":0},{"$f":"Personne[[#This Row],[Facture (HT)]]+ROW()/100000","v":3.3300000000000003E-2},{"$f":"_xlfn.CONCAT(Personne[[#This Row],[Adresse]],\" \",Personne[[#This Row],[CodePostal]],\" \",Personne[[#This Row],[Ville]],\" \",Personne[[#This Row],[CodePays]])","v":"   "}]
[null,null,null,null,null,null,null,null,null,null,null,null,null,null,null,null,null,null,null,null,null,null,null,null,null,null,null,null,null,null,{"$f":"IF(PARAMETRES!$B$3=\"SANS\",SUMIFS(Honoraire[TotalHonoraireHT],Honoraire[ClientId],Personne[[#This Row],[PersonneId]]),SUMIFS(Honoraire[TotalHT],Honoraire[ClientId],Personne[[#This Row],[PersonneId]]))","v":0},{"$f":"Personne[[#This Row],[Facture (HT)]]+ROW()/100000","v":3.3309999999999999E-2},{"$f":"_xlfn.CONCAT(Personne[[#This Row],[Adresse]],\" \",Personne[[#This Row],[CodePostal]],\" \",Personne[[#This Row],[Ville]],\" \",Personne[[#This Row],[CodePays]])","v":"   "}]
[null,null,null,null,null,null,null,null,null,null,null,null,null,null,null,null,null,null,null,null,null,null,null,null,null,null,null,null,null,null,{"$f":"IF(PARAMETRES!$B$3=\"SANS\",SUMIFS(Honoraire[TotalHonoraireHT],Honoraire[ClientId],Personne[[#This Row],[PersonneId]]),SUMIFS(Honoraire[TotalHT],Honoraire[ClientId],Personne[[#This Row],[PersonneId]]))","v":0},{"$f":"Personne[[#This Row],[Facture (HT)]]+ROW()/100000","v":3.3320000000000002E-2},{"$f":"_xlfn.CONCAT(Personne[[#This Row],[Adresse]],\" \",Personne[[#This Row],[CodePostal]],\" \",Personne[[#This Row],[Ville]],\" \",Personne[[#This Row],[CodePays]])","v":"   "}]
[null,null,null,null,null,null,null,null,null,null,null,null,null,null,null,null,null,null,null,null,null,null,null,null,null,null,null,null,null,null,{"$f":"IF(PARAMETRES!$B$3=\"SANS\",SUMIFS(Honoraire[TotalHonoraireHT],Honoraire[ClientId],Personne[[#This Row],[PersonneId]]),SUMIFS(Honoraire[TotalHT],Honoraire[ClientId],Personne[[#This Row],[PersonneId]]))","v":0},{"$f":"Personne[[#This Row],[Facture (HT)]]+ROW()/100000","v":3.3329999999999999E-2},{"$f":"_xlfn.CONCAT(Personne[[#This Row],[Adresse]],\" \",Personne[[#This Row],[CodePostal]],\" \",Personne[[#This Row],[Ville]],\" \",Personne[[#This Row],[CodePays]])","v":"   "}]
[null,null,null,null,null,null,null,null,null,null,null,null,null,null,null,null,null,null,null,null,null,null,null,null,null,null,null,null,null,null,{"$f":"IF(PARAMETRES!$B$3=\"SANS\",SUMIFS(Honoraire[TotalHonoraireHT],Honoraire[ClientId],Personne[[#This Row],[PersonneId]]),SUMIFS(Honoraire[TotalHT],Honoraire[ClientId],Personne[[#This Row],[PersonneId]]))","v":0},{"$f":"Personne[[#This Row],[Facture (HT)]]+ROW()/100000","v":3.3340000000000002E-2},{"$f":"_xlfn.CONCAT(Personne[[#This Row],[Adresse]],\" \",Personne[[#This Row],[CodePostal]],\" \",Personne[[#This Row],[Ville]],\" \",Personne[[#This Row],[CodePays]])","v":"   "}]
[null,null,null,null,null,null,null,null,null,null,null,null,null,null,null,null,null,null,null,null,null,null,null,null,null,null,null,null,null,null,{"$f":"IF(PARAMETRES!$B$3=\"SANS\",SUMIFS(Honoraire[TotalHonoraireHT],Honoraire[ClientId],Personne[[#This Row],[PersonneId]]),SUMIFS(Honoraire[TotalHT],Honoraire[ClientId],Personne[[#This Row],[PersonneId]]))","v":0},{"$f":"Personne[[#This Row],[Facture (HT)]]+ROW()/100000","v":3.3349999999999998E-2},{"$f":"_xlfn.CONCAT(Personne[[#This Row],[Adresse]],\" \",Personne[[#This Row],[CodePostal]],\" \",Personne[[#This Row],[Ville]],\" \",Personne[[#This Row],[CodePays]])","v":"   "}]
[null,null,null,null,null,null,null,null,null,null,null,null,null,null,null,null,null,null,null,null,null,null,null,null,null,null,null,null,null,null,{"$f":"IF(PARAMETRES!$B$3=\"SANS\",SUMIFS(Honoraire[TotalHonoraireHT],Honoraire[ClientId],Personne[[#This Row],[PersonneId]]),SUMIFS(Honoraire[TotalHT],Honoraire[ClientId],Personne[[#This Row],[PersonneId]]))","v":0},{"$f":"Personne[[#This Row],[Facture (HT)]]+ROW()/100000","v":3.3360000000000001E-2},{"$f":"_xlfn.CONCAT(Personne[[#This Row],[Adresse]],\" \",Personne[[#This Row],[CodePostal]],\" \",Personne[[#This Row],[Ville]],\" \",Personne[[#This Row],[CodePays]])","v":"   "}]
[null,null,null,null,null,null,null,null,null,null,null,null,null,null,null,null,null,null,null,null,null,null,null,null,null,null,null,null,null,null,{"$f":"IF(PARAMETRES!$B$3=\"SANS\",SUMIFS(Honoraire[TotalHonoraireHT],Honoraire[ClientId],Personne[[#This Row],[PersonneId]]),SUMIFS(Honoraire[TotalHT],Honoraire[ClientId],Personne[[#This Row],[PersonneId]]))","v":0},{"$f":"Personne[[#This Row],[Facture (HT)]]+ROW()/100000","v":3.3369999999999997E-2},{"$f":"_xlfn.CONCAT(Personne[[#This Row],[Adresse]],\" \",Personne[[#This Row],[CodePostal]],\" \",Personne[[#This Row],[Ville]],\" \",Personne[[#This Row],[CodePays]])","v":"   "}]
[null,null,null,null,null,null,null,null,null,null,null,null,null,null,null,null,null,null,null,null,null,null,null,null,null,null,null,null,null,null,{"$f":"IF(PARAMETRES!$B$3=\"SANS\",SUMIFS(Honoraire[TotalHonoraireHT],Honoraire[ClientId],Personne[[#This Row],[PersonneId]]),SUMIFS(Honoraire[TotalHT],Honoraire[ClientId],Personne[[#This Row],[PersonneId]]))","v":0},{"$f":"Personne[[#This Row],[Facture (HT)]]+ROW()/100000","v":3.338E-2},{"$f":"_xlfn.CONCAT(Personne[[#This Row],[Adresse]],\" \",Personne[[#This Row],[CodePostal]],\" \",Personne[[#This Row],[Ville]],\" \",Personne[[#This Row],[CodePays]])","v":"   "}]
[null,null,null,null,null,null,null,null,null,null,null,null,null,null,null,null,null,null,null,null,null,null,null,null,null,null,null,null,null,null,{"$f":"IF(PARAMETRES!$B$3=\"SANS\",SUMIFS(Honoraire[TotalHonoraireHT],Honoraire[ClientId],Personne[[#This Row],[PersonneId]]),SUMIFS(Honoraire[TotalHT],Honoraire[ClientId],Personne[[#This Row],[PersonneId]]))","v":0},{"$f":"Personne[[#This Row],[Facture (HT)]]+ROW()/100000","v":3.3390000000000003E-2},{"$f":"_xlfn.CONCAT(Personne[[#This Row],[Adresse]],\" \",Personne[[#This Row],[CodePostal]],\" \",Personne[[#This Row],[Ville]],\" \",Personne[[#This Row],[CodePays]])","v":"   "}]
[null,null,null,null,null,null,null,null,null,null,null,null,null,null,null,null,null,null,null,null,null,null,null,null,null,null,null,null,null,null,{"$f":"IF(PARAMETRES!$B$3=\"SANS\",SUMIFS(Honoraire[TotalHonoraireHT],Honoraire[ClientId],Personne[[#This Row],[PersonneId]]),SUMIFS(Honoraire[TotalHT],Honoraire[ClientId],Personne[[#This Row],[PersonneId]]))","v":0},{"$f":"Personne[[#This Row],[Facture (HT)]]+ROW()/100000","v":3.3399999999999999E-2},{"$f":"_xlfn.CONCAT(Personne[[#This Row],[Adresse]],\" \",Personne[[#This Row],[CodePostal]],\" \",Personne[[#This Row],[Ville]],\" \",Personne[[#This Row],[CodePays]])","v":"   "}]
[null,null,null,null,null,null,null,null,null,null,null,null,null,null,null,null,null,null,null,null,null,null,null,null,null,null,null,null,null,null,{"$f":"IF(PARAMETRES!$B$3=\"SANS\",SUMIFS(Honoraire[TotalHonoraireHT],Honoraire[ClientId],Personne[[#This Row],[PersonneId]]),SUMIFS(Honoraire[TotalHT],Honoraire[ClientId],Personne[[#This Row],[PersonneId]]))","v":0},{"$f":"Personne[[#This Row],[Facture (HT)]]+ROW()/100000","v":3.3410000000000002E-2},{"$f":"_xlfn.CONCAT(Personne[[#This Row],[Adresse]],\" \",Personne[[#This Row],[CodePostal]],\" \",Personne[[#This Row],[Ville]],\" \",Personne[[#This Row],[CodePays]])","v":"   "}]
[null,null,null,null,null,null,null,null,null,null,null,null,null,null,null,null,null,null,null,null,null,null,null,null,null,null,null,null,null,null,{"$f":"IF(PARAMETRES!$B$3=\"SANS\",SUMIFS(Honoraire[TotalHonoraireHT],Honoraire[ClientId],Personne[[#This Row],[PersonneId]]),SUMIFS(Honoraire[TotalHT],Honoraire[ClientId],Personne[[#This Row],[PersonneId]]))","v":0},{"$f":"Personne[[#This Row],[Facture (HT)]]+ROW()/100000","v":3.3419999999999998E-2},{"$f":"_xlfn.CONCAT(Personne[[#This Row],[Adresse]],\" \",Personne[[#This Row],[CodePostal]],\" \",Personne[[#This Row],[Ville]],\" \",Personne[[#This Row],[CodePays]])","v":"   "}]
[null,null,null,null,null,null,null,null,null,null,null,null,null,null,null,null,null,null,null,null,null,null,null,null,null,null,null,null,null,null,{"$f":"IF(PARAMETRES!$B$3=\"SANS\",SUMIFS(Honoraire[TotalHonoraireHT],Honoraire[ClientId],Personne[[#This Row],[PersonneId]]),SUMIFS(Honoraire[TotalHT],Honoraire[ClientId],Personne[[#This Row],[PersonneId]]))","v":0},{"$f":"Personne[[#This Row],[Facture (HT)]]+ROW()/100000","v":3.3430000000000001E-2},{"$f":"_xlfn.CONCAT(Personne[[#This Row],[Adresse]],\" \",Personne[[#This Row],[CodePostal]],\" \",Personne[[#This Row],[Ville]],\" \",Personne[[#This Row],[CodePays]])","v":"   "}]
[null,null,null,null,null,null,null,null,null,null,null,null,null,null,null,null,null,null,null,null,null,null,null,null,null,null,null,null,null,null,{"$f":"IF(PARAMETRES!$B$3=\"SANS\",SUMIFS(Honoraire[TotalHonoraireHT],Honoraire[ClientId],Personne[[#This Row],[PersonneId]]),SUMIFS(Honoraire[TotalHT],Honoraire[ClientId],Personne[[#This Row],[PersonneId]]))","v":0},{"$f":"Personne[[#This Row],[Facture (HT)]]+ROW()/100000","v":3.3439999999999998E-2},{"$f":"_xlfn.CONCAT(Personne[[#This Row],[Adresse]],\" \",Personne[[#This Row],[CodePostal]],\" \",Personne[[#This Row],[Ville]],\" \",Personne[[#This Row],[CodePays]])","v":"   "}]
[null,null,null,null,null,null,null,null,null,null,null,null,null,null,null,null,null,null,null,null,null,null,null,null,null,null,null,null,null,null,{"$f":"IF(PARAMETRES!$B$3=\"SANS\",SUMIFS(Honoraire[TotalHonoraireHT],Honoraire[ClientId],Personne[[#This Row],[PersonneId]]),SUMIFS(Honoraire[TotalHT],Honoraire[ClientId],Personne[[#This Row],[PersonneId]]))","v":0},{"$f":"Personne[[#This Row],[Facture (HT)]]+ROW()/100000","v":3.3450000000000001E-2},{"$f":"_xlfn.CONCAT(Personne[[#This Row],[Adresse]],\" \",Personne[[#This Row],[CodePostal]],\" \",Personne[[#This Row],[Ville]],\" \",Personne[[#This Row],[CodePays]])","v":"   "}]
[null,null,null,null,null,null,null,null,null,null,null,null,null,null,null,null,null,null,null,null,null,null,null,null,null,null,null,null,null,null,{"$f":"IF(PARAMETRES!$B$3=\"SANS\",SUMIFS(Honoraire[TotalHonoraireHT],Honoraire[ClientId],Personne[[#This Row],[PersonneId]]),SUMIFS(Honoraire[TotalHT],Honoraire[ClientId],Personne[[#This Row],[PersonneId]]))","v":0},{"$f":"Personne[[#This Row],[Facture (HT)]]+ROW()/100000","v":3.3459999999999997E-2},{"$f":"_xlfn.CONCAT(Personne[[#This Row],[Adresse]],\" \",Personne[[#This Row],[CodePostal]],\" \",Personne[[#This Row],[Ville]],\" \",Personne[[#This Row],[CodePays]])","v":"   "}]
[null,null,null,null,null,null,null,null,null,null,null,null,null,null,null,null,null,null,null,null,null,null,null,null,null,null,null,null,null,null,{"$f":"IF(PARAMETRES!$B$3=\"SANS\",SUMIFS(Honoraire[TotalHonoraireHT],Honoraire[ClientId],Personne[[#This Row],[PersonneId]]),SUMIFS(Honoraire[TotalHT],Honoraire[ClientId],Personne[[#This Row],[PersonneId]]))","v":0},{"$f":"Personne[[#This Row],[Facture (HT)]]+ROW()/100000","v":3.347E-2},{"$f":"_xlfn.CONCAT(Personne[[#This Row],[Adresse]],\" \",Personne[[#This Row],[CodePostal]],\" \",Personne[[#This Row],[Ville]],\" \",Personne[[#This Row],[CodePays]])","v":"   "}]
[null,null,null,null,null,null,null,null,null,null,null,null,null,null,null,null,null,null,null,null,null,null,null,null,null,null,null,null,null,null,{"$f":"IF(PARAMETRES!$B$3=\"SANS\",SUMIFS(Honoraire[TotalHonoraireHT],Honoraire[ClientId],Personne[[#This Row],[PersonneId]]),SUMIFS(Honoraire[TotalHT],Honoraire[ClientId],Personne[[#This Row],[PersonneId]]))","v":0},{"$f":"Personne[[#This Row],[Facture (HT)]]+ROW()/100000","v":3.3480000000000003E-2},{"$f":"_xlfn.CONCAT(Personne[[#This Row],[Adresse]],\" \",Personne[[#This Row],[CodePostal]],\" \",Personne[[#This Row],[Ville]],\" \",Personne[[#This Row],[CodePays]])","v":"   "}]
[null,null,null,null,null,null,null,null,null,null,null,null,null,null,null,null,null,null,null,null,null,null,null,null,null,null,null,null,null,null,{"$f":"IF(PARAMETRES!$B$3=\"SANS\",SUMIFS(Honoraire[TotalHonoraireHT],Honoraire[ClientId],Personne[[#This Row],[PersonneId]]),SUMIFS(Honoraire[TotalHT],Honoraire[ClientId],Personne[[#This Row],[PersonneId]]))","v":0},{"$f":"Personne[[#This Row],[Facture (HT)]]+ROW()/100000","v":3.3489999999999999E-2},{"$f":"_xlfn.CONCAT(Personne[[#This Row],[Adresse]],\" \",Personne[[#This Row],[CodePostal]],\" \",Personne[[#This Row],[Ville]],\" \",Personne[[#This Row],[CodePays]])","v":"   "}]
[null,null,null,null,null,null,null,null,null,null,null,null,null,null,null,null,null,null,null,null,null,null,null,null,null,null,null,null,null,null,{"$f":"IF(PARAMETRES!$B$3=\"SANS\",SUMIFS(Honoraire[TotalHonoraireHT],Honoraire[ClientId],Personne[[#This Row],[PersonneId]]),SUMIFS(Honoraire[TotalHT],Honoraire[ClientId],Personne[[#This Row],[PersonneId]]))","v":0},{"$f":"Personne[[#This Row],[Facture (HT)]]+ROW()/100000","v":3.3500000000000002E-2},{"$f":"_xlfn.CONCAT(Personne[[#This Row],[Adresse]],\" \",Personne[[#This Row],[CodePostal]],\" \",Personne[[#This Row],[Ville]],\" \",Personne[[#This Row],[CodePays]])","v":"   "}]
[null,null,null,null,null,null,null,null,null,null,null,null,null,null,null,null,null,null,null,null,null,null,null,null,null,null,null,null,null,null,{"$f":"IF(PARAMETRES!$B$3=\"SANS\",SUMIFS(Honoraire[TotalHonoraireHT],Honoraire[ClientId],Personne[[#This Row],[PersonneId]]),SUMIFS(Honoraire[TotalHT],Honoraire[ClientId],Personne[[#This Row],[PersonneId]]))","v":0},{"$f":"Personne[[#This Row],[Facture (HT)]]+ROW()/100000","v":3.3509999999999998E-2},{"$f":"_xlfn.CONCAT(Personne[[#This Row],[Adresse]],\" \",Personne[[#This Row],[CodePostal]],\" \",Personne[[#This Row],[Ville]],\" \",Personne[[#This Row],[CodePays]])","v":"   "}]
[null,null,null,null,null,null,null,null,null,null,null,null,null,null,null,null,null,null,null,null,null,null,null,null,null,null,null,null,null,null,{"$f":"IF(PARAMETRES!$B$3=\"SANS\",SUMIFS(Honoraire[TotalHonoraireHT],Honoraire[ClientId],Personne[[#This Row],[PersonneId]]),SUMIFS(Honoraire[TotalHT],Honoraire[ClientId],Personne[[#This Row],[PersonneId]]))","v":0},{"$f":"Personne[[#This Row],[Facture (HT)]]+ROW()/100000","v":3.3520000000000001E-2},{"$f":"_xlfn.CONCAT(Personne[[#This Row],[Adresse]],\" \",Personne[[#This Row],[CodePostal]],\" \",Personne[[#This Row],[Ville]],\" \",Personne[[#This Row],[CodePays]])","v":"   "}]
[null,null,null,null,null,null,null,null,null,null,null,null,null,null,null,null,null,null,null,null,null,null,null,null,null,null,null,null,null,null,{"$f":"IF(PARAMETRES!$B$3=\"SANS\",SUMIFS(Honoraire[TotalHonoraireHT],Honoraire[ClientId],Personne[[#This Row],[PersonneId]]),SUMIFS(Honoraire[TotalHT],Honoraire[ClientId],Personne[[#This Row],[PersonneId]]))","v":0},{"$f":"Personne[[#This Row],[Facture (HT)]]+ROW()/100000","v":3.3529999999999997E-2},{"$f":"_xlfn.CONCAT(Personne[[#This Row],[Adresse]],\" \",Personne[[#This Row],[CodePostal]],\" \",Personne[[#This Row],[Ville]],\" \",Personne[[#This Row],[CodePays]])","v":"   "}]
[null,null,null,null,null,null,null,null,null,null,null,null,null,null,null,null,null,null,null,null,null,null,null,null,null,null,null,null,null,null,{"$f":"IF(PARAMETRES!$B$3=\"SANS\",SUMIFS(Honoraire[TotalHonoraireHT],Honoraire[ClientId],Personne[[#This Row],[PersonneId]]),SUMIFS(Honoraire[TotalHT],Honoraire[ClientId],Personne[[#This Row],[PersonneId]]))","v":0},{"$f":"Personne[[#This Row],[Facture (HT)]]+ROW()/100000","v":3.354E-2},{"$f":"_xlfn.CONCAT(Personne[[#This Row],[Adresse]],\" \",Personne[[#This Row],[CodePostal]],\" \",Personne[[#This Row],[Ville]],\" \",Personne[[#This Row],[CodePays]])","v":"   "}]
[null,null,null,null,null,null,null,null,null,null,null,null,null,null,null,null,null,null,null,null,null,null,null,null,null,null,null,null,null,null,{"$f":"IF(PARAMETRES!$B$3=\"SANS\",SUMIFS(Honoraire[TotalHonoraireHT],Honoraire[ClientId],Personne[[#This Row],[PersonneId]]),SUMIFS(Honoraire[TotalHT],Honoraire[ClientId],Personne[[#This Row],[PersonneId]]))","v":0},{"$f":"Personne[[#This Row],[Facture (HT)]]+ROW()/100000","v":3.3550000000000003E-2},{"$f":"_xlfn.CONCAT(Personne[[#This Row],[Adresse]],\" \",Personne[[#This Row],[CodePostal]],\" \",Personne[[#This Row],[Ville]],\" \",Personne[[#This Row],[CodePays]])","v":"   "}]
[null,null,null,null,null,null,null,null,null,null,null,null,null,null,null,null,null,null,null,null,null,null,null,null,null,null,null,null,null,null,{"$f":"IF(PARAMETRES!$B$3=\"SANS\",SUMIFS(Honoraire[TotalHonoraireHT],Honoraire[ClientId],Personne[[#This Row],[PersonneId]]),SUMIFS(Honoraire[TotalHT],Honoraire[ClientId],Personne[[#This Row],[PersonneId]]))","v":0},{"$f":"Personne[[#This Row],[Facture (HT)]]+ROW()/100000","v":3.356E-2},{"$f":"_xlfn.CONCAT(Personne[[#This Row],[Adresse]],\" \",Personne[[#This Row],[CodePostal]],\" \",Personne[[#This Row],[Ville]],\" \",Personne[[#This Row],[CodePays]])","v":"   "}]
[null,null,null,null,null,null,null,null,null,null,null,null,null,null,null,null,null,null,null,null,null,null,null,null,null,null,null,null,null,null,{"$f":"IF(PARAMETRES!$B$3=\"SANS\",SUMIFS(Honoraire[TotalHonoraireHT],Honoraire[ClientId],Personne[[#This Row],[PersonneId]]),SUMIFS(Honoraire[TotalHT],Honoraire[ClientId],Personne[[#This Row],[PersonneId]]))","v":0},{"$f":"Personne[[#This Row],[Facture (HT)]]+ROW()/100000","v":3.3570000000000003E-2},{"$f":"_xlfn.CONCAT(Personne[[#This Row],[Adresse]],\" \",Personne[[#This Row],[CodePostal]],\" \",Personne[[#This Row],[Ville]],\" \",Personne[[#This Row],[CodePays]])","v":"   "}]
[null,null,null,null,null,null,null,null,null,null,null,null,null,null,null,null,null,null,null,null,null,null,null,null,null,null,null,null,null,null,{"$f":"IF(PARAMETRES!$B$3=\"SANS\",SUMIFS(Honoraire[TotalHonoraireHT],Honoraire[ClientId],Personne[[#This Row],[PersonneId]]),SUMIFS(Honoraire[TotalHT],Honoraire[ClientId],Personne[[#This Row],[PersonneId]]))","v":0},{"$f":"Personne[[#This Row],[Facture (HT)]]+ROW()/100000","v":3.3579999999999999E-2},{"$f":"_xlfn.CONCAT(Personne[[#This Row],[Adresse]],\" \",Personne[[#This Row],[CodePostal]],\" \",Personne[[#This Row],[Ville]],\" \",Personne[[#This Row],[CodePays]])","v":"   "}]
[null,null,null,null,null,null,null,null,null,null,null,null,null,null,null,null,null,null,null,null,null,null,null,null,null,null,null,null,null,null,{"$f":"IF(PARAMETRES!$B$3=\"SANS\",SUMIFS(Honoraire[TotalHonoraireHT],Honoraire[ClientId],Personne[[#This Row],[PersonneId]]),SUMIFS(Honoraire[TotalHT],Honoraire[ClientId],Personne[[#This Row],[PersonneId]]))","v":0},{"$f":"Personne[[#This Row],[Facture (HT)]]+ROW()/100000","v":3.3590000000000002E-2},{"$f":"_xlfn.CONCAT(Personne[[#This Row],[Adresse]],\" \",Personne[[#This Row],[CodePostal]],\" \",Personne[[#This Row],[Ville]],\" \",Personne[[#This Row],[CodePays]])","v":"   "}]
[null,null,null,null,null,null,null,null,null,null,null,null,null,null,null,null,null,null,null,null,null,null,null,null,null,null,null,null,null,null,{"$f":"IF(PARAMETRES!$B$3=\"SANS\",SUMIFS(Honoraire[TotalHonoraireHT],Honoraire[ClientId],Personne[[#This Row],[PersonneId]]),SUMIFS(Honoraire[TotalHT],Honoraire[ClientId],Personne[[#This Row],[PersonneId]]))","v":0},{"$f":"Personne[[#This Row],[Facture (HT)]]+ROW()/100000","v":3.3599999999999998E-2},{"$f":"_xlfn.CONCAT(Personne[[#This Row],[Adresse]],\" \",Personne[[#This Row],[CodePostal]],\" \",Personne[[#This Row],[Ville]],\" \",Personne[[#This Row],[CodePays]])","v":"   "}]
[null,null,null,null,null,null,null,null,null,null,null,null,null,null,null,null,null,null,null,null,null,null,null,null,null,null,null,null,null,null,{"$f":"IF(PARAMETRES!$B$3=\"SANS\",SUMIFS(Honoraire[TotalHonoraireHT],Honoraire[ClientId],Personne[[#This Row],[PersonneId]]),SUMIFS(Honoraire[TotalHT],Honoraire[ClientId],Personne[[#This Row],[PersonneId]]))","v":0},{"$f":"Personne[[#This Row],[Facture (HT)]]+ROW()/100000","v":3.3610000000000001E-2},{"$f":"_xlfn.CONCAT(Personne[[#This Row],[Adresse]],\" \",Personne[[#This Row],[CodePostal]],\" \",Personne[[#This Row],[Ville]],\" \",Personne[[#This Row],[CodePays]])","v":"   "}]
[null,null,null,null,null,null,null,null,null,null,null,null,null,null,null,null,null,null,null,null,null,null,null,null,null,null,null,null,null,null,{"$f":"IF(PARAMETRES!$B$3=\"SANS\",SUMIFS(Honoraire[TotalHonoraireHT],Honoraire[ClientId],Personne[[#This Row],[PersonneId]]),SUMIFS(Honoraire[TotalHT],Honoraire[ClientId],Personne[[#This Row],[PersonneId]]))","v":0},{"$f":"Personne[[#This Row],[Facture (HT)]]+ROW()/100000","v":3.3619999999999997E-2},{"$f":"_xlfn.CONCAT(Personne[[#This Row],[Adresse]],\" \",Personne[[#This Row],[CodePostal]],\" \",Personne[[#This Row],[Ville]],\" \",Personne[[#This Row],[CodePays]])","v":"   "}]
[null,null,null,null,null,null,null,null,null,null,null,null,null,null,null,null,null,null,null,null,null,null,null,null,null,null,null,null,null,null,{"$f":"IF(PARAMETRES!$B$3=\"SANS\",SUMIFS(Honoraire[TotalHonoraireHT],Honoraire[ClientId],Personne[[#This Row],[PersonneId]]),SUMIFS(Honoraire[TotalHT],Honoraire[ClientId],Personne[[#This Row],[PersonneId]]))","v":0},{"$f":"Personne[[#This Row],[Facture (HT)]]+ROW()/100000","v":3.363E-2},{"$f":"_xlfn.CONCAT(Personne[[#This Row],[Adresse]],\" \",Personne[[#This Row],[CodePostal]],\" \",Personne[[#This Row],[Ville]],\" \",Personne[[#This Row],[CodePays]])","v":"   "}]
[null,null,null,null,null,null,null,null,null,null,null,null,null,null,null,null,null,null,null,null,null,null,null,null,null,null,null,null,null,null,{"$f":"IF(PARAMETRES!$B$3=\"SANS\",SUMIFS(Honoraire[TotalHonoraireHT],Honoraire[ClientId],Personne[[#This Row],[PersonneId]]),SUMIFS(Honoraire[TotalHT],Honoraire[ClientId],Personne[[#This Row],[PersonneId]]))","v":0},{"$f":"Personne[[#This Row],[Facture (HT)]]+ROW()/100000","v":3.3640000000000003E-2},{"$f":"_xlfn.CONCAT(Personne[[#This Row],[Adresse]],\" \",Personne[[#This Row],[CodePostal]],\" \",Personne[[#This Row],[Ville]],\" \",Personne[[#This Row],[CodePays]])","v":"   "}]
[null,null,null,null,null,null,null,null,null,null,null,null,null,null,null,null,null,null,null,null,null,null,null,null,null,null,null,null,null,null,{"$f":"IF(PARAMETRES!$B$3=\"SANS\",SUMIFS(Honoraire[TotalHonoraireHT],Honoraire[ClientId],Personne[[#This Row],[PersonneId]]),SUMIFS(Honoraire[TotalHT],Honoraire[ClientId],Personne[[#This Row],[PersonneId]]))","v":0},{"$f":"Personne[[#This Row],[Facture (HT)]]+ROW()/100000","v":3.3649999999999999E-2},{"$f":"_xlfn.CONCAT(Personne[[#This Row],[Adresse]],\" \",Personne[[#This Row],[CodePostal]],\" \",Personne[[#This Row],[Ville]],\" \",Personne[[#This Row],[CodePays]])","v":"   "}]
[null,null,null,null,null,null,null,null,null,null,null,null,null,null,null,null,null,null,null,null,null,null,null,null,null,null,null,null,null,null,{"$f":"IF(PARAMETRES!$B$3=\"SANS\",SUMIFS(Honoraire[TotalHonoraireHT],Honoraire[ClientId],Personne[[#This Row],[PersonneId]]),SUMIFS(Honoraire[TotalHT],Honoraire[ClientId],Personne[[#This Row],[PersonneId]]))","v":0},{"$f":"Personne[[#This Row],[Facture (HT)]]+ROW()/100000","v":3.3660000000000002E-2},{"$f":"_xlfn.CONCAT(Personne[[#This Row],[Adresse]],\" \",Personne[[#This Row],[CodePostal]],\" \",Personne[[#This Row],[Ville]],\" \",Personne[[#This Row],[CodePays]])","v":"   "}]
[null,null,null,null,null,null,null,null,null,null,null,null,null,null,null,null,null,null,null,null,null,null,null,null,null,null,null,null,null,null,{"$f":"IF(PARAMETRES!$B$3=\"SANS\",SUMIFS(Honoraire[TotalHonoraireHT],Honoraire[ClientId],Personne[[#This Row],[PersonneId]]),SUMIFS(Honoraire[TotalHT],Honoraire[ClientId],Personne[[#This Row],[PersonneId]]))","v":0},{"$f":"Personne[[#This Row],[Facture (HT)]]+ROW()/100000","v":3.3669999999999999E-2},{"$f":"_xlfn.CONCAT(Personne[[#This Row],[Adresse]],\" \",Personne[[#This Row],[CodePostal]],\" \",Personne[[#This Row],[Ville]],\" \",Personne[[#This Row],[CodePays]])","v":"   "}]
[null,null,null,null,null,null,null,null,null,null,null,null,null,null,null,null,null,null,null,null,null,null,null,null,null,null,null,null,null,null,{"$f":"IF(PARAMETRES!$B$3=\"SANS\",SUMIFS(Honoraire[TotalHonoraireHT],Honoraire[ClientId],Personne[[#This Row],[PersonneId]]),SUMIFS(Honoraire[TotalHT],Honoraire[ClientId],Personne[[#This Row],[PersonneId]]))","v":0},{"$f":"Personne[[#This Row],[Facture (HT)]]+ROW()/100000","v":3.3680000000000002E-2},{"$f":"_xlfn.CONCAT(Personne[[#This Row],[Adresse]],\" \",Personne[[#This Row],[CodePostal]],\" \",Personne[[#This Row],[Ville]],\" \",Personne[[#This Row],[CodePays]])","v":"   "}]
[null,null,null,null,null,null,null,null,null,null,null,null,null,null,null,null,null,null,null,null,null,null,null,null,null,null,null,null,null,null,{"$f":"IF(PARAMETRES!$B$3=\"SANS\",SUMIFS(Honoraire[TotalHonoraireHT],Honoraire[ClientId],Personne[[#This Row],[PersonneId]]),SUMIFS(Honoraire[TotalHT],Honoraire[ClientId],Personne[[#This Row],[PersonneId]]))","v":0},{"$f":"Personne[[#This Row],[Facture (HT)]]+ROW()/100000","v":3.3689999999999998E-2},{"$f":"_xlfn.CONCAT(Personne[[#This Row],[Adresse]],\" \",Personne[[#This Row],[CodePostal]],\" \",Personne[[#This Row],[Ville]],\" \",Personne[[#This Row],[CodePays]])","v":"   "}]
[null,null,null,null,null,null,null,null,null,null,null,null,null,null,null,null,null,null,null,null,null,null,null,null,null,null,null,null,null,null,{"$f":"IF(PARAMETRES!$B$3=\"SANS\",SUMIFS(Honoraire[TotalHonoraireHT],Honoraire[ClientId],Personne[[#This Row],[PersonneId]]),SUMIFS(Honoraire[TotalHT],Honoraire[ClientId],Personne[[#This Row],[PersonneId]]))","v":0},{"$f":"Personne[[#This Row],[Facture (HT)]]+ROW()/100000","v":3.3700000000000001E-2},{"$f":"_xlfn.CONCAT(Personne[[#This Row],[Adresse]],\" \",Personne[[#This Row],[CodePostal]],\" \",Personne[[#This Row],[Ville]],\" \",Personne[[#This Row],[CodePays]])","v":"   "}]
[null,null,null,null,null,null,null,null,null,null,null,null,null,null,null,null,null,null,null,null,null,null,null,null,null,null,null,null,null,null,{"$f":"IF(PARAMETRES!$B$3=\"SANS\",SUMIFS(Honoraire[TotalHonoraireHT],Honoraire[ClientId],Personne[[#This Row],[PersonneId]]),SUMIFS(Honoraire[TotalHT],Honoraire[ClientId],Personne[[#This Row],[PersonneId]]))","v":0},{"$f":"Personne[[#This Row],[Facture (HT)]]+ROW()/100000","v":3.3709999999999997E-2},{"$f":"_xlfn.CONCAT(Personne[[#This Row],[Adresse]],\" \",Personne[[#This Row],[CodePostal]],\" \",Personne[[#This Row],[Ville]],\" \",Personne[[#This Row],[CodePays]])","v":"   "}]
[null,null,null,null,null,null,null,null,null,null,null,null,null,null,null,null,null,null,null,null,null,null,null,null,null,null,null,null,null,null,{"$f":"IF(PARAMETRES!$B$3=\"SANS\",SUMIFS(Honoraire[TotalHonoraireHT],Honoraire[ClientId],Personne[[#This Row],[PersonneId]]),SUMIFS(Honoraire[TotalHT],Honoraire[ClientId],Personne[[#This Row],[PersonneId]]))","v":0},{"$f":"Personne[[#This Row],[Facture (HT)]]+ROW()/100000","v":3.372E-2},{"$f":"_xlfn.CONCAT(Personne[[#This Row],[Adresse]],\" \",Personne[[#This Row],[CodePostal]],\" \",Personne[[#This Row],[Ville]],\" \",Personne[[#This Row],[CodePays]])","v":"   "}]
[null,null,null,null,null,null,null,null,null,null,null,null,null,null,null,null,null,null,null,null,null,null,null,null,null,null,null,null,null,null,{"$f":"IF(PARAMETRES!$B$3=\"SANS\",SUMIFS(Honoraire[TotalHonoraireHT],Honoraire[ClientId],Personne[[#This Row],[PersonneId]]),SUMIFS(Honoraire[TotalHT],Honoraire[ClientId],Personne[[#This Row],[PersonneId]]))","v":0},{"$f":"Personne[[#This Row],[Facture (HT)]]+ROW()/100000","v":3.3730000000000003E-2},{"$f":"_xlfn.CONCAT(Personne[[#This Row],[Adresse]],\" \",Personne[[#This Row],[CodePostal]],\" \",Personne[[#This Row],[Ville]],\" \",Personne[[#This Row],[CodePays]])","v":"   "}]
[null,null,null,null,null,null,null,null,null,null,null,null,null,null,null,null,null,null,null,null,null,null,null,null,null,null,null,null,null,null,{"$f":"IF(PARAMETRES!$B$3=\"SANS\",SUMIFS(Honoraire[TotalHonoraireHT],Honoraire[ClientId],Personne[[#This Row],[PersonneId]]),SUMIFS(Honoraire[TotalHT],Honoraire[ClientId],Personne[[#This Row],[PersonneId]]))","v":0},{"$f":"Personne[[#This Row],[Facture (HT)]]+ROW()/100000","v":3.3739999999999999E-2},{"$f":"_xlfn.CONCAT(Personne[[#This Row],[Adresse]],\" \",Personne[[#This Row],[CodePostal]],\" \",Personne[[#This Row],[Ville]],\" \",Personne[[#This Row],[CodePays]])","v":"   "}]
[null,null,null,null,null,null,null,null,null,null,null,null,null,null,null,null,null,null,null,null,null,null,null,null,null,null,null,null,null,null,{"$f":"IF(PARAMETRES!$B$3=\"SANS\",SUMIFS(Honoraire[TotalHonoraireHT],Honoraire[ClientId],Personne[[#This Row],[PersonneId]]),SUMIFS(Honoraire[TotalHT],Honoraire[ClientId],Personne[[#This Row],[PersonneId]]))","v":0},{"$f":"Personne[[#This Row],[Facture (HT)]]+ROW()/100000","v":3.3750000000000002E-2},{"$f":"_xlfn.CONCAT(Personne[[#This Row],[Adresse]],\" \",Personne[[#This Row],[CodePostal]],\" \",Personne[[#This Row],[Ville]],\" \",Personne[[#This Row],[CodePays]])","v":"   "}]
[null,null,null,null,null,null,null,null,null,null,null,null,null,null,null,null,null,null,null,null,null,null,null,null,null,null,null,null,null,null,{"$f":"IF(PARAMETRES!$B$3=\"SANS\",SUMIFS(Honoraire[TotalHonoraireHT],Honoraire[ClientId],Personne[[#This Row],[PersonneId]]),SUMIFS(Honoraire[TotalHT],Honoraire[ClientId],Personne[[#This Row],[PersonneId]]))","v":0},{"$f":"Personne[[#This Row],[Facture (HT)]]+ROW()/100000","v":3.3759999999999998E-2},{"$f":"_xlfn.CONCAT(Personne[[#This Row],[Adresse]],\" \",Personne[[#This Row],[CodePostal]],\" \",Personne[[#This Row],[Ville]],\" \",Personne[[#This Row],[CodePays]])","v":"   "}]
[null,null,null,null,null,null,null,null,null,null,null,null,null,null,null,null,null,null,null,null,null,null,null,null,null,null,null,null,null,null,{"$f":"IF(PARAMETRES!$B$3=\"SANS\",SUMIFS(Honoraire[TotalHonoraireHT],Honoraire[ClientId],Personne[[#This Row],[PersonneId]]),SUMIFS(Honoraire[TotalHT],Honoraire[ClientId],Personne[[#This Row],[PersonneId]]))","v":0},{"$f":"Personne[[#This Row],[Facture (HT)]]+ROW()/100000","v":3.3770000000000001E-2},{"$f":"_xlfn.CONCAT(Personne[[#This Row],[Adresse]],\" \",Personne[[#This Row],[CodePostal]],\" \",Personne[[#This Row],[Ville]],\" \",Personne[[#This Row],[CodePays]])","v":"   "}]
[null,null,null,null,null,null,null,null,null,null,null,null,null,null,null,null,null,null,null,null,null,null,null,null,null,null,null,null,null,null,{"$f":"IF(PARAMETRES!$B$3=\"SANS\",SUMIFS(Honoraire[TotalHonoraireHT],Honoraire[ClientId],Personne[[#This Row],[PersonneId]]),SUMIFS(Honoraire[TotalHT],Honoraire[ClientId],Personne[[#This Row],[PersonneId]]))","v":0},{"$f":"Personne[[#This Row],[Facture (HT)]]+ROW()/100000","v":3.3779999999999998E-2},{"$f":"_xlfn.CONCAT(Personne[[#This Row],[Adresse]],\" \",Personne[[#This Row],[CodePostal]],\" \",Personne[[#This Row],[Ville]],\" \",Personne[[#This Row],[CodePays]])","v":"   "}]
[null,null,null,null,null,null,null,null,null,null,null,null,null,null,null,null,null,null,null,null,null,null,null,null,null,null,null,null,null,null,{"$f":"IF(PARAMETRES!$B$3=\"SANS\",SUMIFS(Honoraire[TotalHonoraireHT],Honoraire[ClientId],Personne[[#This Row],[PersonneId]]),SUMIFS(Honoraire[TotalHT],Honoraire[ClientId],Personne[[#This Row],[PersonneId]]))","v":0},{"$f":"Personne[[#This Row],[Facture (HT)]]+ROW()/100000","v":3.3790000000000001E-2},{"$f":"_xlfn.CONCAT(Personne[[#This Row],[Adresse]],\" \",Personne[[#This Row],[CodePostal]],\" \",Personne[[#This Row],[Ville]],\" \",Personne[[#This Row],[CodePays]])","v":"   "}]
[null,null,null,null,null,null,null,null,null,null,null,null,null,null,null,null,null,null,null,null,null,null,null,null,null,null,null,null,null,null,{"$f":"IF(PARAMETRES!$B$3=\"SANS\",SUMIFS(Honoraire[TotalHonoraireHT],Honoraire[ClientId],Personne[[#This Row],[PersonneId]]),SUMIFS(Honoraire[TotalHT],Honoraire[ClientId],Personne[[#This Row],[PersonneId]]))","v":0},{"$f":"Personne[[#This Row],[Facture (HT)]]+ROW()/100000","v":3.3799999999999997E-2},{"$f":"_xlfn.CONCAT(Personne[[#This Row],[Adresse]],\" \",Personne[[#This Row],[CodePostal]],\" \",Personne[[#This Row],[Ville]],\" \",Personne[[#This Row],[CodePays]])","v":"   "}]
[null,null,null,null,null,null,null,null,null,null,null,null,null,null,null,null,null,null,null,null,null,null,null,null,null,null,null,null,null,null,{"$f":"IF(PARAMETRES!$B$3=\"SANS\",SUMIFS(Honoraire[TotalHonoraireHT],Honoraire[ClientId],Personne[[#This Row],[PersonneId]]),SUMIFS(Honoraire[TotalHT],Honoraire[ClientId],Personne[[#This Row],[PersonneId]]))","v":0},{"$f":"Personne[[#This Row],[Facture (HT)]]+ROW()/100000","v":3.381E-2},{"$f":"_xlfn.CONCAT(Personne[[#This Row],[Adresse]],\" \",Personne[[#This Row],[CodePostal]],\" \",Personne[[#This Row],[Ville]],\" \",Personne[[#This Row],[CodePays]])","v":"   "}]
[null,null,null,null,null,null,null,null,null,null,null,null,null,null,null,null,null,null,null,null,null,null,null,null,null,null,null,null,null,null,{"$f":"IF(PARAMETRES!$B$3=\"SANS\",SUMIFS(Honoraire[TotalHonoraireHT],Honoraire[ClientId],Personne[[#This Row],[PersonneId]]),SUMIFS(Honoraire[TotalHT],Honoraire[ClientId],Personne[[#This Row],[PersonneId]]))","v":0},{"$f":"Personne[[#This Row],[Facture (HT)]]+ROW()/100000","v":3.3820000000000003E-2},{"$f":"_xlfn.CONCAT(Personne[[#This Row],[Adresse]],\" \",Personne[[#This Row],[CodePostal]],\" \",Personne[[#This Row],[Ville]],\" \",Personne[[#This Row],[CodePays]])","v":"   "}]
[null,null,null,null,null,null,null,null,null,null,null,null,null,null,null,null,null,null,null,null,null,null,null,null,null,null,null,null,null,null,{"$f":"IF(PARAMETRES!$B$3=\"SANS\",SUMIFS(Honoraire[TotalHonoraireHT],Honoraire[ClientId],Personne[[#This Row],[PersonneId]]),SUMIFS(Honoraire[TotalHT],Honoraire[ClientId],Personne[[#This Row],[PersonneId]]))","v":0},{"$f":"Personne[[#This Row],[Facture (HT)]]+ROW()/100000","v":3.3829999999999999E-2},{"$f":"_xlfn.CONCAT(Personne[[#This Row],[Adresse]],\" \",Personne[[#This Row],[CodePostal]],\" \",Personne[[#This Row],[Ville]],\" \",Personne[[#This Row],[CodePays]])","v":"   "}]
[null,null,null,null,null,null,null,null,null,null,null,null,null,null,null,null,null,null,null,null,null,null,null,null,null,null,null,null,null,null,{"$f":"IF(PARAMETRES!$B$3=\"SANS\",SUMIFS(Honoraire[TotalHonoraireHT],Honoraire[ClientId],Personne[[#This Row],[PersonneId]]),SUMIFS(Honoraire[TotalHT],Honoraire[ClientId],Personne[[#This Row],[PersonneId]]))","v":0},{"$f":"Personne[[#This Row],[Facture (HT)]]+ROW()/100000","v":3.3840000000000002E-2},{"$f":"_xlfn.CONCAT(Personne[[#This Row],[Adresse]],\" \",Personne[[#This Row],[CodePostal]],\" \",Personne[[#This Row],[Ville]],\" \",Personne[[#This Row],[CodePays]])","v":"   "}]
[null,null,null,null,null,null,null,null,null,null,null,null,null,null,null,null,null,null,null,null,null,null,null,null,null,null,null,null,null,null,{"$f":"IF(PARAMETRES!$B$3=\"SANS\",SUMIFS(Honoraire[TotalHonoraireHT],Honoraire[ClientId],Personne[[#This Row],[PersonneId]]),SUMIFS(Honoraire[TotalHT],Honoraire[ClientId],Personne[[#This Row],[PersonneId]]))","v":0},{"$f":"Personne[[#This Row],[Facture (HT)]]+ROW()/100000","v":3.3849999999999998E-2},{"$f":"_xlfn.CONCAT(Personne[[#This Row],[Adresse]],\" \",Personne[[#This Row],[CodePostal]],\" \",Personne[[#This Row],[Ville]],\" \",Personne[[#This Row],[CodePays]])","v":"   "}]
[null,null,null,null,null,null,null,null,null,null,null,null,null,null,null,null,null,null,null,null,null,null,null,null,null,null,null,null,null,null,{"$f":"IF(PARAMETRES!$B$3=\"SANS\",SUMIFS(Honoraire[TotalHonoraireHT],Honoraire[ClientId],Personne[[#This Row],[PersonneId]]),SUMIFS(Honoraire[TotalHT],Honoraire[ClientId],Personne[[#This Row],[PersonneId]]))","v":0},{"$f":"Personne[[#This Row],[Facture (HT)]]+ROW()/100000","v":3.3860000000000001E-2},{"$f":"_xlfn.CONCAT(Personne[[#This Row],[Adresse]],\" \",Personne[[#This Row],[CodePostal]],\" \",Personne[[#This Row],[Ville]],\" \",Personne[[#This Row],[CodePays]])","v":"   "}]
[null,null,null,null,null,null,null,null,null,null,null,null,null,null,null,null,null,null,null,null,null,null,null,null,null,null,null,null,null,null,{"$f":"IF(PARAMETRES!$B$3=\"SANS\",SUMIFS(Honoraire[TotalHonoraireHT],Honoraire[ClientId],Personne[[#This Row],[PersonneId]]),SUMIFS(Honoraire[TotalHT],Honoraire[ClientId],Personne[[#This Row],[PersonneId]]))","v":0},{"$f":"Personne[[#This Row],[Facture (HT)]]+ROW()/100000","v":3.3869999999999997E-2},{"$f":"_xlfn.CONCAT(Personne[[#This Row],[Adresse]],\" \",Personne[[#This Row],[CodePostal]],\" \",Personne[[#This Row],[Ville]],\" \",Personne[[#This Row],[CodePays]])","v":"   "}]
[null,null,null,null,null,null,null,null,null,null,null,null,null,null,null,null,null,null,null,null,null,null,null,null,null,null,null,null,null,null,{"$f":"IF(PARAMETRES!$B$3=\"SANS\",SUMIFS(Honoraire[TotalHonoraireHT],Honoraire[ClientId],Personne[[#This Row],[PersonneId]]),SUMIFS(Honoraire[TotalHT],Honoraire[ClientId],Personne[[#This Row],[PersonneId]]))","v":0},{"$f":"Personne[[#This Row],[Facture (HT)]]+ROW()/100000","v":3.388E-2},{"$f":"_xlfn.CONCAT(Personne[[#This Row],[Adresse]],\" \",Personne[[#This Row],[CodePostal]],\" \",Personne[[#This Row],[Ville]],\" \",Personne[[#This Row],[CodePays]])","v":"   "}]
[null,null,null,null,null,null,null,null,null,null,null,null,null,null,null,null,null,null,null,null,null,null,null,null,null,null,null,null,null,null,{"$f":"IF(PARAMETRES!$B$3=\"SANS\",SUMIFS(Honoraire[TotalHonoraireHT],Honoraire[ClientId],Personne[[#This Row],[PersonneId]]),SUMIFS(Honoraire[TotalHT],Honoraire[ClientId],Personne[[#This Row],[PersonneId]]))","v":0},{"$f":"Personne[[#This Row],[Facture (HT)]]+ROW()/100000","v":3.3890000000000003E-2},{"$f":"_xlfn.CONCAT(Personne[[#This Row],[Adresse]],\" \",Personne[[#This Row],[CodePostal]],\" \",Personne[[#This Row],[Ville]],\" \",Personne[[#This Row],[CodePays]])","v":"   "}]
[null,null,null,null,null,null,null,null,null,null,null,null,null,null,null,null,null,null,null,null,null,null,null,null,null,null,null,null,null,null,{"$f":"IF(PARAMETRES!$B$3=\"SANS\",SUMIFS(Honoraire[TotalHonoraireHT],Honoraire[ClientId],Personne[[#This Row],[PersonneId]]),SUMIFS(Honoraire[TotalHT],Honoraire[ClientId],Personne[[#This Row],[PersonneId]]))","v":0},{"$f":"Personne[[#This Row],[Facture (HT)]]+ROW()/100000","v":3.39E-2},{"$f":"_xlfn.CONCAT(Personne[[#This Row],[Adresse]],\" \",Personne[[#This Row],[CodePostal]],\" \",Personne[[#This Row],[Ville]],\" \",Personne[[#This Row],[CodePays]])","v":"   "}]
[null,null,null,null,null,null,null,null,null,null,null,null,null,null,null,null,null,null,null,null,null,null,null,null,null,null,null,null,null,null,{"$f":"IF(PARAMETRES!$B$3=\"SANS\",SUMIFS(Honoraire[TotalHonoraireHT],Honoraire[ClientId],Personne[[#This Row],[PersonneId]]),SUMIFS(Honoraire[TotalHT],Honoraire[ClientId],Personne[[#This Row],[PersonneId]]))","v":0},{"$f":"Personne[[#This Row],[Facture (HT)]]+ROW()/100000","v":3.3910000000000003E-2},{"$f":"_xlfn.CONCAT(Personne[[#This Row],[Adresse]],\" \",Personne[[#This Row],[CodePostal]],\" \",Personne[[#This Row],[Ville]],\" \",Personne[[#This Row],[CodePays]])","v":"   "}]
[null,null,null,null,null,null,null,null,null,null,null,null,null,null,null,null,null,null,null,null,null,null,null,null,null,null,null,null,null,null,{"$f":"IF(PARAMETRES!$B$3=\"SANS\",SUMIFS(Honoraire[TotalHonoraireHT],Honoraire[ClientId],Personne[[#This Row],[PersonneId]]),SUMIFS(Honoraire[TotalHT],Honoraire[ClientId],Personne[[#This Row],[PersonneId]]))","v":0},{"$f":"Personne[[#This Row],[Facture (HT)]]+ROW()/100000","v":3.3919999999999999E-2},{"$f":"_xlfn.CONCAT(Personne[[#This Row],[Adresse]],\" \",Personne[[#This Row],[CodePostal]],\" \",Personne[[#This Row],[Ville]],\" \",Personne[[#This Row],[CodePays]])","v":"   "}]
[null,null,null,null,null,null,null,null,null,null,null,null,null,null,null,null,null,null,null,null,null,null,null,null,null,null,null,null,null,null,{"$f":"IF(PARAMETRES!$B$3=\"SANS\",SUMIFS(Honoraire[TotalHonoraireHT],Honoraire[ClientId],Personne[[#This Row],[PersonneId]]),SUMIFS(Honoraire[TotalHT],Honoraire[ClientId],Personne[[#This Row],[PersonneId]]))","v":0},{"$f":"Personne[[#This Row],[Facture (HT)]]+ROW()/100000","v":3.3930000000000002E-2},{"$f":"_xlfn.CONCAT(Personne[[#This Row],[Adresse]],\" \",Personne[[#This Row],[CodePostal]],\" \",Personne[[#This Row],[Ville]],\" \",Personne[[#This Row],[CodePays]])","v":"   "}]
[null,null,null,null,null,null,null,null,null,null,null,null,null,null,null,null,null,null,null,null,null,null,null,null,null,null,null,null,null,null,{"$f":"IF(PARAMETRES!$B$3=\"SANS\",SUMIFS(Honoraire[TotalHonoraireHT],Honoraire[ClientId],Personne[[#This Row],[PersonneId]]),SUMIFS(Honoraire[TotalHT],Honoraire[ClientId],Personne[[#This Row],[PersonneId]]))","v":0},{"$f":"Personne[[#This Row],[Facture (HT)]]+ROW()/100000","v":3.3939999999999998E-2},{"$f":"_xlfn.CONCAT(Personne[[#This Row],[Adresse]],\" \",Personne[[#This Row],[CodePostal]],\" \",Personne[[#This Row],[Ville]],\" \",Personne[[#This Row],[CodePays]])","v":"   "}]
[null,null,null,null,null,null,null,null,null,null,null,null,null,null,null,null,null,null,null,null,null,null,null,null,null,null,null,null,null,null,{"$f":"IF(PARAMETRES!$B$3=\"SANS\",SUMIFS(Honoraire[TotalHonoraireHT],Honoraire[ClientId],Personne[[#This Row],[PersonneId]]),SUMIFS(Honoraire[TotalHT],Honoraire[ClientId],Personne[[#This Row],[PersonneId]]))","v":0},{"$f":"Personne[[#This Row],[Facture (HT)]]+ROW()/100000","v":3.3950000000000001E-2},{"$f":"_xlfn.CONCAT(Personne[[#This Row],[Adresse]],\" \",Personne[[#This Row],[CodePostal]],\" \",Personne[[#This Row],[Ville]],\" \",Personne[[#This Row],[CodePays]])","v":"   "}]
[null,null,null,null,null,null,null,null,null,null,null,null,null,null,null,null,null,null,null,null,null,null,null,null,null,null,null,null,null,null,{"$f":"IF(PARAMETRES!$B$3=\"SANS\",SUMIFS(Honoraire[TotalHonoraireHT],Honoraire[ClientId],Personne[[#This Row],[PersonneId]]),SUMIFS(Honoraire[TotalHT],Honoraire[ClientId],Personne[[#This Row],[PersonneId]]))","v":0},{"$f":"Personne[[#This Row],[Facture (HT)]]+ROW()/100000","v":3.3959999999999997E-2},{"$f":"_xlfn.CONCAT(Personne[[#This Row],[Adresse]],\" \",Personne[[#This Row],[CodePostal]],\" \",Personne[[#This Row],[Ville]],\" \",Personne[[#This Row],[CodePays]])","v":"   "}]
[null,null,null,null,null,null,null,null,null,null,null,null,null,null,null,null,null,null,null,null,null,null,null,null,null,null,null,null,null,null,{"$f":"IF(PARAMETRES!$B$3=\"SANS\",SUMIFS(Honoraire[TotalHonoraireHT],Honoraire[ClientId],Personne[[#This Row],[PersonneId]]),SUMIFS(Honoraire[TotalHT],Honoraire[ClientId],Personne[[#This Row],[PersonneId]]))","v":0},{"$f":"Personne[[#This Row],[Facture (HT)]]+ROW()/100000","v":3.397E-2},{"$f":"_xlfn.CONCAT(Personne[[#This Row],[Adresse]],\" \",Personne[[#This Row],[CodePostal]],\" \",Personne[[#This Row],[Ville]],\" \",Personne[[#This Row],[CodePays]])","v":"   "}]
[null,null,null,null,null,null,null,null,null,null,null,null,null,null,null,null,null,null,null,null,null,null,null,null,null,null,null,null,null,null,{"$f":"IF(PARAMETRES!$B$3=\"SANS\",SUMIFS(Honoraire[TotalHonoraireHT],Honoraire[ClientId],Personne[[#This Row],[PersonneId]]),SUMIFS(Honoraire[TotalHT],Honoraire[ClientId],Personne[[#This Row],[PersonneId]]))","v":0},{"$f":"Personne[[#This Row],[Facture (HT)]]+ROW()/100000","v":3.3980000000000003E-2},{"$f":"_xlfn.CONCAT(Personne[[#This Row],[Adresse]],\" \",Personne[[#This Row],[CodePostal]],\" \",Personne[[#This Row],[Ville]],\" \",Personne[[#This Row],[CodePays]])","v":"   "}]
[null,null,null,null,null,null,null,null,null,null,null,null,null,null,null,null,null,null,null,null,null,null,null,null,null,null,null,null,null,null,{"$f":"IF(PARAMETRES!$B$3=\"SANS\",SUMIFS(Honoraire[TotalHonoraireHT],Honoraire[ClientId],Personne[[#This Row],[PersonneId]]),SUMIFS(Honoraire[TotalHT],Honoraire[ClientId],Personne[[#This Row],[PersonneId]]))","v":0},{"$f":"Personne[[#This Row],[Facture (HT)]]+ROW()/100000","v":3.3989999999999999E-2},{"$f":"_xlfn.CONCAT(Personne[[#This Row],[Adresse]],\" \",Personne[[#This Row],[CodePostal]],\" \",Personne[[#This Row],[Ville]],\" \",Personne[[#This Row],[CodePays]])","v":"   "}]
[null,null,null,null,null,null,null,null,null,null,null,null,null,null,null,null,null,null,null,null,null,null,null,null,null,null,null,null,null,null,{"$f":"IF(PARAMETRES!$B$3=\"SANS\",SUMIFS(Honoraire[TotalHonoraireHT],Honoraire[ClientId],Personne[[#This Row],[PersonneId]]),SUMIFS(Honoraire[TotalHT],Honoraire[ClientId],Personne[[#This Row],[PersonneId]]))","v":0},{"$f":"Personne[[#This Row],[Facture (HT)]]+ROW()/100000","v":3.4000000000000002E-2},{"$f":"_xlfn.CONCAT(Personne[[#This Row],[Adresse]],\" \",Personne[[#This Row],[CodePostal]],\" \",Personne[[#This Row],[Ville]],\" \",Personne[[#This Row],[CodePays]])","v":"   "}]
[null,null,null,null,null,null,null,null,null,null,null,null,null,null,null,null,null,null,null,null,null,null,null,null,null,null,null,null,null,null,{"$f":"IF(PARAMETRES!$B$3=\"SANS\",SUMIFS(Honoraire[TotalHonoraireHT],Honoraire[ClientId],Personne[[#This Row],[PersonneId]]),SUMIFS(Honoraire[TotalHT],Honoraire[ClientId],Personne[[#This Row],[PersonneId]]))","v":0},{"$f":"Personne[[#This Row],[Facture (HT)]]+ROW()/100000","v":3.4009999999999999E-2},{"$f":"_xlfn.CONCAT(Personne[[#This Row],[Adresse]],\" \",Personne[[#This Row],[CodePostal]],\" \",Personne[[#This Row],[Ville]],\" \",Personne[[#This Row],[CodePays]])","v":"   "}]
[null,null,null,null,null,null,null,null,null,null,null,null,null,null,null,null,null,null,null,null,null,null,null,null,null,null,null,null,null,null,{"$f":"IF(PARAMETRES!$B$3=\"SANS\",SUMIFS(Honoraire[TotalHonoraireHT],Honoraire[ClientId],Personne[[#This Row],[PersonneId]]),SUMIFS(Honoraire[TotalHT],Honoraire[ClientId],Personne[[#This Row],[PersonneId]]))","v":0},{"$f":"Personne[[#This Row],[Facture (HT)]]+ROW()/100000","v":3.4020000000000002E-2},{"$f":"_xlfn.CONCAT(Personne[[#This Row],[Adresse]],\" \",Personne[[#This Row],[CodePostal]],\" \",Personne[[#This Row],[Ville]],\" \",Personne[[#This Row],[CodePays]])","v":"   "}]
[null,null,null,null,null,null,null,null,null,null,null,null,null,null,null,null,null,null,null,null,null,null,null,null,null,null,null,null,null,null,{"$f":"IF(PARAMETRES!$B$3=\"SANS\",SUMIFS(Honoraire[TotalHonoraireHT],Honoraire[ClientId],Personne[[#This Row],[PersonneId]]),SUMIFS(Honoraire[TotalHT],Honoraire[ClientId],Personne[[#This Row],[PersonneId]]))","v":0},{"$f":"Personne[[#This Row],[Facture (HT)]]+ROW()/100000","v":3.4029999999999998E-2},{"$f":"_xlfn.CONCAT(Personne[[#This Row],[Adresse]],\" \",Personne[[#This Row],[CodePostal]],\" \",Personne[[#This Row],[Ville]],\" \",Personne[[#This Row],[CodePays]])","v":"   "}]
[null,null,null,null,null,null,null,null,null,null,null,null,null,null,null,null,null,null,null,null,null,null,null,null,null,null,null,null,null,null,{"$f":"IF(PARAMETRES!$B$3=\"SANS\",SUMIFS(Honoraire[TotalHonoraireHT],Honoraire[ClientId],Personne[[#This Row],[PersonneId]]),SUMIFS(Honoraire[TotalHT],Honoraire[ClientId],Personne[[#This Row],[PersonneId]]))","v":0},{"$f":"Personne[[#This Row],[Facture (HT)]]+ROW()/100000","v":3.4040000000000001E-2},{"$f":"_xlfn.CONCAT(Personne[[#This Row],[Adresse]],\" \",Personne[[#This Row],[CodePostal]],\" \",Personne[[#This Row],[Ville]],\" \",Personne[[#This Row],[CodePays]])","v":"   "}]
[null,null,null,null,null,null,null,null,null,null,null,null,null,null,null,null,null,null,null,null,null,null,null,null,null,null,null,null,null,null,{"$f":"IF(PARAMETRES!$B$3=\"SANS\",SUMIFS(Honoraire[TotalHonoraireHT],Honoraire[ClientId],Personne[[#This Row],[PersonneId]]),SUMIFS(Honoraire[TotalHT],Honoraire[ClientId],Personne[[#This Row],[PersonneId]]))","v":0},{"$f":"Personne[[#This Row],[Facture (HT)]]+ROW()/100000","v":3.4049999999999997E-2},{"$f":"_xlfn.CONCAT(Personne[[#This Row],[Adresse]],\" \",Personne[[#This Row],[CodePostal]],\" \",Personne[[#This Row],[Ville]],\" \",Personne[[#This Row],[CodePays]])","v":"   "}]
[null,null,null,null,null,null,null,null,null,null,null,null,null,null,null,null,null,null,null,null,null,null,null,null,null,null,null,null,null,null,{"$f":"IF(PARAMETRES!$B$3=\"SANS\",SUMIFS(Honoraire[TotalHonoraireHT],Honoraire[ClientId],Personne[[#This Row],[PersonneId]]),SUMIFS(Honoraire[TotalHT],Honoraire[ClientId],Personne[[#This Row],[PersonneId]]))","v":0},{"$f":"Personne[[#This Row],[Facture (HT)]]+ROW()/100000","v":3.406E-2},{"$f":"_xlfn.CONCAT(Personne[[#This Row],[Adresse]],\" \",Personne[[#This Row],[CodePostal]],\" \",Personne[[#This Row],[Ville]],\" \",Personne[[#This Row],[CodePays]])","v":"   "}]
[null,null,null,null,null,null,null,null,null,null,null,null,null,null,null,null,null,null,null,null,null,null,null,null,null,null,null,null,null,null,{"$f":"IF(PARAMETRES!$B$3=\"SANS\",SUMIFS(Honoraire[TotalHonoraireHT],Honoraire[ClientId],Personne[[#This Row],[PersonneId]]),SUMIFS(Honoraire[TotalHT],Honoraire[ClientId],Personne[[#This Row],[PersonneId]]))","v":0},{"$f":"Personne[[#This Row],[Facture (HT)]]+ROW()/100000","v":3.4070000000000003E-2},{"$f":"_xlfn.CONCAT(Personne[[#This Row],[Adresse]],\" \",Personne[[#This Row],[CodePostal]],\" \",Personne[[#This Row],[Ville]],\" \",Personne[[#This Row],[CodePays]])","v":"   "}]
[null,null,null,null,null,null,null,null,null,null,null,null,null,null,null,null,null,null,null,null,null,null,null,null,null,null,null,null,null,null,{"$f":"IF(PARAMETRES!$B$3=\"SANS\",SUMIFS(Honoraire[TotalHonoraireHT],Honoraire[ClientId],Personne[[#This Row],[PersonneId]]),SUMIFS(Honoraire[TotalHT],Honoraire[ClientId],Personne[[#This Row],[PersonneId]]))","v":0},{"$f":"Personne[[#This Row],[Facture (HT)]]+ROW()/100000","v":3.4079999999999999E-2},{"$f":"_xlfn.CONCAT(Personne[[#This Row],[Adresse]],\" \",Personne[[#This Row],[CodePostal]],\" \",Personne[[#This Row],[Ville]],\" \",Personne[[#This Row],[CodePays]])","v":"   "}]
[null,null,null,null,null,null,null,null,null,null,null,null,null,null,null,null,null,null,null,null,null,null,null,null,null,null,null,null,null,null,{"$f":"IF(PARAMETRES!$B$3=\"SANS\",SUMIFS(Honoraire[TotalHonoraireHT],Honoraire[ClientId],Personne[[#This Row],[PersonneId]]),SUMIFS(Honoraire[TotalHT],Honoraire[ClientId],Personne[[#This Row],[PersonneId]]))","v":0},{"$f":"Personne[[#This Row],[Facture (HT)]]+ROW()/100000","v":3.4090000000000002E-2},{"$f":"_xlfn.CONCAT(Personne[[#This Row],[Adresse]],\" \",Personne[[#This Row],[CodePostal]],\" \",Personne[[#This Row],[Ville]],\" \",Personne[[#This Row],[CodePays]])","v":"   "}]
[null,null,null,null,null,null,null,null,null,null,null,null,null,null,null,null,null,null,null,null,null,null,null,null,null,null,null,null,null,null,{"$f":"IF(PARAMETRES!$B$3=\"SANS\",SUMIFS(Honoraire[TotalHonoraireHT],Honoraire[ClientId],Personne[[#This Row],[PersonneId]]),SUMIFS(Honoraire[TotalHT],Honoraire[ClientId],Personne[[#This Row],[PersonneId]]))","v":0},{"$f":"Personne[[#This Row],[Facture (HT)]]+ROW()/100000","v":3.4099999999999998E-2},{"$f":"_xlfn.CONCAT(Personne[[#This Row],[Adresse]],\" \",Personne[[#This Row],[CodePostal]],\" \",Personne[[#This Row],[Ville]],\" \",Personne[[#This Row],[CodePays]])","v":"   "}]
[null,null,null,null,null,null,null,null,null,null,null,null,null,null,null,null,null,null,null,null,null,null,null,null,null,null,null,null,null,null,{"$f":"IF(PARAMETRES!$B$3=\"SANS\",SUMIFS(Honoraire[TotalHonoraireHT],Honoraire[ClientId],Personne[[#This Row],[PersonneId]]),SUMIFS(Honoraire[TotalHT],Honoraire[ClientId],Personne[[#This Row],[PersonneId]]))","v":0},{"$f":"Personne[[#This Row],[Facture (HT)]]+ROW()/100000","v":3.4110000000000001E-2},{"$f":"_xlfn.CONCAT(Personne[[#This Row],[Adresse]],\" \",Personne[[#This Row],[CodePostal]],\" \",Personne[[#This Row],[Ville]],\" \",Personne[[#This Row],[CodePays]])","v":"   "}]
[null,null,null,null,null,null,null,null,null,null,null,null,null,null,null,null,null,null,null,null,null,null,null,null,null,null,null,null,null,null,{"$f":"IF(PARAMETRES!$B$3=\"SANS\",SUMIFS(Honoraire[TotalHonoraireHT],Honoraire[ClientId],Personne[[#This Row],[PersonneId]]),SUMIFS(Honoraire[TotalHT],Honoraire[ClientId],Personne[[#This Row],[PersonneId]]))","v":0},{"$f":"Personne[[#This Row],[Facture (HT)]]+ROW()/100000","v":3.4119999999999998E-2},{"$f":"_xlfn.CONCAT(Personne[[#This Row],[Adresse]],\" \",Personne[[#This Row],[CodePostal]],\" \",Personne[[#This Row],[Ville]],\" \",Personne[[#This Row],[CodePays]])","v":"   "}]
[null,null,null,null,null,null,null,null,null,null,null,null,null,null,null,null,null,null,null,null,null,null,null,null,null,null,null,null,null,null,{"$f":"IF(PARAMETRES!$B$3=\"SANS\",SUMIFS(Honoraire[TotalHonoraireHT],Honoraire[ClientId],Personne[[#This Row],[PersonneId]]),SUMIFS(Honoraire[TotalHT],Honoraire[ClientId],Personne[[#This Row],[PersonneId]]))","v":0},{"$f":"Personne[[#This Row],[Facture (HT)]]+ROW()/100000","v":3.4130000000000001E-2},{"$f":"_xlfn.CONCAT(Personne[[#This Row],[Adresse]],\" \",Personne[[#This Row],[CodePostal]],\" \",Personne[[#This Row],[Ville]],\" \",Personne[[#This Row],[CodePays]])","v":"   "}]
[null,null,null,null,null,null,null,null,null,null,null,null,null,null,null,null,null,null,null,null,null,null,null,null,null,null,null,null,null,null,{"$f":"IF(PARAMETRES!$B$3=\"SANS\",SUMIFS(Honoraire[TotalHonoraireHT],Honoraire[ClientId],Personne[[#This Row],[PersonneId]]),SUMIFS(Honoraire[TotalHT],Honoraire[ClientId],Personne[[#This Row],[PersonneId]]))","v":0},{"$f":"Personne[[#This Row],[Facture (HT)]]+ROW()/100000","v":3.4139999999999997E-2},{"$f":"_xlfn.CONCAT(Personne[[#This Row],[Adresse]],\" \",Personne[[#This Row],[CodePostal]],\" \",Personne[[#This Row],[Ville]],\" \",Personne[[#This Row],[CodePays]])","v":"   "}]
[null,null,null,null,null,null,null,null,null,null,null,null,null,null,null,null,null,null,null,null,null,null,null,null,null,null,null,null,null,null,{"$f":"IF(PARAMETRES!$B$3=\"SANS\",SUMIFS(Honoraire[TotalHonoraireHT],Honoraire[ClientId],Personne[[#This Row],[PersonneId]]),SUMIFS(Honoraire[TotalHT],Honoraire[ClientId],Personne[[#This Row],[PersonneId]]))","v":0},{"$f":"Personne[[#This Row],[Facture (HT)]]+ROW()/100000","v":3.415E-2},{"$f":"_xlfn.CONCAT(Personne[[#This Row],[Adresse]],\" \",Personne[[#This Row],[CodePostal]],\" \",Personne[[#This Row],[Ville]],\" \",Personne[[#This Row],[CodePays]])","v":"   "}]
[null,null,null,null,null,null,null,null,null,null,null,null,null,null,null,null,null,null,null,null,null,null,null,null,null,null,null,null,null,null,{"$f":"IF(PARAMETRES!$B$3=\"SANS\",SUMIFS(Honoraire[TotalHonoraireHT],Honoraire[ClientId],Personne[[#This Row],[PersonneId]]),SUMIFS(Honoraire[TotalHT],Honoraire[ClientId],Personne[[#This Row],[PersonneId]]))","v":0},{"$f":"Personne[[#This Row],[Facture (HT)]]+ROW()/100000","v":3.4160000000000003E-2},{"$f":"_xlfn.CONCAT(Personne[[#This Row],[Adresse]],\" \",Personne[[#This Row],[CodePostal]],\" \",Personne[[#This Row],[Ville]],\" \",Personne[[#This Row],[CodePays]])","v":"   "}]
[null,null,null,null,null,null,null,null,null,null,null,null,null,null,null,null,null,null,null,null,null,null,null,null,null,null,null,null,null,null,{"$f":"IF(PARAMETRES!$B$3=\"SANS\",SUMIFS(Honoraire[TotalHonoraireHT],Honoraire[ClientId],Personne[[#This Row],[PersonneId]]),SUMIFS(Honoraire[TotalHT],Honoraire[ClientId],Personne[[#This Row],[PersonneId]]))","v":0},{"$f":"Personne[[#This Row],[Facture (HT)]]+ROW()/100000","v":3.4169999999999999E-2},{"$f":"_xlfn.CONCAT(Personne[[#This Row],[Adresse]],\" \",Personne[[#This Row],[CodePostal]],\" \",Personne[[#This Row],[Ville]],\" \",Personne[[#This Row],[CodePays]])","v":"   "}]
[null,null,null,null,null,null,null,null,null,null,null,null,null,null,null,null,null,null,null,null,null,null,null,null,null,null,null,null,null,null,{"$f":"IF(PARAMETRES!$B$3=\"SANS\",SUMIFS(Honoraire[TotalHonoraireHT],Honoraire[ClientId],Personne[[#This Row],[PersonneId]]),SUMIFS(Honoraire[TotalHT],Honoraire[ClientId],Personne[[#This Row],[PersonneId]]))","v":0},{"$f":"Personne[[#This Row],[Facture (HT)]]+ROW()/100000","v":3.4180000000000002E-2},{"$f":"_xlfn.CONCAT(Personne[[#This Row],[Adresse]],\" \",Personne[[#This Row],[CodePostal]],\" \",Personne[[#This Row],[Ville]],\" \",Personne[[#This Row],[CodePays]])","v":"   "}]
[null,null,null,null,null,null,null,null,null,null,null,null,null,null,null,null,null,null,null,null,null,null,null,null,null,null,null,null,null,null,{"$f":"IF(PARAMETRES!$B$3=\"SANS\",SUMIFS(Honoraire[TotalHonoraireHT],Honoraire[ClientId],Personne[[#This Row],[PersonneId]]),SUMIFS(Honoraire[TotalHT],Honoraire[ClientId],Personne[[#This Row],[PersonneId]]))","v":0},{"$f":"Personne[[#This Row],[Facture (HT)]]+ROW()/100000","v":3.4189999999999998E-2},{"$f":"_xlfn.CONCAT(Personne[[#This Row],[Adresse]],\" \",Personne[[#This Row],[CodePostal]],\" \",Personne[[#This Row],[Ville]],\" \",Personne[[#This Row],[CodePays]])","v":"   "}]
[null,null,null,null,null,null,null,null,null,null,null,null,null,null,null,null,null,null,null,null,null,null,null,null,null,null,null,null,null,null,{"$f":"IF(PARAMETRES!$B$3=\"SANS\",SUMIFS(Honoraire[TotalHonoraireHT],Honoraire[ClientId],Personne[[#This Row],[PersonneId]]),SUMIFS(Honoraire[TotalHT],Honoraire[ClientId],Personne[[#This Row],[PersonneId]]))","v":0},{"$f":"Personne[[#This Row],[Facture (HT)]]+ROW()/100000","v":3.4200000000000001E-2},{"$f":"_xlfn.CONCAT(Personne[[#This Row],[Adresse]],\" \",Personne[[#This Row],[CodePostal]],\" \",Personne[[#This Row],[Ville]],\" \",Personne[[#This Row],[CodePays]])","v":"   "}]
[null,null,null,null,null,null,null,null,null,null,null,null,null,null,null,null,null,null,null,null,null,null,null,null,null,null,null,null,null,null,{"$f":"IF(PARAMETRES!$B$3=\"SANS\",SUMIFS(Honoraire[TotalHonoraireHT],Honoraire[ClientId],Personne[[#This Row],[PersonneId]]),SUMIFS(Honoraire[TotalHT],Honoraire[ClientId],Personne[[#This Row],[PersonneId]]))","v":0},{"$f":"Personne[[#This Row],[Facture (HT)]]+ROW()/100000","v":3.4209999999999997E-2},{"$f":"_xlfn.CONCAT(Personne[[#This Row],[Adresse]],\" \",Personne[[#This Row],[CodePostal]],\" \",Personne[[#This Row],[Ville]],\" \",Personne[[#This Row],[CodePays]])","v":"   "}]
[null,null,null,null,null,null,null,null,null,null,null,null,null,null,null,null,null,null,null,null,null,null,null,null,null,null,null,null,null,null,{"$f":"IF(PARAMETRES!$B$3=\"SANS\",SUMIFS(Honoraire[TotalHonoraireHT],Honoraire[ClientId],Personne[[#This Row],[PersonneId]]),SUMIFS(Honoraire[TotalHT],Honoraire[ClientId],Personne[[#This Row],[PersonneId]]))","v":0},{"$f":"Personne[[#This Row],[Facture (HT)]]+ROW()/100000","v":3.422E-2},{"$f":"_xlfn.CONCAT(Personne[[#This Row],[Adresse]],\" \",Personne[[#This Row],[CodePostal]],\" \",Personne[[#This Row],[Ville]],\" \",Personne[[#This Row],[CodePays]])","v":"   "}]
[null,null,null,null,null,null,null,null,null,null,null,null,null,null,null,null,null,null,null,null,null,null,null,null,null,null,null,null,null,null,{"$f":"IF(PARAMETRES!$B$3=\"SANS\",SUMIFS(Honoraire[TotalHonoraireHT],Honoraire[ClientId],Personne[[#This Row],[PersonneId]]),SUMIFS(Honoraire[TotalHT],Honoraire[ClientId],Personne[[#This Row],[PersonneId]]))","v":0},{"$f":"Personne[[#This Row],[Facture (HT)]]+ROW()/100000","v":3.4229999999999997E-2},{"$f":"_xlfn.CONCAT(Personne[[#This Row],[Adresse]],\" \",Personne[[#This Row],[CodePostal]],\" \",Personne[[#This Row],[Ville]],\" \",Personne[[#This Row],[CodePays]])","v":"   "}]
[null,null,null,null,null,null,null,null,null,null,null,null,null,null,null,null,null,null,null,null,null,null,null,null,null,null,null,null,null,null,{"$f":"IF(PARAMETRES!$B$3=\"SANS\",SUMIFS(Honoraire[TotalHonoraireHT],Honoraire[ClientId],Personne[[#This Row],[PersonneId]]),SUMIFS(Honoraire[TotalHT],Honoraire[ClientId],Personne[[#This Row],[PersonneId]]))","v":0},{"$f":"Personne[[#This Row],[Facture (HT)]]+ROW()/100000","v":3.424E-2},{"$f":"_xlfn.CONCAT(Personne[[#This Row],[Adresse]],\" \",Personne[[#This Row],[CodePostal]],\" \",Personne[[#This Row],[Ville]],\" \",Personne[[#This Row],[CodePays]])","v":"   "}]
[null,null,null,null,null,null,null,null,null,null,null,null,null,null,null,null,null,null,null,null,null,null,null,null,null,null,null,null,null,null,{"$f":"IF(PARAMETRES!$B$3=\"SANS\",SUMIFS(Honoraire[TotalHonoraireHT],Honoraire[ClientId],Personne[[#This Row],[PersonneId]]),SUMIFS(Honoraire[TotalHT],Honoraire[ClientId],Personne[[#This Row],[PersonneId]]))","v":0},{"$f":"Personne[[#This Row],[Facture (HT)]]+ROW()/100000","v":3.4250000000000003E-2},{"$f":"_xlfn.CONCAT(Personne[[#This Row],[Adresse]],\" \",Personne[[#This Row],[CodePostal]],\" \",Personne[[#This Row],[Ville]],\" \",Personne[[#This Row],[CodePays]])","v":"   "}]
[null,null,null,null,null,null,null,null,null,null,null,null,null,null,null,null,null,null,null,null,null,null,null,null,null,null,null,null,null,null,{"$f":"IF(PARAMETRES!$B$3=\"SANS\",SUMIFS(Honoraire[TotalHonoraireHT],Honoraire[ClientId],Personne[[#This Row],[PersonneId]]),SUMIFS(Honoraire[TotalHT],Honoraire[ClientId],Personne[[#This Row],[PersonneId]]))","v":0},{"$f":"Personne[[#This Row],[Facture (HT)]]+ROW()/100000","v":3.4259999999999999E-2},{"$f":"_xlfn.CONCAT(Personne[[#This Row],[Adresse]],\" \",Personne[[#This Row],[CodePostal]],\" \",Personne[[#This Row],[Ville]],\" \",Personne[[#This Row],[CodePays]])","v":"   "}]
[null,null,null,null,null,null,null,null,null,null,null,null,null,null,null,null,null,null,null,null,null,null,null,null,null,null,null,null,null,null,{"$f":"IF(PARAMETRES!$B$3=\"SANS\",SUMIFS(Honoraire[TotalHonoraireHT],Honoraire[ClientId],Personne[[#This Row],[PersonneId]]),SUMIFS(Honoraire[TotalHT],Honoraire[ClientId],Personne[[#This Row],[PersonneId]]))","v":0},{"$f":"Personne[[#This Row],[Facture (HT)]]+ROW()/100000","v":3.4270000000000002E-2},{"$f":"_xlfn.CONCAT(Personne[[#This Row],[Adresse]],\" \",Personne[[#This Row],[CodePostal]],\" \",Personne[[#This Row],[Ville]],\" \",Personne[[#This Row],[CodePays]])","v":"   "}]
[null,null,null,null,null,null,null,null,null,null,null,null,null,null,null,null,null,null,null,null,null,null,null,null,null,null,null,null,null,null,{"$f":"IF(PARAMETRES!$B$3=\"SANS\",SUMIFS(Honoraire[TotalHonoraireHT],Honoraire[ClientId],Personne[[#This Row],[PersonneId]]),SUMIFS(Honoraire[TotalHT],Honoraire[ClientId],Personne[[#This Row],[PersonneId]]))","v":0},{"$f":"Personne[[#This Row],[Facture (HT)]]+ROW()/100000","v":3.4279999999999998E-2},{"$f":"_xlfn.CONCAT(Personne[[#This Row],[Adresse]],\" \",Personne[[#This Row],[CodePostal]],\" \",Personne[[#This Row],[Ville]],\" \",Personne[[#This Row],[CodePays]])","v":"   "}]
[null,null,null,null,null,null,null,null,null,null,null,null,null,null,null,null,null,null,null,null,null,null,null,null,null,null,null,null,null,null,{"$f":"IF(PARAMETRES!$B$3=\"SANS\",SUMIFS(Honoraire[TotalHonoraireHT],Honoraire[ClientId],Personne[[#This Row],[PersonneId]]),SUMIFS(Honoraire[TotalHT],Honoraire[ClientId],Personne[[#This Row],[PersonneId]]))","v":0},{"$f":"Personne[[#This Row],[Facture (HT)]]+ROW()/100000","v":3.4290000000000001E-2},{"$f":"_xlfn.CONCAT(Personne[[#This Row],[Adresse]],\" \",Personne[[#This Row],[CodePostal]],\" \",Personne[[#This Row],[Ville]],\" \",Personne[[#This Row],[CodePays]])","v":"   "}]
[null,null,null,null,null,null,null,null,null,null,null,null,null,null,null,null,null,null,null,null,null,null,null,null,null,null,null,null,null,null,{"$f":"IF(PARAMETRES!$B$3=\"SANS\",SUMIFS(Honoraire[TotalHonoraireHT],Honoraire[ClientId],Personne[[#This Row],[PersonneId]]),SUMIFS(Honoraire[TotalHT],Honoraire[ClientId],Personne[[#This Row],[PersonneId]]))","v":0},{"$f":"Personne[[#This Row],[Facture (HT)]]+ROW()/100000","v":3.4299999999999997E-2},{"$f":"_xlfn.CONCAT(Personne[[#This Row],[Adresse]],\" \",Personne[[#This Row],[CodePostal]],\" \",Personne[[#This Row],[Ville]],\" \",Personne[[#This Row],[CodePays]])","v":"   "}]
[null,null,null,null,null,null,null,null,null,null,null,null,null,null,null,null,null,null,null,null,null,null,null,null,null,null,null,null,null,null,{"$f":"IF(PARAMETRES!$B$3=\"SANS\",SUMIFS(Honoraire[TotalHonoraireHT],Honoraire[ClientId],Personne[[#This Row],[PersonneId]]),SUMIFS(Honoraire[TotalHT],Honoraire[ClientId],Personne[[#This Row],[PersonneId]]))","v":0},{"$f":"Personne[[#This Row],[Facture (HT)]]+ROW()/100000","v":3.431E-2},{"$f":"_xlfn.CONCAT(Personne[[#This Row],[Adresse]],\" \",Personne[[#This Row],[CodePostal]],\" \",Personne[[#This Row],[Ville]],\" \",Personne[[#This Row],[CodePays]])","v":"   "}]
[null,null,null,null,null,null,null,null,null,null,null,null,null,null,null,null,null,null,null,null,null,null,null,null,null,null,null,null,null,null,{"$f":"IF(PARAMETRES!$B$3=\"SANS\",SUMIFS(Honoraire[TotalHonoraireHT],Honoraire[ClientId],Personne[[#This Row],[PersonneId]]),SUMIFS(Honoraire[TotalHT],Honoraire[ClientId],Personne[[#This Row],[PersonneId]]))","v":0},{"$f":"Personne[[#This Row],[Facture (HT)]]+ROW()/100000","v":3.4320000000000003E-2},{"$f":"_xlfn.CONCAT(Personne[[#This Row],[Adresse]],\" \",Personne[[#This Row],[CodePostal]],\" \",Personne[[#This Row],[Ville]],\" \",Personne[[#This Row],[CodePays]])","v":"   "}]
[null,null,null,null,null,null,null,null,null,null,null,null,null,null,null,null,null,null,null,null,null,null,null,null,null,null,null,null,null,null,{"$f":"IF(PARAMETRES!$B$3=\"SANS\",SUMIFS(Honoraire[TotalHonoraireHT],Honoraire[ClientId],Personne[[#This Row],[PersonneId]]),SUMIFS(Honoraire[TotalHT],Honoraire[ClientId],Personne[[#This Row],[PersonneId]]))","v":0},{"$f":"Personne[[#This Row],[Facture (HT)]]+ROW()/100000","v":3.4329999999999999E-2},{"$f":"_xlfn.CONCAT(Personne[[#This Row],[Adresse]],\" \",Personne[[#This Row],[CodePostal]],\" \",Personne[[#This Row],[Ville]],\" \",Personne[[#This Row],[CodePays]])","v":"   "}]
[null,null,null,null,null,null,null,null,null,null,null,null,null,null,null,null,null,null,null,null,null,null,null,null,null,null,null,null,null,null,{"$f":"IF(PARAMETRES!$B$3=\"SANS\",SUMIFS(Honoraire[TotalHonoraireHT],Honoraire[ClientId],Personne[[#This Row],[PersonneId]]),SUMIFS(Honoraire[TotalHT],Honoraire[ClientId],Personne[[#This Row],[PersonneId]]))","v":0},{"$f":"Personne[[#This Row],[Facture (HT)]]+ROW()/100000","v":3.4340000000000002E-2},{"$f":"_xlfn.CONCAT(Personne[[#This Row],[Adresse]],\" \",Personne[[#This Row],[CodePostal]],\" \",Personne[[#This Row],[Ville]],\" \",Personne[[#This Row],[CodePays]])","v":"   "}]

{"sheet":"BI - DOS","index":4,"n_rows":5,"n_cols":21,"rows_kept":5,"cut":false,"hidden":false,"merged":[]}
[]
[null,"DOSSIERS"]
[null,"EXPORT DE DONNEES"]
[]
[null,"DossierId","DossierCode","DossierNom","PersonneRacineId","PersonneRacineNomComplet","Siren","Siret","Site","Nature","Categorie","TypeDossier","PoleCompetence","DossierEtat","EtatAvancement","DateCreation","DateFactureMin","DateFactureMax","DateArchivage","DateModification","DateFraicheur"]

{"sheet":"BI - ECR","index":5,"n_rows":12,"n_cols":65,"rows_kept":12,"cut":false,"hidden":false,"merged":[]}
[]
[null,"ECRITURES"]
[null,"EXPORT DE DONNEES"]
[]
[null,"HonoraireId","DateFacture","FactureNumero","FactureLibelle","NumeroPiece","DateHistorique","LienFactureId","ClientId","ClientType","ClientNom","CodeTVA","LibelleTVA","TauxTVA","CodeTVAExo","LibelleTVAExo","TauxTVAExo","Territoire","CollaborateurId","CollaborateurNomComplet","CollaborateurCivilite","CollaborateurNom","CollaborateurPrenom","CollaborateurTrigramme","DossierId","DossierCode","DossierNom","DossierDateCreation","ModeReglement","TypedePiece","Evenement","Abonnement","Forfait","TotalHT","TotalTTC","TotalReglementHT","TotalReglementTTC","TotalHonoraireHT","TotalFraisHT","TotalDeboursHT","TotalReglementHonoraireHT","TotalReglementFraisHT","TotalReglementDeboursHT","RemiseHT","MajorationHT","PrestationFacturableHT","Partiel","Lettree","Annulee","LettrageId","DateFraicheur","_FactureNumero","_DateFacture","_DelaiReglement","_ClientID","_DossierCode","_TotalTTC","_FactureLibelle","_FactureAjoutee","_SommeMontantFacture","_SommeMontantReglement","_DeltaMontant","_Delta","_MoisFacturation","_AnneeFacturation"]
[null,null,null,null,null,null,null,null,null,null,null,null,null,null,null,null,null,null,null,null,null,null,null,null,null,null,null,null,null,null,null,null,null,null,null,null,null,null,null,null,null,null,null,null,null,null,null,null,null,null,null,{"$f":"Ecriture[[#This Row],[FactureNumero]]","v":0},{"$f":"Ecriture[[#This Row],[DateFacture]]","v":"00:00:00"},{"$f":"IF(Ecriture[[#This Row],[TypedePiece]]=\"R\",Ecriture[[#This Row],[DateHistorique]]-Ecriture[[#This Row],[DateFacture]],\"-\")","v":"-"},{"$f":"Ecriture[[#This Row],[ClientId]]","v":0},{"$f":"Ecriture[[#This Row],[DossierCode]]","v":0},{"$f":"Ecriture[[#This Row],[TotalTTC]]","v":0},{"$f":"Ecriture[[#This Row],[FactureLibelle]]","v":0},{"$f":"IFERROR(VLOOKUP(Ecriture[[#This Row],[_FactureNumero]],Tableau122[FACTURE],1,FALSE),\"\")","v":""},{"$f":"SUMIFS(Ecriture[TotalTTC],Ecriture[_FactureNumero],Ecriture[[#This Row],[_FactureNumero]],Ecriture[TypedePiece],\"<>R\")","v":0},{"$f":"SUMIFS(Ecriture[TotalReglementTTC],Ecriture[_FactureNumero],Ecriture[[#This Row],[_FactureNumero]],Ecriture[TypedePiece],\"R\")","v":0},{"$f":"Ecriture[[#This Row],[_SommeMontantFacture]]+Ecriture[[#This Row],[_SommeMontantReglement]]","v":0},{"$f":"IF(AND(Ecriture[[#This Row],[_FactureAjoutee]]=\"\",Ecriture[[#This Row],[_DeltaMontant]]>0,Ecriture[[#This Row],[TypedePiece]]<>\"R\"),1,0)","v":0},{"$f":"MONTH(Ecriture[[#This Row],[_DateFacture]])","v":1},{"$f":"YEAR(Ecriture[[#This Row],[_DateFacture]])","v":1900}]
[null,null,null,null,null,null,null,null,null,null,null,null,null,null,null,null,null,null,null,null,null,null,null,null,null,null,null,null,null,null,null,null,null,null,null,null,null,null,null,null,null,null,null,null,null,null,null,null,null,null,null,{"$f":"Ecriture[[#This Row],[FactureNumero]]","v":0},{"$f":"Ecriture[[#This Row],[DateFacture]]","v":"00:00:00"},{"$f":"IF(Ecriture[[#This Row],[TypedePiece]]=\"R\",Ecriture[[#This Row],[DateHistorique]]-Ecriture[[#This Row],[DateFacture]],\"-\")","v":"-"},{"$f":"Ecriture[[#This Row],[ClientId]]","v":0},{"$f":"Ecriture[[#This Row],[DossierCode]]","v":0},{"$f":"Ecriture[[#This Row],[TotalTTC]]","v":0},{"$f":"Ecriture[[#This Row],[FactureLibelle]]","v":0},{"$f":"IFERROR(VLOOKUP(Ecriture[[#This Row],[_FactureNumero]],Tableau122[FACTURE],1,FALSE),\"\")","v":""},{"$f":"SUMIFS(Ecriture[TotalTTC],Ecriture[_FactureNumero],Ecriture[[#This Row],[_FactureNumero]],Ecriture[TypedePiece],\"<>R\")","v":0},{"$f":"SUMIFS(Ecriture[TotalReglementTTC],Ecriture[_FactureNumero],Ecriture[[#This Row],[_FactureNumero]],Ecriture[TypedePiece],\"R\")","v":0},{"$f":"Ecriture[[#This Row],[_SommeMontantFacture]]+Ecriture[[#This Row],[_SommeMontantReglement]]","v":0},{"$f":"IF(AND(Ecriture[[#This Row],[_FactureAjoutee]]=\"\",Ecriture[[#This Row],[_DeltaMontant]]>0,Ecriture[[#This Row],[TypedePiece]]<>\"R\"),1,0)","v":0},{"$f":"MONTH(Ecriture[[#This Row],[_DateFacture]])","v":1},{"$f":"YEAR(Ecriture[[#This Row],[_DateFacture]])","v":1900}]
[null,null,null,null,null,null,null,null,null,null,null,null,null,null,null,null,null,null,null,null,null,null,null,null,null,null,null,null,null,null,null,null,null,null,null,null,null,null,null,null,null,null,null,null,null,null,null,null,null,null,null,{"$f":"Ecriture[[#This Row],[FactureNumero]]","v":0},{"$f":"Ecriture[[#This Row],[DateFacture]]","v":"00:00:00"},{"$f":"IF(Ecriture[[#This Row],[TypedePiece]]=\"R\",Ecriture[[#This Row],[DateHistorique]]-Ecriture[[#This Row],[DateFacture]],\"-\")","v":"-"},{"$f":"Ecriture[[#This Row],[ClientId]]","v":0},{"$f":"Ecriture[[#This Row],[DossierCode]]","v":0},{"$f":"Ecriture[[#This Row],[TotalTTC]]","v":0},{"$f":"Ecriture[[#This Row],[FactureLibelle]]","v":0},{"$f":"IFERROR(VLOOKUP(Ecriture[[#This Row],[_FactureNumero]],Tableau122[FACTURE],1,FALSE),\"\")","v":""},{"$f":"SUMIFS(Ecriture[TotalTTC],Ecriture[_FactureNumero],Ecriture[[#This Row],[_FactureNumero]],Ecriture[TypedePiece],\"<>R\")","v":0},{"$f":"SUMIFS(Ecriture[TotalReglementTTC],Ecriture[_FactureNumero],Ecriture[[#This Row],[_FactureNumero]],Ecriture[TypedePiece],\"R\")","v":0},{"$f":"Ecriture[[#This Row],[_SommeMontantFacture]]+Ecriture[[#This Row],[_SommeMontantReglement]]","v":0},{"$f":"IF(AND(Ecriture[[#This Row],[_FactureAjoutee]]=\"\",Ecriture[[#This Row],[_DeltaMontant]]>0,Ecriture[[#This Row],[TypedePiece]]<>\"R\"),1,0)","v":0},{"$f":"MONTH(Ecriture[[#This Row],[_DateFacture]])","v":1},{"$f":"YEAR(Ecriture[[#This Row],[_DateFacture]])","v":1900}]
[null,null,null,null,null,null,null,null,null,null,null,null,null,null,null,null,null,null,null,null,null,null,null,null,null,null,null,null,null,null,null,null,null,null,null,null,null,null,null,null,null,null,null,null,null,null,null,null,null,null,null,{"$f":"Ecriture[[#This Row],[FactureNumero]]","v":0},{"$f":"Ecriture[[#This Row],[DateFacture]]","v":"00:00:00"},{"$f":"IF(Ecriture[[#This Row],[TypedePiece]]=\"R\",Ecriture[[#This Row],[DateHistorique]]-Ecriture[[#This Row],[DateFacture]],\"-\")","v":"-"},{"$f":"Ecriture[[#This Row],[ClientId]]","v":0},{"$f":"Ecriture[[#This Row],[DossierCode]]","v":0},{"$f":"Ecriture[[#This Row],[TotalTTC]]","v":0},{"$f":"Ecriture[[#This Row],[FactureLibelle]]","v":0},{"$f":"IFERROR(VLOOKUP(Ecriture[[#This Row],[_FactureNumero]],Tableau122[FACTURE],1,FALSE),\"\")","v":""},{"$f":"SUMIFS(Ecriture[TotalTTC],Ecriture[_FactureNumero],Ecriture[[#This Row],[_FactureNumero]],Ecriture[TypedePiece],\"<>R\")","v":0},{"$f":"SUMIFS(Ecriture[TotalReglementTTC],Ecriture[_FactureNumero],Ecriture[[#This Row],[_FactureNumero]],Ecriture[TypedePiece],\"R\")","v":0},{"$f":"Ecriture[[#This Row],[_SommeMontantFacture]]+Ecriture[[#This Row],[_SommeMontantReglement]]","v":0},{"$f":"IF(AND(Ecriture[[#This Row],[_FactureAjoutee]]=\"\",Ecriture[[#This Row],[_DeltaMontant]]>0,Ecriture[[#This Row],[TypedePiece]]<>\"R\"),1,0)","v":0},{"$f":"MONTH(Ecriture[[#This Row],[_DateFacture]])","v":1},{"$f":"YEAR(Ecriture[[#This Row],[_DateFacture]])","v":1900}]
[null,null,null,null,null,null,null,null,null,null,null,null,null,null,null,null,null,null,null,null,null,null,null,null,null,null,null,null,null,null,null,null,null,null,null,null,null,null,null,null,null,null,null,null,null,null,null,null,null,null,null,{"$f":"Ecriture[[#This Row],[FactureNumero]]","v":0},{"$f":"Ecriture[[#This Row],[DateFacture]]","v":"00:00:00"},{"$f":"IF(Ecriture[[#This Row],[TypedePiece]]=\"R\",Ecriture[[#This Row],[DateHistorique]]-Ecriture[[#This Row],[DateFacture]],\"-\")","v":"-"},{"$f":"Ecriture[[#This Row],[ClientId]]","v":0},{"$f":"Ecriture[[#This Row],[DossierCode]]","v":0},{"$f":"Ecriture[[#This Row],[TotalTTC]]","v":0},{"$f":"Ecriture[[#This Row],[FactureLibelle]]","v":0},{"$f":"IFERROR(VLOOKUP(Ecriture[[#This Row],[_FactureNumero]],Tableau122[FACTURE],1,FALSE),\"\")","v":""},{"$f":"SUMIFS(Ecriture[TotalTTC],Ecriture[_FactureNumero],Ecriture[[#This Row],[_FactureNumero]],Ecriture[TypedePiece],\"<>R\")","v":0},{"$f":"SUMIFS(Ecriture[TotalReglementTTC],Ecriture[_FactureNumero],Ecriture[[#This Row],[_FactureNumero]],Ecriture[TypedePiece],\"R\")","v":0},{"$f":"Ecriture[[#This Row],[_SommeMontantFacture]]+Ecriture[[#This Row],[_SommeMontantReglement]]","v":0},{"$f":"IF(AND(Ecriture[[#This Row],[_FactureAjoutee]]=\"\",Ecriture[[#This Row],[_DeltaMontant]]>0,Ecriture[[#This Row],[TypedePiece]]<>\"R\"),1,0)","v":0},{"$f":"MONTH(Ecriture[[#This Row],[_DateFacture]])","v":1},{"$f":"YEAR(Ecriture[[#This Row],[_DateFacture]])","v":1900}]
[null,null,null,null,null,null,null,null,null,null,null,null,null,null,null,null,null,null,null,null,null,null,null,null,null,null,null,null,null,null,null,null,null,null,null,null,null,null,null,null,null,null,null,null,null,null,null,null,null,null,null,{"$f":"Ecriture[[#This Row],[FactureNumero]]","v":0},{"$f":"Ecriture[[#This Row],[DateFacture]]","v":"00:00:00"},{"$f":"IF(Ecriture[[#This Row],[TypedePiece]]=\"R\",Ecriture[[#This Row],[DateHistorique]]-Ecriture[[#This Row],[DateFacture]],\"-\")","v":"-"},{"$f":"Ecriture[[#This Row],[ClientId]]","v":0},{"$f":"Ecriture[[#This Row],[DossierCode]]","v":0},{"$f":"Ecriture[[#This Row],[TotalTTC]]","v":0},{"$f":"Ecriture[[#This Row],[FactureLibelle]]","v":0},{"$f":"IFERROR(VLOOKUP(Ecriture[[#This Row],[_FactureNumero]],Tableau122[FACTURE],1,FALSE),\"\")","v":""},{"$f":"SUMIFS(Ecriture[TotalTTC],Ecriture[_FactureNumero],Ecriture[[#This Row],[_FactureNumero]],Ecriture[TypedePiece],\"<>R\")","v":0},{"$f":"SUMIFS(Ecriture[TotalReglementTTC],Ecriture[_FactureNumero],Ecriture[[#This Row],[_FactureNumero]],Ecriture[TypedePiece],\"R\")","v":0},{"$f":"Ecriture[[#This Row],[_SommeMontantFacture]]+Ecriture[[#This Row],[_SommeMontantReglement]]","v":0},{"$f":"IF(AND(Ecriture[[#This Row],[_FactureAjoutee]]=\"\",Ecriture[[#This Row],[_DeltaMontant]]>0,Ecriture[[#This Row],[TypedePiece]]<>\"R\"),1,0)","v":0},{"$f":"MONTH(Ecriture[[#This Row],[_DateFacture]])","v":1},{"$f":"YEAR(Ecriture[[#This Row],[_DateFacture]])","v":1900}]
[null,null,null,null,null,null,null,null,null,null,null,null,null,null,null,null,null,null,null,null,null,null,null,null,null,null,null,null,null,null,null,null,null,null,null,null,null,null,null,null,null,null,null,null,null,null,null,null,null,null,null,{"$f":"Ecriture[[#This Row],[FactureNumero]]","v":0},{"$f":"Ecriture[[#This Row],[DateFacture]]","v":"00:00:00"},{"$f":"IF(Ecriture[[#This Row],[TypedePiece]]=\"R\",Ecriture[[#This Row],[DateHistorique]]-Ecriture[[#This Row],[DateFacture]],\"-\")","v":"-"},{"$f":"Ecriture[[#This Row],[ClientId]]","v":0},{"$f":"Ecriture[[#This Row],[DossierCode]]","v":0},{"$f":"Ecriture[[#This Row],[TotalTTC]]","v":0},{"$f":"Ecriture[[#This Row],[FactureLibelle]]","v":0},{"$f":"IFERROR(VLOOKUP(Ecriture[[#This Row],[_FactureNumero]],Tableau122[FACTURE],1,FALSE),\"\")","v":""},{"$f":"SUMIFS(Ecriture[TotalTTC],Ecriture[_FactureNumero],Ecriture[[#This Row],[_FactureNumero]],Ecriture[TypedePiece],\"<>R\")","v":0},{"$f":"SUMIFS(Ecriture[TotalReglementTTC],Ecriture[_FactureNumero],Ecriture[[#This Row],[_FactureNumero]],Ecriture[TypedePiece],\"R\")","v":0},{"$f":"Ecriture[[#This Row],[_SommeMontantFacture]]+Ecriture[[#This Row],[_SommeMontantReglement]]","v":0},{"$f":"IF(AND(Ecriture[[#This Row],[_FactureAjoutee]]=\"\",Ecriture[[#This Row],[_DeltaMontant]]>0,Ecriture[[#This Row],[TypedePiece]]<>\"R\"),1,0)","v":0},{"$f":"MONTH(Ecriture[[#This Row],[_DateFacture]])","v":1},{"$f":"YEAR(Ecriture[[#This Row],[_DateFacture]])","v":1900}]

{"sheet":"BI - COL","index":6,"n_rows":5,"n_cols":11,"rows_kept":5,"cut":false,"hidden":false,"merged":[]}
[]
[null,"COLLABORATEURS"]
[null,"EXPORT DE DONNEES"]
[]
[null,"CollaborateurId","Trigramme","NomComplet","Civilite","Nom","Prenom","Site","Equipe","Actif","DateFraicheur"]

{"sheet":"BI - COL DOS","index":7,"n_rows":237,"n_cols":25,"rows_kept":237,"cut":false,"hidden":false,"merged":[]}
[]
[null,"COLLABORATEURS DOSSIERS"]
[null,"EXPORT DE DONNEES"]
[]
[null,"CollaborateurId","DossierId","DossierCode","DateFactureDossierMin","DateFactureDossierMax","DossierDateCreation","RoleDossier","Defaut","PourcentageFacturation","Trigramme","NomComplet","Civilite","Nom","Prenom","Site","Equipe","DateFraicheur","% facture ajuste","Code Role","Client ID","Rappel Collaborateur Id","Rappel Trigramme","Collaborateur dossier","Responsable dossier"]
[null,null,null,null,null,null,null,null,null,null,null,null,null,null,null,null,null,null,{"$f":"IF(AND(SUMIFS(Collaborateur_Dossier[PourcentageFacturation],Collaborateur_Dossier[DossierId],Collaborateur_Dossier[[#This Row],[DossierId]])=0,Collaborateur_Dossier[[#This Row],[RoleDossier]]=\"Responsable\",Collaborateur_Dossier[[#This Row],[Defaut]]),1,Collaborateur_Dossier[[#This Row],[PourcentageFacturation]]/100)","v":0},{"$f":"_xlfn.CONCAT(Collaborateur_Dossier[[#This Row],[DossierCode]],\"|\",Collaborateur_Dossier[[#This Row],[RoleDossier]])","v":"|"},{"$f":"VLOOKUP(Collaborateur_Dossier[[#This Row],[DossierId]],Honoraire[[DossierId]:[Rappel Client ID]],44,FALSE)","v":{"$error":"#N/A"}},{"$f":"Collaborateur_Dossier[[#This Row],[CollaborateurId]]","v":0},{"$f":"Collaborateur_Dossier[[#This Row],[Trigramme]]","v":0},{"$f":"IF(AND(Collaborateur_Dossier[[#This Row],[RoleDossier]]=\"Responsable\",Collaborateur_Dossier[[#This Row],[Defaut]]),Collaborateur_Dossier[[#This Row],[DossierCode]],\"\")","v":""},{"$f":"IF(Collaborateur_Dossier[[#This Row],[Collaborateur dossier]]<>\"\",Collaborateur_Dossier[[#This Row],[Trigramme]],\"\")","v":""}]
[null,null,null,null,null,null,null,null,null,null,null,null,null,null,null,null,null,null,{"$f":"IF(AND(SUMIFS(Collaborateur_Dossier[PourcentageFacturation],Collaborateur_Dossier[DossierId],Collaborateur_Dossier[[#This Row],[DossierId]])=0,Collaborateur_Dossier[[#This Row],[RoleDossier]]=\"Responsable\",Collaborateur_Dossier[[#This Row],[Defaut]]),1,Collaborateur_Dossier[[#This Row],[PourcentageFacturation]]/100)","v":0},{"$f":"_xlfn.CONCAT(Collaborateur_Dossier[[#This Row],[DossierCode]],\"|\",Collaborateur_Dossier[[#This Row],[RoleDossier]])","v":"|"},{"$f":"VLOOKUP(Collaborateur_Dossier[[#This Row],[DossierId]],Honoraire[[DossierId]:[Rappel Client ID]],44,FALSE)","v":{"$error":"#N/A"}},{"$f":"Collaborateur_Dossier[[#This Row],[CollaborateurId]]","v":0},{"$f":"Collaborateur_Dossier[[#This Row],[Trigramme]]","v":0},{"$f":"IF(AND(Collaborateur_Dossier[[#This Row],[RoleDossier]]=\"Responsable\",Collaborateur_Dossier[[#This Row],[Defaut]]),Collaborateur_Dossier[[#This Row],[DossierCode]],\"\")","v":""},{"$f":"IF(Collaborateur_Dossier[[#This Row],[Collaborateur dossier]]<>\"\",Collaborateur_Dossier[[#This Row],[Trigramme]],\"\")","v":""}]
[null,null,null,null,null,null,null,null,null,null,null,null,null,null,null,null,null,null,{"$f":"IF(AND(SUMIFS(Collaborateur_Dossier[PourcentageFacturation],Collaborateur_Dossier[DossierId],Collaborateur_Dossier[[#This Row],[DossierId]])=0,Collaborateur_Dossier[[#This Row],[RoleDossier]]=\"Responsable\",Collaborateur_Dossier[[#This Row],[Defaut]]),1,Collaborateur_Dossier[[#This Row],[PourcentageFacturation]]/100)","v":0},{"$f":"_xlfn.CONCAT(Collaborateur_Dossier[[#This Row],[DossierCode]],\"|\",Collaborateur_Dossier[[#This Row],[RoleDossier]])","v":"|"},{"$f":"VLOOKUP(Collaborateur_Dossier[[#This Row],[DossierId]],Honoraire[[DossierId]:[Rappel Client ID]],44,FALSE)","v":{"$error":"#N/A"}},{"$f":"Collaborateur_Dossier[[#This Row],[CollaborateurId]]","v":0},{"$f":"Collaborateur_Dossier[[#This Row],[Trigramme]]","v":0},{"$f":"IF(AND(Collaborateur_Dossier[[#This Row],[RoleDossier]]=\"Responsable\",Collaborateur_Dossier[[#This Row],[Defaut]]),Collaborateur_Dossier[[#This Row],[DossierCode]],\"\")","v":""},{"$f":"IF(Collaborateur_Dossier[[#This Row],[Collaborateur dossier]]<>\"\",Collaborateur_Dossier[[#This Row],[Trigramme]],\"\")","v":""}]
[null,null,null,null,null,null,null,null,null,null,null,null,null,null,null,null,null,null,{"$f":"IF(AND(SUMIFS(Collaborateur_Dossier[PourcentageFacturation],Collaborateur_Dossier[DossierId],Collaborateur_Dossier[[#This Row],[DossierId]])=0,Collaborateur_Dossier[[#This Row],[RoleDossier]]=\"Responsable\",Collaborateur_Dossier[[#This Row],[Defaut]]),1,Collaborateur_Dossier[[#This Row],[PourcentageFacturation]]/100)","v":0},{"$f":"_xlfn.CONCAT(Collaborateur_Dossier[[#This Row],[DossierCode]],\"|\",Collaborateur_Dossier[[#This Row],[RoleDossier]])","v":"|"},{"$f":"VLOOKUP(Collaborateur_Dossier[[#This Row],[DossierId]],Honoraire[[DossierId]:[Rappel Client ID]],44,FALSE)","v":{"$error":"#N/A"}},{"$f":"Collaborateur_Dossier[[#This Row],[CollaborateurId]]","v":0},{"$f":"Collaborateur_Dossier[[#This Row],[Trigramme]]","v":0},{"$f":"IF(AND(Collaborateur_Dossier[[#This Row],[RoleDossier]]=\"Responsable\",Collaborateur_Dossier[[#This Row],[Defaut]]),Collaborateur_Dossier[[#This Row],[DossierCode]],\"\")","v":""},{"$f":"IF(Collaborateur_Dossier[[#This Row],[Collaborateur dossier]]<>\"\",Collaborateur_Dossier[[#This Row],[Trigramme]],\"\")","v":""}]
[null,null,null,null,null,null,null,null,null,null,null,null,null,null,null,null,null,null,{"$f":"IF(AND(SUMIFS(Collaborateur_Dossier[PourcentageFacturation],Collaborateur_Dossier[DossierId],Collaborateur_Dossier[[#This Row],[DossierId]])=0,Collaborateur_Dossier[[#This Row],[RoleDossier]]=\"Responsable\",Collaborateur_Dossier[[#This Row],[Defaut]]),1,Collaborateur_Dossier[[#This Row],[PourcentageFacturation]]/100)","v":0},{"$f":"_xlfn.CONCAT(Collaborateur_Dossier[[#This Row],[DossierCode]],\"|\",Collaborateur_Dossier[[#This Row],[RoleDossier]])","v":"|"},{"$f":"VLOOKUP(Collaborateur_Dossier[[#This Row],[DossierId]],Honoraire[[DossierId]:[Rappel Client ID]],44,FALSE)","v":{"$error":"#N/A"}},{"$f":"Collaborateur_Dossier[[#This Row],[CollaborateurId]]","v":0},{"$f":"Collaborateur_Dossier[[#This Row],[Trigramme]]","v":0},{"$f":"IF(AND(Collaborateur_Dossier[[#This Row],[RoleDossier]]=\"Responsable\",Collaborateur_Dossier[[#This Row],[Defaut]]),Collaborateur_Dossier[[#This Row],[DossierCode]],\"\")","v":""},{"$f":"IF(Collaborateur_Dossier[[#This Row],[Collaborateur dossier]]<>\"\",Collaborateur_Dossier[[#This Row],[Trigramme]],\"\")","v":""}]
[null,null,null,null,null,null,null,null,null,null,null,null,null,null,null,null,null,null,{"$f":"IF(AND(SUMIFS(Collaborateur_Dossier[PourcentageFacturation],Collaborateur_Dossier[DossierId],Collaborateur_Dossier[[#This Row],[DossierId]])=0,Collaborateur_Dossier[[#This Row],[RoleDossier]]=\"Responsable\",Collaborateur_Dossier[[#This Row],[Defaut]]),1,Collaborateur_Dossier[[#This Row],[PourcentageFacturation]]/100)","v":0},{"$f":"_xlfn.CONCAT(Collaborateur_Dossier[[#This Row],[DossierCode]],\"|\",Collaborateur_Dossier[[#This Row],[RoleDossier]])","v":"|"},{"$f":"VLOOKUP(Collaborateur_Dossier[[#This Row],[DossierId]],Honoraire[[DossierId]:[Rappel Client ID]],44,FALSE)","v":{"$error":"#N/A"}},{"$f":"Collaborateur_Dossier[[#This Row],[CollaborateurId]]","v":0},{"$f":"Collaborateur_Dossier[[#This Row],[Trigramme]]","v":0},{"$f":"IF(AND(Collaborateur_Dossier[[#This Row],[RoleDossier]]=\"Responsable\",Collaborateur_Dossier[[#This Row],[Defaut]]),Collaborateur_Dossier[[#This Row],[DossierCode]],\"\")","v":""},{"$f":"IF(Collaborateur_Dossier[[#This Row],[Collaborateur dossier]]<>\"\",Collaborateur_Dossier[[#This Row],[Trigramme]],\"\")","v":""}]
[null,null,null,null,null,null,null,null,null,null,null,null,null,null,null,null,null,null,{"$f":"IF(AND(SUMIFS(Collaborateur_Dossier[PourcentageFacturation],Collaborateur_Dossier[DossierId],Collaborateur_Dossier[[#This Row],[DossierId]])=0,Collaborateur_Dossier[[#This Row],[RoleDossier]]=\"Responsable\",Collaborateur_Dossier[[#This Row],[Defaut]]),1,Collaborateur_Dossier[[#This Row],[PourcentageFacturation]]/100)","v":0},{"$f":"_xlfn.CONCAT(Collaborateur_Dossier[[#This Row],[DossierCode]],\"|\",Collaborateur_Dossier[[#This Row],[RoleDossier]])","v":"|"},{"$f":"VLOOKUP(Collaborateur_Dossier[[#This Row],[DossierId]],Honoraire[[DossierId]:[Rappel Client ID]],44,FALSE)","v":{"$error":"#N/A"}},{"$f":"Collaborateur_Dossier[[#This Row],[CollaborateurId]]","v":0},{"$f":"Collaborateur_Dossier[[#This Row],[Trigramme]]","v":0},{"$f":"IF(AND(Collaborateur_Dossier[[#This Row],[RoleDossier]]=\"Responsable\",Collaborateur_Dossier[[#This Row],[Defaut]]),Collaborateur_Dossier[[#This Row],[DossierCode]],\"\")","v":""},{"$f":"IF(Collaborateur_Dossier[[#This Row],[Collaborateur dossier]]<>\"\",Collaborateur_Dossier[[#This Row],[Trigramme]],\"\")","v":""}]
[null,null,null,null,null,null,null,null,null,null,null,null,null,null,null,null,null,null,{"$f":"IF(AND(SUMIFS(Collaborateur_Dossier[PourcentageFacturation],Collaborateur_Dossier[DossierId],Collaborateur_Dossier[[#This Row],[DossierId]])=0,Collaborateur_Dossier[[#This Row],[RoleDossier]]=\"Responsable\",Collaborateur_Dossier[[#This Row],[Defaut]]),1,Collaborateur_Dossier[[#This Row],[PourcentageFacturation]]/100)","v":0},{"$f":"_xlfn.CONCAT(Collaborateur_Dossier[[#This Row],[DossierCode]],\"|\",Collaborateur_Dossier[[#This Row],[RoleDossier]])","v":"|"},{"$f":"VLOOKUP(Collaborateur_Dossier[[#This Row],[DossierId]],Honoraire[[DossierId]:[Rappel Client ID]],44,FALSE)","v":{"$error":"#N/A"}},{"$f":"Collaborateur_Dossier[[#This Row],[CollaborateurId]]","v":0},{"$f":"Collaborateur_Dossier[[#This Row],[Trigramme]]","v":0},{"$f":"IF(AND(Collaborateur_Dossier[[#This Row],[RoleDossier]]=\"Responsable\",Collaborateur_Dossier[[#This Row],[Defaut]]),Collaborateur_Dossier[[#This Row],[DossierCode]],\"\")","v":""},{"$f":"IF(Collaborateur_Dossier[[#This Row],[Collaborateur dossier]]<>\"\",Collaborateur_Dossier[[#This Row],[Trigramme]],\"\")","v":""}]
[null,null,null,null,null,null,null,null,null,null,null,null,null,null,null,null,null,null,{"$f":"IF(AND(SUMIFS(Collaborateur_Dossier[PourcentageFacturation],Collaborateur_Dossier[DossierId],Collaborateur_Dossier[[#This Row],[DossierId]])=0,Collaborateur_Dossier[[#This Row],[RoleDossier]]=\"Responsable\",Collaborateur_Dossier[[#This Row],[Defaut]]),1,Collaborateur_Dossier[[#This Row],[PourcentageFacturation]]/100)","v":0},{"$f":"_xlfn.CONCAT(Collaborateur_Dossier[[#This Row],[DossierCode]],\"|\",Collaborateur_Dossier[[#This Row],[RoleDossier]])","v":"|"},{"$f":"VLOOKUP(Collaborateur_Dossier[[#This Row],[DossierId]],Honoraire[[DossierId]:[Rappel Client ID]],44,FALSE)","v":{"$error":"#N/A"}},{"$f":"Collaborateur_Dossier[[#This Row],[CollaborateurId]]","v":0},{"$f":"Collaborateur_Dossier[[#This Row],[Trigramme]]","v":0},{"$f":"IF(AND(Collaborateur_Dossier[[#This Row],[RoleDossier]]=\"Responsable\",Collaborateur_Dossier[[#This Row],[Defaut]]),Collaborateur_Dossier[[#This Row],[DossierCode]],\"\")","v":""},{"$f":"IF(Collaborateur_Dossier[[#This Row],[Collaborateur dossier]]<>\"\",Collaborateur_Dossier[[#This Row],[Trigramme]],\"\")","v":""}]
[null,null,null,null,null,null,null,null,null,null,null,null,null,null,null,null,null,null,{"$f":"IF(AND(SUMIFS(Collaborateur_Dossier[PourcentageFacturation],Collaborateur_Dossier[DossierId],Collaborateur_Dossier[[#This Row],[DossierId]])=0,Collaborateur_Dossier[[#This Row],[RoleDossier]]=\"Responsable\",Collaborateur_Dossier[[#This Row],[Defaut]]),1,Collaborateur_Dossier[[#This Row],[PourcentageFacturation]]/100)","v":0},{"$f":"_xlfn.CONCAT(Collaborateur_Dossier[[#This Row],[DossierCode]],\"|\",Collaborateur_Dossier[[#This Row],[RoleDossier]])","v":"|"},{"$f":"VLOOKUP(Collaborateur_Dossier[[#This Row],[DossierId]],Honoraire[[DossierId]:[Rappel Client ID]],44,FALSE)","v":{"$error":"#N/A"}},{"$f":"Collaborateur_Dossier[[#This Row],[CollaborateurId]]","v":0},{"$f":"Collaborateur_Dossier[[#This Row],[Trigramme]]","v":0},{"$f":"IF(AND(Collaborateur_Dossier[[#This Row],[RoleDossier]]=\"Responsable\",Collaborateur_Dossier[[#This Row],[Defaut]]),Collaborateur_Dossier[[#This Row],[DossierCode]],\"\")","v":""},{"$f":"IF(Collaborateur_Dossier[[#This Row],[Collaborateur dossier]]<>\"\",Collaborateur_Dossier[[#This Row],[Trigramme]],\"\")","v":""}]
[null,null,null,null,null,null,null,null,null,null,null,null,null,null,null,null,null,null,{"$f":"IF(AND(SUMIFS(Collaborateur_Dossier[PourcentageFacturation],Collaborateur_Dossier[DossierId],Collaborateur_Dossier[[#This Row],[DossierId]])=0,Collaborateur_Dossier[[#This Row],[RoleDossier]]=\"Responsable\",Collaborateur_Dossier[[#This Row],[Defaut]]),1,Collaborateur_Dossier[[#This Row],[PourcentageFacturation]]/100)","v":0},{"$f":"_xlfn.CONCAT(Collaborateur_Dossier[[#This Row],[DossierCode]],\"|\",Collaborateur_Dossier[[#This Row],[RoleDossier]])","v":"|"},{"$f":"VLOOKUP(Collaborateur_Dossier[[#This Row],[DossierId]],Honoraire[[DossierId]:[Rappel Client ID]],44,FALSE)","v":{"$error":"#N/A"}},{"$f":"Collaborateur_Dossier[[#This Row],[CollaborateurId]]","v":0},{"$f":"Collaborateur_Dossier[[#This Row],[Trigramme]]","v":0},{"$f":"IF(AND(Collaborateur_Dossier[[#This Row],[RoleDossier]]=\"Responsable\",Collaborateur_Dossier[[#This Row],[Defaut]]),Collaborateur_Dossier[[#This Row],[DossierCode]],\"\")","v":""},{"$f":"IF(Collaborateur_Dossier[[#This Row],[Collaborateur dossier]]<>\"\",Collaborateur_Dossier[[#This Row],[Trigramme]],\"\")","v":""}]
[null,null,null,null,null,null,null,null,null,null,null,null,null,null,null,null,null,null,{"$f":"IF(AND(SUMIFS(Collaborateur_Dossier[PourcentageFacturation],Collaborateur_Dossier[DossierId],Collaborateur_Dossier[[#This Row],[DossierId]])=0,Collaborateur_Dossier[[#This Row],[RoleDossier]]=\"Responsable\",Collaborateur_Dossier[[#This Row],[Defaut]]),1,Collaborateur_Dossier[[#This Row],[PourcentageFacturation]]/100)","v":0},{"$f":"_xlfn.CONCAT(Collaborateur_Dossier[[#This Row],[DossierCode]],\"|\",Collaborateur_Dossier[[#This Row],[RoleDossier]])","v":"|"},{"$f":"VLOOKUP(Collaborateur_Dossier[[#This Row],[DossierId]],Honoraire[[DossierId]:[Rappel Client ID]],44,FALSE)","v":{"$error":"#N/A"}},{"$f":"Collaborateur_Dossier[[#This Row],[CollaborateurId]]","v":0},{"$f":"Collaborateur_Dossier[[#This Row],[Trigramme]]","v":0},{"$f":"IF(AND(Collaborateur_Dossier[[#This Row],[RoleDossier]]=\"Responsable\",Collaborateur_Dossier[[#This Row],[Defaut]]),Collaborateur_Dossier[[#This Row],[DossierCode]],\"\")","v":""},{"$f":"IF(Collaborateur_Dossier[[#This Row],[Collaborateur dossier]]<>\"\",Collaborateur_Dossier[[#This Row],[Trigramme]],\"\")","v":""}]
[null,null,null,null,null,null,null,null,null,null,null,null,null,null,null,null,null,null,{"$f":"IF(AND(SUMIFS(Collaborateur_Dossier[PourcentageFacturation],Collaborateur_Dossier[DossierId],Collaborateur_Dossier[[#This Row],[DossierId]])=0,Collaborateur_Dossier[[#This Row],[RoleDossier]]=\"Responsable\",Collaborateur_Dossier[[#This Row],[Defaut]]),1,Collaborateur_Dossier[[#This Row],[PourcentageFacturation]]/100)","v":0},{"$f":"_xlfn.CONCAT(Collaborateur_Dossier[[#This Row],[DossierCode]],\"|\",Collaborateur_Dossier[[#This Row],[RoleDossier]])","v":"|"},{"$f":"VLOOKUP(Collaborateur_Dossier[[#This Row],[DossierId]],Honoraire[[DossierId]:[Rappel Client ID]],44,FALSE)","v":{"$error":"#N/A"}},{"$f":"Collaborateur_Dossier[[#This Row],[CollaborateurId]]","v":0},{"$f":"Collaborateur_Dossier[[#This Row],[Trigramme]]","v":0},{"$f":"IF(AND(Collaborateur_Dossier[[#This Row],[RoleDossier]]=\"Responsable\",Collaborateur_Dossier[[#This Row],[Defaut]]),Collaborateur_Dossier[[#This Row],[DossierCode]],\"\")","v":""},{"$f":"IF(Collaborateur_Dossier[[#This Row],[Collaborateur dossier]]<>\"\",Collaborateur_Dossier[[#This Row],[Trigramme]],\"\")","v":""}]
[null,null,null,null,null,null,null,null,null,null,null,null,null,null,null,null,null,null,{"$f":"IF(AND(SUMIFS(Collaborateur_Dossier[PourcentageFacturation],Collaborateur_Dossier[DossierId],Collaborateur_Dossier[[#This Row],[DossierId]])=0,Collaborateur_Dossier[[#This Row],[RoleDossier]]=\"Responsable\",Collaborateur_Dossier[[#This Row],[Defaut]]),1,Collaborateur_Dossier[[#This Row],[PourcentageFacturation]]/100)","v":0},{"$f":"_xlfn.CONCAT(Collaborateur_Dossier[[#This Row],[DossierCode]],\"|\",Collaborateur_Dossier[[#This Row],[RoleDossier]])","v":"|"},{"$f":"VLOOKUP(Collaborateur_Dossier[[#This Row],[DossierId]],Honoraire[[DossierId]:[Rappel Client ID]],44,FALSE)","v":{"$error":"#N/A"}},{"$f":"Collaborateur_Dossier[[#This Row],[CollaborateurId]]","v":0},{"$f":"Collaborateur_Dossier[[#This Row],[Trigramme]]","v":0},{"$f":"IF(AND(Collaborateur_Dossier[[#This Row],[RoleDossier]]=\"Responsable\",Collaborateur_Dossier[[#This Row],[Defaut]]),Collaborateur_Dossier[[#This Row],[DossierCode]],\"\")","v":""},{"$f":"IF(Collaborateur_Dossier[[#This Row],[Collaborateur dossier]]<>\"\",Collaborateur_Dossier[[#This Row],[Trigramme]],\"\")","v":""}]
[null,null,null,null,null,null,null,null,null,null,null,null,null,null,null,null,null,null,{"$f":"IF(AND(SUMIFS(Collaborateur_Dossier[PourcentageFacturation],Collaborateur_Dossier[DossierId],Collaborateur_Dossier[[#This Row],[DossierId]])=0,Collaborateur_Dossier[[#This Row],[RoleDossier]]=\"Responsable\",Collaborateur_Dossier[[#This Row],[Defaut]]),1,Collaborateur_Dossier[[#This Row],[PourcentageFacturation]]/100)","v":0},{"$f":"_xlfn.CONCAT(Collaborateur_Dossier[[#This Row],[DossierCode]],\"|\",Collaborateur_Dossier[[#This Row],[RoleDossier]])","v":"|"},{"$f":"VLOOKUP(Collaborateur_Dossier[[#This Row],[DossierId]],Honoraire[[DossierId]:[Rappel Client ID]],44,FALSE)","v":{"$error":"#N/A"}},{"$f":"Collaborateur_Dossier[[#This Row],[CollaborateurId]]","v":0},{"$f":"Collaborateur_Dossier[[#This Row],[Trigramme]]","v":0},{"$f":"IF(AND(Collaborateur_Dossier[[#This Row],[RoleDossier]]=\"Responsable\",Collaborateur_Dossier[[#This Row],[Defaut]]),Collaborateur_Dossier[[#This Row],[DossierCode]],\"\")","v":""},{"$f":"IF(Collaborateur_Dossier[[#This Row],[Collaborateur dossier]]<>\"\",Collaborateur_Dossier[[#This Row],[Trigramme]],\"\")","v":""}]
[null,null,null,null,null,null,null,null,null,null,null,null,null,null,null,null,null,null,{"$f":"IF(AND(SUMIFS(Collaborateur_Dossier[PourcentageFacturation],Collaborateur_Dossier[DossierId],Collaborateur_Dossier[[#This Row],[DossierId]])=0,Collaborateur_Dossier[[#This Row],[RoleDossier]]=\"Responsable\",Collaborateur_Dossier[[#This Row],[Defaut]]),1,Collaborateur_Dossier[[#This Row],[PourcentageFacturation]]/100)","v":0},{"$f":"_xlfn.CONCAT(Collaborateur_Dossier[[#This Row],[DossierCode]],\"|\",Collaborateur_Dossier[[#This Row],[RoleDossier]])","v":"|"},{"$f":"VLOOKUP(Collaborateur_Dossier[[#This Row],[DossierId]],Honoraire[[DossierId]:[Rappel Client ID]],44,FALSE)","v":{"$error":"#N/A"}},{"$f":"Collaborateur_Dossier[[#This Row],[CollaborateurId]]","v":0},{"$f":"Collaborateur_Dossier[[#This Row],[Trigramme]]","v":0},{"$f":"IF(AND(Collaborateur_Dossier[[#This Row],[RoleDossier]]=\"Responsable\",Collaborateur_Dossier[[#This Row],[Defaut]]),Collaborateur_Dossier[[#This Row],[DossierCode]],\"\")","v":""},{"$f":"IF(Collaborateur_Dossier[[#This Row],[Collaborateur dossier]]<>\"\",Collaborateur_Dossier[[#This Row],[Trigramme]],\"\")","v":""}]
[null,null,null,null,null,null,null,null,null,null,null,null,null,null,null,null,null,null,{"$f":"IF(AND(SUMIFS(Collaborateur_Dossier[PourcentageFacturation],Collaborateur_Dossier[DossierId],Collaborateur_Dossier[[#This Row],[DossierId]])=0,Collaborateur_Dossier[[#This Row],[RoleDossier]]=\"Responsable\",Collaborateur_Dossier[[#This Row],[Defaut]]),1,Collaborateur_Dossier[[#This Row],[PourcentageFacturation]]/100)","v":0},{"$f":"_xlfn.CONCAT(Collaborateur_Dossier[[#This Row],[DossierCode]],\"|\",Collaborateur_Dossier[[#This Row],[RoleDossier]])","v":"|"},{"$f":"VLOOKUP(Collaborateur_Dossier[[#This Row],[DossierId]],Honoraire[[DossierId]:[Rappel Client ID]],44,FALSE)","v":{"$error":"#N/A"}},{"$f":"Collaborateur_Dossier[[#This Row],[CollaborateurId]]","v":0},{"$f":"Collaborateur_Dossier[[#This Row],[Trigramme]]","v":0},{"$f":"IF(AND(Collaborateur_Dossier[[#This Row],[RoleDossier]]=\"Responsable\",Collaborateur_Dossier[[#This Row],[Defaut]]),Collaborateur_Dossier[[#This Row],[DossierCode]],\"\")","v":""},{"$f":"IF(Collaborateur_Dossier[[#This Row],[Collaborateur dossier]]<>\"\",Collaborateur_Dossier[[#This Row],[Trigramme]],\"\")","v":""}]
[null,null,null,null,null,null,null,null,null,null,null,null,null,null,null,null,null,null,{"$f":"IF(AND(SUMIFS(Collaborateur_Dossier[PourcentageFacturation],Collaborateur_Dossier[DossierId],Collaborateur_Dossier[[#This Row],[DossierId]])=0,Collaborateur_Dossier[[#This Row],[RoleDossier]]=\"Responsable\",Collaborateur_Dossier[[#This Row],[Defaut]]),1,Collaborateur_Dossier[[#This Row],[PourcentageFacturation]]/100)","v":0},{"$f":"_xlfn.CONCAT(Collaborateur_Dossier[[#This Row],[DossierCode]],\"|\",Collaborateur_Dossier[[#This Row],[RoleDossier]])","v":"|"},{"$f":"VLOOKUP(Collaborateur_Dossier[[#This Row],[DossierId]],Honoraire[[DossierId]:[Rappel Client ID]],44,FALSE)","v":{"$error":"#N/A"}},{"$f":"Collaborateur_Dossier[[#This Row],[CollaborateurId]]","v":0},{"$f":"Collaborateur_Dossier[[#This Row],[Trigramme]]","v":0},{"$f":"IF(AND(Collaborateur_Dossier[[#This Row],[RoleDossier]]=\"Responsable\",Collaborateur_Dossier[[#This Row],[Defaut]]),Collaborateur_Dossier[[#This Row],[DossierCode]],\"\")","v":""},{"$f":"IF(Collaborateur_Dossier[[#This Row],[Collaborateur dossier]]<>\"\",Collaborateur_Dossier[[#This Row],[Trigramme]],\"\")","v":""}]
[null,null,null,null,null,null,null,null,null,null,null,null,null,null,null,null,null,null,{"$f":"IF(AND(SUMIFS(Collaborateur_Dossier[PourcentageFacturation],Collaborateur_Dossier[DossierId],Collaborateur_Dossier[[#This Row],[DossierId]])=0,Collaborateur_Dossier[[#This Row],[RoleDossier]]=\"Responsable\",Collaborateur_Dossier[[#This Row],[Defaut]]),1,Collaborateur_Dossier[[#This Row],[PourcentageFacturation]]/100)","v":0},{"$f":"_xlfn.CONCAT(Collaborateur_Dossier[[#This Row],[DossierCode]],\"|\",Collaborateur_Dossier[[#This Row],[RoleDossier]])","v":"|"},{"$f":"VLOOKUP(Collaborateur_Dossier[[#This Row],[DossierId]],Honoraire[[DossierId]:[Rappel Client ID]],44,FALSE)","v":{"$error":"#N/A"}},{"$f":"Collaborateur_Dossier[[#This Row],[CollaborateurId]]","v":0},{"$f":"Collaborateur_Dossier[[#This Row],[Trigramme]]","v":0},{"$f":"IF(AND(Collaborateur_Dossier[[#This Row],[RoleDossier]]=\"Responsable\",Collaborateur_Dossier[[#This Row],[Defaut]]),Collaborateur_Dossier[[#This Row],[DossierCode]],\"\")","v":""},{"$f":"IF(Collaborateur_Dossier[[#This Row],[Collaborateur dossier]]<>\"\",Collaborateur_Dossier[[#This Row],[Trigramme]],\"\")","v":""}]
[null,null,null,null,null,null,null,null,null,null,null,null,null,null,null,null,null,null,{"$f":"IF(AND(SUMIFS(Collaborateur_Dossier[PourcentageFacturation],Collaborateur_Dossier[DossierId],Collaborateur_Dossier[[#This Row],[DossierId]])=0,Collaborateur_Dossier[[#This Row],[RoleDossier]]=\"Responsable\",Collaborateur_Dossier[[#This Row],[Defaut]]),1,Collaborateur_Dossier[[#This Row],[PourcentageFacturation]]/100)","v":0},{"$f":"_xlfn.CONCAT(Collaborateur_Dossier[[#This Row],[DossierCode]],\"|\",Collaborateur_Dossier[[#This Row],[RoleDossier]])","v":"|"},{"$f":"VLOOKUP(Collaborateur_Dossier[[#This Row],[DossierId]],Honoraire[[DossierId]:[Rappel Client ID]],44,FALSE)","v":{"$error":"#N/A"}},{"$f":"Collaborateur_Dossier[[#This Row],[CollaborateurId]]","v":0},{"$f":"Collaborateur_Dossier[[#This Row],[Trigramme]]","v":0},{"$f":"IF(AND(Collaborateur_Dossier[[#This Row],[RoleDossier]]=\"Responsable\",Collaborateur_Dossier[[#This Row],[Defaut]]),Collaborateur_Dossier[[#This Row],[DossierCode]],\"\")","v":""},{"$f":"IF(Collaborateur_Dossier[[#This Row],[Collaborateur dossier]]<>\"\",Collaborateur_Dossier[[#This Row],[Trigramme]],\"\")","v":""}]
[null,null,null,null,null,null,null,null,null,null,null,null,null,null,null,null,null,null,{"$f":"IF(AND(SUMIFS(Collaborateur_Dossier[PourcentageFacturation],Collaborateur_Dossier[DossierId],Collaborateur_Dossier[[#This Row],[DossierId]])=0,Collaborateur_Dossier[[#This Row],[RoleDossier]]=\"Responsable\",Collaborateur_Dossier[[#This Row],[Defaut]]),1,Collaborateur_Dossier[[#This Row],[PourcentageFacturation]]/100)","v":0},{"$f":"_xlfn.CONCAT(Collaborateur_Dossier[[#This Row],[DossierCode]],\"|\",Collaborateur_Dossier[[#This Row],[RoleDossier]])","v":"|"},{"$f":"VLOOKUP(Collaborateur_Dossier[[#This Row],[DossierId]],Honoraire[[DossierId]:[Rappel Client ID]],44,FALSE)","v":{"$error":"#N/A"}},{"$f":"Collaborateur_Dossier[[#This Row],[CollaborateurId]]","v":0},{"$f":"Collaborateur_Dossier[[#This Row],[Trigramme]]","v":0},{"$f":"IF(AND(Collaborateur_Dossier[[#This Row],[RoleDossier]]=\"Responsable\",Collaborateur_Dossier[[#This Row],[Defaut]]),Collaborateur_Dossier[[#This Row],[DossierCode]],\"\")","v":""},{"$f":"IF(Collaborateur_Dossier[[#This Row],[Collaborateur dossier]]<>\"\",Collaborateur_Dossier[[#This Row],[Trigramme]],\"\")","v":""}]
[null,null,null,null,null,null,null,null,null,null,null,null,null,null,null,null,null,null,{"$f":"IF(AND(SUMIFS(Collaborateur_Dossier[PourcentageFacturation],Collaborateur_Dossier[DossierId],Collaborateur_Dossier[[#This Row],[DossierId]])=0,Collaborateur_Dossier[[#This Row],[RoleDossier]]=\"Responsable\",Collaborateur_Dossier[[#This Row],[Defaut]]),1,Collaborateur_Dossier[[#This Row],[PourcentageFacturation]]/100)","v":0},{"$f":"_xlfn.CONCAT(Collaborateur_Dossier[[#This Row],[DossierCode]],\"|\",Collaborateur_Dossier[[#This Row],[RoleDossier]])","v":"|"},{"$f":"VLOOKUP(Collaborateur_Dossier[[#This Row],[DossierId]],Honoraire[[DossierId]:[Rappel Client ID]],44,FALSE)","v":{"$error":"#N/A"}},{"$f":"Collaborateur_Dossier[[#This Row],[CollaborateurId]]","v":0},{"$f":"Collaborateur_Dossier[[#This Row],[Trigramme]]","v":0},{"$f":"IF(AND(Collaborateur_Dossier[[#This Row],[RoleDossier]]=\"Responsable\",Collaborateur_Dossier[[#This Row],[Defaut]]),Collaborateur_Dossier[[#This Row],[DossierCode]],\"\")","v":""},{"$f":"IF(Collaborateur_Dossier[[#This Row],[Collaborateur dossier]]<>\"\",Collaborateur_Dossier[[#This Row],[Trigramme]],\"\")","v":""}]
[null,null,null,null,null,null,null,null,null,null,null,null,null,null,null,null,null,null,{"$f":"IF(AND(SUMIFS(Collaborateur_Dossier[PourcentageFacturation],Collaborateur_Dossier[DossierId],Collaborateur_Dossier[[#This Row],[DossierId]])=0,Collaborateur_Dossier[[#This Row],[RoleDossier]]=\"Responsable\",Collaborateur_Dossier[[#This Row],[Defaut]]),1,Collaborateur_Dossier[[#This Row],[PourcentageFacturation]]/100)","v":0},{"$f":"_xlfn.CONCAT(Collaborateur_Dossier[[#This Row],[DossierCode]],\"|\",Collaborateur_Dossier[[#This Row],[RoleDossier]])","v":"|"},{"$f":"VLOOKUP(Collaborateur_Dossier[[#This Row],[DossierId]],Honoraire[[DossierId]:[Rappel Client ID]],44,FALSE)","v":{"$error":"#N/A"}},{"$f":"Collaborateur_Dossier[[#This Row],[CollaborateurId]]","v":0},{"$f":"Collaborateur_Dossier[[#This Row],[Trigramme]]","v":0},{"$f":"IF(AND(Collaborateur_Dossier[[#This Row],[RoleDossier]]=\"Responsable\",Collaborateur_Dossier[[#This Row],[Defaut]]),Collaborateur_Dossier[[#This Row],[DossierCode]],\"\")","v":""},{"$f":"IF(Collaborateur_Dossier[[#This Row],[Collaborateur dossier]]<>\"\",Collaborateur_Dossier[[#This Row],[Trigramme]],\"\")","v":""}]
[null,null,null,null,null,null,null,null,null,null,null,null,null,null,null,null,null,null,{"$f":"IF(AND(SUMIFS(Collaborateur_Dossier[PourcentageFacturation],Collaborateur_Dossier[DossierId],Collaborateur_Dossier[[#This Row],[DossierId]])=0,Collaborateur_Dossier[[#This Row],[RoleDossier]]=\"Responsable\",Collaborateur_Dossier[[#This Row],[Defaut]]),1,Collaborateur_Dossier[[#This Row],[PourcentageFacturation]]/100)","v":0},{"$f":"_xlfn.CONCAT(Collaborateur_Dossier[[#This Row],[DossierCode]],\"|\",Collaborateur_Dossier[[#This Row],[RoleDossier]])","v":"|"},{"$f":"VLOOKUP(Collaborateur_Dossier[[#This Row],[DossierId]],Honoraire[[DossierId]:[Rappel Client ID]],44,FALSE)","v":{"$error":"#N/A"}},{"$f":"Collaborateur_Dossier[[#This Row],[CollaborateurId]]","v":0},{"$f":"Collaborateur_Dossier[[#This Row],[Trigramme]]","v":0},{"$f":"IF(AND(Collaborateur_Dossier[[#This Row],[RoleDossier]]=\"Responsable\",Collaborateur_Dossier[[#This Row],[Defaut]]),Collaborateur_Dossier[[#This Row],[DossierCode]],\"\")","v":""},{"$f":"IF(Collaborateur_Dossier[[#This Row],[Collaborateur dossier]]<>\"\",Collaborateur_Dossier[[#This Row],[Trigramme]],\"\")","v":""}]
[null,null,null,null,null,null,null,null,null,null,null,null,null,null,null,null,null,null,{"$f":"IF(AND(SUMIFS(Collaborateur_Dossier[PourcentageFacturation],Collaborateur_Dossier[DossierId],Collaborateur_Dossier[[#This Row],[DossierId]])=0,Collaborateur_Dossier[[#This Row],[RoleDossier]]=\"Responsable\",Collaborateur_Dossier[[#This Row],[Defaut]]),1,Collaborateur_Dossier[[#This Row],[PourcentageFacturation]]/100)","v":0},{"$f":"_xlfn.CONCAT(Collaborateur_Dossier[[#This Row],[DossierCode]],\"|\",Collaborateur_Dossier[[#This Row],[RoleDossier]])","v":"|"},{"$f":"VLOOKUP(Collaborateur_Dossier[[#This Row],[DossierId]],Honoraire[[DossierId]:[Rappel Client ID]],44,FALSE)","v":{"$error":"#N/A"}},{"$f":"Collaborateur_Dossier[[#This Row],[CollaborateurId]]","v":0},{"$f":"Collaborateur_Dossier[[#This Row],[Trigramme]]","v":0},{"$f":"IF(AND(Collaborateur_Dossier[[#This Row],[RoleDossier]]=\"Responsable\",Collaborateur_Dossier[[#This Row],[Defaut]]),Collaborateur_Dossier[[#This Row],[DossierCode]],\"\")","v":""},{"$f":"IF(Collaborateur_Dossier[[#This Row],[Collaborateur dossier]]<>\"\",Collaborateur_Dossier[[#This Row],[Trigramme]],\"\")","v":""}]
[null,null,null,null,null,null,null,null,null,null,null,null,null,null,null,null,null,null,{"$f":"IF(AND(SUMIFS(Collaborateur_Dossier[PourcentageFacturation],Collaborateur_Dossier[DossierId],Collaborateur_Dossier[[#This Row],[DossierId]])=0,Collaborateur_Dossier[[#This Row],[RoleDossier]]=\"Responsable\",Collaborateur_Dossier[[#This Row],[Defaut]]),1,Collaborateur_Dossier[[#This Row],[PourcentageFacturation]]/100)","v":0},{"$f":"_xlfn.CONCAT(Collaborateur_Dossier[[#This Row],[DossierCode]],\"|\",Collaborateur_Dossier[[#This Row],[RoleDossier]])","v":"|"},{"$f":"VLOOKUP(Collaborateur_Dossier[[#This Row],[DossierId]],Honoraire[[DossierId]:[Rappel Client ID]],44,FALSE)","v":{"$error":"#N/A"}},{"$f":"Collaborateur_Dossier[[#This Row],[CollaborateurId]]","v":0},{"$f":"Collaborateur_Dossier[[#This Row],[Trigramme]]","v":0},{"$f":"IF(AND(Collaborateur_Dossier[[#This Row],[RoleDossier]]=\"Responsable\",Collaborateur_Dossier[[#This Row],[Defaut]]),Collaborateur_Dossier[[#This Row],[DossierCode]],\"\")","v":""},{"$f":"IF(Collaborateur_Dossier[[#This Row],[Collaborateur dossier]]<>\"\",Collaborateur_Dossier[[#This Row],[Trigramme]],\"\")","v":""}]
[null,null,null,null,null,null,null,null,null,null,null,null,null,null,null,null,null,null,{"$f":"IF(AND(SUMIFS(Collaborateur_Dossier[PourcentageFacturation],Collaborateur_Dossier[DossierId],Collaborateur_Dossier[[#This Row],[DossierId]])=0,Collaborateur_Dossier[[#This Row],[RoleDossier]]=\"Responsable\",Collaborateur_Dossier[[#This Row],[Defaut]]),1,Collaborateur_Dossier[[#This Row],[PourcentageFacturation]]/100)","v":0},{"$f":"_xlfn.CONCAT(Collaborateur_Dossier[[#This Row],[DossierCode]],\"|\",Collaborateur_Dossier[[#This Row],[RoleDossier]])","v":"|"},{"$f":"VLOOKUP(Collaborateur_Dossier[[#This Row],[DossierId]],Honoraire[[DossierId]:[Rappel Client ID]],44,FALSE)","v":{"$error":"#N/A"}},{"$f":"Collaborateur_Dossier[[#This Row],[CollaborateurId]]","v":0},{"$f":"Collaborateur_Dossier[[#This Row],[Trigramme]]","v":0},{"$f":"IF(AND(Collaborateur_Dossier[[#This Row],[RoleDossier]]=\"Responsable\",Collaborateur_Dossier[[#This Row],[Defaut]]),Collaborateur_Dossier[[#This Row],[DossierCode]],\"\")","v":""},{"$f":"IF(Collaborateur_Dossier[[#This Row],[Collaborateur dossier]]<>\"\",Collaborateur_Dossier[[#This Row],[Trigramme]],\"\")","v":""}]
[null,null,null,null,null,null,null,null,null,null,null,null,null,null,null,null,null,null,{"$f":"IF(AND(SUMIFS(Collaborateur_Dossier[PourcentageFacturation],Collaborateur_Dossier[DossierId],Collaborateur_Dossier[[#This Row],[DossierId]])=0,Collaborateur_Dossier[[#This Row],[RoleDossier]]=\"Responsable\",Collaborateur_Dossier[[#This Row],[Defaut]]),1,Collaborateur_Dossier[[#This Row],[PourcentageFacturation]]/100)","v":0},{"$f":"_xlfn.CONCAT(Collaborateur_Dossier[[#This Row],[DossierCode]],\"|\",Collaborateur_Dossier[[#This Row],[RoleDossier]])","v":"|"},{"$f":"VLOOKUP(Collaborateur_Dossier[[#This Row],[DossierId]],Honoraire[[DossierId]:[Rappel Client ID]],44,FALSE)","v":{"$error":"#N/A"}},{"$f":"Collaborateur_Dossier[[#This Row],[CollaborateurId]]","v":0},{"$f":"Collaborateur_Dossier[[#This Row],[Trigramme]]","v":0},{"$f":"IF(AND(Collaborateur_Dossier[[#This Row],[RoleDossier]]=\"Responsable\",Collaborateur_Dossier[[#This Row],[Defaut]]),Collaborateur_Dossier[[#This Row],[DossierCode]],\"\")","v":""},{"$f":"IF(Collaborateur_Dossier[[#This Row],[Collaborateur dossier]]<>\"\",Collaborateur_Dossier[[#This Row],[Trigramme]],\"\")","v":""}]
[null,null,null,null,null,null,null,null,null,null,null,null,null,null,null,null,null,null,{"$f":"IF(AND(SUMIFS(Collaborateur_Dossier[PourcentageFacturation],Collaborateur_Dossier[DossierId],Collaborateur_Dossier[[#This Row],[DossierId]])=0,Collaborateur_Dossier[[#This Row],[RoleDossier]]=\"Responsable\",Collaborateur_Dossier[[#This Row],[Defaut]]),1,Collaborateur_Dossier[[#This Row],[PourcentageFacturation]]/100)","v":0},{"$f":"_xlfn.CONCAT(Collaborateur_Dossier[[#This Row],[DossierCode]],\"|\",Collaborateur_Dossier[[#This Row],[RoleDossier]])","v":"|"},{"$f":"VLOOKUP(Collaborateur_Dossier[[#This Row],[DossierId]],Honoraire[[DossierId]:[Rappel Client ID]],44,FALSE)","v":{"$error":"#N/A"}},{"$f":"Collaborateur_Dossier[[#This Row],[CollaborateurId]]","v":0},{"$f":"Collaborateur_Dossier[[#This Row],[Trigramme]]","v":0},{"$f":"IF(AND(Collaborateur_Dossier[[#This Row],[RoleDossier]]=\"Responsable\",Collaborateur_Dossier[[#This Row],[Defaut]]),Collaborateur_Dossier[[#This Row],[DossierCode]],\"\")","v":""},{"$f":"IF(Collaborateur_Dossier[[#This Row],[Collaborateur dossier]]<>\"\",Collaborateur_Dossier[[#This Row],[Trigramme]],\"\")","v":""}]
[null,null,null,null,null,null,null,null,null,null,null,null,null,null,null,null,null,null,{"$f":"IF(AND(SUMIFS(Collaborateur_Dossier[PourcentageFacturation],Collaborateur_Dossier[DossierId],Collaborateur_Dossier[[#This Row],[DossierId]])=0,Collaborateur_Dossier[[#This Row],[RoleDossier]]=\"Responsable\",Collaborateur_Dossier[[#This Row],[Defaut]]),1,Collaborateur_Dossier[[#This Row],[PourcentageFacturation]]/100)","v":0},{"$f":"_xlfn.CONCAT(Collaborateur_Dossier[[#This Row],[DossierCode]],\"|\",Collaborateur_Dossier[[#This Row],[RoleDossier]])","v":"|"},{"$f":"VLOOKUP(Collaborateur_Dossier[[#This Row],[DossierId]],Honoraire[[DossierId]:[Rappel Client ID]],44,FALSE)","v":{"$error":"#N/A"}},{"$f":"Collaborateur_Dossier[[#This Row],[CollaborateurId]]","v":0},{"$f":"Collaborateur_Dossier[[#This Row],[Trigramme]]","v":0},{"$f":"IF(AND(Collaborateur_Dossier[[#This Row],[RoleDossier]]=\"Responsable\",Collaborateur_Dossier[[#This Row],[Defaut]]),Collaborateur_Dossier[[#This Row],[DossierCode]],\"\")","v":""},{"$f":"IF(Collaborateur_Dossier[[#This Row],[Collaborateur dossier]]<>\"\",Collaborateur_Dossier[[#This Row],[Trigramme]],\"\")","v":""}]
[null,null,null,null,null,null,null,null,null,null,null,null,null,null,null,null,null,null,{"$f":"IF(AND(SUMIFS(Collaborateur_Dossier[PourcentageFacturation],Collaborateur_Dossier[DossierId],Collaborateur_Dossier[[#This Row],[DossierId]])=0,Collaborateur_Dossier[[#This Row],[RoleDossier]]=\"Responsable\",Collaborateur_Dossier[[#This Row],[Defaut]]),1,Collaborateur_Dossier[[#This Row],[PourcentageFacturation]]/100)","v":0},{"$f":"_xlfn.CONCAT(Collaborateur_Dossier[[#This Row],[DossierCode]],\"|\",Collaborateur_Dossier[[#This Row],[RoleDossier]])","v":"|"},{"$f":"VLOOKUP(Collaborateur_Dossier[[#This Row],[DossierId]],Honoraire[[DossierId]:[Rappel Client ID]],44,FALSE)","v":{"$error":"#N/A"}},{"$f":"Collaborateur_Dossier[[#This Row],[CollaborateurId]]","v":0},{"$f":"Collaborateur_Dossier[[#This Row],[Trigramme]]","v":0},{"$f":"IF(AND(Collaborateur_Dossier[[#This Row],[RoleDossier]]=\"Responsable\",Collaborateur_Dossier[[#This Row],[Defaut]]),Collaborateur_Dossier[[#This Row],[DossierCode]],\"\")","v":""},{"$f":"IF(Collaborateur_Dossier[[#This Row],[Collaborateur dossier]]<>\"\",Collaborateur_Dossier[[#This Row],[Trigramme]],\"\")","v":""}]
[null,null,null,null,null,null,null,null,null,null,null,null,null,null,null,null,null,null,{"$f":"IF(AND(SUMIFS(Collaborateur_Dossier[PourcentageFacturation],Collaborateur_Dossier[DossierId],Collaborateur_Dossier[[#This Row],[DossierId]])=0,Collaborateur_Dossier[[#This Row],[RoleDossier]]=\"Responsable\",Collaborateur_Dossier[[#This Row],[Defaut]]),1,Collaborateur_Dossier[[#This Row],[PourcentageFacturation]]/100)","v":0},{"$f":"_xlfn.CONCAT(Collaborateur_Dossier[[#This Row],[DossierCode]],\"|\",Collaborateur_Dossier[[#This Row],[RoleDossier]])","v":"|"},{"$f":"VLOOKUP(Collaborateur_Dossier[[#This Row],[DossierId]],Honoraire[[DossierId]:[Rappel Client ID]],44,FALSE)","v":{"$error":"#N/A"}},{"$f":"Collaborateur_Dossier[[#This Row],[CollaborateurId]]","v":0},{"$f":"Collaborateur_Dossier[[#This Row],[Trigramme]]","v":0},{"$f":"IF(AND(Collaborateur_Dossier[[#This Row],[RoleDossier]]=\"Responsable\",Collaborateur_Dossier[[#This Row],[Defaut]]),Collaborateur_Dossier[[#This Row],[DossierCode]],\"\")","v":""},{"$f":"IF(Collaborateur_Dossier[[#This Row],[Collaborateur dossier]]<>\"\",Collaborateur_Dossier[[#This Row],[Trigramme]],\"\")","v":""}]
[null,null,null,null,null,null,null,null,null,null,null,null,null,null,null,null,null,null,{"$f":"IF(AND(SUMIFS(Collaborateur_Dossier[PourcentageFacturation],Collaborateur_Dossier[DossierId],Collaborateur_Dossier[[#This Row],[DossierId]])=0,Collaborateur_Dossier[[#This Row],[RoleDossier]]=\"Responsable\",Collaborateur_Dossier[[#This Row],[Defaut]]),1,Collaborateur_Dossier[[#This Row],[PourcentageFacturation]]/100)","v":0},{"$f":"_xlfn.CONCAT(Collaborateur_Dossier[[#This Row],[DossierCode]],\"|\",Collaborateur_Dossier[[#This Row],[RoleDossier]])","v":"|"},{"$f":"VLOOKUP(Collaborateur_Dossier[[#This Row],[DossierId]],Honoraire[[DossierId]:[Rappel Client ID]],44,FALSE)","v":{"$error":"#N/A"}},{"$f":"Collaborateur_Dossier[[#This Row],[CollaborateurId]]","v":0},{"$f":"Collaborateur_Dossier[[#This Row],[Trigramme]]","v":0},{"$f":"IF(AND(Collaborateur_Dossier[[#This Row],[RoleDossier]]=\"Responsable\",Collaborateur_Dossier[[#This Row],[Defaut]]),Collaborateur_Dossier[[#This Row],[DossierCode]],\"\")","v":""},{"$f":"IF(Collaborateur_Dossier[[#This Row],[Collaborateur dossier]]<>\"\",Collaborateur_Dossier[[#This Row],[Trigramme]],\"\")","v":""}]
[null,null,null,null,null,null,null,null,null,null,null,null,null,null,null,null,null,null,{"$f":"IF(AND(SUMIFS(Collaborateur_Dossier[PourcentageFacturation],Collaborateur_Dossier[DossierId],Collaborateur_Dossier[[#This Row],[DossierId]])=0,Collaborateur_Dossier[[#This Row],[RoleDossier]]=\"Responsable\",Collaborateur_Dossier[[#This Row],[Defaut]]),1,Collaborateur_Dossier[[#This Row],[PourcentageFacturation]]/100)","v":0},{"$f":"_xlfn.CONCAT(Collaborateur_Dossier[[#This Row],[DossierCode]],\"|\",Collaborateur_Dossier[[#This Row],[RoleDossier]])","v":"|"},{"$f":"VLOOKUP(Collaborateur_Dossier[[#This Row],[DossierId]],Honoraire[[DossierId]:[Rappel Client ID]],44,FALSE)","v":{"$error":"#N/A"}},{"$f":"Collaborateur_Dossier[[#This Row],[CollaborateurId]]","v":0},{"$f":"Collaborateur_Dossier[[#This Row],[Trigramme]]","v":0},{"$f":"IF(AND(Collaborateur_Dossier[[#This Row],[RoleDossier]]=\"Responsable\",Collaborateur_Dossier[[#This Row],[Defaut]]),Collaborateur_Dossier[[#This Row],[DossierCode]],\"\")","v":""},{"$f":"IF(Collaborateur_Dossier[[#This Row],[Collaborateur dossier]]<>\"\",Collaborateur_Dossier[[#This Row],[Trigramme]],\"\")","v":""}]
[null,null,null,null,null,null,null,null,null,null,null,null,null,null,null,null,null,null,{"$f":"IF(AND(SUMIFS(Collaborateur_Dossier[PourcentageFacturation],Collaborateur_Dossier[DossierId],Collaborateur_Dossier[[#This Row],[DossierId]])=0,Collaborateur_Dossier[[#This Row],[RoleDossier]]=\"Responsable\",Collaborateur_Dossier[[#This Row],[Defaut]]),1,Collaborateur_Dossier[[#This Row],[PourcentageFacturation]]/100)","v":0},{"$f":"_xlfn.CONCAT(Collaborateur_Dossier[[#This Row],[DossierCode]],\"|\",Collaborateur_Dossier[[#This Row],[RoleDossier]])","v":"|"},{"$f":"VLOOKUP(Collaborateur_Dossier[[#This Row],[DossierId]],Honoraire[[DossierId]:[Rappel Client ID]],44,FALSE)","v":{"$error":"#N/A"}},{"$f":"Collaborateur_Dossier[[#This Row],[CollaborateurId]]","v":0},{"$f":"Collaborateur_Dossier[[#This Row],[Trigramme]]","v":0},{"$f":"IF(AND(Collaborateur_Dossier[[#This Row],[RoleDossier]]=\"Responsable\",Collaborateur_Dossier[[#This Row],[Defaut]]),Collaborateur_Dossier[[#This Row],[DossierCode]],\"\")","v":""},{"$f":"IF(Collaborateur_Dossier[[#This Row],[Collaborateur dossier]]<>\"\",Collaborateur_Dossier[[#This Row],[Trigramme]],\"\")","v":""}]
[null,null,null,null,null,null,null,null,null,null,null,null,null,null,null,null,null,null,{"$f":"IF(AND(SUMIFS(Collaborateur_Dossier[PourcentageFacturation],Collaborateur_Dossier[DossierId],Collaborateur_Dossier[[#This Row],[DossierId]])=0,Collaborateur_Dossier[[#This Row],[RoleDossier]]=\"Responsable\",Collaborateur_Dossier[[#This Row],[Defaut]]),1,Collaborateur_Dossier[[#This Row],[PourcentageFacturation]]/100)","v":0},{"$f":"_xlfn.CONCAT(Collaborateur_Dossier[[#This Row],[DossierCode]],\"|\",Collaborateur_Dossier[[#This Row],[RoleDossier]])","v":"|"},{"$f":"VLOOKUP(Collaborateur_Dossier[[#This Row],[DossierId]],Honoraire[[DossierId]:[Rappel Client ID]],44,FALSE)","v":{"$error":"#N/A"}},{"$f":"Collaborateur_Dossier[[#This Row],[CollaborateurId]]","v":0},{"$f":"Collaborateur_Dossier[[#This Row],[Trigramme]]","v":0},{"$f":"IF(AND(Collaborateur_Dossier[[#This Row],[RoleDossier]]=\"Responsable\",Collaborateur_Dossier[[#This Row],[Defaut]]),Collaborateur_Dossier[[#This Row],[DossierCode]],\"\")","v":""},{"$f":"IF(Collaborateur_Dossier[[#This Row],[Collaborateur dossier]]<>\"\",Collaborateur_Dossier[[#This Row],[Trigramme]],\"\")","v":""}]
[null,null,null,null,null,null,null,null,null,null,null,null,null,null,null,null,null,null,{"$f":"IF(AND(SUMIFS(Collaborateur_Dossier[PourcentageFacturation],Collaborateur_Dossier[DossierId],Collaborateur_Dossier[[#This Row],[DossierId]])=0,Collaborateur_Dossier[[#This Row],[RoleDossier]]=\"Responsable\",Collaborateur_Dossier[[#This Row],[Defaut]]),1,Collaborateur_Dossier[[#This Row],[PourcentageFacturation]]/100)","v":0},{"$f":"_xlfn.CONCAT(Collaborateur_Dossier[[#This Row],[DossierCode]],\"|\",Collaborateur_Dossier[[#This Row],[RoleDossier]])","v":"|"},{"$f":"VLOOKUP(Collaborateur_Dossier[[#This Row],[DossierId]],Honoraire[[DossierId]:[Rappel Client ID]],44,FALSE)","v":{"$error":"#N/A"}},{"$f":"Collaborateur_Dossier[[#This Row],[CollaborateurId]]","v":0},{"$f":"Collaborateur_Dossier[[#This Row],[Trigramme]]","v":0},{"$f":"IF(AND(Collaborateur_Dossier[[#This Row],[RoleDossier]]=\"Responsable\",Collaborateur_Dossier[[#This Row],[Defaut]]),Collaborateur_Dossier[[#This Row],[DossierCode]],\"\")","v":""},{"$f":"IF(Collaborateur_Dossier[[#This Row],[Collaborateur dossier]]<>\"\",Collaborateur_Dossier[[#This Row],[Trigramme]],\"\")","v":""}]
[null,null,null,null,null,null,null,null,null,null,null,null,null,null,null,null,null,null,{"$f":"IF(AND(SUMIFS(Collaborateur_Dossier[PourcentageFacturation],Collaborateur_Dossier[DossierId],Collaborateur_Dossier[[#This Row],[DossierId]])=0,Collaborateur_Dossier[[#This Row],[RoleDossier]]=\"Responsable\",Collaborateur_Dossier[[#This Row],[Defaut]]),1,Collaborateur_Dossier[[#This Row],[PourcentageFacturation]]/100)","v":0},{"$f":"_xlfn.CONCAT(Collaborateur_Dossier[[#This Row],[DossierCode]],\"|\",Collaborateur_Dossier[[#This Row],[RoleDossier]])","v":"|"},{"$f":"VLOOKUP(Collaborateur_Dossier[[#This Row],[DossierId]],Honoraire[[DossierId]:[Rappel Client ID]],44,FALSE)","v":{"$error":"#N/A"}},{"$f":"Collaborateur_Dossier[[#This Row],[CollaborateurId]]","v":0},{"$f":"Collaborateur_Dossier[[#This Row],[Trigramme]]","v":0},{"$f":"IF(AND(Collaborateur_Dossier[[#This Row],[RoleDossier]]=\"Responsable\",Collaborateur_Dossier[[#This Row],[Defaut]]),Collaborateur_Dossier[[#This Row],[DossierCode]],\"\")","v":""},{"$f":"IF(Collaborateur_Dossier[[#This Row],[Collaborateur dossier]]<>\"\",Collaborateur_Dossier[[#This Row],[Trigramme]],\"\")","v":""}]
[null,null,null,null,null,null,null,null,null,null,null,null,null,null,null,null,null,null,{"$f":"IF(AND(SUMIFS(Collaborateur_Dossier[PourcentageFacturation],Collaborateur_Dossier[DossierId],Collaborateur_Dossier[[#This Row],[DossierId]])=0,Collaborateur_Dossier[[#This Row],[RoleDossier]]=\"Responsable\",Collaborateur_Dossier[[#This Row],[Defaut]]),1,Collaborateur_Dossier[[#This Row],[PourcentageFacturation]]/100)","v":0},{"$f":"_xlfn.CONCAT(Collaborateur_Dossier[[#This Row],[DossierCode]],\"|\",Collaborateur_Dossier[[#This Row],[RoleDossier]])","v":"|"},{"$f":"VLOOKUP(Collaborateur_Dossier[[#This Row],[DossierId]],Honoraire[[DossierId]:[Rappel Client ID]],44,FALSE)","v":{"$error":"#N/A"}},{"$f":"Collaborateur_Dossier[[#This Row],[CollaborateurId]]","v":0},{"$f":"Collaborateur_Dossier[[#This Row],[Trigramme]]","v":0},{"$f":"IF(AND(Collaborateur_Dossier[[#This Row],[RoleDossier]]=\"Responsable\",Collaborateur_Dossier[[#This Row],[Defaut]]),Collaborateur_Dossier[[#This Row],[DossierCode]],\"\")","v":""},{"$f":"IF(Collaborateur_Dossier[[#This Row],[Collaborateur dossier]]<>\"\",Collaborateur_Dossier[[#This Row],[Trigramme]],\"\")","v":""}]
[null,null,null,null,null,null,null,null,null,null,null,null,null,null,null,null,null,null,{"$f":"IF(AND(SUMIFS(Collaborateur_Dossier[PourcentageFacturation],Collaborateur_Dossier[DossierId],Collaborateur_Dossier[[#This Row],[DossierId]])=0,Collaborateur_Dossier[[#This Row],[RoleDossier]]=\"Responsable\",Collaborateur_Dossier[[#This Row],[Defaut]]),1,Collaborateur_Dossier[[#This Row],[PourcentageFacturation]]/100)","v":0},{"$f":"_xlfn.CONCAT(Collaborateur_Dossier[[#This Row],[DossierCode]],\"|\",Collaborateur_Dossier[[#This Row],[RoleDossier]])","v":"|"},{"$f":"VLOOKUP(Collaborateur_Dossier[[#This Row],[DossierId]],Honoraire[[DossierId]:[Rappel Client ID]],44,FALSE)","v":{"$error":"#N/A"}},{"$f":"Collaborateur_Dossier[[#This Row],[CollaborateurId]]","v":0},{"$f":"Collaborateur_Dossier[[#This Row],[Trigramme]]","v":0},{"$f":"IF(AND(Collaborateur_Dossier[[#This Row],[RoleDossier]]=\"Responsable\",Collaborateur_Dossier[[#This Row],[Defaut]]),Collaborateur_Dossier[[#This Row],[DossierCode]],\"\")","v":""},{"$f":"IF(Collaborateur_Dossier[[#This Row],[Collaborateur dossier]]<>\"\",Collaborateur_Dossier[[#This Row],[Trigramme]],\"\")","v":""}]
[null,null,null,null,null,null,null,null,null,null,null,null,null,null,null,null,null,null,{"$f":"IF(AND(SUMIFS(Collaborateur_Dossier[PourcentageFacturation],Collaborateur_Dossier[DossierId],Collaborateur_Dossier[[#This Row],[DossierId]])=0,Collaborateur_Dossier[[#This Row],[RoleDossier]]=\"Responsable\",Collaborateur_Dossier[[#This Row],[Defaut]]),1,Collaborateur_Dossier[[#This Row],[PourcentageFacturation]]/100)","v":0},{"$f":"_xlfn.CONCAT(Collaborateur_Dossier[[#This Row],[DossierCode]],\"|\",Collaborateur_Dossier[[#This Row],[RoleDossier]])","v":"|"},{"$f":"VLOOKUP(Collaborateur_Dossier[[#This Row],[DossierId]],Honoraire[[DossierId]:[Rappel Client ID]],44,FALSE)","v":{"$error":"#N/A"}},{"$f":"Collaborateur_Dossier[[#This Row],[CollaborateurId]]","v":0},{"$f":"Collaborateur_Dossier[[#This Row],[Trigramme]]","v":0},{"$f":"IF(AND(Collaborateur_Dossier[[#This Row],[RoleDossier]]=\"Responsable\",Collaborateur_Dossier[[#This Row],[Defaut]]),Collaborateur_Dossier[[#This Row],[DossierCode]],\"\")","v":""},{"$f":"IF(Collaborateur_Dossier[[#This Row],[Collaborateur dossier]]<>\"\",Collaborateur_Dossier[[#This Row],[Trigramme]],\"\")","v":""}]
[null,null,null,null,null,null,null,null,null,null,null,null,null,null,null,null,null,null,{"$f":"IF(AND(SUMIFS(Collaborateur_Dossier[PourcentageFacturation],Collaborateur_Dossier[DossierId],Collaborateur_Dossier[[#This Row],[DossierId]])=0,Collaborateur_Dossier[[#This Row],[RoleDossier]]=\"Responsable\",Collaborateur_Dossier[[#This Row],[Defaut]]),1,Collaborateur_Dossier[[#This Row],[PourcentageFacturation]]/100)","v":0},{"$f":"_xlfn.CONCAT(Collaborateur_Dossier[[#This Row],[DossierCode]],\"|\",Collaborateur_Dossier[[#This Row],[RoleDossier]])","v":"|"},{"$f":"VLOOKUP(Collaborateur_Dossier[[#This Row],[DossierId]],Honoraire[[DossierId]:[Rappel Client ID]],44,FALSE)","v":{"$error":"#N/A"}},{"$f":"Collaborateur_Dossier[[#This Row],[CollaborateurId]]","v":0},{"$f":"Collaborateur_Dossier[[#This Row],[Trigramme]]","v":0},{"$f":"IF(AND(Collaborateur_Dossier[[#This Row],[RoleDossier]]=\"Responsable\",Collaborateur_Dossier[[#This Row],[Defaut]]),Collaborateur_Dossier[[#This Row],[DossierCode]],\"\")","v":""},{"$f":"IF(Collaborateur_Dossier[[#This Row],[Collaborateur dossier]]<>\"\",Collaborateur_Dossier[[#This Row],[Trigramme]],\"\")","v":""}]
[null,null,null,null,null,null,null,null,null,null,null,null,null,null,null,null,null,null,{"$f":"IF(AND(SUMIFS(Collaborateur_Dossier[PourcentageFacturation],Collaborateur_Dossier[DossierId],Collaborateur_Dossier[[#This Row],[DossierId]])=0,Collaborateur_Dossier[[#This Row],[RoleDossier]]=\"Responsable\",Collaborateur_Dossier[[#This Row],[Defaut]]),1,Collaborateur_Dossier[[#This Row],[PourcentageFacturation]]/100)","v":0},{"$f":"_xlfn.CONCAT(Collaborateur_Dossier[[#This Row],[DossierCode]],\"|\",Collaborateur_Dossier[[#This Row],[RoleDossier]])","v":"|"},{"$f":"VLOOKUP(Collaborateur_Dossier[[#This Row],[DossierId]],Honoraire[[DossierId]:[Rappel Client ID]],44,FALSE)","v":{"$error":"#N/A"}},{"$f":"Collaborateur_Dossier[[#This Row],[CollaborateurId]]","v":0},{"$f":"Collaborateur_Dossier[[#This Row],[Trigramme]]","v":0},{"$f":"IF(AND(Collaborateur_Dossier[[#This Row],[RoleDossier]]=\"Responsable\",Collaborateur_Dossier[[#This Row],[Defaut]]),Collaborateur_Dossier[[#This Row],[DossierCode]],\"\")","v":""},{"$f":"IF(Collaborateur_Dossier[[#This Row],[Collaborateur dossier]]<>\"\",Collaborateur_Dossier[[#This Row],[Trigramme]],\"\")","v":""}]
[null,null,null,null,null,null,null,null,null,null,null,null,null,null,null,null,null,null,{"$f":"IF(AND(SUMIFS(Collaborateur_Dossier[PourcentageFacturation],Collaborateur_Dossier[DossierId],Collaborateur_Dossier[[#This Row],[DossierId]])=0,Collaborateur_Dossier[[#This Row],[RoleDossier]]=\"Responsable\",Collaborateur_Dossier[[#This Row],[Defaut]]),1,Collaborateur_Dossier[[#This Row],[PourcentageFacturation]]/100)","v":0},{"$f":"_xlfn.CONCAT(Collaborateur_Dossier[[#This Row],[DossierCode]],\"|\",Collaborateur_Dossier[[#This Row],[RoleDossier]])","v":"|"},{"$f":"VLOOKUP(Collaborateur_Dossier[[#This Row],[DossierId]],Honoraire[[DossierId]:[Rappel Client ID]],44,FALSE)","v":{"$error":"#N/A"}},{"$f":"Collaborateur_Dossier[[#This Row],[CollaborateurId]]","v":0},{"$f":"Collaborateur_Dossier[[#This Row],[Trigramme]]","v":0},{"$f":"IF(AND(Collaborateur_Dossier[[#This Row],[RoleDossier]]=\"Responsable\",Collaborateur_Dossier[[#This Row],[Defaut]]),Collaborateur_Dossier[[#This Row],[DossierCode]],\"\")","v":""},{"$f":"IF(Collaborateur_Dossier[[#This Row],[Collaborateur dossier]]<>\"\",Collaborateur_Dossier[[#This Row],[Trigramme]],\"\")","v":""}]
[null,null,null,null,null,null,null,null,null,null,null,null,null,null,null,null,null,null,{"$f":"IF(AND(SUMIFS(Collaborateur_Dossier[PourcentageFacturation],Collaborateur_Dossier[DossierId],Collaborateur_Dossier[[#This Row],[DossierId]])=0,Collaborateur_Dossier[[#This Row],[RoleDossier]]=\"Responsable\",Collaborateur_Dossier[[#This Row],[Defaut]]),1,Collaborateur_Dossier[[#This Row],[PourcentageFacturation]]/100)","v":0},{"$f":"_xlfn.CONCAT(Collaborateur_Dossier[[#This Row],[DossierCode]],\"|\",Collaborateur_Dossier[[#This Row],[RoleDossier]])","v":"|"},{"$f":"VLOOKUP(Collaborateur_Dossier[[#This Row],[DossierId]],Honoraire[[DossierId]:[Rappel Client ID]],44,FALSE)","v":{"$error":"#N/A"}},{"$f":"Collaborateur_Dossier[[#This Row],[CollaborateurId]]","v":0},{"$f":"Collaborateur_Dossier[[#This Row],[Trigramme]]","v":0},{"$f":"IF(AND(Collaborateur_Dossier[[#This Row],[RoleDossier]]=\"Responsable\",Collaborateur_Dossier[[#This Row],[Defaut]]),Collaborateur_Dossier[[#This Row],[DossierCode]],\"\")","v":""},{"$f":"IF(Collaborateur_Dossier[[#This Row],[Collaborateur dossier]]<>\"\",Collaborateur_Dossier[[#This Row],[Trigramme]],\"\")","v":""}]
[null,null,null,null,null,null,null,null,null,null,null,null,null,null,null,null,null,null,{"$f":"IF(AND(SUMIFS(Collaborateur_Dossier[PourcentageFacturation],Collaborateur_Dossier[DossierId],Collaborateur_Dossier[[#This Row],[DossierId]])=0,Collaborateur_Dossier[[#This Row],[RoleDossier]]=\"Responsable\",Collaborateur_Dossier[[#This Row],[Defaut]]),1,Collaborateur_Dossier[[#This Row],[PourcentageFacturation]]/100)","v":0},{"$f":"_xlfn.CONCAT(Collaborateur_Dossier[[#This Row],[DossierCode]],\"|\",Collaborateur_Dossier[[#This Row],[RoleDossier]])","v":"|"},{"$f":"VLOOKUP(Collaborateur_Dossier[[#This Row],[DossierId]],Honoraire[[DossierId]:[Rappel Client ID]],44,FALSE)","v":{"$error":"#N/A"}},{"$f":"Collaborateur_Dossier[[#This Row],[CollaborateurId]]","v":0},{"$f":"Collaborateur_Dossier[[#This Row],[Trigramme]]","v":0},{"$f":"IF(AND(Collaborateur_Dossier[[#This Row],[RoleDossier]]=\"Responsable\",Collaborateur_Dossier[[#This Row],[Defaut]]),Collaborateur_Dossier[[#This Row],[DossierCode]],\"\")","v":""},{"$f":"IF(Collaborateur_Dossier[[#This Row],[Collaborateur dossier]]<>\"\",Collaborateur_Dossier[[#This Row],[Trigramme]],\"\")","v":""}]
[null,null,null,null,null,null,null,null,null,null,null,null,null,null,null,null,null,null,{"$f":"IF(AND(SUMIFS(Collaborateur_Dossier[PourcentageFacturation],Collaborateur_Dossier[DossierId],Collaborateur_Dossier[[#This Row],[DossierId]])=0,Collaborateur_Dossier[[#This Row],[RoleDossier]]=\"Responsable\",Collaborateur_Dossier[[#This Row],[Defaut]]),1,Collaborateur_Dossier[[#This Row],[PourcentageFacturation]]/100)","v":0},{"$f":"_xlfn.CONCAT(Collaborateur_Dossier[[#This Row],[DossierCode]],\"|\",Collaborateur_Dossier[[#This Row],[RoleDossier]])","v":"|"},{"$f":"VLOOKUP(Collaborateur_Dossier[[#This Row],[DossierId]],Honoraire[[DossierId]:[Rappel Client ID]],44,FALSE)","v":{"$error":"#N/A"}},{"$f":"Collaborateur_Dossier[[#This Row],[CollaborateurId]]","v":0},{"$f":"Collaborateur_Dossier[[#This Row],[Trigramme]]","v":0},{"$f":"IF(AND(Collaborateur_Dossier[[#This Row],[RoleDossier]]=\"Responsable\",Collaborateur_Dossier[[#This Row],[Defaut]]),Collaborateur_Dossier[[#This Row],[DossierCode]],\"\")","v":""},{"$f":"IF(Collaborateur_Dossier[[#This Row],[Collaborateur dossier]]<>\"\",Collaborateur_Dossier[[#This Row],[Trigramme]],\"\")","v":""}]
[null,null,null,null,null,null,null,null,null,null,null,null,null,null,null,null,null,null,{"$f":"IF(AND(SUMIFS(Collaborateur_Dossier[PourcentageFacturation],Collaborateur_Dossier[DossierId],Collaborateur_Dossier[[#This Row],[DossierId]])=0,Collaborateur_Dossier[[#This Row],[RoleDossier]]=\"Responsable\",Collaborateur_Dossier[[#This Row],[Defaut]]),1,Collaborateur_Dossier[[#This Row],[PourcentageFacturation]]/100)","v":0},{"$f":"_xlfn.CONCAT(Collaborateur_Dossier[[#This Row],[DossierCode]],\"|\",Collaborateur_Dossier[[#This Row],[RoleDossier]])","v":"|"},{"$f":"VLOOKUP(Collaborateur_Dossier[[#This Row],[DossierId]],Honoraire[[DossierId]:[Rappel Client ID]],44,FALSE)","v":{"$error":"#N/A"}},{"$f":"Collaborateur_Dossier[[#This Row],[CollaborateurId]]","v":0},{"$f":"Collaborateur_Dossier[[#This Row],[Trigramme]]","v":0},{"$f":"IF(AND(Collaborateur_Dossier[[#This Row],[RoleDossier]]=\"Responsable\",Collaborateur_Dossier[[#This Row],[Defaut]]),Collaborateur_Dossier[[#This Row],[DossierCode]],\"\")","v":""},{"$f":"IF(Collaborateur_Dossier[[#This Row],[Collaborateur dossier]]<>\"\",Collaborateur_Dossier[[#This Row],[Trigramme]],\"\")","v":""}]
[null,null,null,null,null,null,null,null,null,null,null,null,null,null,null,null,null,null,{"$f":"IF(AND(SUMIFS(Collaborateur_Dossier[PourcentageFacturation],Collaborateur_Dossier[DossierId],Collaborateur_Dossier[[#This Row],[DossierId]])=0,Collaborateur_Dossier[[#This Row],[RoleDossier]]=\"Responsable\",Collaborateur_Dossier[[#This Row],[Defaut]]),1,Collaborateur_Dossier[[#This Row],[PourcentageFacturation]]/100)","v":0},{"$f":"_xlfn.CONCAT(Collaborateur_Dossier[[#This Row],[DossierCode]],\"|\",Collaborateur_Dossier[[#This Row],[RoleDossier]])","v":"|"},{"$f":"VLOOKUP(Collaborateur_Dossier[[#This Row],[DossierId]],Honoraire[[DossierId]:[Rappel Client ID]],44,FALSE)","v":{"$error":"#N/A"}},{"$f":"Collaborateur_Dossier[[#This Row],[CollaborateurId]]","v":0},{"$f":"Collaborateur_Dossier[[#This Row],[Trigramme]]","v":0},{"$f":"IF(AND(Collaborateur_Dossier[[#This Row],[RoleDossier]]=\"Responsable\",Collaborateur_Dossier[[#This Row],[Defaut]]),Collaborateur_Dossier[[#This Row],[DossierCode]],\"\")","v":""},{"$f":"IF(Collaborateur_Dossier[[#This Row],[Collaborateur dossier]]<>\"\",Collaborateur_Dossier[[#This Row],[Trigramme]],\"\")","v":""}]
[null,null,null,null,null,null,null,null,null,null,null,null,null,null,null,null,null,null,{"$f":"IF(AND(SUMIFS(Collaborateur_Dossier[PourcentageFacturation],Collaborateur_Dossier[DossierId],Collaborateur_Dossier[[#This Row],[DossierId]])=0,Collaborateur_Dossier[[#This Row],[RoleDossier]]=\"Responsable\",Collaborateur_Dossier[[#This Row],[Defaut]]),1,Collaborateur_Dossier[[#This Row],[PourcentageFacturation]]/100)","v":0},{"$f":"_xlfn.CONCAT(Collaborateur_Dossier[[#This Row],[DossierCode]],\"|\",Collaborateur_Dossier[[#This Row],[RoleDossier]])","v":"|"},{"$f":"VLOOKUP(Collaborateur_Dossier[[#This Row],[DossierId]],Honoraire[[DossierId]:[Rappel Client ID]],44,FALSE)","v":{"$error":"#N/A"}},{"$f":"Collaborateur_Dossier[[#This Row],[CollaborateurId]]","v":0},{"$f":"Collaborateur_Dossier[[#This Row],[Trigramme]]","v":0},{"$f":"IF(AND(Collaborateur_Dossier[[#This Row],[RoleDossier]]=\"Responsable\",Collaborateur_Dossier[[#This Row],[Defaut]]),Collaborateur_Dossier[[#This Row],[DossierCode]],\"\")","v":""},{"$f":"IF(Collaborateur_Dossier[[#This Row],[Collaborateur dossier]]<>\"\",Collaborateur_Dossier[[#This Row],[Trigramme]],\"\")","v":""}]
[null,null,null,null,null,null,null,null,null,null,null,null,null,null,null,null,null,null,{"$f":"IF(AND(SUMIFS(Collaborateur_Dossier[PourcentageFacturation],Collaborateur_Dossier[DossierId],Collaborateur_Dossier[[#This Row],[DossierId]])=0,Collaborateur_Dossier[[#This Row],[RoleDossier]]=\"Responsable\",Collaborateur_Dossier[[#This Row],[Defaut]]),1,Collaborateur_Dossier[[#This Row],[PourcentageFacturation]]/100)","v":0},{"$f":"_xlfn.CONCAT(Collaborateur_Dossier[[#This Row],[DossierCode]],\"|\",Collaborateur_Dossier[[#This Row],[RoleDossier]])","v":"|"},{"$f":"VLOOKUP(Collaborateur_Dossier[[#This Row],[DossierId]],Honoraire[[DossierId]:[Rappel Client ID]],44,FALSE)","v":{"$error":"#N/A"}},{"$f":"Collaborateur_Dossier[[#This Row],[CollaborateurId]]","v":0},{"$f":"Collaborateur_Dossier[[#This Row],[Trigramme]]","v":0},{"$f":"IF(AND(Collaborateur_Dossier[[#This Row],[RoleDossier]]=\"Responsable\",Collaborateur_Dossier[[#This Row],[Defaut]]),Collaborateur_Dossier[[#This Row],[DossierCode]],\"\")","v":""},{"$f":"IF(Collaborateur_Dossier[[#This Row],[Collaborateur dossier]]<>\"\",Collaborateur_Dossier[[#This Row],[Trigramme]],\"\")","v":""}]
[null,null,null,null,null,null,null,null,null,null,null,null,null,null,null,null,null,null,{"$f":"IF(AND(SUMIFS(Collaborateur_Dossier[PourcentageFacturation],Collaborateur_Dossier[DossierId],Collaborateur_Dossier[[#This Row],[DossierId]])=0,Collaborateur_Dossier[[#This Row],[RoleDossier]]=\"Responsable\",Collaborateur_Dossier[[#This Row],[Defaut]]),1,Collaborateur_Dossier[[#This Row],[PourcentageFacturation]]/100)","v":0},{"$f":"_xlfn.CONCAT(Collaborateur_Dossier[[#This Row],[DossierCode]],\"|\",Collaborateur_Dossier[[#This Row],[RoleDossier]])","v":"|"},{"$f":"VLOOKUP(Collaborateur_Dossier[[#This Row],[DossierId]],Honoraire[[DossierId]:[Rappel Client ID]],44,FALSE)","v":{"$error":"#N/A"}},{"$f":"Collaborateur_Dossier[[#This Row],[CollaborateurId]]","v":0},{"$f":"Collaborateur_Dossier[[#This Row],[Trigramme]]","v":0},{"$f":"IF(AND(Collaborateur_Dossier[[#This Row],[RoleDossier]]=\"Responsable\",Collaborateur_Dossier[[#This Row],[Defaut]]),Collaborateur_Dossier[[#This Row],[DossierCode]],\"\")","v":""},{"$f":"IF(Collaborateur_Dossier[[#This Row],[Collaborateur dossier]]<>\"\",Collaborateur_Dossier[[#This Row],[Trigramme]],\"\")","v":""}]
[null,null,null,null,null,null,null,null,null,null,null,null,null,null,null,null,null,null,{"$f":"IF(AND(SUMIFS(Collaborateur_Dossier[PourcentageFacturation],Collaborateur_Dossier[DossierId],Collaborateur_Dossier[[#This Row],[DossierId]])=0,Collaborateur_Dossier[[#This Row],[RoleDossier]]=\"Responsable\",Collaborateur_Dossier[[#This Row],[Defaut]]),1,Collaborateur_Dossier[[#This Row],[PourcentageFacturation]]/100)","v":0},{"$f":"_xlfn.CONCAT(Collaborateur_Dossier[[#This Row],[DossierCode]],\"|\",Collaborateur_Dossier[[#This Row],[RoleDossier]])","v":"|"},{"$f":"VLOOKUP(Collaborateur_Dossier[[#This Row],[DossierId]],Honoraire[[DossierId]:[Rappel Client ID]],44,FALSE)","v":{"$error":"#N/A"}},{"$f":"Collaborateur_Dossier[[#This Row],[CollaborateurId]]","v":0},{"$f":"Collaborateur_Dossier[[#This Row],[Trigramme]]","v":0},{"$f":"IF(AND(Collaborateur_Dossier[[#This Row],[RoleDossier]]=\"Responsable\",Collaborateur_Dossier[[#This Row],[Defaut]]),Collaborateur_Dossier[[#This Row],[DossierCode]],\"\")","v":""},{"$f":"IF(Collaborateur_Dossier[[#This Row],[Collaborateur dossier]]<>\"\",Collaborateur_Dossier[[#This Row],[Trigramme]],\"\")","v":""}]
[null,null,null,null,null,null,null,null,null,null,null,null,null,null,null,null,null,null,{"$f":"IF(AND(SUMIFS(Collaborateur_Dossier[PourcentageFacturation],Collaborateur_Dossier[DossierId],Collaborateur_Dossier[[#This Row],[DossierId]])=0,Collaborateur_Dossier[[#This Row],[RoleDossier]]=\"Responsable\",Collaborateur_Dossier[[#This Row],[Defaut]]),1,Collaborateur_Dossier[[#This Row],[PourcentageFacturation]]/100)","v":0},{"$f":"_xlfn.CONCAT(Collaborateur_Dossier[[#This Row],[DossierCode]],\"|\",Collaborateur_Dossier[[#This Row],[RoleDossier]])","v":"|"},{"$f":"VLOOKUP(Collaborateur_Dossier[[#This Row],[DossierId]],Honoraire[[DossierId]:[Rappel Client ID]],44,FALSE)","v":{"$error":"#N/A"}},{"$f":"Collaborateur_Dossier[[#This Row],[CollaborateurId]]","v":0},{"$f":"Collaborateur_Dossier[[#This Row],[Trigramme]]","v":0},{"$f":"IF(AND(Collaborateur_Dossier[[#This Row],[RoleDossier]]=\"Responsable\",Collaborateur_Dossier[[#This Row],[Defaut]]),Collaborateur_Dossier[[#This Row],[DossierCode]],\"\")","v":""},{"$f":"IF(Collaborateur_Dossier[[#This Row],[Collaborateur dossier]]<>\"\",Collaborateur_Dossier[[#This Row],[Trigramme]],\"\")","v":""}]
[null,null,null,null,null,null,null,null,null,null,null,null,null,null,null,null,null,null,{"$f":"IF(AND(SUMIFS(Collaborateur_Dossier[PourcentageFacturation],Collaborateur_Dossier[DossierId],Collaborateur_Dossier[[#This Row],[DossierId]])=0,Collaborateur_Dossier[[#This Row],[RoleDossier]]=\"Responsable\",Collaborateur_Dossier[[#This Row],[Defaut]]),1,Collaborateur_Dossier[[#This Row],[PourcentageFacturation]]/100)","v":0},{"$f":"_xlfn.CONCAT(Collaborateur_Dossier[[#This Row],[DossierCode]],\"|\",Collaborateur_Dossier[[#This Row],[RoleDossier]])","v":"|"},{"$f":"VLOOKUP(Collaborateur_Dossier[[#This Row],[DossierId]],Honoraire[[DossierId]:[Rappel Client ID]],44,FALSE)","v":{"$error":"#N/A"}},{"$f":"Collaborateur_Dossier[[#This Row],[CollaborateurId]]","v":0},{"$f":"Collaborateur_Dossier[[#This Row],[Trigramme]]","v":0},{"$f":"IF(AND(Collaborateur_Dossier[[#This Row],[RoleDossier]]=\"Responsable\",Collaborateur_Dossier[[#This Row],[Defaut]]),Collaborateur_Dossier[[#This Row],[DossierCode]],\"\")","v":""},{"$f":"IF(Collaborateur_Dossier[[#This Row],[Collaborateur dossier]]<>\"\",Collaborateur_Dossier[[#This Row],[Trigramme]],\"\")","v":""}]
[null,null,null,null,null,null,null,null,null,null,null,null,null,null,null,null,null,null,{"$f":"IF(AND(SUMIFS(Collaborateur_Dossier[PourcentageFacturation],Collaborateur_Dossier[DossierId],Collaborateur_Dossier[[#This Row],[DossierId]])=0,Collaborateur_Dossier[[#This Row],[RoleDossier]]=\"Responsable\",Collaborateur_Dossier[[#This Row],[Defaut]]),1,Collaborateur_Dossier[[#This Row],[PourcentageFacturation]]/100)","v":0},{"$f":"_xlfn.CONCAT(Collaborateur_Dossier[[#This Row],[DossierCode]],\"|\",Collaborateur_Dossier[[#This Row],[RoleDossier]])","v":"|"},{"$f":"VLOOKUP(Collaborateur_Dossier[[#This Row],[DossierId]],Honoraire[[DossierId]:[Rappel Client ID]],44,FALSE)","v":{"$error":"#N/A"}},{"$f":"Collaborateur_Dossier[[#This Row],[CollaborateurId]]","v":0},{"$f":"Collaborateur_Dossier[[#This Row],[Trigramme]]","v":0},{"$f":"IF(AND(Collaborateur_Dossier[[#This Row],[RoleDossier]]=\"Responsable\",Collaborateur_Dossier[[#This Row],[Defaut]]),Collaborateur_Dossier[[#This Row],[DossierCode]],\"\")","v":""},{"$f":"IF(Collaborateur_Dossier[[#This Row],[Collaborateur dossier]]<>\"\",Collaborateur_Dossier[[#This Row],[Trigramme]],\"\")","v":""}]
[null,null,null,null,null,null,null,null,null,null,null,null,null,null,null,null,null,null,{"$f":"IF(AND(SUMIFS(Collaborateur_Dossier[PourcentageFacturation],Collaborateur_Dossier[DossierId],Collaborateur_Dossier[[#This Row],[DossierId]])=0,Collaborateur_Dossier[[#This Row],[RoleDossier]]=\"Responsable\",Collaborateur_Dossier[[#This Row],[Defaut]]),1,Collaborateur_Dossier[[#This Row],[PourcentageFacturation]]/100)","v":0},{"$f":"_xlfn.CONCAT(Collaborateur_Dossier[[#This Row],[DossierCode]],\"|\",Collaborateur_Dossier[[#This Row],[RoleDossier]])","v":"|"},{"$f":"VLOOKUP(Collaborateur_Dossier[[#This Row],[DossierId]],Honoraire[[DossierId]:[Rappel Client ID]],44,FALSE)","v":{"$error":"#N/A"}},{"$f":"Collaborateur_Dossier[[#This Row],[CollaborateurId]]","v":0},{"$f":"Collaborateur_Dossier[[#This Row],[Trigramme]]","v":0},{"$f":"IF(AND(Collaborateur_Dossier[[#This Row],[RoleDossier]]=\"Responsable\",Collaborateur_Dossier[[#This Row],[Defaut]]),Collaborateur_Dossier[[#This Row],[DossierCode]],\"\")","v":""},{"$f":"IF(Collaborateur_Dossier[[#This Row],[Collaborateur dossier]]<>\"\",Collaborateur_Dossier[[#This Row],[Trigramme]],\"\")","v":""}]
[null,null,null,null,null,null,null,null,null,null,null,null,null,null,null,null,null,null,{"$f":"IF(AND(SUMIFS(Collaborateur_Dossier[PourcentageFacturation],Collaborateur_Dossier[DossierId],Collaborateur_Dossier[[#This Row],[DossierId]])=0,Collaborateur_Dossier[[#This Row],[RoleDossier]]=\"Responsable\",Collaborateur_Dossier[[#This Row],[Defaut]]),1,Collaborateur_Dossier[[#This Row],[PourcentageFacturation]]/100)","v":0},{"$f":"_xlfn.CONCAT(Collaborateur_Dossier[[#This Row],[DossierCode]],\"|\",Collaborateur_Dossier[[#This Row],[RoleDossier]])","v":"|"},{"$f":"VLOOKUP(Collaborateur_Dossier[[#This Row],[DossierId]],Honoraire[[DossierId]:[Rappel Client ID]],44,FALSE)","v":{"$error":"#N/A"}},{"$f":"Collaborateur_Dossier[[#This Row],[CollaborateurId]]","v":0},{"$f":"Collaborateur_Dossier[[#This Row],[Trigramme]]","v":0},{"$f":"IF(AND(Collaborateur_Dossier[[#This Row],[RoleDossier]]=\"Responsable\",Collaborateur_Dossier[[#This Row],[Defaut]]),Collaborateur_Dossier[[#This Row],[DossierCode]],\"\")","v":""},{"$f":"IF(Collaborateur_Dossier[[#This Row],[Collaborateur dossier]]<>\"\",Collaborateur_Dossier[[#This Row],[Trigramme]],\"\")","v":""}]
[null,null,null,null,null,null,null,null,null,null,null,null,null,null,null,null,null,null,{"$f":"IF(AND(SUMIFS(Collaborateur_Dossier[PourcentageFacturation],Collaborateur_Dossier[DossierId],Collaborateur_Dossier[[#This Row],[DossierId]])=0,Collaborateur_Dossier[[#This Row],[RoleDossier]]=\"Responsable\",Collaborateur_Dossier[[#This Row],[Defaut]]),1,Collaborateur_Dossier[[#This Row],[PourcentageFacturation]]/100)","v":0},{"$f":"_xlfn.CONCAT(Collaborateur_Dossier[[#This Row],[DossierCode]],\"|\",Collaborateur_Dossier[[#This Row],[RoleDossier]])","v":"|"},{"$f":"VLOOKUP(Collaborateur_Dossier[[#This Row],[DossierId]],Honoraire[[DossierId]:[Rappel Client ID]],44,FALSE)","v":{"$error":"#N/A"}},{"$f":"Collaborateur_Dossier[[#This Row],[CollaborateurId]]","v":0},{"$f":"Collaborateur_Dossier[[#This Row],[Trigramme]]","v":0},{"$f":"IF(AND(Collaborateur_Dossier[[#This Row],[RoleDossier]]=\"Responsable\",Collaborateur_Dossier[[#This Row],[Defaut]]),Collaborateur_Dossier[[#This Row],[DossierCode]],\"\")","v":""},{"$f":"IF(Collaborateur_Dossier[[#This Row],[Collaborateur dossier]]<>\"\",Collaborateur_Dossier[[#This Row],[Trigramme]],\"\")","v":""}]
[null,null,null,null,null,null,null,null,null,null,null,null,null,null,null,null,null,null,{"$f":"IF(AND(SUMIFS(Collaborateur_Dossier[PourcentageFacturation],Collaborateur_Dossier[DossierId],Collaborateur_Dossier[[#This Row],[DossierId]])=0,Collaborateur_Dossier[[#This Row],[RoleDossier]]=\"Responsable\",Collaborateur_Dossier[[#This Row],[Defaut]]),1,Collaborateur_Dossier[[#This Row],[PourcentageFacturation]]/100)","v":0},{"$f":"_xlfn.CONCAT(Collaborateur_Dossier[[#This Row],[DossierCode]],\"|\",Collaborateur_Dossier[[#This Row],[RoleDossier]])","v":"|"},{"$f":"VLOOKUP(Collaborateur_Dossier[[#This Row],[DossierId]],Honoraire[[DossierId]:[Rappel Client ID]],44,FALSE)","v":{"$error":"#N/A"}},{"$f":"Collaborateur_Dossier[[#This Row],[CollaborateurId]]","v":0},{"$f":"Collaborateur_Dossier[[#This Row],[Trigramme]]","v":0},{"$f":"IF(AND(Collaborateur_Dossier[[#This Row],[RoleDossier]]=\"Responsable\",Collaborateur_Dossier[[#This Row],[Defaut]]),Collaborateur_Dossier[[#This Row],[DossierCode]],\"\")","v":""},{"$f":"IF(Collaborateur_Dossier[[#This Row],[Collaborateur dossier]]<>\"\",Collaborateur_Dossier[[#This Row],[Trigramme]],\"\")","v":""}]
[null,null,null,null,null,null,null,null,null,null,null,null,null,null,null,null,null,null,{"$f":"IF(AND(SUMIFS(Collaborateur_Dossier[PourcentageFacturation],Collaborateur_Dossier[DossierId],Collaborateur_Dossier[[#This Row],[DossierId]])=0,Collaborateur_Dossier[[#This Row],[RoleDossier]]=\"Responsable\",Collaborateur_Dossier[[#This Row],[Defaut]]),1,Collaborateur_Dossier[[#This Row],[PourcentageFacturation]]/100)","v":0},{"$f":"_xlfn.CONCAT(Collaborateur_Dossier[[#This Row],[DossierCode]],\"|\",Collaborateur_Dossier[[#This Row],[RoleDossier]])","v":"|"},{"$f":"VLOOKUP(Collaborateur_Dossier[[#This Row],[DossierId]],Honoraire[[DossierId]:[Rappel Client ID]],44,FALSE)","v":{"$error":"#N/A"}},{"$f":"Collaborateur_Dossier[[#This Row],[CollaborateurId]]","v":0},{"$f":"Collaborateur_Dossier[[#This Row],[Trigramme]]","v":0},{"$f":"IF(AND(Collaborateur_Dossier[[#This Row],[RoleDossier]]=\"Responsable\",Collaborateur_Dossier[[#This Row],[Defaut]]),Collaborateur_Dossier[[#This Row],[DossierCode]],\"\")","v":""},{"$f":"IF(Collaborateur_Dossier[[#This Row],[Collaborateur dossier]]<>\"\",Collaborateur_Dossier[[#This Row],[Trigramme]],\"\")","v":""}]
[null,null,null,null,null,null,null,null,null,null,null,null,null,null,null,null,null,null,{"$f":"IF(AND(SUMIFS(Collaborateur_Dossier[PourcentageFacturation],Collaborateur_Dossier[DossierId],Collaborateur_Dossier[[#This Row],[DossierId]])=0,Collaborateur_Dossier[[#This Row],[RoleDossier]]=\"Responsable\",Collaborateur_Dossier[[#This Row],[Defaut]]),1,Collaborateur_Dossier[[#This Row],[PourcentageFacturation]]/100)","v":0},{"$f":"_xlfn.CONCAT(Collaborateur_Dossier[[#This Row],[DossierCode]],\"|\",Collaborateur_Dossier[[#This Row],[RoleDossier]])","v":"|"},{"$f":"VLOOKUP(Collaborateur_Dossier[[#This Row],[DossierId]],Honoraire[[DossierId]:[Rappel Client ID]],44,FALSE)","v":{"$error":"#N/A"}},{"$f":"Collaborateur_Dossier[[#This Row],[CollaborateurId]]","v":0},{"$f":"Collaborateur_Dossier[[#This Row],[Trigramme]]","v":0},{"$f":"IF(AND(Collaborateur_Dossier[[#This Row],[RoleDossier]]=\"Responsable\",Collaborateur_Dossier[[#This Row],[Defaut]]),Collaborateur_Dossier[[#This Row],[DossierCode]],\"\")","v":""},{"$f":"IF(Collaborateur_Dossier[[#This Row],[Collaborateur dossier]]<>\"\",Collaborateur_Dossier[[#This Row],[Trigramme]],\"\")","v":""}]
[null,null,null,null,null,null,null,null,null,null,null,null,null,null,null,null,null,null,{"$f":"IF(AND(SUMIFS(Collaborateur_Dossier[PourcentageFacturation],Collaborateur_Dossier[DossierId],Collaborateur_Dossier[[#This Row],[DossierId]])=0,Collaborateur_Dossier[[#This Row],[RoleDossier]]=\"Responsable\",Collaborateur_Dossier[[#This Row],[Defaut]]),1,Collaborateur_Dossier[[#This Row],[PourcentageFacturation]]/100)","v":0},{"$f":"_xlfn.CONCAT(Collaborateur_Dossier[[#This Row],[DossierCode]],\"|\",Collaborateur_Dossier[[#This Row],[RoleDossier]])","v":"|"},{"$f":"VLOOKUP(Collaborateur_Dossier[[#This Row],[DossierId]],Honoraire[[DossierId]:[Rappel Client ID]],44,FALSE)","v":{"$error":"#N/A"}},{"$f":"Collaborateur_Dossier[[#This Row],[CollaborateurId]]","v":0},{"$f":"Collaborateur_Dossier[[#This Row],[Trigramme]]","v":0},{"$f":"IF(AND(Collaborateur_Dossier[[#This Row],[RoleDossier]]=\"Responsable\",Collaborateur_Dossier[[#This Row],[Defaut]]),Collaborateur_Dossier[[#This Row],[DossierCode]],\"\")","v":""},{"$f":"IF(Collaborateur_Dossier[[#This Row],[Collaborateur dossier]]<>\"\",Collaborateur_Dossier[[#This Row],[Trigramme]],\"\")","v":""}]
[null,null,null,null,null,null,null,null,null,null,null,null,null,null,null,null,null,null,{"$f":"IF(AND(SUMIFS(Collaborateur_Dossier[PourcentageFacturation],Collaborateur_Dossier[DossierId],Collaborateur_Dossier[[#This Row],[DossierId]])=0,Collaborateur_Dossier[[#This Row],[RoleDossier]]=\"Responsable\",Collaborateur_Dossier[[#This Row],[Defaut]]),1,Collaborateur_Dossier[[#This Row],[PourcentageFacturation]]/100)","v":0},{"$f":"_xlfn.CONCAT(Collaborateur_Dossier[[#This Row],[DossierCode]],\"|\",Collaborateur_Dossier[[#This Row],[RoleDossier]])","v":"|"},{"$f":"VLOOKUP(Collaborateur_Dossier[[#This Row],[DossierId]],Honoraire[[DossierId]:[Rappel Client ID]],44,FALSE)","v":{"$error":"#N/A"}},{"$f":"Collaborateur_Dossier[[#This Row],[CollaborateurId]]","v":0},{"$f":"Collaborateur_Dossier[[#This Row],[Trigramme]]","v":0},{"$f":"IF(AND(Collaborateur_Dossier[[#This Row],[RoleDossier]]=\"Responsable\",Collaborateur_Dossier[[#This Row],[Defaut]]),Collaborateur_Dossier[[#This Row],[DossierCode]],\"\")","v":""},{"$f":"IF(Collaborateur_Dossier[[#This Row],[Collaborateur dossier]]<>\"\",Collaborateur_Dossier[[#This Row],[Trigramme]],\"\")","v":""}]
[null,null,null,null,null,null,null,null,null,null,null,null,null,null,null,null,null,null,{"$f":"IF(AND(SUMIFS(Collaborateur_Dossier[PourcentageFacturation],Collaborateur_Dossier[DossierId],Collaborateur_Dossier[[#This Row],[DossierId]])=0,Collaborateur_Dossier[[#This Row],[RoleDossier]]=\"Responsable\",Collaborateur_Dossier[[#This Row],[Defaut]]),1,Collaborateur_Dossier[[#This Row],[PourcentageFacturation]]/100)","v":0},{"$f":"_xlfn.CONCAT(Collaborateur_Dossier[[#This Row],[DossierCode]],\"|\",Collaborateur_Dossier[[#This Row],[RoleDossier]])","v":"|"},{"$f":"VLOOKUP(Collaborateur_Dossier[[#This Row],[DossierId]],Honoraire[[DossierId]:[Rappel Client ID]],44,FALSE)","v":{"$error":"#N/A"}},{"$f":"Collaborateur_Dossier[[#This Row],[CollaborateurId]]","v":0},{"$f":"Collaborateur_Dossier[[#This Row],[Trigramme]]","v":0},{"$f":"IF(AND(Collaborateur_Dossier[[#This Row],[RoleDossier]]=\"Responsable\",Collaborateur_Dossier[[#This Row],[Defaut]]),Collaborateur_Dossier[[#This Row],[DossierCode]],\"\")","v":""},{"$f":"IF(Collaborateur_Dossier[[#This Row],[Collaborateur dossier]]<>\"\",Collaborateur_Dossier[[#This Row],[Trigramme]],\"\")","v":""}]
[null,null,null,null,null,null,null,null,null,null,null,null,null,null,null,null,null,null,{"$f":"IF(AND(SUMIFS(Collaborateur_Dossier[PourcentageFacturation],Collaborateur_Dossier[DossierId],Collaborateur_Dossier[[#This Row],[DossierId]])=0,Collaborateur_Dossier[[#This Row],[RoleDossier]]=\"Responsable\",Collaborateur_Dossier[[#This Row],[Defaut]]),1,Collaborateur_Dossier[[#This Row],[PourcentageFacturation]]/100)","v":0},{"$f":"_xlfn.CONCAT(Collaborateur_Dossier[[#This Row],[DossierCode]],\"|\",Collaborateur_Dossier[[#This Row],[RoleDossier]])","v":"|"},{"$f":"VLOOKUP(Collaborateur_Dossier[[#This Row],[DossierId]],Honoraire[[DossierId]:[Rappel Client ID]],44,FALSE)","v":{"$error":"#N/A"}},{"$f":"Collaborateur_Dossier[[#This Row],[CollaborateurId]]","v":0},{"$f":"Collaborateur_Dossier[[#This Row],[Trigramme]]","v":0},{"$f":"IF(AND(Collaborateur_Dossier[[#This Row],[RoleDossier]]=\"Responsable\",Collaborateur_Dossier[[#This Row],[Defaut]]),Collaborateur_Dossier[[#This Row],[DossierCode]],\"\")","v":""},{"$f":"IF(Collaborateur_Dossier[[#This Row],[Collaborateur dossier]]<>\"\",Collaborateur_Dossier[[#This Row],[Trigramme]],\"\")","v":""}]
[null,null,null,null,null,null,null,null,null,null,null,null,null,null,null,null,null,null,{"$f":"IF(AND(SUMIFS(Collaborateur_Dossier[PourcentageFacturation],Collaborateur_Dossier[DossierId],Collaborateur_Dossier[[#This Row],[DossierId]])=0,Collaborateur_Dossier[[#This Row],[RoleDossier]]=\"Responsable\",Collaborateur_Dossier[[#This Row],[Defaut]]),1,Collaborateur_Dossier[[#This Row],[PourcentageFacturation]]/100)","v":0},{"$f":"_xlfn.CONCAT(Collaborateur_Dossier[[#This Row],[DossierCode]],\"|\",Collaborateur_Dossier[[#This Row],[RoleDossier]])","v":"|"},{"$f":"VLOOKUP(Collaborateur_Dossier[[#This Row],[DossierId]],Honoraire[[DossierId]:[Rappel Client ID]],44,FALSE)","v":{"$error":"#N/A"}},{"$f":"Collaborateur_Dossier[[#This Row],[CollaborateurId]]","v":0},{"$f":"Collaborateur_Dossier[[#This Row],[Trigramme]]","v":0},{"$f":"IF(AND(Collaborateur_Dossier[[#This Row],[RoleDossier]]=\"Responsable\",Collaborateur_Dossier[[#This Row],[Defaut]]),Collaborateur_Dossier[[#This Row],[DossierCode]],\"\")","v":""},{"$f":"IF(Collaborateur_Dossier[[#This Row],[Collaborateur dossier]]<>\"\",Collaborateur_Dossier[[#This Row],[Trigramme]],\"\")","v":""}]
[null,null,null,null,null,null,null,null,null,null,null,null,null,null,null,null,null,null,{"$f":"IF(AND(SUMIFS(Collaborateur_Dossier[PourcentageFacturation],Collaborateur_Dossier[DossierId],Collaborateur_Dossier[[#This Row],[DossierId]])=0,Collaborateur_Dossier[[#This Row],[RoleDossier]]=\"Responsable\",Collaborateur_Dossier[[#This Row],[Defaut]]),1,Collaborateur_Dossier[[#This Row],[PourcentageFacturation]]/100)","v":0},{"$f":"_xlfn.CONCAT(Collaborateur_Dossier[[#This Row],[DossierCode]],\"|\",Collaborateur_Dossier[[#This Row],[RoleDossier]])","v":"|"},{"$f":"VLOOKUP(Collaborateur_Dossier[[#This Row],[DossierId]],Honoraire[[DossierId]:[Rappel Client ID]],44,FALSE)","v":{"$error":"#N/A"}},{"$f":"Collaborateur_Dossier[[#This Row],[CollaborateurId]]","v":0},{"$f":"Collaborateur_Dossier[[#This Row],[Trigramme]]","v":0},{"$f":"IF(AND(Collaborateur_Dossier[[#This Row],[RoleDossier]]=\"Responsable\",Collaborateur_Dossier[[#This Row],[Defaut]]),Collaborateur_Dossier[[#This Row],[DossierCode]],\"\")","v":""},{"$f":"IF(Collaborateur_Dossier[[#This Row],[Collaborateur dossier]]<>\"\",Collaborateur_Dossier[[#This Row],[Trigramme]],\"\")","v":""}]
[null,null,null,null,null,null,null,null,null,null,null,null,null,null,null,null,null,null,{"$f":"IF(AND(SUMIFS(Collaborateur_Dossier[PourcentageFacturation],Collaborateur_Dossier[DossierId],Collaborateur_Dossier[[#This Row],[DossierId]])=0,Collaborateur_Dossier[[#This Row],[RoleDossier]]=\"Responsable\",Collaborateur_Dossier[[#This Row],[Defaut]]),1,Collaborateur_Dossier[[#This Row],[PourcentageFacturation]]/100)","v":0},{"$f":"_xlfn.CONCAT(Collaborateur_Dossier[[#This Row],[DossierCode]],\"|\",Collaborateur_Dossier[[#This Row],[RoleDossier]])","v":"|"},{"$f":"VLOOKUP(Collaborateur_Dossier[[#This Row],[DossierId]],Honoraire[[DossierId]:[Rappel Client ID]],44,FALSE)","v":{"$error":"#N/A"}},{"$f":"Collaborateur_Dossier[[#This Row],[CollaborateurId]]","v":0},{"$f":"Collaborateur_Dossier[[#This Row],[Trigramme]]","v":0},{"$f":"IF(AND(Collaborateur_Dossier[[#This Row],[RoleDossier]]=\"Responsable\",Collaborateur_Dossier[[#This Row],[Defaut]]),Collaborateur_Dossier[[#This Row],[DossierCode]],\"\")","v":""},{"$f":"IF(Collaborateur_Dossier[[#This Row],[Collaborateur dossier]]<>\"\",Collaborateur_Dossier[[#This Row],[Trigramme]],\"\")","v":""}]
[null,null,null,null,null,null,null,null,null,null,null,null,null,null,null,null,null,null,{"$f":"IF(AND(SUMIFS(Collaborateur_Dossier[PourcentageFacturation],Collaborateur_Dossier[DossierId],Collaborateur_Dossier[[#This Row],[DossierId]])=0,Collaborateur_Dossier[[#This Row],[RoleDossier]]=\"Responsable\",Collaborateur_Dossier[[#This Row],[Defaut]]),1,Collaborateur_Dossier[[#This Row],[PourcentageFacturation]]/100)","v":0},{"$f":"_xlfn.CONCAT(Collaborateur_Dossier[[#This Row],[DossierCode]],\"|\",Collaborateur_Dossier[[#This Row],[RoleDossier]])","v":"|"},{"$f":"VLOOKUP(Collaborateur_Dossier[[#This Row],[DossierId]],Honoraire[[DossierId]:[Rappel Client ID]],44,FALSE)","v":{"$error":"#N/A"}},{"$f":"Collaborateur_Dossier[[#This Row],[CollaborateurId]]","v":0},{"$f":"Collaborateur_Dossier[[#This Row],[Trigramme]]","v":0},{"$f":"IF(AND(Collaborateur_Dossier[[#This Row],[RoleDossier]]=\"Responsable\",Collaborateur_Dossier[[#This Row],[Defaut]]),Collaborateur_Dossier[[#This Row],[DossierCode]],\"\")","v":""},{"$f":"IF(Collaborateur_Dossier[[#This Row],[Collaborateur dossier]]<>\"\",Collaborateur_Dossier[[#This Row],[Trigramme]],\"\")","v":""}]
[null,null,null,null,null,null,null,null,null,null,null,null,null,null,null,null,null,null,{"$f":"IF(AND(SUMIFS(Collaborateur_Dossier[PourcentageFacturation],Collaborateur_Dossier[DossierId],Collaborateur_Dossier[[#This Row],[DossierId]])=0,Collaborateur_Dossier[[#This Row],[RoleDossier]]=\"Responsable\",Collaborateur_Dossier[[#This Row],[Defaut]]),1,Collaborateur_Dossier[[#This Row],[PourcentageFacturation]]/100)","v":0},{"$f":"_xlfn.CONCAT(Collaborateur_Dossier[[#This Row],[DossierCode]],\"|\",Collaborateur_Dossier[[#This Row],[RoleDossier]])","v":"|"},{"$f":"VLOOKUP(Collaborateur_Dossier[[#This Row],[DossierId]],Honoraire[[DossierId]:[Rappel Client ID]],44,FALSE)","v":{"$error":"#N/A"}},{"$f":"Collaborateur_Dossier[[#This Row],[CollaborateurId]]","v":0},{"$f":"Collaborateur_Dossier[[#This Row],[Trigramme]]","v":0},{"$f":"IF(AND(Collaborateur_Dossier[[#This Row],[RoleDossier]]=\"Responsable\",Collaborateur_Dossier[[#This Row],[Defaut]]),Collaborateur_Dossier[[#This Row],[DossierCode]],\"\")","v":""},{"$f":"IF(Collaborateur_Dossier[[#This Row],[Collaborateur dossier]]<>\"\",Collaborateur_Dossier[[#This Row],[Trigramme]],\"\")","v":""}]
[null,null,null,null,null,null,null,null,null,null,null,null,null,null,null,null,null,null,{"$f":"IF(AND(SUMIFS(Collaborateur_Dossier[PourcentageFacturation],Collaborateur_Dossier[DossierId],Collaborateur_Dossier[[#This Row],[DossierId]])=0,Collaborateur_Dossier[[#This Row],[RoleDossier]]=\"Responsable\",Collaborateur_Dossier[[#This Row],[Defaut]]),1,Collaborateur_Dossier[[#This Row],[PourcentageFacturation]]/100)","v":0},{"$f":"_xlfn.CONCAT(Collaborateur_Dossier[[#This Row],[DossierCode]],\"|\",Collaborateur_Dossier[[#This Row],[RoleDossier]])","v":"|"},{"$f":"VLOOKUP(Collaborateur_Dossier[[#This Row],[DossierId]],Honoraire[[DossierId]:[Rappel Client ID]],44,FALSE)","v":{"$error":"#N/A"}},{"$f":"Collaborateur_Dossier[[#This Row],[CollaborateurId]]","v":0},{"$f":"Collaborateur_Dossier[[#This Row],[Trigramme]]","v":0},{"$f":"IF(AND(Collaborateur_Dossier[[#This Row],[RoleDossier]]=\"Responsable\",Collaborateur_Dossier[[#This Row],[Defaut]]),Collaborateur_Dossier[[#This Row],[DossierCode]],\"\")","v":""},{"$f":"IF(Collaborateur_Dossier[[#This Row],[Collaborateur dossier]]<>\"\",Collaborateur_Dossier[[#This Row],[Trigramme]],\"\")","v":""}]
[null,null,null,null,null,null,null,null,null,null,null,null,null,null,null,null,null,null,{"$f":"IF(AND(SUMIFS(Collaborateur_Dossier[PourcentageFacturation],Collaborateur_Dossier[DossierId],Collaborateur_Dossier[[#This Row],[DossierId]])=0,Collaborateur_Dossier[[#This Row],[RoleDossier]]=\"Responsable\",Collaborateur_Dossier[[#This Row],[Defaut]]),1,Collaborateur_Dossier[[#This Row],[PourcentageFacturation]]/100)","v":0},{"$f":"_xlfn.CONCAT(Collaborateur_Dossier[[#This Row],[DossierCode]],\"|\",Collaborateur_Dossier[[#This Row],[RoleDossier]])","v":"|"},{"$f":"VLOOKUP(Collaborateur_Dossier[[#This Row],[DossierId]],Honoraire[[DossierId]:[Rappel Client ID]],44,FALSE)","v":{"$error":"#N/A"}},{"$f":"Collaborateur_Dossier[[#This Row],[CollaborateurId]]","v":0},{"$f":"Collaborateur_Dossier[[#This Row],[Trigramme]]","v":0},{"$f":"IF(AND(Collaborateur_Dossier[[#This Row],[RoleDossier]]=\"Responsable\",Collaborateur_Dossier[[#This Row],[Defaut]]),Collaborateur_Dossier[[#This Row],[DossierCode]],\"\")","v":""},{"$f":"IF(Collaborateur_Dossier[[#This Row],[Collaborateur dossier]]<>\"\",Collaborateur_Dossier[[#This Row],[Trigramme]],\"\")","v":""}]
[null,null,null,null,null,null,null,null,null,null,null,null,null,null,null,null,null,null,{"$f":"IF(AND(SUMIFS(Collaborateur_Dossier[PourcentageFacturation],Collaborateur_Dossier[DossierId],Collaborateur_Dossier[[#This Row],[DossierId]])=0,Collaborateur_Dossier[[#This Row],[RoleDossier]]=\"Responsable\",Collaborateur_Dossier[[#This Row],[Defaut]]),1,Collaborateur_Dossier[[#This Row],[PourcentageFacturation]]/100)","v":0},{"$f":"_xlfn.CONCAT(Collaborateur_Dossier[[#This Row],[DossierCode]],\"|\",Collaborateur_Dossier[[#This Row],[RoleDossier]])","v":"|"},{"$f":"VLOOKUP(Collaborateur_Dossier[[#This Row],[DossierId]],Honoraire[[DossierId]:[Rappel Client ID]],44,FALSE)","v":{"$error":"#N/A"}},{"$f":"Collaborateur_Dossier[[#This Row],[CollaborateurId]]","v":0},{"$f":"Collaborateur_Dossier[[#This Row],[Trigramme]]","v":0},{"$f":"IF(AND(Collaborateur_Dossier[[#This Row],[RoleDossier]]=\"Responsable\",Collaborateur_Dossier[[#This Row],[Defaut]]),Collaborateur_Dossier[[#This Row],[DossierCode]],\"\")","v":""},{"$f":"IF(Collaborateur_Dossier[[#This Row],[Collaborateur dossier]]<>\"\",Collaborateur_Dossier[[#This Row],[Trigramme]],\"\")","v":""}]
[null,null,null,null,null,null,null,null,null,null,null,null,null,null,null,null,null,null,{"$f":"IF(AND(SUMIFS(Collaborateur_Dossier[PourcentageFacturation],Collaborateur_Dossier[DossierId],Collaborateur_Dossier[[#This Row],[DossierId]])=0,Collaborateur_Dossier[[#This Row],[RoleDossier]]=\"Responsable\",Collaborateur_Dossier[[#This Row],[Defaut]]),1,Collaborateur_Dossier[[#This Row],[PourcentageFacturation]]/100)","v":0},{"$f":"_xlfn.CONCAT(Collaborateur_Dossier[[#This Row],[DossierCode]],\"|\",Collaborateur_Dossier[[#This Row],[RoleDossier]])","v":"|"},{"$f":"VLOOKUP(Collaborateur_Dossier[[#This Row],[DossierId]],Honoraire[[DossierId]:[Rappel Client ID]],44,FALSE)","v":{"$error":"#N/A"}},{"$f":"Collaborateur_Dossier[[#This Row],[CollaborateurId]]","v":0},{"$f":"Collaborateur_Dossier[[#This Row],[Trigramme]]","v":0},{"$f":"IF(AND(Collaborateur_Dossier[[#This Row],[RoleDossier]]=\"Responsable\",Collaborateur_Dossier[[#This Row],[Defaut]]),Collaborateur_Dossier[[#This Row],[DossierCode]],\"\")","v":""},{"$f":"IF(Collaborateur_Dossier[[#This Row],[Collaborateur dossier]]<>\"\",Collaborateur_Dossier[[#This Row],[Trigramme]],\"\")","v":""}]
[null,null,null,null,null,null,null,null,null,null,null,null,null,null,null,null,null,null,{"$f":"IF(AND(SUMIFS(Collaborateur_Dossier[PourcentageFacturation],Collaborateur_Dossier[DossierId],Collaborateur_Dossier[[#This Row],[DossierId]])=0,Collaborateur_Dossier[[#This Row],[RoleDossier]]=\"Responsable\",Collaborateur_Dossier[[#This Row],[Defaut]]),1,Collaborateur_Dossier[[#This Row],[PourcentageFacturation]]/100)","v":0},{"$f":"_xlfn.CONCAT(Collaborateur_Dossier[[#This Row],[DossierCode]],\"|\",Collaborateur_Dossier[[#This Row],[RoleDossier]])","v":"|"},{"$f":"VLOOKUP(Collaborateur_Dossier[[#This Row],[DossierId]],Honoraire[[DossierId]:[Rappel Client ID]],44,FALSE)","v":{"$error":"#N/A"}},{"$f":"Collaborateur_Dossier[[#This Row],[CollaborateurId]]","v":0},{"$f":"Collaborateur_Dossier[[#This Row],[Trigramme]]","v":0},{"$f":"IF(AND(Collaborateur_Dossier[[#This Row],[RoleDossier]]=\"Responsable\",Collaborateur_Dossier[[#This Row],[Defaut]]),Collaborateur_Dossier[[#This Row],[DossierCode]],\"\")","v":""},{"$f":"IF(Collaborateur_Dossier[[#This Row],[Collaborateur dossier]]<>\"\",Collaborateur_Dossier[[#This Row],[Trigramme]],\"\")","v":""}]
[null,null,null,null,null,null,null,null,null,null,null,null,null,null,null,null,null,null,{"$f":"IF(AND(SUMIFS(Collaborateur_Dossier[PourcentageFacturation],Collaborateur_Dossier[DossierId],Collaborateur_Dossier[[#This Row],[DossierId]])=0,Collaborateur_Dossier[[#This Row],[RoleDossier]]=\"Responsable\",Collaborateur_Dossier[[#This Row],[Defaut]]),1,Collaborateur_Dossier[[#This Row],[PourcentageFacturation]]/100)","v":0},{"$f":"_xlfn.CONCAT(Collaborateur_Dossier[[#This Row],[DossierCode]],\"|\",Collaborateur_Dossier[[#This Row],[RoleDossier]])","v":"|"},{"$f":"VLOOKUP(Collaborateur_Dossier[[#This Row],[DossierId]],Honoraire[[DossierId]:[Rappel Client ID]],44,FALSE)","v":{"$error":"#N/A"}},{"$f":"Collaborateur_Dossier[[#This Row],[CollaborateurId]]","v":0},{"$f":"Collaborateur_Dossier[[#This Row],[Trigramme]]","v":0},{"$f":"IF(AND(Collaborateur_Dossier[[#This Row],[RoleDossier]]=\"Responsable\",Collaborateur_Dossier[[#This Row],[Defaut]]),Collaborateur_Dossier[[#This Row],[DossierCode]],\"\")","v":""},{"$f":"IF(Collaborateur_Dossier[[#This Row],[Collaborateur dossier]]<>\"\",Collaborateur_Dossier[[#This Row],[Trigramme]],\"\")","v":""}]
[null,null,null,null,null,null,null,null,null,null,null,null,null,null,null,null,null,null,{"$f":"IF(AND(SUMIFS(Collaborateur_Dossier[PourcentageFacturation],Collaborateur_Dossier[DossierId],Collaborateur_Dossier[[#This Row],[DossierId]])=0,Collaborateur_Dossier[[#This Row],[RoleDossier]]=\"Responsable\",Collaborateur_Dossier[[#This Row],[Defaut]]),1,Collaborateur_Dossier[[#This Row],[PourcentageFacturation]]/100)","v":0},{"$f":"_xlfn.CONCAT(Collaborateur_Dossier[[#This Row],[DossierCode]],\"|\",Collaborateur_Dossier[[#This Row],[RoleDossier]])","v":"|"},{"$f":"VLOOKUP(Collaborateur_Dossier[[#This Row],[DossierId]],Honoraire[[DossierId]:[Rappel Client ID]],44,FALSE)","v":{"$error":"#N/A"}},{"$f":"Collaborateur_Dossier[[#This Row],[CollaborateurId]]","v":0},{"$f":"Collaborateur_Dossier[[#This Row],[Trigramme]]","v":0},{"$f":"IF(AND(Collaborateur_Dossier[[#This Row],[RoleDossier]]=\"Responsable\",Collaborateur_Dossier[[#This Row],[Defaut]]),Collaborateur_Dossier[[#This Row],[DossierCode]],\"\")","v":""},{"$f":"IF(Collaborateur_Dossier[[#This Row],[Collaborateur dossier]]<>\"\",Collaborateur_Dossier[[#This Row],[Trigramme]],\"\")","v":""}]
[null,null,null,null,null,null,null,null,null,null,null,null,null,null,null,null,null,null,{"$f":"IF(AND(SUMIFS(Collaborateur_Dossier[PourcentageFacturation],Collaborateur_Dossier[DossierId],Collaborateur_Dossier[[#This Row],[DossierId]])=0,Collaborateur_Dossier[[#This Row],[RoleDossier]]=\"Responsable\",Collaborateur_Dossier[[#This Row],[Defaut]]),1,Collaborateur_Dossier[[#This Row],[PourcentageFacturation]]/100)","v":0},{"$f":"_xlfn.CONCAT(Collaborateur_Dossier[[#This Row],[DossierCode]],\"|\",Collaborateur_Dossier[[#This Row],[RoleDossier]])","v":"|"},{"$f":"VLOOKUP(Collaborateur_Dossier[[#This Row],[DossierId]],Honoraire[[DossierId]:[Rappel Client ID]],44,FALSE)","v":{"$error":"#N/A"}},{"$f":"Collaborateur_Dossier[[#This Row],[CollaborateurId]]","v":0},{"$f":"Collaborateur_Dossier[[#This Row],[Trigramme]]","v":0},{"$f":"IF(AND(Collaborateur_Dossier[[#This Row],[RoleDossier]]=\"Responsable\",Collaborateur_Dossier[[#This Row],[Defaut]]),Collaborateur_Dossier[[#This Row],[DossierCode]],\"\")","v":""},{"$f":"IF(Collaborateur_Dossier[[#This Row],[Collaborateur dossier]]<>\"\",Collaborateur_Dossier[[#This Row],[Trigramme]],\"\")","v":""}]
[null,null,null,null,null,null,null,null,null,null,null,null,null,null,null,null,null,null,{"$f":"IF(AND(SUMIFS(Collaborateur_Dossier[PourcentageFacturation],Collaborateur_Dossier[DossierId],Collaborateur_Dossier[[#This Row],[DossierId]])=0,Collaborateur_Dossier[[#This Row],[RoleDossier]]=\"Responsable\",Collaborateur_Dossier[[#This Row],[Defaut]]),1,Collaborateur_Dossier[[#This Row],[PourcentageFacturation]]/100)","v":0},{"$f":"_xlfn.CONCAT(Collaborateur_Dossier[[#This Row],[DossierCode]],\"|\",Collaborateur_Dossier[[#This Row],[RoleDossier]])","v":"|"},{"$f":"VLOOKUP(Collaborateur_Dossier[[#This Row],[DossierId]],Honoraire[[DossierId]:[Rappel Client ID]],44,FALSE)","v":{"$error":"#N/A"}},{"$f":"Collaborateur_Dossier[[#This Row],[CollaborateurId]]","v":0},{"$f":"Collaborateur_Dossier[[#This Row],[Trigramme]]","v":0},{"$f":"IF(AND(Collaborateur_Dossier[[#This Row],[RoleDossier]]=\"Responsable\",Collaborateur_Dossier[[#This Row],[Defaut]]),Collaborateur_Dossier[[#This Row],[DossierCode]],\"\")","v":""},{"$f":"IF(Collaborateur_Dossier[[#This Row],[Collaborateur dossier]]<>\"\",Collaborateur_Dossier[[#This Row],[Trigramme]],\"\")","v":""}]
[null,null,null,null,null,null,null,null,null,null,null,null,null,null,null,null,null,null,{"$f":"IF(AND(SUMIFS(Collaborateur_Dossier[PourcentageFacturation],Collaborateur_Dossier[DossierId],Collaborateur_Dossier[[#This Row],[DossierId]])=0,Collaborateur_Dossier[[#This Row],[RoleDossier]]=\"Responsable\",Collaborateur_Dossier[[#This Row],[Defaut]]),1,Collaborateur_Dossier[[#This Row],[PourcentageFacturation]]/100)","v":0},{"$f":"_xlfn.CONCAT(Collaborateur_Dossier[[#This Row],[DossierCode]],\"|\",Collaborateur_Dossier[[#This Row],[RoleDossier]])","v":"|"},{"$f":"VLOOKUP(Collaborateur_Dossier[[#This Row],[DossierId]],Honoraire[[DossierId]:[Rappel Client ID]],44,FALSE)","v":{"$error":"#N/A"}},{"$f":"Collaborateur_Dossier[[#This Row],[CollaborateurId]]","v":0},{"$f":"Collaborateur_Dossier[[#This Row],[Trigramme]]","v":0},{"$f":"IF(AND(Collaborateur_Dossier[[#This Row],[RoleDossier]]=\"Responsable\",Collaborateur_Dossier[[#This Row],[Defaut]]),Collaborateur_Dossier[[#This Row],[DossierCode]],\"\")","v":""},{"$f":"IF(Collaborateur_Dossier[[#This Row],[Collaborateur dossier]]<>\"\",Collaborateur_Dossier[[#This Row],[Trigramme]],\"\")","v":""}]
[null,null,null,null,null,null,null,null,null,null,null,null,null,null,null,null,null,null,{"$f":"IF(AND(SUMIFS(Collaborateur_Dossier[PourcentageFacturation],Collaborateur_Dossier[DossierId],Collaborateur_Dossier[[#This Row],[DossierId]])=0,Collaborateur_Dossier[[#This Row],[RoleDossier]]=\"Responsable\",Collaborateur_Dossier[[#This Row],[Defaut]]),1,Collaborateur_Dossier[[#This Row],[PourcentageFacturation]]/100)","v":0},{"$f":"_xlfn.CONCAT(Collaborateur_Dossier[[#This Row],[DossierCode]],\"|\",Collaborateur_Dossier[[#This Row],[RoleDossier]])","v":"|"},{"$f":"VLOOKUP(Collaborateur_Dossier[[#This Row],[DossierId]],Honoraire[[DossierId]:[Rappel Client ID]],44,FALSE)","v":{"$error":"#N/A"}},{"$f":"Collaborateur_Dossier[[#This Row],[CollaborateurId]]","v":0},{"$f":"Collaborateur_Dossier[[#This Row],[Trigramme]]","v":0},{"$f":"IF(AND(Collaborateur_Dossier[[#This Row],[RoleDossier]]=\"Responsable\",Collaborateur_Dossier[[#This Row],[Defaut]]),Collaborateur_Dossier[[#This Row],[DossierCode]],\"\")","v":""},{"$f":"IF(Collaborateur_Dossier[[#This Row],[Collaborateur dossier]]<>\"\",Collaborateur_Dossier[[#This Row],[Trigramme]],\"\")","v":""}]
[null,null,null,null,null,null,null,null,null,null,null,null,null,null,null,null,null,null,{"$f":"IF(AND(SUMIFS(Collaborateur_Dossier[PourcentageFacturation],Collaborateur_Dossier[DossierId],Collaborateur_Dossier[[#This Row],[DossierId]])=0,Collaborateur_Dossier[[#This Row],[RoleDossier]]=\"Responsable\",Collaborateur_Dossier[[#This Row],[Defaut]]),1,Collaborateur_Dossier[[#This Row],[PourcentageFacturation]]/100)","v":0},{"$f":"_xlfn.CONCAT(Collaborateur_Dossier[[#This Row],[DossierCode]],\"|\",Collaborateur_Dossier[[#This Row],[RoleDossier]])","v":"|"},{"$f":"VLOOKUP(Collaborateur_Dossier[[#This Row],[DossierId]],Honoraire[[DossierId]:[Rappel Client ID]],44,FALSE)","v":{"$error":"#N/A"}},{"$f":"Collaborateur_Dossier[[#This Row],[CollaborateurId]]","v":0},{"$f":"Collaborateur_Dossier[[#This Row],[Trigramme]]","v":0},{"$f":"IF(AND(Collaborateur_Dossier[[#This Row],[RoleDossier]]=\"Responsable\",Collaborateur_Dossier[[#This Row],[Defaut]]),Collaborateur_Dossier[[#This Row],[DossierCode]],\"\")","v":""},{"$f":"IF(Collaborateur_Dossier[[#This Row],[Collaborateur dossier]]<>\"\",Collaborateur_Dossier[[#This Row],[Trigramme]],\"\")","v":""}]
[null,null,null,null,null,null,null,null,null,null,null,null,null,null,null,null,null,null,{"$f":"IF(AND(SUMIFS(Collaborateur_Dossier[PourcentageFacturation],Collaborateur_Dossier[DossierId],Collaborateur_Dossier[[#This Row],[DossierId]])=0,Collaborateur_Dossier[[#This Row],[RoleDossier]]=\"Responsable\",Collaborateur_Dossier[[#This Row],[Defaut]]),1,Collaborateur_Dossier[[#This Row],[PourcentageFacturation]]/100)","v":0},{"$f":"_xlfn.CONCAT(Collaborateur_Dossier[[#This Row],[DossierCode]],\"|\",Collaborateur_Dossier[[#This Row],[RoleDossier]])","v":"|"},{"$f":"VLOOKUP(Collaborateur_Dossier[[#This Row],[DossierId]],Honoraire[[DossierId]:[Rappel Client ID]],44,FALSE)","v":{"$error":"#N/A"}},{"$f":"Collaborateur_Dossier[[#This Row],[CollaborateurId]]","v":0},{"$f":"Collaborateur_Dossier[[#This Row],[Trigramme]]","v":0},{"$f":"IF(AND(Collaborateur_Dossier[[#This Row],[RoleDossier]]=\"Responsable\",Collaborateur_Dossier[[#This Row],[Defaut]]),Collaborateur_Dossier[[#This Row],[DossierCode]],\"\")","v":""},{"$f":"IF(Collaborateur_Dossier[[#This Row],[Collaborateur dossier]]<>\"\",Collaborateur_Dossier[[#This Row],[Trigramme]],\"\")","v":""}]
[null,null,null,null,null,null,null,null,null,null,null,null,null,null,null,null,null,null,{"$f":"IF(AND(SUMIFS(Collaborateur_Dossier[PourcentageFacturation],Collaborateur_Dossier[DossierId],Collaborateur_Dossier[[#This Row],[DossierId]])=0,Collaborateur_Dossier[[#This Row],[RoleDossier]]=\"Responsable\",Collaborateur_Dossier[[#This Row],[Defaut]]),1,Collaborateur_Dossier[[#This Row],[PourcentageFacturation]]/100)","v":0},{"$f":"_xlfn.CONCAT(Collaborateur_Dossier[[#This Row],[DossierCode]],\"|\",Collaborateur_Dossier[[#This Row],[RoleDossier]])","v":"|"},{"$f":"VLOOKUP(Collaborateur_Dossier[[#This Row],[DossierId]],Honoraire[[DossierId]:[Rappel Client ID]],44,FALSE)","v":{"$error":"#N/A"}},{"$f":"Collaborateur_Dossier[[#This Row],[CollaborateurId]]","v":0},{"$f":"Collaborateur_Dossier[[#This Row],[Trigramme]]","v":0},{"$f":"IF(AND(Collaborateur_Dossier[[#This Row],[RoleDossier]]=\"Responsable\",Collaborateur_Dossier[[#This Row],[Defaut]]),Collaborateur_Dossier[[#This Row],[DossierCode]],\"\")","v":""},{"$f":"IF(Collaborateur_Dossier[[#This Row],[Collaborateur dossier]]<>\"\",Collaborateur_Dossier[[#This Row],[Trigramme]],\"\")","v":""}]
[null,null,null,null,null,null,null,null,null,null,null,null,null,null,null,null,null,null,{"$f":"IF(AND(SUMIFS(Collaborateur_Dossier[PourcentageFacturation],Collaborateur_Dossier[DossierId],Collaborateur_Dossier[[#This Row],[DossierId]])=0,Collaborateur_Dossier[[#This Row],[RoleDossier]]=\"Responsable\",Collaborateur_Dossier[[#This Row],[Defaut]]),1,Collaborateur_Dossier[[#This Row],[PourcentageFacturation]]/100)","v":0},{"$f":"_xlfn.CONCAT(Collaborateur_Dossier[[#This Row],[DossierCode]],\"|\",Collaborateur_Dossier[[#This Row],[RoleDossier]])","v":"|"},{"$f":"VLOOKUP(Collaborateur_Dossier[[#This Row],[DossierId]],Honoraire[[DossierId]:[Rappel Client ID]],44,FALSE)","v":{"$error":"#N/A"}},{"$f":"Collaborateur_Dossier[[#This Row],[CollaborateurId]]","v":0},{"$f":"Collaborateur_Dossier[[#This Row],[Trigramme]]","v":0},{"$f":"IF(AND(Collaborateur_Dossier[[#This Row],[RoleDossier]]=\"Responsable\",Collaborateur_Dossier[[#This Row],[Defaut]]),Collaborateur_Dossier[[#This Row],[DossierCode]],\"\")","v":""},{"$f":"IF(Collaborateur_Dossier[[#This Row],[Collaborateur dossier]]<>\"\",Collaborateur_Dossier[[#This Row],[Trigramme]],\"\")","v":""}]
[null,null,null,null,null,null,null,null,null,null,null,null,null,null,null,null,null,null,{"$f":"IF(AND(SUMIFS(Collaborateur_Dossier[PourcentageFacturation],Collaborateur_Dossier[DossierId],Collaborateur_Dossier[[#This Row],[DossierId]])=0,Collaborateur_Dossier[[#This Row],[RoleDossier]]=\"Responsable\",Collaborateur_Dossier[[#This Row],[Defaut]]),1,Collaborateur_Dossier[[#This Row],[PourcentageFacturation]]/100)","v":0},{"$f":"_xlfn.CONCAT(Collaborateur_Dossier[[#This Row],[DossierCode]],\"|\",Collaborateur_Dossier[[#This Row],[RoleDossier]])","v":"|"},{"$f":"VLOOKUP(Collaborateur_Dossier[[#This Row],[DossierId]],Honoraire[[DossierId]:[Rappel Client ID]],44,FALSE)","v":{"$error":"#N/A"}},{"$f":"Collaborateur_Dossier[[#This Row],[CollaborateurId]]","v":0},{"$f":"Collaborateur_Dossier[[#This Row],[Trigramme]]","v":0},{"$f":"IF(AND(Collaborateur_Dossier[[#This Row],[RoleDossier]]=\"Responsable\",Collaborateur_Dossier[[#This Row],[Defaut]]),Collaborateur_Dossier[[#This Row],[DossierCode]],\"\")","v":""},{"$f":"IF(Collaborateur_Dossier[[#This Row],[Collaborateur dossier]]<>\"\",Collaborateur_Dossier[[#This Row],[Trigramme]],\"\")","v":""}]
[null,null,null,null,null,null,null,null,null,null,null,null,null,null,null,null,null,null,{"$f":"IF(AND(SUMIFS(Collaborateur_Dossier[PourcentageFacturation],Collaborateur_Dossier[DossierId],Collaborateur_Dossier[[#This Row],[DossierId]])=0,Collaborateur_Dossier[[#This Row],[RoleDossier]]=\"Responsable\",Collaborateur_Dossier[[#This Row],[Defaut]]),1,Collaborateur_Dossier[[#This Row],[PourcentageFacturation]]/100)","v":0},{"$f":"_xlfn.CONCAT(Collaborateur_Dossier[[#This Row],[DossierCode]],\"|\",Collaborateur_Dossier[[#This Row],[RoleDossier]])","v":"|"},{"$f":"VLOOKUP(Collaborateur_Dossier[[#This Row],[DossierId]],Honoraire[[DossierId]:[Rappel Client ID]],44,FALSE)","v":{"$error":"#N/A"}},{"$f":"Collaborateur_Dossier[[#This Row],[CollaborateurId]]","v":0},{"$f":"Collaborateur_Dossier[[#This Row],[Trigramme]]","v":0},{"$f":"IF(AND(Collaborateur_Dossier[[#This Row],[RoleDossier]]=\"Responsable\",Collaborateur_Dossier[[#This Row],[Defaut]]),Collaborateur_Dossier[[#This Row],[DossierCode]],\"\")","v":""},{"$f":"IF(Collaborateur_Dossier[[#This Row],[Collaborateur dossier]]<>\"\",Collaborateur_Dossier[[#This Row],[Trigramme]],\"\")","v":""}]
[null,null,null,null,null,null,null,null,null,null,null,null,null,null,null,null,null,null,{"$f":"IF(AND(SUMIFS(Collaborateur_Dossier[PourcentageFacturation],Collaborateur_Dossier[DossierId],Collaborateur_Dossier[[#This Row],[DossierId]])=0,Collaborateur_Dossier[[#This Row],[RoleDossier]]=\"Responsable\",Collaborateur_Dossier[[#This Row],[Defaut]]),1,Collaborateur_Dossier[[#This Row],[PourcentageFacturation]]/100)","v":0},{"$f":"_xlfn.CONCAT(Collaborateur_Dossier[[#This Row],[DossierCode]],\"|\",Collaborateur_Dossier[[#This Row],[RoleDossier]])","v":"|"},{"$f":"VLOOKUP(Collaborateur_Dossier[[#This Row],[DossierId]],Honoraire[[DossierId]:[Rappel Client ID]],44,FALSE)","v":{"$error":"#N/A"}},{"$f":"Collaborateur_Dossier[[#This Row],[CollaborateurId]]","v":0},{"$f":"Collaborateur_Dossier[[#This Row],[Trigramme]]","v":0},{"$f":"IF(AND(Collaborateur_Dossier[[#This Row],[RoleDossier]]=\"Responsable\",Collaborateur_Dossier[[#This Row],[Defaut]]),Collaborateur_Dossier[[#This Row],[DossierCode]],\"\")","v":""},{"$f":"IF(Collaborateur_Dossier[[#This Row],[Collaborateur dossier]]<>\"\",Collaborateur_Dossier[[#This Row],[Trigramme]],\"\")","v":""}]
[null,null,null,null,null,null,null,null,null,null,null,null,null,null,null,null,null,null,{"$f":"IF(AND(SUMIFS(Collaborateur_Dossier[PourcentageFacturation],Collaborateur_Dossier[DossierId],Collaborateur_Dossier[[#This Row],[DossierId]])=0,Collaborateur_Dossier[[#This Row],[RoleDossier]]=\"Responsable\",Collaborateur_Dossier[[#This Row],[Defaut]]),1,Collaborateur_Dossier[[#This Row],[PourcentageFacturation]]/100)","v":0},{"$f":"_xlfn.CONCAT(Collaborateur_Dossier[[#This Row],[DossierCode]],\"|\",Collaborateur_Dossier[[#This Row],[RoleDossier]])","v":"|"},{"$f":"VLOOKUP(Collaborateur_Dossier[[#This Row],[DossierId]],Honoraire[[DossierId]:[Rappel Client ID]],44,FALSE)","v":{"$error":"#N/A"}},{"$f":"Collaborateur_Dossier[[#This Row],[CollaborateurId]]","v":0},{"$f":"Collaborateur_Dossier[[#This Row],[Trigramme]]","v":0},{"$f":"IF(AND(Collaborateur_Dossier[[#This Row],[RoleDossier]]=\"Responsable\",Collaborateur_Dossier[[#This Row],[Defaut]]),Collaborateur_Dossier[[#This Row],[DossierCode]],\"\")","v":""},{"$f":"IF(Collaborateur_Dossier[[#This Row],[Collaborateur dossier]]<>\"\",Collaborateur_Dossier[[#This Row],[Trigramme]],\"\")","v":""}]
[null,null,null,null,null,null,null,null,null,null,null,null,null,null,null,null,null,null,{"$f":"IF(AND(SUMIFS(Collaborateur_Dossier[PourcentageFacturation],Collaborateur_Dossier[DossierId],Collaborateur_Dossier[[#This Row],[DossierId]])=0,Collaborateur_Dossier[[#This Row],[RoleDossier]]=\"Responsable\",Collaborateur_Dossier[[#This Row],[Defaut]]),1,Collaborateur_Dossier[[#This Row],[PourcentageFacturation]]/100)","v":0},{"$f":"_xlfn.CONCAT(Collaborateur_Dossier[[#This Row],[DossierCode]],\"|\",Collaborateur_Dossier[[#This Row],[RoleDossier]])","v":"|"},{"$f":"VLOOKUP(Collaborateur_Dossier[[#This Row],[DossierId]],Honoraire[[DossierId]:[Rappel Client ID]],44,FALSE)","v":{"$error":"#N/A"}},{"$f":"Collaborateur_Dossier[[#This Row],[CollaborateurId]]","v":0},{"$f":"Collaborateur_Dossier[[#This Row],[Trigramme]]","v":0},{"$f":"IF(AND(Collaborateur_Dossier[[#This Row],[RoleDossier]]=\"Responsable\",Collaborateur_Dossier[[#This Row],[Defaut]]),Collaborateur_Dossier[[#This Row],[DossierCode]],\"\")","v":""},{"$f":"IF(Collaborateur_Dossier[[#This Row],[Collaborateur dossier]]<>\"\",Collaborateur_Dossier[[#This Row],[Trigramme]],\"\")","v":""}]
[null,null,null,null,null,null,null,null,null,null,null,null,null,null,null,null,null,null,{"$f":"IF(AND(SUMIFS(Collaborateur_Dossier[PourcentageFacturation],Collaborateur_Dossier[DossierId],Collaborateur_Dossier[[#This Row],[DossierId]])=0,Collaborateur_Dossier[[#This Row],[RoleDossier]]=\"Responsable\",Collaborateur_Dossier[[#This Row],[Defaut]]),1,Collaborateur_Dossier[[#This Row],[PourcentageFacturation]]/100)","v":0},{"$f":"_xlfn.CONCAT(Collaborateur_Dossier[[#This Row],[DossierCode]],\"|\",Collaborateur_Dossier[[#This Row],[RoleDossier]])","v":"|"},{"$f":"VLOOKUP(Collaborateur_Dossier[[#This Row],[DossierId]],Honoraire[[DossierId]:[Rappel Client ID]],44,FALSE)","v":{"$error":"#N/A"}},{"$f":"Collaborateur_Dossier[[#This Row],[CollaborateurId]]","v":0},{"$f":"Collaborateur_Dossier[[#This Row],[Trigramme]]","v":0},{"$f":"IF(AND(Collaborateur_Dossier[[#This Row],[RoleDossier]]=\"Responsable\",Collaborateur_Dossier[[#This Row],[Defaut]]),Collaborateur_Dossier[[#This Row],[DossierCode]],\"\")","v":""},{"$f":"IF(Collaborateur_Dossier[[#This Row],[Collaborateur dossier]]<>\"\",Collaborateur_Dossier[[#This Row],[Trigramme]],\"\")","v":""}]
[null,null,null,null,null,null,null,null,null,null,null,null,null,null,null,null,null,null,{"$f":"IF(AND(SUMIFS(Collaborateur_Dossier[PourcentageFacturation],Collaborateur_Dossier[DossierId],Collaborateur_Dossier[[#This Row],[DossierId]])=0,Collaborateur_Dossier[[#This Row],[RoleDossier]]=\"Responsable\",Collaborateur_Dossier[[#This Row],[Defaut]]),1,Collaborateur_Dossier[[#This Row],[PourcentageFacturation]]/100)","v":0},{"$f":"_xlfn.CONCAT(Collaborateur_Dossier[[#This Row],[DossierCode]],\"|\",Collaborateur_Dossier[[#This Row],[RoleDossier]])","v":"|"},{"$f":"VLOOKUP(Collaborateur_Dossier[[#This Row],[DossierId]],Honoraire[[DossierId]:[Rappel Client ID]],44,FALSE)","v":{"$error":"#N/A"}},{"$f":"Collaborateur_Dossier[[#This Row],[CollaborateurId]]","v":0},{"$f":"Collaborateur_Dossier[[#This Row],[Trigramme]]","v":0},{"$f":"IF(AND(Collaborateur_Dossier[[#This Row],[RoleDossier]]=\"Responsable\",Collaborateur_Dossier[[#This Row],[Defaut]]),Collaborateur_Dossier[[#This Row],[DossierCode]],\"\")","v":""},{"$f":"IF(Collaborateur_Dossier[[#This Row],[Collaborateur dossier]]<>\"\",Collaborateur_Dossier[[#This Row],[Trigramme]],\"\")","v":""}]
[null,null,null,null,null,null,null,null,null,null,null,null,null,null,null,null,null,null,{"$f":"IF(AND(SUMIFS(Collaborateur_Dossier[PourcentageFacturation],Collaborateur_Dossier[DossierId],Collaborateur_Dossier[[#This Row],[DossierId]])=0,Collaborateur_Dossier[[#This Row],[RoleDossier]]=\"Responsable\",Collaborateur_Dossier[[#This Row],[Defaut]]),1,Collaborateur_Dossier[[#This Row],[PourcentageFacturation]]/100)","v":0},{"$f":"_xlfn.CONCAT(Collaborateur_Dossier[[#This Row],[DossierCode]],\"|\",Collaborateur_Dossier[[#This Row],[RoleDossier]])","v":"|"},{"$f":"VLOOKUP(Collaborateur_Dossier[[#This Row],[DossierId]],Honoraire[[DossierId]:[Rappel Client ID]],44,FALSE)","v":{"$error":"#N/A"}},{"$f":"Collaborateur_Dossier[[#This Row],[CollaborateurId]]","v":0},{"$f":"Collaborateur_Dossier[[#This Row],[Trigramme]]","v":0},{"$f":"IF(AND(Collaborateur_Dossier[[#This Row],[RoleDossier]]=\"Responsable\",Collaborateur_Dossier[[#This Row],[Defaut]]),Collaborateur_Dossier[[#This Row],[DossierCode]],\"\")","v":""},{"$f":"IF(Collaborateur_Dossier[[#This Row],[Collaborateur dossier]]<>\"\",Collaborateur_Dossier[[#This Row],[Trigramme]],\"\")","v":""}]
[null,null,null,null,null,null,null,null,null,null,null,null,null,null,null,null,null,null,{"$f":"IF(AND(SUMIFS(Collaborateur_Dossier[PourcentageFacturation],Collaborateur_Dossier[DossierId],Collaborateur_Dossier[[#This Row],[DossierId]])=0,Collaborateur_Dossier[[#This Row],[RoleDossier]]=\"Responsable\",Collaborateur_Dossier[[#This Row],[Defaut]]),1,Collaborateur_Dossier[[#This Row],[PourcentageFacturation]]/100)","v":0},{"$f":"_xlfn.CONCAT(Collaborateur_Dossier[[#This Row],[DossierCode]],\"|\",Collaborateur_Dossier[[#This Row],[RoleDossier]])","v":"|"},{"$f":"VLOOKUP(Collaborateur_Dossier[[#This Row],[DossierId]],Honoraire[[DossierId]:[Rappel Client ID]],44,FALSE)","v":{"$error":"#N/A"}},{"$f":"Collaborateur_Dossier[[#This Row],[CollaborateurId]]","v":0},{"$f":"Collaborateur_Dossier[[#This Row],[Trigramme]]","v":0},{"$f":"IF(AND(Collaborateur_Dossier[[#This Row],[RoleDossier]]=\"Responsable\",Collaborateur_Dossier[[#This Row],[Defaut]]),Collaborateur_Dossier[[#This Row],[DossierCode]],\"\")","v":""},{"$f":"IF(Collaborateur_Dossier[[#This Row],[Collaborateur dossier]]<>\"\",Collaborateur_Dossier[[#This Row],[Trigramme]],\"\")","v":""}]
[null,null,null,null,null,null,null,null,null,null,null,null,null,null,null,null,null,null,{"$f":"IF(AND(SUMIFS(Collaborateur_Dossier[PourcentageFacturation],Collaborateur_Dossier[DossierId],Collaborateur_Dossier[[#This Row],[DossierId]])=0,Collaborateur_Dossier[[#This Row],[RoleDossier]]=\"Responsable\",Collaborateur_Dossier[[#This Row],[Defaut]]),1,Collaborateur_Dossier[[#This Row],[PourcentageFacturation]]/100)","v":0},{"$f":"_xlfn.CONCAT(Collaborateur_Dossier[[#This Row],[DossierCode]],\"|\",Collaborateur_Dossier[[#This Row],[RoleDossier]])","v":"|"},{"$f":"VLOOKUP(Collaborateur_Dossier[[#This Row],[DossierId]],Honoraire[[DossierId]:[Rappel Client ID]],44,FALSE)","v":{"$error":"#N/A"}},{"$f":"Collaborateur_Dossier[[#This Row],[CollaborateurId]]","v":0},{"$f":"Collaborateur_Dossier[[#This Row],[Trigramme]]","v":0},{"$f":"IF(AND(Collaborateur_Dossier[[#This Row],[RoleDossier]]=\"Responsable\",Collaborateur_Dossier[[#This Row],[Defaut]]),Collaborateur_Dossier[[#This Row],[DossierCode]],\"\")","v":""},{"$f":"IF(Collaborateur_Dossier[[#This Row],[Collaborateur dossier]]<>\"\",Collaborateur_Dossier[[#This Row],[Trigramme]],\"\")","v":""}]
[null,null,null,null,null,null,null,null,null,null,null,null,null,null,null,null,null,null,{"$f":"IF(AND(SUMIFS(Collaborateur_Dossier[PourcentageFacturation],Collaborateur_Dossier[DossierId],Collaborateur_Dossier[[#This Row],[DossierId]])=0,Collaborateur_Dossier[[#This Row],[RoleDossier]]=\"Responsable\",Collaborateur_Dossier[[#This Row],[Defaut]]),1,Collaborateur_Dossier[[#This Row],[PourcentageFacturation]]/100)","v":0},{"$f":"_xlfn.CONCAT(Collaborateur_Dossier[[#This Row],[DossierCode]],\"|\",Collaborateur_Dossier[[#This Row],[RoleDossier]])","v":"|"},{"$f":"VLOOKUP(Collaborateur_Dossier[[#This Row],[DossierId]],Honoraire[[DossierId]:[Rappel Client ID]],44,FALSE)","v":{"$error":"#N/A"}},{"$f":"Collaborateur_Dossier[[#This Row],[CollaborateurId]]","v":0},{"$f":"Collaborateur_Dossier[[#This Row],[Trigramme]]","v":0},{"$f":"IF(AND(Collaborateur_Dossier[[#This Row],[RoleDossier]]=\"Responsable\",Collaborateur_Dossier[[#This Row],[Defaut]]),Collaborateur_Dossier[[#This Row],[DossierCode]],\"\")","v":""},{"$f":"IF(Collaborateur_Dossier[[#This Row],[Collaborateur dossier]]<>\"\",Collaborateur_Dossier[[#This Row],[Trigramme]],\"\")","v":""}]
[null,null,null,null,null,null,null,null,null,null,null,null,null,null,null,null,null,null,{"$f":"IF(AND(SUMIFS(Collaborateur_Dossier[PourcentageFacturation],Collaborateur_Dossier[DossierId],Collaborateur_Dossier[[#This Row],[DossierId]])=0,Collaborateur_Dossier[[#This Row],[RoleDossier]]=\"Responsable\",Collaborateur_Dossier[[#This Row],[Defaut]]),1,Collaborateur_Dossier[[#This Row],[PourcentageFacturation]]/100)","v":0},{"$f":"_xlfn.CONCAT(Collaborateur_Dossier[[#This Row],[DossierCode]],\"|\",Collaborateur_Dossier[[#This Row],[RoleDossier]])","v":"|"},{"$f":"VLOOKUP(Collaborateur_Dossier[[#This Row],[DossierId]],Honoraire[[DossierId]:[Rappel Client ID]],44,FALSE)","v":{"$error":"#N/A"}},{"$f":"Collaborateur_Dossier[[#This Row],[CollaborateurId]]","v":0},{"$f":"Collaborateur_Dossier[[#This Row],[Trigramme]]","v":0},{"$f":"IF(AND(Collaborateur_Dossier[[#This Row],[RoleDossier]]=\"Responsable\",Collaborateur_Dossier[[#This Row],[Defaut]]),Collaborateur_Dossier[[#This Row],[DossierCode]],\"\")","v":""},{"$f":"IF(Collaborateur_Dossier[[#This Row],[Collaborateur dossier]]<>\"\",Collaborateur_Dossier[[#This Row],[Trigramme]],\"\")","v":""}]
[null,null,null,null,null,null,null,null,null,null,null,null,null,null,null,null,null,null,{"$f":"IF(AND(SUMIFS(Collaborateur_Dossier[PourcentageFacturation],Collaborateur_Dossier[DossierId],Collaborateur_Dossier[[#This Row],[DossierId]])=0,Collaborateur_Dossier[[#This Row],[RoleDossier]]=\"Responsable\",Collaborateur_Dossier[[#This Row],[Defaut]]),1,Collaborateur_Dossier[[#This Row],[PourcentageFacturation]]/100)","v":0},{"$f":"_xlfn.CONCAT(Collaborateur_Dossier[[#This Row],[DossierCode]],\"|\",Collaborateur_Dossier[[#This Row],[RoleDossier]])","v":"|"},{"$f":"VLOOKUP(Collaborateur_Dossier[[#This Row],[DossierId]],Honoraire[[DossierId]:[Rappel Client ID]],44,FALSE)","v":{"$error":"#N/A"}},{"$f":"Collaborateur_Dossier[[#This Row],[CollaborateurId]]","v":0},{"$f":"Collaborateur_Dossier[[#This Row],[Trigramme]]","v":0},{"$f":"IF(AND(Collaborateur_Dossier[[#This Row],[RoleDossier]]=\"Responsable\",Collaborateur_Dossier[[#This Row],[Defaut]]),Collaborateur_Dossier[[#This Row],[DossierCode]],\"\")","v":""},{"$f":"IF(Collaborateur_Dossier[[#This Row],[Collaborateur dossier]]<>\"\",Collaborateur_Dossier[[#This Row],[Trigramme]],\"\")","v":""}]
[null,null,null,null,null,null,null,null,null,null,null,null,null,null,null,null,null,null,{"$f":"IF(AND(SUMIFS(Collaborateur_Dossier[PourcentageFacturation],Collaborateur_Dossier[DossierId],Collaborateur_Dossier[[#This Row],[DossierId]])=0,Collaborateur_Dossier[[#This Row],[RoleDossier]]=\"Responsable\",Collaborateur_Dossier[[#This Row],[Defaut]]),1,Collaborateur_Dossier[[#This Row],[PourcentageFacturation]]/100)","v":0},{"$f":"_xlfn.CONCAT(Collaborateur_Dossier[[#This Row],[DossierCode]],\"|\",Collaborateur_Dossier[[#This Row],[RoleDossier]])","v":"|"},{"$f":"VLOOKUP(Collaborateur_Dossier[[#This Row],[DossierId]],Honoraire[[DossierId]:[Rappel Client ID]],44,FALSE)","v":{"$error":"#N/A"}},{"$f":"Collaborateur_Dossier[[#This Row],[CollaborateurId]]","v":0},{"$f":"Collaborateur_Dossier[[#This Row],[Trigramme]]","v":0},{"$f":"IF(AND(Collaborateur_Dossier[[#This Row],[RoleDossier]]=\"Responsable\",Collaborateur_Dossier[[#This Row],[Defaut]]),Collaborateur_Dossier[[#This Row],[DossierCode]],\"\")","v":""},{"$f":"IF(Collaborateur_Dossier[[#This Row],[Collaborateur dossier]]<>\"\",Collaborateur_Dossier[[#This Row],[Trigramme]],\"\")","v":""}]
[null,null,null,null,null,null,null,null,null,null,null,null,null,null,null,null,null,null,{"$f":"IF(AND(SUMIFS(Collaborateur_Dossier[PourcentageFacturation],Collaborateur_Dossier[DossierId],Collaborateur_Dossier[[#This Row],[DossierId]])=0,Collaborateur_Dossier[[#This Row],[RoleDossier]]=\"Responsable\",Collaborateur_Dossier[[#This Row],[Defaut]]),1,Collaborateur_Dossier[[#This Row],[PourcentageFacturation]]/100)","v":0},{"$f":"_xlfn.CONCAT(Collaborateur_Dossier[[#This Row],[DossierCode]],\"|\",Collaborateur_Dossier[[#This Row],[RoleDossier]])","v":"|"},{"$f":"VLOOKUP(Collaborateur_Dossier[[#This Row],[DossierId]],Honoraire[[DossierId]:[Rappel Client ID]],44,FALSE)","v":{"$error":"#N/A"}},{"$f":"Collaborateur_Dossier[[#This Row],[CollaborateurId]]","v":0},{"$f":"Collaborateur_Dossier[[#This Row],[Trigramme]]","v":0},{"$f":"IF(AND(Collaborateur_Dossier[[#This Row],[RoleDossier]]=\"Responsable\",Collaborateur_Dossier[[#This Row],[Defaut]]),Collaborateur_Dossier[[#This Row],[DossierCode]],\"\")","v":""},{"$f":"IF(Collaborateur_Dossier[[#This Row],[Collaborateur dossier]]<>\"\",Collaborateur_Dossier[[#This Row],[Trigramme]],\"\")","v":""}]
[null,null,null,null,null,null,null,null,null,null,null,null,null,null,null,null,null,null,{"$f":"IF(AND(SUMIFS(Collaborateur_Dossier[PourcentageFacturation],Collaborateur_Dossier[DossierId],Collaborateur_Dossier[[#This Row],[DossierId]])=0,Collaborateur_Dossier[[#This Row],[RoleDossier]]=\"Responsable\",Collaborateur_Dossier[[#This Row],[Defaut]]),1,Collaborateur_Dossier[[#This Row],[PourcentageFacturation]]/100)","v":0},{"$f":"_xlfn.CONCAT(Collaborateur_Dossier[[#This Row],[DossierCode]],\"|\",Collaborateur_Dossier[[#This Row],[RoleDossier]])","v":"|"},{"$f":"VLOOKUP(Collaborateur_Dossier[[#This Row],[DossierId]],Honoraire[[DossierId]:[Rappel Client ID]],44,FALSE)","v":{"$error":"#N/A"}},{"$f":"Collaborateur_Dossier[[#This Row],[CollaborateurId]]","v":0},{"$f":"Collaborateur_Dossier[[#This Row],[Trigramme]]","v":0},{"$f":"IF(AND(Collaborateur_Dossier[[#This Row],[RoleDossier]]=\"Responsable\",Collaborateur_Dossier[[#This Row],[Defaut]]),Collaborateur_Dossier[[#This Row],[DossierCode]],\"\")","v":""},{"$f":"IF(Collaborateur_Dossier[[#This Row],[Collaborateur dossier]]<>\"\",Collaborateur_Dossier[[#This Row],[Trigramme]],\"\")","v":""}]
[null,null,null,null,null,null,null,null,null,null,null,null,null,null,null,null,null,null,{"$f":"IF(AND(SUMIFS(Collaborateur_Dossier[PourcentageFacturation],Collaborateur_Dossier[DossierId],Collaborateur_Dossier[[#This Row],[DossierId]])=0,Collaborateur_Dossier[[#This Row],[RoleDossier]]=\"Responsable\",Collaborateur_Dossier[[#This Row],[Defaut]]),1,Collaborateur_Dossier[[#This Row],[PourcentageFacturation]]/100)","v":0},{"$f":"_xlfn.CONCAT(Collaborateur_Dossier[[#This Row],[DossierCode]],\"|\",Collaborateur_Dossier[[#This Row],[RoleDossier]])","v":"|"},{"$f":"VLOOKUP(Collaborateur_Dossier[[#This Row],[DossierId]],Honoraire[[DossierId]:[Rappel Client ID]],44,FALSE)","v":{"$error":"#N/A"}},{"$f":"Collaborateur_Dossier[[#This Row],[CollaborateurId]]","v":0},{"$f":"Collaborateur_Dossier[[#This Row],[Trigramme]]","v":0},{"$f":"IF(AND(Collaborateur_Dossier[[#This Row],[RoleDossier]]=\"Responsable\",Collaborateur_Dossier[[#This Row],[Defaut]]),Collaborateur_Dossier[[#This Row],[DossierCode]],\"\")","v":""},{"$f":"IF(Collaborateur_Dossier[[#This Row],[Collaborateur dossier]]<>\"\",Collaborateur_Dossier[[#This Row],[Trigramme]],\"\")","v":""}]
[null,null,null,null,null,null,null,null,null,null,null,null,null,null,null,null,null,null,{"$f":"IF(AND(SUMIFS(Collaborateur_Dossier[PourcentageFacturation],Collaborateur_Dossier[DossierId],Collaborateur_Dossier[[#This Row],[DossierId]])=0,Collaborateur_Dossier[[#This Row],[RoleDossier]]=\"Responsable\",Collaborateur_Dossier[[#This Row],[Defaut]]),1,Collaborateur_Dossier[[#This Row],[PourcentageFacturation]]/100)","v":0},{"$f":"_xlfn.CONCAT(Collaborateur_Dossier[[#This Row],[DossierCode]],\"|\",Collaborateur_Dossier[[#This Row],[RoleDossier]])","v":"|"},{"$f":"VLOOKUP(Collaborateur_Dossier[[#This Row],[DossierId]],Honoraire[[DossierId]:[Rappel Client ID]],44,FALSE)","v":{"$error":"#N/A"}},{"$f":"Collaborateur_Dossier[[#This Row],[CollaborateurId]]","v":0},{"$f":"Collaborateur_Dossier[[#This Row],[Trigramme]]","v":0},{"$f":"IF(AND(Collaborateur_Dossier[[#This Row],[RoleDossier]]=\"Responsable\",Collaborateur_Dossier[[#This Row],[Defaut]]),Collaborateur_Dossier[[#This Row],[DossierCode]],\"\")","v":""},{"$f":"IF(Collaborateur_Dossier[[#This Row],[Collaborateur dossier]]<>\"\",Collaborateur_Dossier[[#This Row],[Trigramme]],\"\")","v":""}]
[null,null,null,null,null,null,null,null,null,null,null,null,null,null,null,null,null,null,{"$f":"IF(AND(SUMIFS(Collaborateur_Dossier[PourcentageFacturation],Collaborateur_Dossier[DossierId],Collaborateur_Dossier[[#This Row],[DossierId]])=0,Collaborateur_Dossier[[#This Row],[RoleDossier]]=\"Responsable\",Collaborateur_Dossier[[#This Row],[Defaut]]),1,Collaborateur_Dossier[[#This Row],[PourcentageFacturation]]/100)","v":0},{"$f":"_xlfn.CONCAT(Collaborateur_Dossier[[#This Row],[DossierCode]],\"|\",Collaborateur_Dossier[[#This Row],[RoleDossier]])","v":"|"},{"$f":"VLOOKUP(Collaborateur_Dossier[[#This Row],[DossierId]],Honoraire[[DossierId]:[Rappel Client ID]],44,FALSE)","v":{"$error":"#N/A"}},{"$f":"Collaborateur_Dossier[[#This Row],[CollaborateurId]]","v":0},{"$f":"Collaborateur_Dossier[[#This Row],[Trigramme]]","v":0},{"$f":"IF(AND(Collaborateur_Dossier[[#This Row],[RoleDossier]]=\"Responsable\",Collaborateur_Dossier[[#This Row],[Defaut]]),Collaborateur_Dossier[[#This Row],[DossierCode]],\"\")","v":""},{"$f":"IF(Collaborateur_Dossier[[#This Row],[Collaborateur dossier]]<>\"\",Collaborateur_Dossier[[#This Row],[Trigramme]],\"\")","v":""}]
[null,null,null,null,null,null,null,null,null,null,null,null,null,null,null,null,null,null,{"$f":"IF(AND(SUMIFS(Collaborateur_Dossier[PourcentageFacturation],Collaborateur_Dossier[DossierId],Collaborateur_Dossier[[#This Row],[DossierId]])=0,Collaborateur_Dossier[[#This Row],[RoleDossier]]=\"Responsable\",Collaborateur_Dossier[[#This Row],[Defaut]]),1,Collaborateur_Dossier[[#This Row],[PourcentageFacturation]]/100)","v":0},{"$f":"_xlfn.CONCAT(Collaborateur_Dossier[[#This Row],[DossierCode]],\"|\",Collaborateur_Dossier[[#This Row],[RoleDossier]])","v":"|"},{"$f":"VLOOKUP(Collaborateur_Dossier[[#This Row],[DossierId]],Honoraire[[DossierId]:[Rappel Client ID]],44,FALSE)","v":{"$error":"#N/A"}},{"$f":"Collaborateur_Dossier[[#This Row],[CollaborateurId]]","v":0},{"$f":"Collaborateur_Dossier[[#This Row],[Trigramme]]","v":0},{"$f":"IF(AND(Collaborateur_Dossier[[#This Row],[RoleDossier]]=\"Responsable\",Collaborateur_Dossier[[#This Row],[Defaut]]),Collaborateur_Dossier[[#This Row],[DossierCode]],\"\")","v":""},{"$f":"IF(Collaborateur_Dossier[[#This Row],[Collaborateur dossier]]<>\"\",Collaborateur_Dossier[[#This Row],[Trigramme]],\"\")","v":""}]
[null,null,null,null,null,null,null,null,null,null,null,null,null,null,null,null,null,null,{"$f":"IF(AND(SUMIFS(Collaborateur_Dossier[PourcentageFacturation],Collaborateur_Dossier[DossierId],Collaborateur_Dossier[[#This Row],[DossierId]])=0,Collaborateur_Dossier[[#This Row],[RoleDossier]]=\"Responsable\",Collaborateur_Dossier[[#This Row],[Defaut]]),1,Collaborateur_Dossier[[#This Row],[PourcentageFacturation]]/100)","v":0},{"$f":"_xlfn.CONCAT(Collaborateur_Dossier[[#This Row],[DossierCode]],\"|\",Collaborateur_Dossier[[#This Row],[RoleDossier]])","v":"|"},{"$f":"VLOOKUP(Collaborateur_Dossier[[#This Row],[DossierId]],Honoraire[[DossierId]:[Rappel Client ID]],44,FALSE)","v":{"$error":"#N/A"}},{"$f":"Collaborateur_Dossier[[#This Row],[CollaborateurId]]","v":0},{"$f":"Collaborateur_Dossier[[#This Row],[Trigramme]]","v":0},{"$f":"IF(AND(Collaborateur_Dossier[[#This Row],[RoleDossier]]=\"Responsable\",Collaborateur_Dossier[[#This Row],[Defaut]]),Collaborateur_Dossier[[#This Row],[DossierCode]],\"\")","v":""},{"$f":"IF(Collaborateur_Dossier[[#This Row],[Collaborateur dossier]]<>\"\",Collaborateur_Dossier[[#This Row],[Trigramme]],\"\")","v":""}]
[null,null,null,null,null,null,null,null,null,null,null,null,null,null,null,null,null,null,{"$f":"IF(AND(SUMIFS(Collaborateur_Dossier[PourcentageFacturation],Collaborateur_Dossier[DossierId],Collaborateur_Dossier[[#This Row],[DossierId]])=0,Collaborateur_Dossier[[#This Row],[RoleDossier]]=\"Responsable\",Collaborateur_Dossier[[#This Row],[Defaut]]),1,Collaborateur_Dossier[[#This Row],[PourcentageFacturation]]/100)","v":0},{"$f":"_xlfn.CONCAT(Collaborateur_Dossier[[#This Row],[DossierCode]],\"|\",Collaborateur_Dossier[[#This Row],[RoleDossier]])","v":"|"},{"$f":"VLOOKUP(Collaborateur_Dossier[[#This Row],[DossierId]],Honoraire[[DossierId]:[Rappel Client ID]],44,FALSE)","v":{"$error":"#N/A"}},{"$f":"Collaborateur_Dossier[[#This Row],[CollaborateurId]]","v":0},{"$f":"Collaborateur_Dossier[[#This Row],[Trigramme]]","v":0},{"$f":"IF(AND(Collaborateur_Dossier[[#This Row],[RoleDossier]]=\"Responsable\",Collaborateur_Dossier[[#This Row],[Defaut]]),Collaborateur_Dossier[[#This Row],[DossierCode]],\"\")","v":""},{"$f":"IF(Collaborateur_Dossier[[#This Row],[Collaborateur dossier]]<>\"\",Collaborateur_Dossier[[#This Row],[Trigramme]],\"\")","v":""}]
[null,null,null,null,null,null,null,null,null,null,null,null,null,null,null,null,null,null,{"$f":"IF(AND(SUMIFS(Collaborateur_Dossier[PourcentageFacturation],Collaborateur_Dossier[DossierId],Collaborateur_Dossier[[#This Row],[DossierId]])=0,Collaborateur_Dossier[[#This Row],[RoleDossier]]=\"Responsable\",Collaborateur_Dossier[[#This Row],[Defaut]]),1,Collaborateur_Dossier[[#This Row],[PourcentageFacturation]]/100)","v":0},{"$f":"_xlfn.CONCAT(Collaborateur_Dossier[[#This Row],[DossierCode]],\"|\",Collaborateur_Dossier[[#This Row],[RoleDossier]])","v":"|"},{"$f":"VLOOKUP(Collaborateur_Dossier[[#This Row],[DossierId]],Honoraire[[DossierId]:[Rappel Client ID]],44,FALSE)","v":{"$error":"#N/A"}},{"$f":"Collaborateur_Dossier[[#This Row],[CollaborateurId]]","v":0},{"$f":"Collaborateur_Dossier[[#This Row],[Trigramme]]","v":0},{"$f":"IF(AND(Collaborateur_Dossier[[#This Row],[RoleDossier]]=\"Responsable\",Collaborateur_Dossier[[#This Row],[Defaut]]),Collaborateur_Dossier[[#This Row],[DossierCode]],\"\")","v":""},{"$f":"IF(Collaborateur_Dossier[[#This Row],[Collaborateur dossier]]<>\"\",Collaborateur_Dossier[[#This Row],[Trigramme]],\"\")","v":""}]
[null,null,null,null,null,null,null,null,null,null,null,null,null,null,null,null,null,null,{"$f":"IF(AND(SUMIFS(Collaborateur_Dossier[PourcentageFacturation],Collaborateur_Dossier[DossierId],Collaborateur_Dossier[[#This Row],[DossierId]])=0,Collaborateur_Dossier[[#This Row],[RoleDossier]]=\"Responsable\",Collaborateur_Dossier[[#This Row],[Defaut]]),1,Collaborateur_Dossier[[#This Row],[PourcentageFacturation]]/100)","v":0},{"$f":"_xlfn.CONCAT(Collaborateur_Dossier[[#This Row],[DossierCode]],\"|\",Collaborateur_Dossier[[#This Row],[RoleDossier]])","v":"|"},{"$f":"VLOOKUP(Collaborateur_Dossier[[#This Row],[DossierId]],Honoraire[[DossierId]:[Rappel Client ID]],44,FALSE)","v":{"$error":"#N/A"}},{"$f":"Collaborateur_Dossier[[#This Row],[CollaborateurId]]","v":0},{"$f":"Collaborateur_Dossier[[#This Row],[Trigramme]]","v":0},{"$f":"IF(AND(Collaborateur_Dossier[[#This Row],[RoleDossier]]=\"Responsable\",Collaborateur_Dossier[[#This Row],[Defaut]]),Collaborateur_Dossier[[#This Row],[DossierCode]],\"\")","v":""},{"$f":"IF(Collaborateur_Dossier[[#This Row],[Collaborateur dossier]]<>\"\",Collaborateur_Dossier[[#This Row],[Trigramme]],\"\")","v":""}]
[null,null,null,null,null,null,null,null,null,null,null,null,null,null,null,null,null,null,{"$f":"IF(AND(SUMIFS(Collaborateur_Dossier[PourcentageFacturation],Collaborateur_Dossier[DossierId],Collaborateur_Dossier[[#This Row],[DossierId]])=0,Collaborateur_Dossier[[#This Row],[RoleDossier]]=\"Responsable\",Collaborateur_Dossier[[#This Row],[Defaut]]),1,Collaborateur_Dossier[[#This Row],[PourcentageFacturation]]/100)","v":0},{"$f":"_xlfn.CONCAT(Collaborateur_Dossier[[#This Row],[DossierCode]],\"|\",Collaborateur_Dossier[[#This Row],[RoleDossier]])","v":"|"},{"$f":"VLOOKUP(Collaborateur_Dossier[[#This Row],[DossierId]],Honoraire[[DossierId]:[Rappel Client ID]],44,FALSE)","v":{"$error":"#N/A"}},{"$f":"Collaborateur_Dossier[[#This Row],[CollaborateurId]]","v":0},{"$f":"Collaborateur_Dossier[[#This Row],[Trigramme]]","v":0},{"$f":"IF(AND(Collaborateur_Dossier[[#This Row],[RoleDossier]]=\"Responsable\",Collaborateur_Dossier[[#This Row],[Defaut]]),Collaborateur_Dossier[[#This Row],[DossierCode]],\"\")","v":""},{"$f":"IF(Collaborateur_Dossier[[#This Row],[Collaborateur dossier]]<>\"\",Collaborateur_Dossier[[#This Row],[Trigramme]],\"\")","v":""}]
[null,null,null,null,null,null,null,null,null,null,null,null,null,null,null,null,null,null,{"$f":"IF(AND(SUMIFS(Collaborateur_Dossier[PourcentageFacturation],Collaborateur_Dossier[DossierId],Collaborateur_Dossier[[#This Row],[DossierId]])=0,Collaborateur_Dossier[[#This Row],[RoleDossier]]=\"Responsable\",Collaborateur_Dossier[[#This Row],[Defaut]]),1,Collaborateur_Dossier[[#This Row],[PourcentageFacturation]]/100)","v":0},{"$f":"_xlfn.CONCAT(Collaborateur_Dossier[[#This Row],[DossierCode]],\"|\",Collaborateur_Dossier[[#This Row],[RoleDossier]])","v":"|"},{"$f":"VLOOKUP(Collaborateur_Dossier[[#This Row],[DossierId]],Honoraire[[DossierId]:[Rappel Client ID]],44,FALSE)","v":{"$error":"#N/A"}},{"$f":"Collaborateur_Dossier[[#This Row],[CollaborateurId]]","v":0},{"$f":"Collaborateur_Dossier[[#This Row],[Trigramme]]","v":0},{"$f":"IF(AND(Collaborateur_Dossier[[#This Row],[RoleDossier]]=\"Responsable\",Collaborateur_Dossier[[#This Row],[Defaut]]),Collaborateur_Dossier[[#This Row],[DossierCode]],\"\")","v":""},{"$f":"IF(Collaborateur_Dossier[[#This Row],[Collaborateur dossier]]<>\"\",Collaborateur_Dossier[[#This Row],[Trigramme]],\"\")","v":""}]
[null,null,null,null,null,null,null,null,null,null,null,null,null,null,null,null,null,null,{"$f":"IF(AND(SUMIFS(Collaborateur_Dossier[PourcentageFacturation],Collaborateur_Dossier[DossierId],Collaborateur_Dossier[[#This Row],[DossierId]])=0,Collaborateur_Dossier[[#This Row],[RoleDossier]]=\"Responsable\",Collaborateur_Dossier[[#This Row],[Defaut]]),1,Collaborateur_Dossier[[#This Row],[PourcentageFacturation]]/100)","v":0},{"$f":"_xlfn.CONCAT(Collaborateur_Dossier[[#This Row],[DossierCode]],\"|\",Collaborateur_Dossier[[#This Row],[RoleDossier]])","v":"|"},{"$f":"VLOOKUP(Collaborateur_Dossier[[#This Row],[DossierId]],Honoraire[[DossierId]:[Rappel Client ID]],44,FALSE)","v":{"$error":"#N/A"}},{"$f":"Collaborateur_Dossier[[#This Row],[CollaborateurId]]","v":0},{"$f":"Collaborateur_Dossier[[#This Row],[Trigramme]]","v":0},{"$f":"IF(AND(Collaborateur_Dossier[[#This Row],[RoleDossier]]=\"Responsable\",Collaborateur_Dossier[[#This Row],[Defaut]]),Collaborateur_Dossier[[#This Row],[DossierCode]],\"\")","v":""},{"$f":"IF(Collaborateur_Dossier[[#This Row],[Collaborateur dossier]]<>\"\",Collaborateur_Dossier[[#This Row],[Trigramme]],\"\")","v":""}]
[null,null,null,null,null,null,null,null,null,null,null,null,null,null,null,null,null,null,{"$f":"IF(AND(SUMIFS(Collaborateur_Dossier[PourcentageFacturation],Collaborateur_Dossier[DossierId],Collaborateur_Dossier[[#This Row],[DossierId]])=0,Collaborateur_Dossier[[#This Row],[RoleDossier]]=\"Responsable\",Collaborateur_Dossier[[#This Row],[Defaut]]),1,Collaborateur_Dossier[[#This Row],[PourcentageFacturation]]/100)","v":0},{"$f":"_xlfn.CONCAT(Collaborateur_Dossier[[#This Row],[DossierCode]],\"|\",Collaborateur_Dossier[[#This Row],[RoleDossier]])","v":"|"},{"$f":"VLOOKUP(Collaborateur_Dossier[[#This Row],[DossierId]],Honoraire[[DossierId]:[Rappel Client ID]],44,FALSE)","v":{"$error":"#N/A"}},{"$f":"Collaborateur_Dossier[[#This Row],[CollaborateurId]]","v":0},{"$f":"Collaborateur_Dossier[[#This Row],[Trigramme]]","v":0},{"$f":"IF(AND(Collaborateur_Dossier[[#This Row],[RoleDossier]]=\"Responsable\",Collaborateur_Dossier[[#This Row],[Defaut]]),Collaborateur_Dossier[[#This Row],[DossierCode]],\"\")","v":""},{"$f":"IF(Collaborateur_Dossier[[#This Row],[Collaborateur dossier]]<>\"\",Collaborateur_Dossier[[#This Row],[Trigramme]],\"\")","v":""}]
[null,null,null,null,null,null,null,null,null,null,null,null,null,null,null,null,null,null,{"$f":"IF(AND(SUMIFS(Collaborateur_Dossier[PourcentageFacturation],Collaborateur_Dossier[DossierId],Collaborateur_Dossier[[#This Row],[DossierId]])=0,Collaborateur_Dossier[[#This Row],[RoleDossier]]=\"Responsable\",Collaborateur_Dossier[[#This Row],[Defaut]]),1,Collaborateur_Dossier[[#This Row],[PourcentageFacturation]]/100)","v":0},{"$f":"_xlfn.CONCAT(Collaborateur_Dossier[[#This Row],[DossierCode]],\"|\",Collaborateur_Dossier[[#This Row],[RoleDossier]])","v":"|"},{"$f":"VLOOKUP(Collaborateur_Dossier[[#This Row],[DossierId]],Honoraire[[DossierId]:[Rappel Client ID]],44,FALSE)","v":{"$error":"#N/A"}},{"$f":"Collaborateur_Dossier[[#This Row],[CollaborateurId]]","v":0},{"$f":"Collaborateur_Dossier[[#This Row],[Trigramme]]","v":0},{"$f":"IF(AND(Collaborateur_Dossier[[#This Row],[RoleDossier]]=\"Responsable\",Collaborateur_Dossier[[#This Row],[Defaut]]),Collaborateur_Dossier[[#This Row],[DossierCode]],\"\")","v":""},{"$f":"IF(Collaborateur_Dossier[[#This Row],[Collaborateur dossier]]<>\"\",Collaborateur_Dossier[[#This Row],[Trigramme]],\"\")","v":""}]
[null,null,null,null,null,null,null,null,null,null,null,null,null,null,null,null,null,null,{"$f":"IF(AND(SUMIFS(Collaborateur_Dossier[PourcentageFacturation],Collaborateur_Dossier[DossierId],Collaborateur_Dossier[[#This Row],[DossierId]])=0,Collaborateur_Dossier[[#This Row],[RoleDossier]]=\"Responsable\",Collaborateur_Dossier[[#This Row],[Defaut]]),1,Collaborateur_Dossier[[#This Row],[PourcentageFacturation]]/100)","v":0},{"$f":"_xlfn.CONCAT(Collaborateur_Dossier[[#This Row],[DossierCode]],\"|\",Collaborateur_Dossier[[#This Row],[RoleDossier]])","v":"|"},{"$f":"VLOOKUP(Collaborateur_Dossier[[#This Row],[DossierId]],Honoraire[[DossierId]:[Rappel Client ID]],44,FALSE)","v":{"$error":"#N/A"}},{"$f":"Collaborateur_Dossier[[#This Row],[CollaborateurId]]","v":0},{"$f":"Collaborateur_Dossier[[#This Row],[Trigramme]]","v":0},{"$f":"IF(AND(Collaborateur_Dossier[[#This Row],[RoleDossier]]=\"Responsable\",Collaborateur_Dossier[[#This Row],[Defaut]]),Collaborateur_Dossier[[#This Row],[DossierCode]],\"\")","v":""},{"$f":"IF(Collaborateur_Dossier[[#This Row],[Collaborateur dossier]]<>\"\",Collaborateur_Dossier[[#This Row],[Trigramme]],\"\")","v":""}]
[null,null,null,null,null,null,null,null,null,null,null,null,null,null,null,null,null,null,{"$f":"IF(AND(SUMIFS(Collaborateur_Dossier[PourcentageFacturation],Collaborateur_Dossier[DossierId],Collaborateur_Dossier[[#This Row],[DossierId]])=0,Collaborateur_Dossier[[#This Row],[RoleDossier]]=\"Responsable\",Collaborateur_Dossier[[#This Row],[Defaut]]),1,Collaborateur_Dossier[[#This Row],[PourcentageFacturation]]/100)","v":0},{"$f":"_xlfn.CONCAT(Collaborateur_Dossier[[#This Row],[DossierCode]],\"|\",Collaborateur_Dossier[[#This Row],[RoleDossier]])","v":"|"},{"$f":"VLOOKUP(Collaborateur_Dossier[[#This Row],[DossierId]],Honoraire[[DossierId]:[Rappel Client ID]],44,FALSE)","v":{"$error":"#N/A"}},{"$f":"Collaborateur_Dossier[[#This Row],[CollaborateurId]]","v":0},{"$f":"Collaborateur_Dossier[[#This Row],[Trigramme]]","v":0},{"$f":"IF(AND(Collaborateur_Dossier[[#This Row],[RoleDossier]]=\"Responsable\",Collaborateur_Dossier[[#This Row],[Defaut]]),Collaborateur_Dossier[[#This Row],[DossierCode]],\"\")","v":""},{"$f":"IF(Collaborateur_Dossier[[#This Row],[Collaborateur dossier]]<>\"\",Collaborateur_Dossier[[#This Row],[Trigramme]],\"\")","v":""}]
[null,null,null,null,null,null,null,null,null,null,null,null,null,null,null,null,null,null,{"$f":"IF(AND(SUMIFS(Collaborateur_Dossier[PourcentageFacturation],Collaborateur_Dossier[DossierId],Collaborateur_Dossier[[#This Row],[DossierId]])=0,Collaborateur_Dossier[[#This Row],[RoleDossier]]=\"Responsable\",Collaborateur_Dossier[[#This Row],[Defaut]]),1,Collaborateur_Dossier[[#This Row],[PourcentageFacturation]]/100)","v":0},{"$f":"_xlfn.CONCAT(Collaborateur_Dossier[[#This Row],[DossierCode]],\"|\",Collaborateur_Dossier[[#This Row],[RoleDossier]])","v":"|"},{"$f":"VLOOKUP(Collaborateur_Dossier[[#This Row],[DossierId]],Honoraire[[DossierId]:[Rappel Client ID]],44,FALSE)","v":{"$error":"#N/A"}},{"$f":"Collaborateur_Dossier[[#This Row],[CollaborateurId]]","v":0},{"$f":"Collaborateur_Dossier[[#This Row],[Trigramme]]","v":0},{"$f":"IF(AND(Collaborateur_Dossier[[#This Row],[RoleDossier]]=\"Responsable\",Collaborateur_Dossier[[#This Row],[Defaut]]),Collaborateur_Dossier[[#This Row],[DossierCode]],\"\")","v":""},{"$f":"IF(Collaborateur_Dossier[[#This Row],[Collaborateur dossier]]<>\"\",Collaborateur_Dossier[[#This Row],[Trigramme]],\"\")","v":""}]
[null,null,null,null,null,null,null,null,null,null,null,null,null,null,null,null,null,null,{"$f":"IF(AND(SUMIFS(Collaborateur_Dossier[PourcentageFacturation],Collaborateur_Dossier[DossierId],Collaborateur_Dossier[[#This Row],[DossierId]])=0,Collaborateur_Dossier[[#This Row],[RoleDossier]]=\"Responsable\",Collaborateur_Dossier[[#This Row],[Defaut]]),1,Collaborateur_Dossier[[#This Row],[PourcentageFacturation]]/100)","v":0},{"$f":"_xlfn.CONCAT(Collaborateur_Dossier[[#This Row],[DossierCode]],\"|\",Collaborateur_Dossier[[#This Row],[RoleDossier]])","v":"|"},{"$f":"VLOOKUP(Collaborateur_Dossier[[#This Row],[DossierId]],Honoraire[[DossierId]:[Rappel Client ID]],44,FALSE)","v":{"$error":"#N/A"}},{"$f":"Collaborateur_Dossier[[#This Row],[CollaborateurId]]","v":0},{"$f":"Collaborateur_Dossier[[#This Row],[Trigramme]]","v":0},{"$f":"IF(AND(Collaborateur_Dossier[[#This Row],[RoleDossier]]=\"Responsable\",Collaborateur_Dossier[[#This Row],[Defaut]]),Collaborateur_Dossier[[#This Row],[DossierCode]],\"\")","v":""},{"$f":"IF(Collaborateur_Dossier[[#This Row],[Collaborateur dossier]]<>\"\",Collaborateur_Dossier[[#This Row],[Trigramme]],\"\")","v":""}]
[null,null,null,null,null,null,null,null,null,null,null,null,null,null,null,null,null,null,{"$f":"IF(AND(SUMIFS(Collaborateur_Dossier[PourcentageFacturation],Collaborateur_Dossier[DossierId],Collaborateur_Dossier[[#This Row],[DossierId]])=0,Collaborateur_Dossier[[#This Row],[RoleDossier]]=\"Responsable\",Collaborateur_Dossier[[#This Row],[Defaut]]),1,Collaborateur_Dossier[[#This Row],[PourcentageFacturation]]/100)","v":0},{"$f":"_xlfn.CONCAT(Collaborateur_Dossier[[#This Row],[DossierCode]],\"|\",Collaborateur_Dossier[[#This Row],[RoleDossier]])","v":"|"},{"$f":"VLOOKUP(Collaborateur_Dossier[[#This Row],[DossierId]],Honoraire[[DossierId]:[Rappel Client ID]],44,FALSE)","v":{"$error":"#N/A"}},{"$f":"Collaborateur_Dossier[[#This Row],[CollaborateurId]]","v":0},{"$f":"Collaborateur_Dossier[[#This Row],[Trigramme]]","v":0},{"$f":"IF(AND(Collaborateur_Dossier[[#This Row],[RoleDossier]]=\"Responsable\",Collaborateur_Dossier[[#This Row],[Defaut]]),Collaborateur_Dossier[[#This Row],[DossierCode]],\"\")","v":""},{"$f":"IF(Collaborateur_Dossier[[#This Row],[Collaborateur dossier]]<>\"\",Collaborateur_Dossier[[#This Row],[Trigramme]],\"\")","v":""}]
[null,null,null,null,null,null,null,null,null,null,null,null,null,null,null,null,null,null,{"$f":"IF(AND(SUMIFS(Collaborateur_Dossier[PourcentageFacturation],Collaborateur_Dossier[DossierId],Collaborateur_Dossier[[#This Row],[DossierId]])=0,Collaborateur_Dossier[[#This Row],[RoleDossier]]=\"Responsable\",Collaborateur_Dossier[[#This Row],[Defaut]]),1,Collaborateur_Dossier[[#This Row],[PourcentageFacturation]]/100)","v":0},{"$f":"_xlfn.CONCAT(Collaborateur_Dossier[[#This Row],[DossierCode]],\"|\",Collaborateur_Dossier[[#This Row],[RoleDossier]])","v":"|"},{"$f":"VLOOKUP(Collaborateur_Dossier[[#This Row],[DossierId]],Honoraire[[DossierId]:[Rappel Client ID]],44,FALSE)","v":{"$error":"#N/A"}},{"$f":"Collaborateur_Dossier[[#This Row],[CollaborateurId]]","v":0},{"$f":"Collaborateur_Dossier[[#This Row],[Trigramme]]","v":0},{"$f":"IF(AND(Collaborateur_Dossier[[#This Row],[RoleDossier]]=\"Responsable\",Collaborateur_Dossier[[#This Row],[Defaut]]),Collaborateur_Dossier[[#This Row],[DossierCode]],\"\")","v":""},{"$f":"IF(Collaborateur_Dossier[[#This Row],[Collaborateur dossier]]<>\"\",Collaborateur_Dossier[[#This Row],[Trigramme]],\"\")","v":""}]
[null,null,null,null,null,null,null,null,null,null,null,null,null,null,null,null,null,null,{"$f":"IF(AND(SUMIFS(Collaborateur_Dossier[PourcentageFacturation],Collaborateur_Dossier[DossierId],Collaborateur_Dossier[[#This Row],[DossierId]])=0,Collaborateur_Dossier[[#This Row],[RoleDossier]]=\"Responsable\",Collaborateur_Dossier[[#This Row],[Defaut]]),1,Collaborateur_Dossier[[#This Row],[PourcentageFacturation]]/100)","v":0},{"$f":"_xlfn.CONCAT(Collaborateur_Dossier[[#This Row],[DossierCode]],\"|\",Collaborateur_Dossier[[#This Row],[RoleDossier]])","v":"|"},{"$f":"VLOOKUP(Collaborateur_Dossier[[#This Row],[DossierId]],Honoraire[[DossierId]:[Rappel Client ID]],44,FALSE)","v":{"$error":"#N/A"}},{"$f":"Collaborateur_Dossier[[#This Row],[CollaborateurId]]","v":0},{"$f":"Collaborateur_Dossier[[#This Row],[Trigramme]]","v":0},{"$f":"IF(AND(Collaborateur_Dossier[[#This Row],[RoleDossier]]=\"Responsable\",Collaborateur_Dossier[[#This Row],[Defaut]]),Collaborateur_Dossier[[#This Row],[DossierCode]],\"\")","v":""},{"$f":"IF(Collaborateur_Dossier[[#This Row],[Collaborateur dossier]]<>\"\",Collaborateur_Dossier[[#This Row],[Trigramme]],\"\")","v":""}]
[null,null,null,null,null,null,null,null,null,null,null,null,null,null,null,null,null,null,{"$f":"IF(AND(SUMIFS(Collaborateur_Dossier[PourcentageFacturation],Collaborateur_Dossier[DossierId],Collaborateur_Dossier[[#This Row],[DossierId]])=0,Collaborateur_Dossier[[#This Row],[RoleDossier]]=\"Responsable\",Collaborateur_Dossier[[#This Row],[Defaut]]),1,Collaborateur_Dossier[[#This Row],[PourcentageFacturation]]/100)","v":0},{"$f":"_xlfn.CONCAT(Collaborateur_Dossier[[#This Row],[DossierCode]],\"|\",Collaborateur_Dossier[[#This Row],[RoleDossier]])","v":"|"},{"$f":"VLOOKUP(Collaborateur_Dossier[[#This Row],[DossierId]],Honoraire[[DossierId]:[Rappel Client ID]],44,FALSE)","v":{"$error":"#N/A"}},{"$f":"Collaborateur_Dossier[[#This Row],[CollaborateurId]]","v":0},{"$f":"Collaborateur_Dossier[[#This Row],[Trigramme]]","v":0},{"$f":"IF(AND(Collaborateur_Dossier[[#This Row],[RoleDossier]]=\"Responsable\",Collaborateur_Dossier[[#This Row],[Defaut]]),Collaborateur_Dossier[[#This Row],[DossierCode]],\"\")","v":""},{"$f":"IF(Collaborateur_Dossier[[#This Row],[Collaborateur dossier]]<>\"\",Collaborateur_Dossier[[#This Row],[Trigramme]],\"\")","v":""}]
[null,null,null,null,null,null,null,null,null,null,null,null,null,null,null,null,null,null,{"$f":"IF(AND(SUMIFS(Collaborateur_Dossier[PourcentageFacturation],Collaborateur_Dossier[DossierId],Collaborateur_Dossier[[#This Row],[DossierId]])=0,Collaborateur_Dossier[[#This Row],[RoleDossier]]=\"Responsable\",Collaborateur_Dossier[[#This Row],[Defaut]]),1,Collaborateur_Dossier[[#This Row],[PourcentageFacturation]]/100)","v":0},{"$f":"_xlfn.CONCAT(Collaborateur_Dossier[[#This Row],[DossierCode]],\"|\",Collaborateur_Dossier[[#This Row],[RoleDossier]])","v":"|"},{"$f":"VLOOKUP(Collaborateur_Dossier[[#This Row],[DossierId]],Honoraire[[DossierId]:[Rappel Client ID]],44,FALSE)","v":{"$error":"#N/A"}},{"$f":"Collaborateur_Dossier[[#This Row],[CollaborateurId]]","v":0},{"$f":"Collaborateur_Dossier[[#This Row],[Trigramme]]","v":0},{"$f":"IF(AND(Collaborateur_Dossier[[#This Row],[RoleDossier]]=\"Responsable\",Collaborateur_Dossier[[#This Row],[Defaut]]),Collaborateur_Dossier[[#This Row],[DossierCode]],\"\")","v":""},{"$f":"IF(Collaborateur_Dossier[[#This Row],[Collaborateur dossier]]<>\"\",Collaborateur_Dossier[[#This Row],[Trigramme]],\"\")","v":""}]
[null,null,null,null,null,null,null,null,null,null,null,null,null,null,null,null,null,null,{"$f":"IF(AND(SUMIFS(Collaborateur_Dossier[PourcentageFacturation],Collaborateur_Dossier[DossierId],Collaborateur_Dossier[[#This Row],[DossierId]])=0,Collaborateur_Dossier[[#This Row],[RoleDossier]]=\"Responsable\",Collaborateur_Dossier[[#This Row],[Defaut]]),1,Collaborateur_Dossier[[#This Row],[PourcentageFacturation]]/100)","v":0},{"$f":"_xlfn.CONCAT(Collaborateur_Dossier[[#This Row],[DossierCode]],\"|\",Collaborateur_Dossier[[#This Row],[RoleDossier]])","v":"|"},{"$f":"VLOOKUP(Collaborateur_Dossier[[#This Row],[DossierId]],Honoraire[[DossierId]:[Rappel Client ID]],44,FALSE)","v":{"$error":"#N/A"}},{"$f":"Collaborateur_Dossier[[#This Row],[CollaborateurId]]","v":0},{"$f":"Collaborateur_Dossier[[#This Row],[Trigramme]]","v":0},{"$f":"IF(AND(Collaborateur_Dossier[[#This Row],[RoleDossier]]=\"Responsable\",Collaborateur_Dossier[[#This Row],[Defaut]]),Collaborateur_Dossier[[#This Row],[DossierCode]],\"\")","v":""},{"$f":"IF(Collaborateur_Dossier[[#This Row],[Collaborateur dossier]]<>\"\",Collaborateur_Dossier[[#This Row],[Trigramme]],\"\")","v":""}]
[null,null,null,null,null,null,null,null,null,null,null,null,null,null,null,null,null,null,{"$f":"IF(AND(SUMIFS(Collaborateur_Dossier[PourcentageFacturation],Collaborateur_Dossier[DossierId],Collaborateur_Dossier[[#This Row],[DossierId]])=0,Collaborateur_Dossier[[#This Row],[RoleDossier]]=\"Responsable\",Collaborateur_Dossier[[#This Row],[Defaut]]),1,Collaborateur_Dossier[[#This Row],[PourcentageFacturation]]/100)","v":0},{"$f":"_xlfn.CONCAT(Collaborateur_Dossier[[#This Row],[DossierCode]],\"|\",Collaborateur_Dossier[[#This Row],[RoleDossier]])","v":"|"},{"$f":"VLOOKUP(Collaborateur_Dossier[[#This Row],[DossierId]],Honoraire[[DossierId]:[Rappel Client ID]],44,FALSE)","v":{"$error":"#N/A"}},{"$f":"Collaborateur_Dossier[[#This Row],[CollaborateurId]]","v":0},{"$f":"Collaborateur_Dossier[[#This Row],[Trigramme]]","v":0},{"$f":"IF(AND(Collaborateur_Dossier[[#This Row],[RoleDossier]]=\"Responsable\",Collaborateur_Dossier[[#This Row],[Defaut]]),Collaborateur_Dossier[[#This Row],[DossierCode]],\"\")","v":""},{"$f":"IF(Collaborateur_Dossier[[#This Row],[Collaborateur dossier]]<>\"\",Collaborateur_Dossier[[#This Row],[Trigramme]],\"\")","v":""}]
[null,null,null,null,null,null,null,null,null,null,null,null,null,null,null,null,null,null,{"$f":"IF(AND(SUMIFS(Collaborateur_Dossier[PourcentageFacturation],Collaborateur_Dossier[DossierId],Collaborateur_Dossier[[#This Row],[DossierId]])=0,Collaborateur_Dossier[[#This Row],[RoleDossier]]=\"Responsable\",Collaborateur_Dossier[[#This Row],[Defaut]]),1,Collaborateur_Dossier[[#This Row],[PourcentageFacturation]]/100)","v":0},{"$f":"_xlfn.CONCAT(Collaborateur_Dossier[[#This Row],[DossierCode]],\"|\",Collaborateur_Dossier[[#This Row],[RoleDossier]])","v":"|"},{"$f":"VLOOKUP(Collaborateur_Dossier[[#This Row],[DossierId]],Honoraire[[DossierId]:[Rappel Client ID]],44,FALSE)","v":{"$error":"#N/A"}},{"$f":"Collaborateur_Dossier[[#This Row],[CollaborateurId]]","v":0},{"$f":"Collaborateur_Dossier[[#This Row],[Trigramme]]","v":0},{"$f":"IF(AND(Collaborateur_Dossier[[#This Row],[RoleDossier]]=\"Responsable\",Collaborateur_Dossier[[#This Row],[Defaut]]),Collaborateur_Dossier[[#This Row],[DossierCode]],\"\")","v":""},{"$f":"IF(Collaborateur_Dossier[[#This Row],[Collaborateur dossier]]<>\"\",Collaborateur_Dossier[[#This Row],[Trigramme]],\"\")","v":""}]
[null,null,null,null,null,null,null,null,null,null,null,null,null,null,null,null,null,null,{"$f":"IF(AND(SUMIFS(Collaborateur_Dossier[PourcentageFacturation],Collaborateur_Dossier[DossierId],Collaborateur_Dossier[[#This Row],[DossierId]])=0,Collaborateur_Dossier[[#This Row],[RoleDossier]]=\"Responsable\",Collaborateur_Dossier[[#This Row],[Defaut]]),1,Collaborateur_Dossier[[#This Row],[PourcentageFacturation]]/100)","v":0},{"$f":"_xlfn.CONCAT(Collaborateur_Dossier[[#This Row],[DossierCode]],\"|\",Collaborateur_Dossier[[#This Row],[RoleDossier]])","v":"|"},{"$f":"VLOOKUP(Collaborateur_Dossier[[#This Row],[DossierId]],Honoraire[[DossierId]:[Rappel Client ID]],44,FALSE)","v":{"$error":"#N/A"}},{"$f":"Collaborateur_Dossier[[#This Row],[CollaborateurId]]","v":0},{"$f":"Collaborateur_Dossier[[#This Row],[Trigramme]]","v":0},{"$f":"IF(AND(Collaborateur_Dossier[[#This Row],[RoleDossier]]=\"Responsable\",Collaborateur_Dossier[[#This Row],[Defaut]]),Collaborateur_Dossier[[#This Row],[DossierCode]],\"\")","v":""},{"$f":"IF(Collaborateur_Dossier[[#This Row],[Collaborateur dossier]]<>\"\",Collaborateur_Dossier[[#This Row],[Trigramme]],\"\")","v":""}]
[null,null,null,null,null,null,null,null,null,null,null,null,null,null,null,null,null,null,{"$f":"IF(AND(SUMIFS(Collaborateur_Dossier[PourcentageFacturation],Collaborateur_Dossier[DossierId],Collaborateur_Dossier[[#This Row],[DossierId]])=0,Collaborateur_Dossier[[#This Row],[RoleDossier]]=\"Responsable\",Collaborateur_Dossier[[#This Row],[Defaut]]),1,Collaborateur_Dossier[[#This Row],[PourcentageFacturation]]/100)","v":0},{"$f":"_xlfn.CONCAT(Collaborateur_Dossier[[#This Row],[DossierCode]],\"|\",Collaborateur_Dossier[[#This Row],[RoleDossier]])","v":"|"},{"$f":"VLOOKUP(Collaborateur_Dossier[[#This Row],[DossierId]],Honoraire[[DossierId]:[Rappel Client ID]],44,FALSE)","v":{"$error":"#N/A"}},{"$f":"Collaborateur_Dossier[[#This Row],[CollaborateurId]]","v":0},{"$f":"Collaborateur_Dossier[[#This Row],[Trigramme]]","v":0},{"$f":"IF(AND(Collaborateur_Dossier[[#This Row],[RoleDossier]]=\"Responsable\",Collaborateur_Dossier[[#This Row],[Defaut]]),Collaborateur_Dossier[[#This Row],[DossierCode]],\"\")","v":""},{"$f":"IF(Collaborateur_Dossier[[#This Row],[Collaborateur dossier]]<>\"\",Collaborateur_Dossier[[#This Row],[Trigramme]],\"\")","v":""}]
[null,null,null,null,null,null,null,null,null,null,null,null,null,null,null,null,null,null,{"$f":"IF(AND(SUMIFS(Collaborateur_Dossier[PourcentageFacturation],Collaborateur_Dossier[DossierId],Collaborateur_Dossier[[#This Row],[DossierId]])=0,Collaborateur_Dossier[[#This Row],[RoleDossier]]=\"Responsable\",Collaborateur_Dossier[[#This Row],[Defaut]]),1,Collaborateur_Dossier[[#This Row],[PourcentageFacturation]]/100)","v":0},{"$f":"_xlfn.CONCAT(Collaborateur_Dossier[[#This Row],[DossierCode]],\"|\",Collaborateur_Dossier[[#This Row],[RoleDossier]])","v":"|"},{"$f":"VLOOKUP(Collaborateur_Dossier[[#This Row],[DossierId]],Honoraire[[DossierId]:[Rappel Client ID]],44,FALSE)","v":{"$error":"#N/A"}},{"$f":"Collaborateur_Dossier[[#This Row],[CollaborateurId]]","v":0},{"$f":"Collaborateur_Dossier[[#This Row],[Trigramme]]","v":0},{"$f":"IF(AND(Collaborateur_Dossier[[#This Row],[RoleDossier]]=\"Responsable\",Collaborateur_Dossier[[#This Row],[Defaut]]),Collaborateur_Dossier[[#This Row],[DossierCode]],\"\")","v":""},{"$f":"IF(Collaborateur_Dossier[[#This Row],[Collaborateur dossier]]<>\"\",Collaborateur_Dossier[[#This Row],[Trigramme]],\"\")","v":""}]
[null,null,null,null,null,null,null,null,null,null,null,null,null,null,null,null,null,null,{"$f":"IF(AND(SUMIFS(Collaborateur_Dossier[PourcentageFacturation],Collaborateur_Dossier[DossierId],Collaborateur_Dossier[[#This Row],[DossierId]])=0,Collaborateur_Dossier[[#This Row],[RoleDossier]]=\"Responsable\",Collaborateur_Dossier[[#This Row],[Defaut]]),1,Collaborateur_Dossier[[#This Row],[PourcentageFacturation]]/100)","v":0},{"$f":"_xlfn.CONCAT(Collaborateur_Dossier[[#This Row],[DossierCode]],\"|\",Collaborateur_Dossier[[#This Row],[RoleDossier]])","v":"|"},{"$f":"VLOOKUP(Collaborateur_Dossier[[#This Row],[DossierId]],Honoraire[[DossierId]:[Rappel Client ID]],44,FALSE)","v":{"$error":"#N/A"}},{"$f":"Collaborateur_Dossier[[#This Row],[CollaborateurId]]","v":0},{"$f":"Collaborateur_Dossier[[#This Row],[Trigramme]]","v":0},{"$f":"IF(AND(Collaborateur_Dossier[[#This Row],[RoleDossier]]=\"Responsable\",Collaborateur_Dossier[[#This Row],[Defaut]]),Collaborateur_Dossier[[#This Row],[DossierCode]],\"\")","v":""},{"$f":"IF(Collaborateur_Dossier[[#This Row],[Collaborateur dossier]]<>\"\",Collaborateur_Dossier[[#This Row],[Trigramme]],\"\")","v":""}]
[null,null,null,null,null,null,null,null,null,null,null,null,null,null,null,null,null,null,{"$f":"IF(AND(SUMIFS(Collaborateur_Dossier[PourcentageFacturation],Collaborateur_Dossier[DossierId],Collaborateur_Dossier[[#This Row],[DossierId]])=0,Collaborateur_Dossier[[#This Row],[RoleDossier]]=\"Responsable\",Collaborateur_Dossier[[#This Row],[Defaut]]),1,Collaborateur_Dossier[[#This Row],[PourcentageFacturation]]/100)","v":0},{"$f":"_xlfn.CONCAT(Collaborateur_Dossier[[#This Row],[DossierCode]],\"|\",Collaborateur_Dossier[[#This Row],[RoleDossier]])","v":"|"},{"$f":"VLOOKUP(Collaborateur_Dossier[[#This Row],[DossierId]],Honoraire[[DossierId]:[Rappel Client ID]],44,FALSE)","v":{"$error":"#N/A"}},{"$f":"Collaborateur_Dossier[[#This Row],[CollaborateurId]]","v":0},{"$f":"Collaborateur_Dossier[[#This Row],[Trigramme]]","v":0},{"$f":"IF(AND(Collaborateur_Dossier[[#This Row],[RoleDossier]]=\"Responsable\",Collaborateur_Dossier[[#This Row],[Defaut]]),Collaborateur_Dossier[[#This Row],[DossierCode]],\"\")","v":""},{"$f":"IF(Collaborateur_Dossier[[#This Row],[Collaborateur dossier]]<>\"\",Collaborateur_Dossier[[#This Row],[Trigramme]],\"\")","v":""}]
[null,null,null,null,null,null,null,null,null,null,null,null,null,null,null,null,null,null,{"$f":"IF(AND(SUMIFS(Collaborateur_Dossier[PourcentageFacturation],Collaborateur_Dossier[DossierId],Collaborateur_Dossier[[#This Row],[DossierId]])=0,Collaborateur_Dossier[[#This Row],[RoleDossier]]=\"Responsable\",Collaborateur_Dossier[[#This Row],[Defaut]]),1,Collaborateur_Dossier[[#This Row],[PourcentageFacturation]]/100)","v":0},{"$f":"_xlfn.CONCAT(Collaborateur_Dossier[[#This Row],[DossierCode]],\"|\",Collaborateur_Dossier[[#This Row],[RoleDossier]])","v":"|"},{"$f":"VLOOKUP(Collaborateur_Dossier[[#This Row],[DossierId]],Honoraire[[DossierId]:[Rappel Client ID]],44,FALSE)","v":{"$error":"#N/A"}},{"$f":"Collaborateur_Dossier[[#This Row],[CollaborateurId]]","v":0},{"$f":"Collaborateur_Dossier[[#This Row],[Trigramme]]","v":0},{"$f":"IF(AND(Collaborateur_Dossier[[#This Row],[RoleDossier]]=\"Responsable\",Collaborateur_Dossier[[#This Row],[Defaut]]),Collaborateur_Dossier[[#This Row],[DossierCode]],\"\")","v":""},{"$f":"IF(Collaborateur_Dossier[[#This Row],[Collaborateur dossier]]<>\"\",Collaborateur_Dossier[[#This Row],[Trigramme]],\"\")","v":""}]
[null,null,null,null,null,null,null,null,null,null,null,null,null,null,null,null,null,null,{"$f":"IF(AND(SUMIFS(Collaborateur_Dossier[PourcentageFacturation],Collaborateur_Dossier[DossierId],Collaborateur_Dossier[[#This Row],[DossierId]])=0,Collaborateur_Dossier[[#This Row],[RoleDossier]]=\"Responsable\",Collaborateur_Dossier[[#This Row],[Defaut]]),1,Collaborateur_Dossier[[#This Row],[PourcentageFacturation]]/100)","v":0},{"$f":"_xlfn.CONCAT(Collaborateur_Dossier[[#This Row],[DossierCode]],\"|\",Collaborateur_Dossier[[#This Row],[RoleDossier]])","v":"|"},{"$f":"VLOOKUP(Collaborateur_Dossier[[#This Row],[DossierId]],Honoraire[[DossierId]:[Rappel Client ID]],44,FALSE)","v":{"$error":"#N/A"}},{"$f":"Collaborateur_Dossier[[#This Row],[CollaborateurId]]","v":0},{"$f":"Collaborateur_Dossier[[#This Row],[Trigramme]]","v":0},{"$f":"IF(AND(Collaborateur_Dossier[[#This Row],[RoleDossier]]=\"Responsable\",Collaborateur_Dossier[[#This Row],[Defaut]]),Collaborateur_Dossier[[#This Row],[DossierCode]],\"\")","v":""},{"$f":"IF(Collaborateur_Dossier[[#This Row],[Collaborateur dossier]]<>\"\",Collaborateur_Dossier[[#This Row],[Trigramme]],\"\")","v":""}]
[null,null,null,null,null,null,null,null,null,null,null,null,null,null,null,null,null,null,{"$f":"IF(AND(SUMIFS(Collaborateur_Dossier[PourcentageFacturation],Collaborateur_Dossier[DossierId],Collaborateur_Dossier[[#This Row],[DossierId]])=0,Collaborateur_Dossier[[#This Row],[RoleDossier]]=\"Responsable\",Collaborateur_Dossier[[#This Row],[Defaut]]),1,Collaborateur_Dossier[[#This Row],[PourcentageFacturation]]/100)","v":0},{"$f":"_xlfn.CONCAT(Collaborateur_Dossier[[#This Row],[DossierCode]],\"|\",Collaborateur_Dossier[[#This Row],[RoleDossier]])","v":"|"},{"$f":"VLOOKUP(Collaborateur_Dossier[[#This Row],[DossierId]],Honoraire[[DossierId]:[Rappel Client ID]],44,FALSE)","v":{"$error":"#N/A"}},{"$f":"Collaborateur_Dossier[[#This Row],[CollaborateurId]]","v":0},{"$f":"Collaborateur_Dossier[[#This Row],[Trigramme]]","v":0},{"$f":"IF(AND(Collaborateur_Dossier[[#This Row],[RoleDossier]]=\"Responsable\",Collaborateur_Dossier[[#This Row],[Defaut]]),Collaborateur_Dossier[[#This Row],[DossierCode]],\"\")","v":""},{"$f":"IF(Collaborateur_Dossier[[#This Row],[Collaborateur dossier]]<>\"\",Collaborateur_Dossier[[#This Row],[Trigramme]],\"\")","v":""}]
[null,null,null,null,null,null,null,null,null,null,null,null,null,null,null,null,null,null,{"$f":"IF(AND(SUMIFS(Collaborateur_Dossier[PourcentageFacturation],Collaborateur_Dossier[DossierId],Collaborateur_Dossier[[#This Row],[DossierId]])=0,Collaborateur_Dossier[[#This Row],[RoleDossier]]=\"Responsable\",Collaborateur_Dossier[[#This Row],[Defaut]]),1,Collaborateur_Dossier[[#This Row],[PourcentageFacturation]]/100)","v":0},{"$f":"_xlfn.CONCAT(Collaborateur_Dossier[[#This Row],[DossierCode]],\"|\",Collaborateur_Dossier[[#This Row],[RoleDossier]])","v":"|"},{"$f":"VLOOKUP(Collaborateur_Dossier[[#This Row],[DossierId]],Honoraire[[DossierId]:[Rappel Client ID]],44,FALSE)","v":{"$error":"#N/A"}},{"$f":"Collaborateur_Dossier[[#This Row],[CollaborateurId]]","v":0},{"$f":"Collaborateur_Dossier[[#This Row],[Trigramme]]","v":0},{"$f":"IF(AND(Collaborateur_Dossier[[#This Row],[RoleDossier]]=\"Responsable\",Collaborateur_Dossier[[#This Row],[Defaut]]),Collaborateur_Dossier[[#This Row],[DossierCode]],\"\")","v":""},{"$f":"IF(Collaborateur_Dossier[[#This Row],[Collaborateur dossier]]<>\"\",Collaborateur_Dossier[[#This Row],[Trigramme]],\"\")","v":""}]
[null,null,null,null,null,null,null,null,null,null,null,null,null,null,null,null,null,null,{"$f":"IF(AND(SUMIFS(Collaborateur_Dossier[PourcentageFacturation],Collaborateur_Dossier[DossierId],Collaborateur_Dossier[[#This Row],[DossierId]])=0,Collaborateur_Dossier[[#This Row],[RoleDossier]]=\"Responsable\",Collaborateur_Dossier[[#This Row],[Defaut]]),1,Collaborateur_Dossier[[#This Row],[PourcentageFacturation]]/100)","v":0},{"$f":"_xlfn.CONCAT(Collaborateur_Dossier[[#This Row],[DossierCode]],\"|\",Collaborateur_Dossier[[#This Row],[RoleDossier]])","v":"|"},{"$f":"VLOOKUP(Collaborateur_Dossier[[#This Row],[DossierId]],Honoraire[[DossierId]:[Rappel Client ID]],44,FALSE)","v":{"$error":"#N/A"}},{"$f":"Collaborateur_Dossier[[#This Row],[CollaborateurId]]","v":0},{"$f":"Collaborateur_Dossier[[#This Row],[Trigramme]]","v":0},{"$f":"IF(AND(Collaborateur_Dossier[[#This Row],[RoleDossier]]=\"Responsable\",Collaborateur_Dossier[[#This Row],[Defaut]]),Collaborateur_Dossier[[#This Row],[DossierCode]],\"\")","v":""},{"$f":"IF(Collaborateur_Dossier[[#This Row],[Collaborateur dossier]]<>\"\",Collaborateur_Dossier[[#This Row],[Trigramme]],\"\")","v":""}]
[null,null,null,null,null,null,null,null,null,null,null,null,null,null,null,null,null,null,{"$f":"IF(AND(SUMIFS(Collaborateur_Dossier[PourcentageFacturation],Collaborateur_Dossier[DossierId],Collaborateur_Dossier[[#This Row],[DossierId]])=0,Collaborateur_Dossier[[#This Row],[RoleDossier]]=\"Responsable\",Collaborateur_Dossier[[#This Row],[Defaut]]),1,Collaborateur_Dossier[[#This Row],[PourcentageFacturation]]/100)","v":0},{"$f":"_xlfn.CONCAT(Collaborateur_Dossier[[#This Row],[DossierCode]],\"|\",Collaborateur_Dossier[[#This Row],[RoleDossier]])","v":"|"},{"$f":"VLOOKUP(Collaborateur_Dossier[[#This Row],[DossierId]],Honoraire[[DossierId]:[Rappel Client ID]],44,FALSE)","v":{"$error":"#N/A"}},{"$f":"Collaborateur_Dossier[[#This Row],[CollaborateurId]]","v":0},{"$f":"Collaborateur_Dossier[[#This Row],[Trigramme]]","v":0},{"$f":"IF(AND(Collaborateur_Dossier[[#This Row],[RoleDossier]]=\"Responsable\",Collaborateur_Dossier[[#This Row],[Defaut]]),Collaborateur_Dossier[[#This Row],[DossierCode]],\"\")","v":""},{"$f":"IF(Collaborateur_Dossier[[#This Row],[Collaborateur dossier]]<>\"\",Collaborateur_Dossier[[#This Row],[Trigramme]],\"\")","v":""}]
[null,null,null,null,null,null,null,null,null,null,null,null,null,null,null,null,null,null,{"$f":"IF(AND(SUMIFS(Collaborateur_Dossier[PourcentageFacturation],Collaborateur_Dossier[DossierId],Collaborateur_Dossier[[#This Row],[DossierId]])=0,Collaborateur_Dossier[[#This Row],[RoleDossier]]=\"Responsable\",Collaborateur_Dossier[[#This Row],[Defaut]]),1,Collaborateur_Dossier[[#This Row],[PourcentageFacturation]]/100)","v":0},{"$f":"_xlfn.CONCAT(Collaborateur_Dossier[[#This Row],[DossierCode]],\"|\",Collaborateur_Dossier[[#This Row],[RoleDossier]])","v":"|"},{"$f":"VLOOKUP(Collaborateur_Dossier[[#This Row],[DossierId]],Honoraire[[DossierId]:[Rappel Client ID]],44,FALSE)","v":{"$error":"#N/A"}},{"$f":"Collaborateur_Dossier[[#This Row],[CollaborateurId]]","v":0},{"$f":"Collaborateur_Dossier[[#This Row],[Trigramme]]","v":0},{"$f":"IF(AND(Collaborateur_Dossier[[#This Row],[RoleDossier]]=\"Responsable\",Collaborateur_Dossier[[#This Row],[Defaut]]),Collaborateur_Dossier[[#This Row],[DossierCode]],\"\")","v":""},{"$f":"IF(Collaborateur_Dossier[[#This Row],[Collaborateur dossier]]<>\"\",Collaborateur_Dossier[[#This Row],[Trigramme]],\"\")","v":""}]
[null,null,null,null,null,null,null,null,null,null,null,null,null,null,null,null,null,null,{"$f":"IF(AND(SUMIFS(Collaborateur_Dossier[PourcentageFacturation],Collaborateur_Dossier[DossierId],Collaborateur_Dossier[[#This Row],[DossierId]])=0,Collaborateur_Dossier[[#This Row],[RoleDossier]]=\"Responsable\",Collaborateur_Dossier[[#This Row],[Defaut]]),1,Collaborateur_Dossier[[#This Row],[PourcentageFacturation]]/100)","v":0},{"$f":"_xlfn.CONCAT(Collaborateur_Dossier[[#This Row],[DossierCode]],\"|\",Collaborateur_Dossier[[#This Row],[RoleDossier]])","v":"|"},{"$f":"VLOOKUP(Collaborateur_Dossier[[#This Row],[DossierId]],Honoraire[[DossierId]:[Rappel Client ID]],44,FALSE)","v":{"$error":"#N/A"}},{"$f":"Collaborateur_Dossier[[#This Row],[CollaborateurId]]","v":0},{"$f":"Collaborateur_Dossier[[#This Row],[Trigramme]]","v":0},{"$f":"IF(AND(Collaborateur_Dossier[[#This Row],[RoleDossier]]=\"Responsable\",Collaborateur_Dossier[[#This Row],[Defaut]]),Collaborateur_Dossier[[#This Row],[DossierCode]],\"\")","v":""},{"$f":"IF(Collaborateur_Dossier[[#This Row],[Collaborateur dossier]]<>\"\",Collaborateur_Dossier[[#This Row],[Trigramme]],\"\")","v":""}]
[null,null,null,null,null,null,null,null,null,null,null,null,null,null,null,null,null,null,{"$f":"IF(AND(SUMIFS(Collaborateur_Dossier[PourcentageFacturation],Collaborateur_Dossier[DossierId],Collaborateur_Dossier[[#This Row],[DossierId]])=0,Collaborateur_Dossier[[#This Row],[RoleDossier]]=\"Responsable\",Collaborateur_Dossier[[#This Row],[Defaut]]),1,Collaborateur_Dossier[[#This Row],[PourcentageFacturation]]/100)","v":0},{"$f":"_xlfn.CONCAT(Collaborateur_Dossier[[#This Row],[DossierCode]],\"|\",Collaborateur_Dossier[[#This Row],[RoleDossier]])","v":"|"},{"$f":"VLOOKUP(Collaborateur_Dossier[[#This Row],[DossierId]],Honoraire[[DossierId]:[Rappel Client ID]],44,FALSE)","v":{"$error":"#N/A"}},{"$f":"Collaborateur_Dossier[[#This Row],[CollaborateurId]]","v":0},{"$f":"Collaborateur_Dossier[[#This Row],[Trigramme]]","v":0},{"$f":"IF(AND(Collaborateur_Dossier[[#This Row],[RoleDossier]]=\"Responsable\",Collaborateur_Dossier[[#This Row],[Defaut]]),Collaborateur_Dossier[[#This Row],[DossierCode]],\"\")","v":""},{"$f":"IF(Collaborateur_Dossier[[#This Row],[Collaborateur dossier]]<>\"\",Collaborateur_Dossier[[#This Row],[Trigramme]],\"\")","v":""}]
[null,null,null,null,null,null,null,null,null,null,null,null,null,null,null,null,null,null,{"$f":"IF(AND(SUMIFS(Collaborateur_Dossier[PourcentageFacturation],Collaborateur_Dossier[DossierId],Collaborateur_Dossier[[#This Row],[DossierId]])=0,Collaborateur_Dossier[[#This Row],[RoleDossier]]=\"Responsable\",Collaborateur_Dossier[[#This Row],[Defaut]]),1,Collaborateur_Dossier[[#This Row],[PourcentageFacturation]]/100)","v":0},{"$f":"_xlfn.CONCAT(Collaborateur_Dossier[[#This Row],[DossierCode]],\"|\",Collaborateur_Dossier[[#This Row],[RoleDossier]])","v":"|"},{"$f":"VLOOKUP(Collaborateur_Dossier[[#This Row],[DossierId]],Honoraire[[DossierId]:[Rappel Client ID]],44,FALSE)","v":{"$error":"#N/A"}},{"$f":"Collaborateur_Dossier[[#This Row],[CollaborateurId]]","v":0},{"$f":"Collaborateur_Dossier[[#This Row],[Trigramme]]","v":0},{"$f":"IF(AND(Collaborateur_Dossier[[#This Row],[RoleDossier]]=\"Responsable\",Collaborateur_Dossier[[#This Row],[Defaut]]),Collaborateur_Dossier[[#This Row],[DossierCode]],\"\")","v":""},{"$f":"IF(Collaborateur_Dossier[[#This Row],[Collaborateur dossier]]<>\"\",Collaborateur_Dossier[[#This Row],[Trigramme]],\"\")","v":""}]
[null,null,null,null,null,null,null,null,null,null,null,null,null,null,null,null,null,null,{"$f":"IF(AND(SUMIFS(Collaborateur_Dossier[PourcentageFacturation],Collaborateur_Dossier[DossierId],Collaborateur_Dossier[[#This Row],[DossierId]])=0,Collaborateur_Dossier[[#This Row],[RoleDossier]]=\"Responsable\",Collaborateur_Dossier[[#This Row],[Defaut]]),1,Collaborateur_Dossier[[#This Row],[PourcentageFacturation]]/100)","v":0},{"$f":"_xlfn.CONCAT(Collaborateur_Dossier[[#This Row],[DossierCode]],\"|\",Collaborateur_Dossier[[#This Row],[RoleDossier]])","v":"|"},{"$f":"VLOOKUP(Collaborateur_Dossier[[#This Row],[DossierId]],Honoraire[[DossierId]:[Rappel Client ID]],44,FALSE)","v":{"$error":"#N/A"}},{"$f":"Collaborateur_Dossier[[#This Row],[CollaborateurId]]","v":0},{"$f":"Collaborateur_Dossier[[#This Row],[Trigramme]]","v":0},{"$f":"IF(AND(Collaborateur_Dossier[[#This Row],[RoleDossier]]=\"Responsable\",Collaborateur_Dossier[[#This Row],[Defaut]]),Collaborateur_Dossier[[#This Row],[DossierCode]],\"\")","v":""},{"$f":"IF(Collaborateur_Dossier[[#This Row],[Collaborateur dossier]]<>\"\",Collaborateur_Dossier[[#This Row],[Trigramme]],\"\")","v":""}]
[null,null,null,null,null,null,null,null,null,null,null,null,null,null,null,null,null,null,{"$f":"IF(AND(SUMIFS(Collaborateur_Dossier[PourcentageFacturation],Collaborateur_Dossier[DossierId],Collaborateur_Dossier[[#This Row],[DossierId]])=0,Collaborateur_Dossier[[#This Row],[RoleDossier]]=\"Responsable\",Collaborateur_Dossier[[#This Row],[Defaut]]),1,Collaborateur_Dossier[[#This Row],[PourcentageFacturation]]/100)","v":0},{"$f":"_xlfn.CONCAT(Collaborateur_Dossier[[#This Row],[DossierCode]],\"|\",Collaborateur_Dossier[[#This Row],[RoleDossier]])","v":"|"},{"$f":"VLOOKUP(Collaborateur_Dossier[[#This Row],[DossierId]],Honoraire[[DossierId]:[Rappel Client ID]],44,FALSE)","v":{"$error":"#N/A"}},{"$f":"Collaborateur_Dossier[[#This Row],[CollaborateurId]]","v":0},{"$f":"Collaborateur_Dossier[[#This Row],[Trigramme]]","v":0},{"$f":"IF(AND(Collaborateur_Dossier[[#This Row],[RoleDossier]]=\"Responsable\",Collaborateur_Dossier[[#This Row],[Defaut]]),Collaborateur_Dossier[[#This Row],[DossierCode]],\"\")","v":""},{"$f":"IF(Collaborateur_Dossier[[#This Row],[Collaborateur dossier]]<>\"\",Collaborateur_Dossier[[#This Row],[Trigramme]],\"\")","v":""}]
[null,null,null,null,null,null,null,null,null,null,null,null,null,null,null,null,null,null,{"$f":"IF(AND(SUMIFS(Collaborateur_Dossier[PourcentageFacturation],Collaborateur_Dossier[DossierId],Collaborateur_Dossier[[#This Row],[DossierId]])=0,Collaborateur_Dossier[[#This Row],[RoleDossier]]=\"Responsable\",Collaborateur_Dossier[[#This Row],[Defaut]]),1,Collaborateur_Dossier[[#This Row],[PourcentageFacturation]]/100)","v":0},{"$f":"_xlfn.CONCAT(Collaborateur_Dossier[[#This Row],[DossierCode]],\"|\",Collaborateur_Dossier[[#This Row],[RoleDossier]])","v":"|"},{"$f":"VLOOKUP(Collaborateur_Dossier[[#This Row],[DossierId]],Honoraire[[DossierId]:[Rappel Client ID]],44,FALSE)","v":{"$error":"#N/A"}},{"$f":"Collaborateur_Dossier[[#This Row],[CollaborateurId]]","v":0},{"$f":"Collaborateur_Dossier[[#This Row],[Trigramme]]","v":0},{"$f":"IF(AND(Collaborateur_Dossier[[#This Row],[RoleDossier]]=\"Responsable\",Collaborateur_Dossier[[#This Row],[Defaut]]),Collaborateur_Dossier[[#This Row],[DossierCode]],\"\")","v":""},{"$f":"IF(Collaborateur_Dossier[[#This Row],[Collaborateur dossier]]<>\"\",Collaborateur_Dossier[[#This Row],[Trigramme]],\"\")","v":""}]
[null,null,null,null,null,null,null,null,null,null,null,null,null,null,null,null,null,null,{"$f":"IF(AND(SUMIFS(Collaborateur_Dossier[PourcentageFacturation],Collaborateur_Dossier[DossierId],Collaborateur_Dossier[[#This Row],[DossierId]])=0,Collaborateur_Dossier[[#This Row],[RoleDossier]]=\"Responsable\",Collaborateur_Dossier[[#This Row],[Defaut]]),1,Collaborateur_Dossier[[#This Row],[PourcentageFacturation]]/100)","v":0},{"$f":"_xlfn.CONCAT(Collaborateur_Dossier[[#This Row],[DossierCode]],\"|\",Collaborateur_Dossier[[#This Row],[RoleDossier]])","v":"|"},{"$f":"VLOOKUP(Collaborateur_Dossier[[#This Row],[DossierId]],Honoraire[[DossierId]:[Rappel Client ID]],44,FALSE)","v":{"$error":"#N/A"}},{"$f":"Collaborateur_Dossier[[#This Row],[CollaborateurId]]","v":0},{"$f":"Collaborateur_Dossier[[#This Row],[Trigramme]]","v":0},{"$f":"IF(AND(Collaborateur_Dossier[[#This Row],[RoleDossier]]=\"Responsable\",Collaborateur_Dossier[[#This Row],[Defaut]]),Collaborateur_Dossier[[#This Row],[DossierCode]],\"\")","v":""},{"$f":"IF(Collaborateur_Dossier[[#This Row],[Collaborateur dossier]]<>\"\",Collaborateur_Dossier[[#This Row],[Trigramme]],\"\")","v":""}]
[null,null,null,null,null,null,null,null,null,null,null,null,null,null,null,null,null,null,{"$f":"IF(AND(SUMIFS(Collaborateur_Dossier[PourcentageFacturation],Collaborateur_Dossier[DossierId],Collaborateur_Dossier[[#This Row],[DossierId]])=0,Collaborateur_Dossier[[#This Row],[RoleDossier]]=\"Responsable\",Collaborateur_Dossier[[#This Row],[Defaut]]),1,Collaborateur_Dossier[[#This Row],[PourcentageFacturation]]/100)","v":0},{"$f":"_xlfn.CONCAT(Collaborateur_Dossier[[#This Row],[DossierCode]],\"|\",Collaborateur_Dossier[[#This Row],[RoleDossier]])","v":"|"},{"$f":"VLOOKUP(Collaborateur_Dossier[[#This Row],[DossierId]],Honoraire[[DossierId]:[Rappel Client ID]],44,FALSE)","v":{"$error":"#N/A"}},{"$f":"Collaborateur_Dossier[[#This Row],[CollaborateurId]]","v":0},{"$f":"Collaborateur_Dossier[[#This Row],[Trigramme]]","v":0},{"$f":"IF(AND(Collaborateur_Dossier[[#This Row],[RoleDossier]]=\"Responsable\",Collaborateur_Dossier[[#This Row],[Defaut]]),Collaborateur_Dossier[[#This Row],[DossierCode]],\"\")","v":""},{"$f":"IF(Collaborateur_Dossier[[#This Row],[Collaborateur dossier]]<>\"\",Collaborateur_Dossier[[#This Row],[Trigramme]],\"\")","v":""}]
[null,null,null,null,null,null,null,null,null,null,null,null,null,null,null,null,null,null,{"$f":"IF(AND(SUMIFS(Collaborateur_Dossier[PourcentageFacturation],Collaborateur_Dossier[DossierId],Collaborateur_Dossier[[#This Row],[DossierId]])=0,Collaborateur_Dossier[[#This Row],[RoleDossier]]=\"Responsable\",Collaborateur_Dossier[[#This Row],[Defaut]]),1,Collaborateur_Dossier[[#This Row],[PourcentageFacturation]]/100)","v":0},{"$f":"_xlfn.CONCAT(Collaborateur_Dossier[[#This Row],[DossierCode]],\"|\",Collaborateur_Dossier[[#This Row],[RoleDossier]])","v":"|"},{"$f":"VLOOKUP(Collaborateur_Dossier[[#This Row],[DossierId]],Honoraire[[DossierId]:[Rappel Client ID]],44,FALSE)","v":{"$error":"#N/A"}},{"$f":"Collaborateur_Dossier[[#This Row],[CollaborateurId]]","v":0},{"$f":"Collaborateur_Dossier[[#This Row],[Trigramme]]","v":0},{"$f":"IF(AND(Collaborateur_Dossier[[#This Row],[RoleDossier]]=\"Responsable\",Collaborateur_Dossier[[#This Row],[Defaut]]),Collaborateur_Dossier[[#This Row],[DossierCode]],\"\")","v":""},{"$f":"IF(Collaborateur_Dossier[[#This Row],[Collaborateur dossier]]<>\"\",Collaborateur_Dossier[[#This Row],[Trigramme]],\"\")","v":""}]
[null,null,null,null,null,null,null,null,null,null,null,null,null,null,null,null,null,null,{"$f":"IF(AND(SUMIFS(Collaborateur_Dossier[PourcentageFacturation],Collaborateur_Dossier[DossierId],Collaborateur_Dossier[[#This Row],[DossierId]])=0,Collaborateur_Dossier[[#This Row],[RoleDossier]]=\"Responsable\",Collaborateur_Dossier[[#This Row],[Defaut]]),1,Collaborateur_Dossier[[#This Row],[PourcentageFacturation]]/100)","v":0},{"$f":"_xlfn.CONCAT(Collaborateur_Dossier[[#This Row],[DossierCode]],\"|\",Collaborateur_Dossier[[#This Row],[RoleDossier]])","v":"|"},{"$f":"VLOOKUP(Collaborateur_Dossier[[#This Row],[DossierId]],Honoraire[[DossierId]:[Rappel Client ID]],44,FALSE)","v":{"$error":"#N/A"}},{"$f":"Collaborateur_Dossier[[#This Row],[CollaborateurId]]","v":0},{"$f":"Collaborateur_Dossier[[#This Row],[Trigramme]]","v":0},{"$f":"IF(AND(Collaborateur_Dossier[[#This Row],[RoleDossier]]=\"Responsable\",Collaborateur_Dossier[[#This Row],[Defaut]]),Collaborateur_Dossier[[#This Row],[DossierCode]],\"\")","v":""},{"$f":"IF(Collaborateur_Dossier[[#This Row],[Collaborateur dossier]]<>\"\",Collaborateur_Dossier[[#This Row],[Trigramme]],\"\")","v":""}]
[null,null,null,null,null,null,null,null,null,null,null,null,null,null,null,null,null,null,{"$f":"IF(AND(SUMIFS(Collaborateur_Dossier[PourcentageFacturation],Collaborateur_Dossier[DossierId],Collaborateur_Dossier[[#This Row],[DossierId]])=0,Collaborateur_Dossier[[#This Row],[RoleDossier]]=\"Responsable\",Collaborateur_Dossier[[#This Row],[Defaut]]),1,Collaborateur_Dossier[[#This Row],[PourcentageFacturation]]/100)","v":0},{"$f":"_xlfn.CONCAT(Collaborateur_Dossier[[#This Row],[DossierCode]],\"|\",Collaborateur_Dossier[[#This Row],[RoleDossier]])","v":"|"},{"$f":"VLOOKUP(Collaborateur_Dossier[[#This Row],[DossierId]],Honoraire[[DossierId]:[Rappel Client ID]],44,FALSE)","v":{"$error":"#N/A"}},{"$f":"Collaborateur_Dossier[[#This Row],[CollaborateurId]]","v":0},{"$f":"Collaborateur_Dossier[[#This Row],[Trigramme]]","v":0},{"$f":"IF(AND(Collaborateur_Dossier[[#This Row],[RoleDossier]]=\"Responsable\",Collaborateur_Dossier[[#This Row],[Defaut]]),Collaborateur_Dossier[[#This Row],[DossierCode]],\"\")","v":""},{"$f":"IF(Collaborateur_Dossier[[#This Row],[Collaborateur dossier]]<>\"\",Collaborateur_Dossier[[#This Row],[Trigramme]],\"\")","v":""}]
[null,null,null,null,null,null,null,null,null,null,null,null,null,null,null,null,null,null,{"$f":"IF(AND(SUMIFS(Collaborateur_Dossier[PourcentageFacturation],Collaborateur_Dossier[DossierId],Collaborateur_Dossier[[#This Row],[DossierId]])=0,Collaborateur_Dossier[[#This Row],[RoleDossier]]=\"Responsable\",Collaborateur_Dossier[[#This Row],[Defaut]]),1,Collaborateur_Dossier[[#This Row],[PourcentageFacturation]]/100)","v":0},{"$f":"_xlfn.CONCAT(Collaborateur_Dossier[[#This Row],[DossierCode]],\"|\",Collaborateur_Dossier[[#This Row],[RoleDossier]])","v":"|"},{"$f":"VLOOKUP(Collaborateur_Dossier[[#This Row],[DossierId]],Honoraire[[DossierId]:[Rappel Client ID]],44,FALSE)","v":{"$error":"#N/A"}},{"$f":"Collaborateur_Dossier[[#This Row],[CollaborateurId]]","v":0},{"$f":"Collaborateur_Dossier[[#This Row],[Trigramme]]","v":0},{"$f":"IF(AND(Collaborateur_Dossier[[#This Row],[RoleDossier]]=\"Responsable\",Collaborateur_Dossier[[#This Row],[Defaut]]),Collaborateur_Dossier[[#This Row],[DossierCode]],\"\")","v":""},{"$f":"IF(Collaborateur_Dossier[[#This Row],[Collaborateur dossier]]<>\"\",Collaborateur_Dossier[[#This Row],[Trigramme]],\"\")","v":""}]
[null,null,null,null,null,null,null,null,null,null,null,null,null,null,null,null,null,null,{"$f":"IF(AND(SUMIFS(Collaborateur_Dossier[PourcentageFacturation],Collaborateur_Dossier[DossierId],Collaborateur_Dossier[[#This Row],[DossierId]])=0,Collaborateur_Dossier[[#This Row],[RoleDossier]]=\"Responsable\",Collaborateur_Dossier[[#This Row],[Defaut]]),1,Collaborateur_Dossier[[#This Row],[PourcentageFacturation]]/100)","v":0},{"$f":"_xlfn.CONCAT(Collaborateur_Dossier[[#This Row],[DossierCode]],\"|\",Collaborateur_Dossier[[#This Row],[RoleDossier]])","v":"|"},{"$f":"VLOOKUP(Collaborateur_Dossier[[#This Row],[DossierId]],Honoraire[[DossierId]:[Rappel Client ID]],44,FALSE)","v":{"$error":"#N/A"}},{"$f":"Collaborateur_Dossier[[#This Row],[CollaborateurId]]","v":0},{"$f":"Collaborateur_Dossier[[#This Row],[Trigramme]]","v":0},{"$f":"IF(AND(Collaborateur_Dossier[[#This Row],[RoleDossier]]=\"Responsable\",Collaborateur_Dossier[[#This Row],[Defaut]]),Collaborateur_Dossier[[#This Row],[DossierCode]],\"\")","v":""},{"$f":"IF(Collaborateur_Dossier[[#This Row],[Collaborateur dossier]]<>\"\",Collaborateur_Dossier[[#This Row],[Trigramme]],\"\")","v":""}]
[null,null,null,null,null,null,null,null,null,null,null,null,null,null,null,null,null,null,{"$f":"IF(AND(SUMIFS(Collaborateur_Dossier[PourcentageFacturation],Collaborateur_Dossier[DossierId],Collaborateur_Dossier[[#This Row],[DossierId]])=0,Collaborateur_Dossier[[#This Row],[RoleDossier]]=\"Responsable\",Collaborateur_Dossier[[#This Row],[Defaut]]),1,Collaborateur_Dossier[[#This Row],[PourcentageFacturation]]/100)","v":0},{"$f":"_xlfn.CONCAT(Collaborateur_Dossier[[#This Row],[DossierCode]],\"|\",Collaborateur_Dossier[[#This Row],[RoleDossier]])","v":"|"},{"$f":"VLOOKUP(Collaborateur_Dossier[[#This Row],[DossierId]],Honoraire[[DossierId]:[Rappel Client ID]],44,FALSE)","v":{"$error":"#N/A"}},{"$f":"Collaborateur_Dossier[[#This Row],[CollaborateurId]]","v":0},{"$f":"Collaborateur_Dossier[[#This Row],[Trigramme]]","v":0},{"$f":"IF(AND(Collaborateur_Dossier[[#This Row],[RoleDossier]]=\"Responsable\",Collaborateur_Dossier[[#This Row],[Defaut]]),Collaborateur_Dossier[[#This Row],[DossierCode]],\"\")","v":""},{"$f":"IF(Collaborateur_Dossier[[#This Row],[Collaborateur dossier]]<>\"\",Collaborateur_Dossier[[#This Row],[Trigramme]],\"\")","v":""}]
[null,null,null,null,null,null,null,null,null,null,null,null,null,null,null,null,null,null,{"$f":"IF(AND(SUMIFS(Collaborateur_Dossier[PourcentageFacturation],Collaborateur_Dossier[DossierId],Collaborateur_Dossier[[#This Row],[DossierId]])=0,Collaborateur_Dossier[[#This Row],[RoleDossier]]=\"Responsable\",Collaborateur_Dossier[[#This Row],[Defaut]]),1,Collaborateur_Dossier[[#This Row],[PourcentageFacturation]]/100)","v":0},{"$f":"_xlfn.CONCAT(Collaborateur_Dossier[[#This Row],[DossierCode]],\"|\",Collaborateur_Dossier[[#This Row],[RoleDossier]])","v":"|"},{"$f":"VLOOKUP(Collaborateur_Dossier[[#This Row],[DossierId]],Honoraire[[DossierId]:[Rappel Client ID]],44,FALSE)","v":{"$error":"#N/A"}},{"$f":"Collaborateur_Dossier[[#This Row],[CollaborateurId]]","v":0},{"$f":"Collaborateur_Dossier[[#This Row],[Trigramme]]","v":0},{"$f":"IF(AND(Collaborateur_Dossier[[#This Row],[RoleDossier]]=\"Responsable\",Collaborateur_Dossier[[#This Row],[Defaut]]),Collaborateur_Dossier[[#This Row],[DossierCode]],\"\")","v":""},{"$f":"IF(Collaborateur_Dossier[[#This Row],[Collaborateur dossier]]<>\"\",Collaborateur_Dossier[[#This Row],[Trigramme]],\"\")","v":""}]
[null,null,null,null,null,null,null,null,null,null,null,null,null,null,null,null,null,null,{"$f":"IF(AND(SUMIFS(Collaborateur_Dossier[PourcentageFacturation],Collaborateur_Dossier[DossierId],Collaborateur_Dossier[[#This Row],[DossierId]])=0,Collaborateur_Dossier[[#This Row],[RoleDossier]]=\"Responsable\",Collaborateur_Dossier[[#This Row],[Defaut]]),1,Collaborateur_Dossier[[#This Row],[PourcentageFacturation]]/100)","v":0},{"$f":"_xlfn.CONCAT(Collaborateur_Dossier[[#This Row],[DossierCode]],\"|\",Collaborateur_Dossier[[#This Row],[RoleDossier]])","v":"|"},{"$f":"VLOOKUP(Collaborateur_Dossier[[#This Row],[DossierId]],Honoraire[[DossierId]:[Rappel Client ID]],44,FALSE)","v":{"$error":"#N/A"}},{"$f":"Collaborateur_Dossier[[#This Row],[CollaborateurId]]","v":0},{"$f":"Collaborateur_Dossier[[#This Row],[Trigramme]]","v":0},{"$f":"IF(AND(Collaborateur_Dossier[[#This Row],[RoleDossier]]=\"Responsable\",Collaborateur_Dossier[[#This Row],[Defaut]]),Collaborateur_Dossier[[#This Row],[DossierCode]],\"\")","v":""},{"$f":"IF(Collaborateur_Dossier[[#This Row],[Collaborateur dossier]]<>\"\",Collaborateur_Dossier[[#This Row],[Trigramme]],\"\")","v":""}]
[null,null,null,null,null,null,null,null,null,null,null,null,null,null,null,null,null,null,{"$f":"IF(AND(SUMIFS(Collaborateur_Dossier[PourcentageFacturation],Collaborateur_Dossier[DossierId],Collaborateur_Dossier[[#This Row],[DossierId]])=0,Collaborateur_Dossier[[#This Row],[RoleDossier]]=\"Responsable\",Collaborateur_Dossier[[#This Row],[Defaut]]),1,Collaborateur_Dossier[[#This Row],[PourcentageFacturation]]/100)","v":0},{"$f":"_xlfn.CONCAT(Collaborateur_Dossier[[#This Row],[DossierCode]],\"|\",Collaborateur_Dossier[[#This Row],[RoleDossier]])","v":"|"},{"$f":"VLOOKUP(Collaborateur_Dossier[[#This Row],[DossierId]],Honoraire[[DossierId]:[Rappel Client ID]],44,FALSE)","v":{"$error":"#N/A"}},{"$f":"Collaborateur_Dossier[[#This Row],[CollaborateurId]]","v":0},{"$f":"Collaborateur_Dossier[[#This Row],[Trigramme]]","v":0},{"$f":"IF(AND(Collaborateur_Dossier[[#This Row],[RoleDossier]]=\"Responsable\",Collaborateur_Dossier[[#This Row],[Defaut]]),Collaborateur_Dossier[[#This Row],[DossierCode]],\"\")","v":""},{"$f":"IF(Collaborateur_Dossier[[#This Row],[Collaborateur dossier]]<>\"\",Collaborateur_Dossier[[#This Row],[Trigramme]],\"\")","v":""}]
[null,null,null,null,null,null,null,null,null,null,null,null,null,null,null,null,null,null,{"$f":"IF(AND(SUMIFS(Collaborateur_Dossier[PourcentageFacturation],Collaborateur_Dossier[DossierId],Collaborateur_Dossier[[#This Row],[DossierId]])=0,Collaborateur_Dossier[[#This Row],[RoleDossier]]=\"Responsable\",Collaborateur_Dossier[[#This Row],[Defaut]]),1,Collaborateur_Dossier[[#This Row],[PourcentageFacturation]]/100)","v":0},{"$f":"_xlfn.CONCAT(Collaborateur_Dossier[[#This Row],[DossierCode]],\"|\",Collaborateur_Dossier[[#This Row],[RoleDossier]])","v":"|"},{"$f":"VLOOKUP(Collaborateur_Dossier[[#This Row],[DossierId]],Honoraire[[DossierId]:[Rappel Client ID]],44,FALSE)","v":{"$error":"#N/A"}},{"$f":"Collaborateur_Dossier[[#This Row],[CollaborateurId]]","v":0},{"$f":"Collaborateur_Dossier[[#This Row],[Trigramme]]","v":0},{"$f":"IF(AND(Collaborateur_Dossier[[#This Row],[RoleDossier]]=\"Responsable\",Collaborateur_Dossier[[#This Row],[Defaut]]),Collaborateur_Dossier[[#This Row],[DossierCode]],\"\")","v":""},{"$f":"IF(Collaborateur_Dossier[[#This Row],[Collaborateur dossier]]<>\"\",Collaborateur_Dossier[[#This Row],[Trigramme]],\"\")","v":""}]
[null,null,null,null,null,null,null,null,null,null,null,null,null,null,null,null,null,null,{"$f":"IF(AND(SUMIFS(Collaborateur_Dossier[PourcentageFacturation],Collaborateur_Dossier[DossierId],Collaborateur_Dossier[[#This Row],[DossierId]])=0,Collaborateur_Dossier[[#This Row],[RoleDossier]]=\"Responsable\",Collaborateur_Dossier[[#This Row],[Defaut]]),1,Collaborateur_Dossier[[#This Row],[PourcentageFacturation]]/100)","v":0},{"$f":"_xlfn.CONCAT(Collaborateur_Dossier[[#This Row],[DossierCode]],\"|\",Collaborateur_Dossier[[#This Row],[RoleDossier]])","v":"|"},{"$f":"VLOOKUP(Collaborateur_Dossier[[#This Row],[DossierId]],Honoraire[[DossierId]:[Rappel Client ID]],44,FALSE)","v":{"$error":"#N/A"}},{"$f":"Collaborateur_Dossier[[#This Row],[CollaborateurId]]","v":0},{"$f":"Collaborateur_Dossier[[#This Row],[Trigramme]]","v":0},{"$f":"IF(AND(Collaborateur_Dossier[[#This Row],[RoleDossier]]=\"Responsable\",Collaborateur_Dossier[[#This Row],[Defaut]]),Collaborateur_Dossier[[#This Row],[DossierCode]],\"\")","v":""},{"$f":"IF(Collaborateur_Dossier[[#This Row],[Collaborateur dossier]]<>\"\",Collaborateur_Dossier[[#This Row],[Trigramme]],\"\")","v":""}]
[null,null,null,null,null,null,null,null,null,null,null,null,null,null,null,null,null,null,{"$f":"IF(AND(SUMIFS(Collaborateur_Dossier[PourcentageFacturation],Collaborateur_Dossier[DossierId],Collaborateur_Dossier[[#This Row],[DossierId]])=0,Collaborateur_Dossier[[#This Row],[RoleDossier]]=\"Responsable\",Collaborateur_Dossier[[#This Row],[Defaut]]),1,Collaborateur_Dossier[[#This Row],[PourcentageFacturation]]/100)","v":0},{"$f":"_xlfn.CONCAT(Collaborateur_Dossier[[#This Row],[DossierCode]],\"|\",Collaborateur_Dossier[[#This Row],[RoleDossier]])","v":"|"},{"$f":"VLOOKUP(Collaborateur_Dossier[[#This Row],[DossierId]],Honoraire[[DossierId]:[Rappel Client ID]],44,FALSE)","v":{"$error":"#N/A"}},{"$f":"Collaborateur_Dossier[[#This Row],[CollaborateurId]]","v":0},{"$f":"Collaborateur_Dossier[[#This Row],[Trigramme]]","v":0},{"$f":"IF(AND(Collaborateur_Dossier[[#This Row],[RoleDossier]]=\"Responsable\",Collaborateur_Dossier[[#This Row],[Defaut]]),Collaborateur_Dossier[[#This Row],[DossierCode]],\"\")","v":""},{"$f":"IF(Collaborateur_Dossier[[#This Row],[Collaborateur dossier]]<>\"\",Collaborateur_Dossier[[#This Row],[Trigramme]],\"\")","v":""}]
[null,null,null,null,null,null,null,null,null,null,null,null,null,null,null,null,null,null,{"$f":"IF(AND(SUMIFS(Collaborateur_Dossier[PourcentageFacturation],Collaborateur_Dossier[DossierId],Collaborateur_Dossier[[#This Row],[DossierId]])=0,Collaborateur_Dossier[[#This Row],[RoleDossier]]=\"Responsable\",Collaborateur_Dossier[[#This Row],[Defaut]]),1,Collaborateur_Dossier[[#This Row],[PourcentageFacturation]]/100)","v":0},{"$f":"_xlfn.CONCAT(Collaborateur_Dossier[[#This Row],[DossierCode]],\"|\",Collaborateur_Dossier[[#This Row],[RoleDossier]])","v":"|"},{"$f":"VLOOKUP(Collaborateur_Dossier[[#This Row],[DossierId]],Honoraire[[DossierId]:[Rappel Client ID]],44,FALSE)","v":{"$error":"#N/A"}},{"$f":"Collaborateur_Dossier[[#This Row],[CollaborateurId]]","v":0},{"$f":"Collaborateur_Dossier[[#This Row],[Trigramme]]","v":0},{"$f":"IF(AND(Collaborateur_Dossier[[#This Row],[RoleDossier]]=\"Responsable\",Collaborateur_Dossier[[#This Row],[Defaut]]),Collaborateur_Dossier[[#This Row],[DossierCode]],\"\")","v":""},{"$f":"IF(Collaborateur_Dossier[[#This Row],[Collaborateur dossier]]<>\"\",Collaborateur_Dossier[[#This Row],[Trigramme]],\"\")","v":""}]
[null,null,null,null,null,null,null,null,null,null,null,null,null,null,null,null,null,null,{"$f":"IF(AND(SUMIFS(Collaborateur_Dossier[PourcentageFacturation],Collaborateur_Dossier[DossierId],Collaborateur_Dossier[[#This Row],[DossierId]])=0,Collaborateur_Dossier[[#This Row],[RoleDossier]]=\"Responsable\",Collaborateur_Dossier[[#This Row],[Defaut]]),1,Collaborateur_Dossier[[#This Row],[PourcentageFacturation]]/100)","v":0},{"$f":"_xlfn.CONCAT(Collaborateur_Dossier[[#This Row],[DossierCode]],\"|\",Collaborateur_Dossier[[#This Row],[RoleDossier]])","v":"|"},{"$f":"VLOOKUP(Collaborateur_Dossier[[#This Row],[DossierId]],Honoraire[[DossierId]:[Rappel Client ID]],44,FALSE)","v":{"$error":"#N/A"}},{"$f":"Collaborateur_Dossier[[#This Row],[CollaborateurId]]","v":0},{"$f":"Collaborateur_Dossier[[#This Row],[Trigramme]]","v":0},{"$f":"IF(AND(Collaborateur_Dossier[[#This Row],[RoleDossier]]=\"Responsable\",Collaborateur_Dossier[[#This Row],[Defaut]]),Collaborateur_Dossier[[#This Row],[DossierCode]],\"\")","v":""},{"$f":"IF(Collaborateur_Dossier[[#This Row],[Collaborateur dossier]]<>\"\",Collaborateur_Dossier[[#This Row],[Trigramme]],\"\")","v":""}]
[null,null,null,null,null,null,null,null,null,null,null,null,null,null,null,null,null,null,{"$f":"IF(AND(SUMIFS(Collaborateur_Dossier[PourcentageFacturation],Collaborateur_Dossier[DossierId],Collaborateur_Dossier[[#This Row],[DossierId]])=0,Collaborateur_Dossier[[#This Row],[RoleDossier]]=\"Responsable\",Collaborateur_Dossier[[#This Row],[Defaut]]),1,Collaborateur_Dossier[[#This Row],[PourcentageFacturation]]/100)","v":0},{"$f":"_xlfn.CONCAT(Collaborateur_Dossier[[#This Row],[DossierCode]],\"|\",Collaborateur_Dossier[[#This Row],[RoleDossier]])","v":"|"},{"$f":"VLOOKUP(Collaborateur_Dossier[[#This Row],[DossierId]],Honoraire[[DossierId]:[Rappel Client ID]],44,FALSE)","v":{"$error":"#N/A"}},{"$f":"Collaborateur_Dossier[[#This Row],[CollaborateurId]]","v":0},{"$f":"Collaborateur_Dossier[[#This Row],[Trigramme]]","v":0},{"$f":"IF(AND(Collaborateur_Dossier[[#This Row],[RoleDossier]]=\"Responsable\",Collaborateur_Dossier[[#This Row],[Defaut]]),Collaborateur_Dossier[[#This Row],[DossierCode]],\"\")","v":""},{"$f":"IF(Collaborateur_Dossier[[#This Row],[Collaborateur dossier]]<>\"\",Collaborateur_Dossier[[#This Row],[Trigramme]],\"\")","v":""}]
[null,null,null,null,null,null,null,null,null,null,null,null,null,null,null,null,null,null,{"$f":"IF(AND(SUMIFS(Collaborateur_Dossier[PourcentageFacturation],Collaborateur_Dossier[DossierId],Collaborateur_Dossier[[#This Row],[DossierId]])=0,Collaborateur_Dossier[[#This Row],[RoleDossier]]=\"Responsable\",Collaborateur_Dossier[[#This Row],[Defaut]]),1,Collaborateur_Dossier[[#This Row],[PourcentageFacturation]]/100)","v":0},{"$f":"_xlfn.CONCAT(Collaborateur_Dossier[[#This Row],[DossierCode]],\"|\",Collaborateur_Dossier[[#This Row],[RoleDossier]])","v":"|"},{"$f":"VLOOKUP(Collaborateur_Dossier[[#This Row],[DossierId]],Honoraire[[DossierId]:[Rappel Client ID]],44,FALSE)","v":{"$error":"#N/A"}},{"$f":"Collaborateur_Dossier[[#This Row],[CollaborateurId]]","v":0},{"$f":"Collaborateur_Dossier[[#This Row],[Trigramme]]","v":0},{"$f":"IF(AND(Collaborateur_Dossier[[#This Row],[RoleDossier]]=\"Responsable\",Collaborateur_Dossier[[#This Row],[Defaut]]),Collaborateur_Dossier[[#This Row],[DossierCode]],\"\")","v":""},{"$f":"IF(Collaborateur_Dossier[[#This Row],[Collaborateur dossier]]<>\"\",Collaborateur_Dossier[[#This Row],[Trigramme]],\"\")","v":""}]
[null,null,null,null,null,null,null,null,null,null,null,null,null,null,null,null,null,null,{"$f":"IF(AND(SUMIFS(Collaborateur_Dossier[PourcentageFacturation],Collaborateur_Dossier[DossierId],Collaborateur_Dossier[[#This Row],[DossierId]])=0,Collaborateur_Dossier[[#This Row],[RoleDossier]]=\"Responsable\",Collaborateur_Dossier[[#This Row],[Defaut]]),1,Collaborateur_Dossier[[#This Row],[PourcentageFacturation]]/100)","v":0},{"$f":"_xlfn.CONCAT(Collaborateur_Dossier[[#This Row],[DossierCode]],\"|\",Collaborateur_Dossier[[#This Row],[RoleDossier]])","v":"|"},{"$f":"VLOOKUP(Collaborateur_Dossier[[#This Row],[DossierId]],Honoraire[[DossierId]:[Rappel Client ID]],44,FALSE)","v":{"$error":"#N/A"}},{"$f":"Collaborateur_Dossier[[#This Row],[CollaborateurId]]","v":0},{"$f":"Collaborateur_Dossier[[#This Row],[Trigramme]]","v":0},{"$f":"IF(AND(Collaborateur_Dossier[[#This Row],[RoleDossier]]=\"Responsable\",Collaborateur_Dossier[[#This Row],[Defaut]]),Collaborateur_Dossier[[#This Row],[DossierCode]],\"\")","v":""},{"$f":"IF(Collaborateur_Dossier[[#This Row],[Collaborateur dossier]]<>\"\",Collaborateur_Dossier[[#This Row],[Trigramme]],\"\")","v":""}]
[null,null,null,null,null,null,null,null,null,null,null,null,null,null,null,null,null,null,{"$f":"IF(AND(SUMIFS(Collaborateur_Dossier[PourcentageFacturation],Collaborateur_Dossier[DossierId],Collaborateur_Dossier[[#This Row],[DossierId]])=0,Collaborateur_Dossier[[#This Row],[RoleDossier]]=\"Responsable\",Collaborateur_Dossier[[#This Row],[Defaut]]),1,Collaborateur_Dossier[[#This Row],[PourcentageFacturation]]/100)","v":0},{"$f":"_xlfn.CONCAT(Collaborateur_Dossier[[#This Row],[DossierCode]],\"|\",Collaborateur_Dossier[[#This Row],[RoleDossier]])","v":"|"},{"$f":"VLOOKUP(Collaborateur_Dossier[[#This Row],[DossierId]],Honoraire[[DossierId]:[Rappel Client ID]],44,FALSE)","v":{"$error":"#N/A"}},{"$f":"Collaborateur_Dossier[[#This Row],[CollaborateurId]]","v":0},{"$f":"Collaborateur_Dossier[[#This Row],[Trigramme]]","v":0},{"$f":"IF(AND(Collaborateur_Dossier[[#This Row],[RoleDossier]]=\"Responsable\",Collaborateur_Dossier[[#This Row],[Defaut]]),Collaborateur_Dossier[[#This Row],[DossierCode]],\"\")","v":""},{"$f":"IF(Collaborateur_Dossier[[#This Row],[Collaborateur dossier]]<>\"\",Collaborateur_Dossier[[#This Row],[Trigramme]],\"\")","v":""}]
[null,null,null,null,null,null,null,null,null,null,null,null,null,null,null,null,null,null,{"$f":"IF(AND(SUMIFS(Collaborateur_Dossier[PourcentageFacturation],Collaborateur_Dossier[DossierId],Collaborateur_Dossier[[#This Row],[DossierId]])=0,Collaborateur_Dossier[[#This Row],[RoleDossier]]=\"Responsable\",Collaborateur_Dossier[[#This Row],[Defaut]]),1,Collaborateur_Dossier[[#This Row],[PourcentageFacturation]]/100)","v":0},{"$f":"_xlfn.CONCAT(Collaborateur_Dossier[[#This Row],[DossierCode]],\"|\",Collaborateur_Dossier[[#This Row],[RoleDossier]])","v":"|"},{"$f":"VLOOKUP(Collaborateur_Dossier[[#This Row],[DossierId]],Honoraire[[DossierId]:[Rappel Client ID]],44,FALSE)","v":{"$error":"#N/A"}},{"$f":"Collaborateur_Dossier[[#This Row],[CollaborateurId]]","v":0},{"$f":"Collaborateur_Dossier[[#This Row],[Trigramme]]","v":0},{"$f":"IF(AND(Collaborateur_Dossier[[#This Row],[RoleDossier]]=\"Responsable\",Collaborateur_Dossier[[#This Row],[Defaut]]),Collaborateur_Dossier[[#This Row],[DossierCode]],\"\")","v":""},{"$f":"IF(Collaborateur_Dossier[[#This Row],[Collaborateur dossier]]<>\"\",Collaborateur_Dossier[[#This Row],[Trigramme]],\"\")","v":""}]
[null,null,null,null,null,null,null,null,null,null,null,null,null,null,null,null,null,null,{"$f":"IF(AND(SUMIFS(Collaborateur_Dossier[PourcentageFacturation],Collaborateur_Dossier[DossierId],Collaborateur_Dossier[[#This Row],[DossierId]])=0,Collaborateur_Dossier[[#This Row],[RoleDossier]]=\"Responsable\",Collaborateur_Dossier[[#This Row],[Defaut]]),1,Collaborateur_Dossier[[#This Row],[PourcentageFacturation]]/100)","v":0},{"$f":"_xlfn.CONCAT(Collaborateur_Dossier[[#This Row],[DossierCode]],\"|\",Collaborateur_Dossier[[#This Row],[RoleDossier]])","v":"|"},{"$f":"VLOOKUP(Collaborateur_Dossier[[#This Row],[DossierId]],Honoraire[[DossierId]:[Rappel Client ID]],44,FALSE)","v":{"$error":"#N/A"}},{"$f":"Collaborateur_Dossier[[#This Row],[CollaborateurId]]","v":0},{"$f":"Collaborateur_Dossier[[#This Row],[Trigramme]]","v":0},{"$f":"IF(AND(Collaborateur_Dossier[[#This Row],[RoleDossier]]=\"Responsable\",Collaborateur_Dossier[[#This Row],[Defaut]]),Collaborateur_Dossier[[#This Row],[DossierCode]],\"\")","v":""},{"$f":"IF(Collaborateur_Dossier[[#This Row],[Collaborateur dossier]]<>\"\",Collaborateur_Dossier[[#This Row],[Trigramme]],\"\")","v":""}]
[null,null,null,null,null,null,null,null,null,null,null,null,null,null,null,null,null,null,{"$f":"IF(AND(SUMIFS(Collaborateur_Dossier[PourcentageFacturation],Collaborateur_Dossier[DossierId],Collaborateur_Dossier[[#This Row],[DossierId]])=0,Collaborateur_Dossier[[#This Row],[RoleDossier]]=\"Responsable\",Collaborateur_Dossier[[#This Row],[Defaut]]),1,Collaborateur_Dossier[[#This Row],[PourcentageFacturation]]/100)","v":0},{"$f":"_xlfn.CONCAT(Collaborateur_Dossier[[#This Row],[DossierCode]],\"|\",Collaborateur_Dossier[[#This Row],[RoleDossier]])","v":"|"},{"$f":"VLOOKUP(Collaborateur_Dossier[[#This Row],[DossierId]],Honoraire[[DossierId]:[Rappel Client ID]],44,FALSE)","v":{"$error":"#N/A"}},{"$f":"Collaborateur_Dossier[[#This Row],[CollaborateurId]]","v":0},{"$f":"Collaborateur_Dossier[[#This Row],[Trigramme]]","v":0},{"$f":"IF(AND(Collaborateur_Dossier[[#This Row],[RoleDossier]]=\"Responsable\",Collaborateur_Dossier[[#This Row],[Defaut]]),Collaborateur_Dossier[[#This Row],[DossierCode]],\"\")","v":""},{"$f":"IF(Collaborateur_Dossier[[#This Row],[Collaborateur dossier]]<>\"\",Collaborateur_Dossier[[#This Row],[Trigramme]],\"\")","v":""}]
[null,null,null,null,null,null,null,null,null,null,null,null,null,null,null,null,null,null,{"$f":"IF(AND(SUMIFS(Collaborateur_Dossier[PourcentageFacturation],Collaborateur_Dossier[DossierId],Collaborateur_Dossier[[#This Row],[DossierId]])=0,Collaborateur_Dossier[[#This Row],[RoleDossier]]=\"Responsable\",Collaborateur_Dossier[[#This Row],[Defaut]]),1,Collaborateur_Dossier[[#This Row],[PourcentageFacturation]]/100)","v":0},{"$f":"_xlfn.CONCAT(Collaborateur_Dossier[[#This Row],[DossierCode]],\"|\",Collaborateur_Dossier[[#This Row],[RoleDossier]])","v":"|"},{"$f":"VLOOKUP(Collaborateur_Dossier[[#This Row],[DossierId]],Honoraire[[DossierId]:[Rappel Client ID]],44,FALSE)","v":{"$error":"#N/A"}},{"$f":"Collaborateur_Dossier[[#This Row],[CollaborateurId]]","v":0},{"$f":"Collaborateur_Dossier[[#This Row],[Trigramme]]","v":0},{"$f":"IF(AND(Collaborateur_Dossier[[#This Row],[RoleDossier]]=\"Responsable\",Collaborateur_Dossier[[#This Row],[Defaut]]),Collaborateur_Dossier[[#This Row],[DossierCode]],\"\")","v":""},{"$f":"IF(Collaborateur_Dossier[[#This Row],[Collaborateur dossier]]<>\"\",Collaborateur_Dossier[[#This Row],[Trigramme]],\"\")","v":""}]
[null,null,null,null,null,null,null,null,null,null,null,null,null,null,null,null,null,null,{"$f":"IF(AND(SUMIFS(Collaborateur_Dossier[PourcentageFacturation],Collaborateur_Dossier[DossierId],Collaborateur_Dossier[[#This Row],[DossierId]])=0,Collaborateur_Dossier[[#This Row],[RoleDossier]]=\"Responsable\",Collaborateur_Dossier[[#This Row],[Defaut]]),1,Collaborateur_Dossier[[#This Row],[PourcentageFacturation]]/100)","v":0},{"$f":"_xlfn.CONCAT(Collaborateur_Dossier[[#This Row],[DossierCode]],\"|\",Collaborateur_Dossier[[#This Row],[RoleDossier]])","v":"|"},{"$f":"VLOOKUP(Collaborateur_Dossier[[#This Row],[DossierId]],Honoraire[[DossierId]:[Rappel Client ID]],44,FALSE)","v":{"$error":"#N/A"}},{"$f":"Collaborateur_Dossier[[#This Row],[CollaborateurId]]","v":0},{"$f":"Collaborateur_Dossier[[#This Row],[Trigramme]]","v":0},{"$f":"IF(AND(Collaborateur_Dossier[[#This Row],[RoleDossier]]=\"Responsable\",Collaborateur_Dossier[[#This Row],[Defaut]]),Collaborateur_Dossier[[#This Row],[DossierCode]],\"\")","v":""},{"$f":"IF(Collaborateur_Dossier[[#This Row],[Collaborateur dossier]]<>\"\",Collaborateur_Dossier[[#This Row],[Trigramme]],\"\")","v":""}]
[null,null,null,null,null,null,null,null,null,null,null,null,null,null,null,null,null,null,{"$f":"IF(AND(SUMIFS(Collaborateur_Dossier[PourcentageFacturation],Collaborateur_Dossier[DossierId],Collaborateur_Dossier[[#This Row],[DossierId]])=0,Collaborateur_Dossier[[#This Row],[RoleDossier]]=\"Responsable\",Collaborateur_Dossier[[#This Row],[Defaut]]),1,Collaborateur_Dossier[[#This Row],[PourcentageFacturation]]/100)","v":0},{"$f":"_xlfn.CONCAT(Collaborateur_Dossier[[#This Row],[DossierCode]],\"|\",Collaborateur_Dossier[[#This Row],[RoleDossier]])","v":"|"},{"$f":"VLOOKUP(Collaborateur_Dossier[[#This Row],[DossierId]],Honoraire[[DossierId]:[Rappel Client ID]],44,FALSE)","v":{"$error":"#N/A"}},{"$f":"Collaborateur_Dossier[[#This Row],[CollaborateurId]]","v":0},{"$f":"Collaborateur_Dossier[[#This Row],[Trigramme]]","v":0},{"$f":"IF(AND(Collaborateur_Dossier[[#This Row],[RoleDossier]]=\"Responsable\",Collaborateur_Dossier[[#This Row],[Defaut]]),Collaborateur_Dossier[[#This Row],[DossierCode]],\"\")","v":""},{"$f":"IF(Collaborateur_Dossier[[#This Row],[Collaborateur dossier]]<>\"\",Collaborateur_Dossier[[#This Row],[Trigramme]],\"\")","v":""}]
[null,null,null,null,null,null,null,null,null,null,null,null,null,null,null,null,null,null,{"$f":"IF(AND(SUMIFS(Collaborateur_Dossier[PourcentageFacturation],Collaborateur_Dossier[DossierId],Collaborateur_Dossier[[#This Row],[DossierId]])=0,Collaborateur_Dossier[[#This Row],[RoleDossier]]=\"Responsable\",Collaborateur_Dossier[[#This Row],[Defaut]]),1,Collaborateur_Dossier[[#This Row],[PourcentageFacturation]]/100)","v":0},{"$f":"_xlfn.CONCAT(Collaborateur_Dossier[[#This Row],[DossierCode]],\"|\",Collaborateur_Dossier[[#This Row],[RoleDossier]])","v":"|"},{"$f":"VLOOKUP(Collaborateur_Dossier[[#This Row],[DossierId]],Honoraire[[DossierId]:[Rappel Client ID]],44,FALSE)","v":{"$error":"#N/A"}},{"$f":"Collaborateur_Dossier[[#This Row],[CollaborateurId]]","v":0},{"$f":"Collaborateur_Dossier[[#This Row],[Trigramme]]","v":0},{"$f":"IF(AND(Collaborateur_Dossier[[#This Row],[RoleDossier]]=\"Responsable\",Collaborateur_Dossier[[#This Row],[Defaut]]),Collaborateur_Dossier[[#This Row],[DossierCode]],\"\")","v":""},{"$f":"IF(Collaborateur_Dossier[[#This Row],[Collaborateur dossier]]<>\"\",Collaborateur_Dossier[[#This Row],[Trigramme]],\"\")","v":""}]
[null,null,null,null,null,null,null,null,null,null,null,null,null,null,null,null,null,null,{"$f":"IF(AND(SUMIFS(Collaborateur_Dossier[PourcentageFacturation],Collaborateur_Dossier[DossierId],Collaborateur_Dossier[[#This Row],[DossierId]])=0,Collaborateur_Dossier[[#This Row],[RoleDossier]]=\"Responsable\",Collaborateur_Dossier[[#This Row],[Defaut]]),1,Collaborateur_Dossier[[#This Row],[PourcentageFacturation]]/100)","v":0},{"$f":"_xlfn.CONCAT(Collaborateur_Dossier[[#This Row],[DossierCode]],\"|\",Collaborateur_Dossier[[#This Row],[RoleDossier]])","v":"|"},{"$f":"VLOOKUP(Collaborateur_Dossier[[#This Row],[DossierId]],Honoraire[[DossierId]:[Rappel Client ID]],44,FALSE)","v":{"$error":"#N/A"}},{"$f":"Collaborateur_Dossier[[#This Row],[CollaborateurId]]","v":0},{"$f":"Collaborateur_Dossier[[#This Row],[Trigramme]]","v":0},{"$f":"IF(AND(Collaborateur_Dossier[[#This Row],[RoleDossier]]=\"Responsable\",Collaborateur_Dossier[[#This Row],[Defaut]]),Collaborateur_Dossier[[#This Row],[DossierCode]],\"\")","v":""},{"$f":"IF(Collaborateur_Dossier[[#This Row],[Collaborateur dossier]]<>\"\",Collaborateur_Dossier[[#This Row],[Trigramme]],\"\")","v":""}]
[null,null,null,null,null,null,null,null,null,null,null,null,null,null,null,null,null,null,{"$f":"IF(AND(SUMIFS(Collaborateur_Dossier[PourcentageFacturation],Collaborateur_Dossier[DossierId],Collaborateur_Dossier[[#This Row],[DossierId]])=0,Collaborateur_Dossier[[#This Row],[RoleDossier]]=\"Responsable\",Collaborateur_Dossier[[#This Row],[Defaut]]),1,Collaborateur_Dossier[[#This Row],[PourcentageFacturation]]/100)","v":0},{"$f":"_xlfn.CONCAT(Collaborateur_Dossier[[#This Row],[DossierCode]],\"|\",Collaborateur_Dossier[[#This Row],[RoleDossier]])","v":"|"},{"$f":"VLOOKUP(Collaborateur_Dossier[[#This Row],[DossierId]],Honoraire[[DossierId]:[Rappel Client ID]],44,FALSE)","v":{"$error":"#N/A"}},{"$f":"Collaborateur_Dossier[[#This Row],[CollaborateurId]]","v":0},{"$f":"Collaborateur_Dossier[[#This Row],[Trigramme]]","v":0},{"$f":"IF(AND(Collaborateur_Dossier[[#This Row],[RoleDossier]]=\"Responsable\",Collaborateur_Dossier[[#This Row],[Defaut]]),Collaborateur_Dossier[[#This Row],[DossierCode]],\"\")","v":""},{"$f":"IF(Collaborateur_Dossier[[#This Row],[Collaborateur dossier]]<>\"\",Collaborateur_Dossier[[#This Row],[Trigramme]],\"\")","v":""}]
[null,null,null,null,null,null,null,null,null,null,null,null,null,null,null,null,null,null,{"$f":"IF(AND(SUMIFS(Collaborateur_Dossier[PourcentageFacturation],Collaborateur_Dossier[DossierId],Collaborateur_Dossier[[#This Row],[DossierId]])=0,Collaborateur_Dossier[[#This Row],[RoleDossier]]=\"Responsable\",Collaborateur_Dossier[[#This Row],[Defaut]]),1,Collaborateur_Dossier[[#This Row],[PourcentageFacturation]]/100)","v":0},{"$f":"_xlfn.CONCAT(Collaborateur_Dossier[[#This Row],[DossierCode]],\"|\",Collaborateur_Dossier[[#This Row],[RoleDossier]])","v":"|"},{"$f":"VLOOKUP(Collaborateur_Dossier[[#This Row],[DossierId]],Honoraire[[DossierId]:[Rappel Client ID]],44,FALSE)","v":{"$error":"#N/A"}},{"$f":"Collaborateur_Dossier[[#This Row],[CollaborateurId]]","v":0},{"$f":"Collaborateur_Dossier[[#This Row],[Trigramme]]","v":0},{"$f":"IF(AND(Collaborateur_Dossier[[#This Row],[RoleDossier]]=\"Responsable\",Collaborateur_Dossier[[#This Row],[Defaut]]),Collaborateur_Dossier[[#This Row],[DossierCode]],\"\")","v":""},{"$f":"IF(Collaborateur_Dossier[[#This Row],[Collaborateur dossier]]<>\"\",Collaborateur_Dossier[[#This Row],[Trigramme]],\"\")","v":""}]
[null,null,null,null,null,null,null,null,null,null,null,null,null,null,null,null,null,null,{"$f":"IF(AND(SUMIFS(Collaborateur_Dossier[PourcentageFacturation],Collaborateur_Dossier[DossierId],Collaborateur_Dossier[[#This Row],[DossierId]])=0,Collaborateur_Dossier[[#This Row],[RoleDossier]]=\"Responsable\",Collaborateur_Dossier[[#This Row],[Defaut]]),1,Collaborateur_Dossier[[#This Row],[PourcentageFacturation]]/100)","v":0},{"$f":"_xlfn.CONCAT(Collaborateur_Dossier[[#This Row],[DossierCode]],\"|\",Collaborateur_Dossier[[#This Row],[RoleDossier]])","v":"|"},{"$f":"VLOOKUP(Collaborateur_Dossier[[#This Row],[DossierId]],Honoraire[[DossierId]:[Rappel Client ID]],44,FALSE)","v":{"$error":"#N/A"}},{"$f":"Collaborateur_Dossier[[#This Row],[CollaborateurId]]","v":0},{"$f":"Collaborateur_Dossier[[#This Row],[Trigramme]]","v":0},{"$f":"IF(AND(Collaborateur_Dossier[[#This Row],[RoleDossier]]=\"Responsable\",Collaborateur_Dossier[[#This Row],[Defaut]]),Collaborateur_Dossier[[#This Row],[DossierCode]],\"\")","v":""},{"$f":"IF(Collaborateur_Dossier[[#This Row],[Collaborateur dossier]]<>\"\",Collaborateur_Dossier[[#This Row],[Trigramme]],\"\")","v":""}]
[null,null,null,null,null,null,null,null,null,null,null,null,null,null,null,null,null,null,{"$f":"IF(AND(SUMIFS(Collaborateur_Dossier[PourcentageFacturation],Collaborateur_Dossier[DossierId],Collaborateur_Dossier[[#This Row],[DossierId]])=0,Collaborateur_Dossier[[#This Row],[RoleDossier]]=\"Responsable\",Collaborateur_Dossier[[#This Row],[Defaut]]),1,Collaborateur_Dossier[[#This Row],[PourcentageFacturation]]/100)","v":0},{"$f":"_xlfn.CONCAT(Collaborateur_Dossier[[#This Row],[DossierCode]],\"|\",Collaborateur_Dossier[[#This Row],[RoleDossier]])","v":"|"},{"$f":"VLOOKUP(Collaborateur_Dossier[[#This Row],[DossierId]],Honoraire[[DossierId]:[Rappel Client ID]],44,FALSE)","v":{"$error":"#N/A"}},{"$f":"Collaborateur_Dossier[[#This Row],[CollaborateurId]]","v":0},{"$f":"Collaborateur_Dossier[[#This Row],[Trigramme]]","v":0},{"$f":"IF(AND(Collaborateur_Dossier[[#This Row],[RoleDossier]]=\"Responsable\",Collaborateur_Dossier[[#This Row],[Defaut]]),Collaborateur_Dossier[[#This Row],[DossierCode]],\"\")","v":""},{"$f":"IF(Collaborateur_Dossier[[#This Row],[Collaborateur dossier]]<>\"\",Collaborateur_Dossier[[#This Row],[Trigramme]],\"\")","v":""}]
[null,null,null,null,null,null,null,null,null,null,null,null,null,null,null,null,null,null,{"$f":"IF(AND(SUMIFS(Collaborateur_Dossier[PourcentageFacturation],Collaborateur_Dossier[DossierId],Collaborateur_Dossier[[#This Row],[DossierId]])=0,Collaborateur_Dossier[[#This Row],[RoleDossier]]=\"Responsable\",Collaborateur_Dossier[[#This Row],[Defaut]]),1,Collaborateur_Dossier[[#This Row],[PourcentageFacturation]]/100)","v":0},{"$f":"_xlfn.CONCAT(Collaborateur_Dossier[[#This Row],[DossierCode]],\"|\",Collaborateur_Dossier[[#This Row],[RoleDossier]])","v":"|"},{"$f":"VLOOKUP(Collaborateur_Dossier[[#This Row],[DossierId]],Honoraire[[DossierId]:[Rappel Client ID]],44,FALSE)","v":{"$error":"#N/A"}},{"$f":"Collaborateur_Dossier[[#This Row],[CollaborateurId]]","v":0},{"$f":"Collaborateur_Dossier[[#This Row],[Trigramme]]","v":0},{"$f":"IF(AND(Collaborateur_Dossier[[#This Row],[RoleDossier]]=\"Responsable\",Collaborateur_Dossier[[#This Row],[Defaut]]),Collaborateur_Dossier[[#This Row],[DossierCode]],\"\")","v":""},{"$f":"IF(Collaborateur_Dossier[[#This Row],[Collaborateur dossier]]<>\"\",Collaborateur_Dossier[[#This Row],[Trigramme]],\"\")","v":""}]
[null,null,null,null,null,null,null,null,null,null,null,null,null,null,null,null,null,null,{"$f":"IF(AND(SUMIFS(Collaborateur_Dossier[PourcentageFacturation],Collaborateur_Dossier[DossierId],Collaborateur_Dossier[[#This Row],[DossierId]])=0,Collaborateur_Dossier[[#This Row],[RoleDossier]]=\"Responsable\",Collaborateur_Dossier[[#This Row],[Defaut]]),1,Collaborateur_Dossier[[#This Row],[PourcentageFacturation]]/100)","v":0},{"$f":"_xlfn.CONCAT(Collaborateur_Dossier[[#This Row],[DossierCode]],\"|\",Collaborateur_Dossier[[#This Row],[RoleDossier]])","v":"|"},{"$f":"VLOOKUP(Collaborateur_Dossier[[#This Row],[DossierId]],Honoraire[[DossierId]:[Rappel Client ID]],44,FALSE)","v":{"$error":"#N/A"}},{"$f":"Collaborateur_Dossier[[#This Row],[CollaborateurId]]","v":0},{"$f":"Collaborateur_Dossier[[#This Row],[Trigramme]]","v":0},{"$f":"IF(AND(Collaborateur_Dossier[[#This Row],[RoleDossier]]=\"Responsable\",Collaborateur_Dossier[[#This Row],[Defaut]]),Collaborateur_Dossier[[#This Row],[DossierCode]],\"\")","v":""},{"$f":"IF(Collaborateur_Dossier[[#This Row],[Collaborateur dossier]]<>\"\",Collaborateur_Dossier[[#This Row],[Trigramme]],\"\")","v":""}]
[null,null,null,null,null,null,null,null,null,null,null,null,null,null,null,null,null,null,{"$f":"IF(AND(SUMIFS(Collaborateur_Dossier[PourcentageFacturation],Collaborateur_Dossier[DossierId],Collaborateur_Dossier[[#This Row],[DossierId]])=0,Collaborateur_Dossier[[#This Row],[RoleDossier]]=\"Responsable\",Collaborateur_Dossier[[#This Row],[Defaut]]),1,Collaborateur_Dossier[[#This Row],[PourcentageFacturation]]/100)","v":0},{"$f":"_xlfn.CONCAT(Collaborateur_Dossier[[#This Row],[DossierCode]],\"|\",Collaborateur_Dossier[[#This Row],[RoleDossier]])","v":"|"},{"$f":"VLOOKUP(Collaborateur_Dossier[[#This Row],[DossierId]],Honoraire[[DossierId]:[Rappel Client ID]],44,FALSE)","v":{"$error":"#N/A"}},{"$f":"Collaborateur_Dossier[[#This Row],[CollaborateurId]]","v":0},{"$f":"Collaborateur_Dossier[[#This Row],[Trigramme]]","v":0},{"$f":"IF(AND(Collaborateur_Dossier[[#This Row],[RoleDossier]]=\"Responsable\",Collaborateur_Dossier[[#This Row],[Defaut]]),Collaborateur_Dossier[[#This Row],[DossierCode]],\"\")","v":""},{"$f":"IF(Collaborateur_Dossier[[#This Row],[Collaborateur dossier]]<>\"\",Collaborateur_Dossier[[#This Row],[Trigramme]],\"\")","v":""}]
[null,null,null,null,null,null,null,null,null,null,null,null,null,null,null,null,null,null,{"$f":"IF(AND(SUMIFS(Collaborateur_Dossier[PourcentageFacturation],Collaborateur_Dossier[DossierId],Collaborateur_Dossier[[#This Row],[DossierId]])=0,Collaborateur_Dossier[[#This Row],[RoleDossier]]=\"Responsable\",Collaborateur_Dossier[[#This Row],[Defaut]]),1,Collaborateur_Dossier[[#This Row],[PourcentageFacturation]]/100)","v":0},{"$f":"_xlfn.CONCAT(Collaborateur_Dossier[[#This Row],[DossierCode]],\"|\",Collaborateur_Dossier[[#This Row],[RoleDossier]])","v":"|"},{"$f":"VLOOKUP(Collaborateur_Dossier[[#This Row],[DossierId]],Honoraire[[DossierId]:[Rappel Client ID]],44,FALSE)","v":{"$error":"#N/A"}},{"$f":"Collaborateur_Dossier[[#This Row],[CollaborateurId]]","v":0},{"$f":"Collaborateur_Dossier[[#This Row],[Trigramme]]","v":0},{"$f":"IF(AND(Collaborateur_Dossier[[#This Row],[RoleDossier]]=\"Responsable\",Collaborateur_Dossier[[#This Row],[Defaut]]),Collaborateur_Dossier[[#This Row],[DossierCode]],\"\")","v":""},{"$f":"IF(Collaborateur_Dossier[[#This Row],[Collaborateur dossier]]<>\"\",Collaborateur_Dossier[[#This Row],[Trigramme]],\"\")","v":""}]
[null,null,null,null,null,null,null,null,null,null,null,null,null,null,null,null,null,null,{"$f":"IF(AND(SUMIFS(Collaborateur_Dossier[PourcentageFacturation],Collaborateur_Dossier[DossierId],Collaborateur_Dossier[[#This Row],[DossierId]])=0,Collaborateur_Dossier[[#This Row],[RoleDossier]]=\"Responsable\",Collaborateur_Dossier[[#This Row],[Defaut]]),1,Collaborateur_Dossier[[#This Row],[PourcentageFacturation]]/100)","v":0},{"$f":"_xlfn.CONCAT(Collaborateur_Dossier[[#This Row],[DossierCode]],\"|\",Collaborateur_Dossier[[#This Row],[RoleDossier]])","v":"|"},{"$f":"VLOOKUP(Collaborateur_Dossier[[#This Row],[DossierId]],Honoraire[[DossierId]:[Rappel Client ID]],44,FALSE)","v":{"$error":"#N/A"}},{"$f":"Collaborateur_Dossier[[#This Row],[CollaborateurId]]","v":0},{"$f":"Collaborateur_Dossier[[#This Row],[Trigramme]]","v":0},{"$f":"IF(AND(Collaborateur_Dossier[[#This Row],[RoleDossier]]=\"Responsable\",Collaborateur_Dossier[[#This Row],[Defaut]]),Collaborateur_Dossier[[#This Row],[DossierCode]],\"\")","v":""},{"$f":"IF(Collaborateur_Dossier[[#This Row],[Collaborateur dossier]]<>\"\",Collaborateur_Dossier[[#This Row],[Trigramme]],\"\")","v":""}]
[null,null,null,null,null,null,null,null,null,null,null,null,null,null,null,null,null,null,{"$f":"IF(AND(SUMIFS(Collaborateur_Dossier[PourcentageFacturation],Collaborateur_Dossier[DossierId],Collaborateur_Dossier[[#This Row],[DossierId]])=0,Collaborateur_Dossier[[#This Row],[RoleDossier]]=\"Responsable\",Collaborateur_Dossier[[#This Row],[Defaut]]),1,Collaborateur_Dossier[[#This Row],[PourcentageFacturation]]/100)","v":0},{"$f":"_xlfn.CONCAT(Collaborateur_Dossier[[#This Row],[DossierCode]],\"|\",Collaborateur_Dossier[[#This Row],[RoleDossier]])","v":"|"},{"$f":"VLOOKUP(Collaborateur_Dossier[[#This Row],[DossierId]],Honoraire[[DossierId]:[Rappel Client ID]],44,FALSE)","v":{"$error":"#N/A"}},{"$f":"Collaborateur_Dossier[[#This Row],[CollaborateurId]]","v":0},{"$f":"Collaborateur_Dossier[[#This Row],[Trigramme]]","v":0},{"$f":"IF(AND(Collaborateur_Dossier[[#This Row],[RoleDossier]]=\"Responsable\",Collaborateur_Dossier[[#This Row],[Defaut]]),Collaborateur_Dossier[[#This Row],[DossierCode]],\"\")","v":""},{"$f":"IF(Collaborateur_Dossier[[#This Row],[Collaborateur dossier]]<>\"\",Collaborateur_Dossier[[#This Row],[Trigramme]],\"\")","v":""}]
[null,null,null,null,null,null,null,null,null,null,null,null,null,null,null,null,null,null,{"$f":"IF(AND(SUMIFS(Collaborateur_Dossier[PourcentageFacturation],Collaborateur_Dossier[DossierId],Collaborateur_Dossier[[#This Row],[DossierId]])=0,Collaborateur_Dossier[[#This Row],[RoleDossier]]=\"Responsable\",Collaborateur_Dossier[[#This Row],[Defaut]]),1,Collaborateur_Dossier[[#This Row],[PourcentageFacturation]]/100)","v":0},{"$f":"_xlfn.CONCAT(Collaborateur_Dossier[[#This Row],[DossierCode]],\"|\",Collaborateur_Dossier[[#This Row],[RoleDossier]])","v":"|"},{"$f":"VLOOKUP(Collaborateur_Dossier[[#This Row],[DossierId]],Honoraire[[DossierId]:[Rappel Client ID]],44,FALSE)","v":{"$error":"#N/A"}},{"$f":"Collaborateur_Dossier[[#This Row],[CollaborateurId]]","v":0},{"$f":"Collaborateur_Dossier[[#This Row],[Trigramme]]","v":0},{"$f":"IF(AND(Collaborateur_Dossier[[#This Row],[RoleDossier]]=\"Responsable\",Collaborateur_Dossier[[#This Row],[Defaut]]),Collaborateur_Dossier[[#This Row],[DossierCode]],\"\")","v":""},{"$f":"IF(Collaborateur_Dossier[[#This Row],[Collaborateur dossier]]<>\"\",Collaborateur_Dossier[[#This Row],[Trigramme]],\"\")","v":""}]
[null,null,null,null,null,null,null,null,null,null,null,null,null,null,null,null,null,null,{"$f":"IF(AND(SUMIFS(Collaborateur_Dossier[PourcentageFacturation],Collaborateur_Dossier[DossierId],Collaborateur_Dossier[[#This Row],[DossierId]])=0,Collaborateur_Dossier[[#This Row],[RoleDossier]]=\"Responsable\",Collaborateur_Dossier[[#This Row],[Defaut]]),1,Collaborateur_Dossier[[#This Row],[PourcentageFacturation]]/100)","v":0},{"$f":"_xlfn.CONCAT(Collaborateur_Dossier[[#This Row],[DossierCode]],\"|\",Collaborateur_Dossier[[#This Row],[RoleDossier]])","v":"|"},{"$f":"VLOOKUP(Collaborateur_Dossier[[#This Row],[DossierId]],Honoraire[[DossierId]:[Rappel Client ID]],44,FALSE)","v":{"$error":"#N/A"}},{"$f":"Collaborateur_Dossier[[#This Row],[CollaborateurId]]","v":0},{"$f":"Collaborateur_Dossier[[#This Row],[Trigramme]]","v":0},{"$f":"IF(AND(Collaborateur_Dossier[[#This Row],[RoleDossier]]=\"Responsable\",Collaborateur_Dossier[[#This Row],[Defaut]]),Collaborateur_Dossier[[#This Row],[DossierCode]],\"\")","v":""},{"$f":"IF(Collaborateur_Dossier[[#This Row],[Collaborateur dossier]]<>\"\",Collaborateur_Dossier[[#This Row],[Trigramme]],\"\")","v":""}]
[null,null,null,null,null,null,null,null,null,null,null,null,null,null,null,null,null,null,{"$f":"IF(AND(SUMIFS(Collaborateur_Dossier[PourcentageFacturation],Collaborateur_Dossier[DossierId],Collaborateur_Dossier[[#This Row],[DossierId]])=0,Collaborateur_Dossier[[#This Row],[RoleDossier]]=\"Responsable\",Collaborateur_Dossier[[#This Row],[Defaut]]),1,Collaborateur_Dossier[[#This Row],[PourcentageFacturation]]/100)","v":0},{"$f":"_xlfn.CONCAT(Collaborateur_Dossier[[#This Row],[DossierCode]],\"|\",Collaborateur_Dossier[[#This Row],[RoleDossier]])","v":"|"},{"$f":"VLOOKUP(Collaborateur_Dossier[[#This Row],[DossierId]],Honoraire[[DossierId]:[Rappel Client ID]],44,FALSE)","v":{"$error":"#N/A"}},{"$f":"Collaborateur_Dossier[[#This Row],[CollaborateurId]]","v":0},{"$f":"Collaborateur_Dossier[[#This Row],[Trigramme]]","v":0},{"$f":"IF(AND(Collaborateur_Dossier[[#This Row],[RoleDossier]]=\"Responsable\",Collaborateur_Dossier[[#This Row],[Defaut]]),Collaborateur_Dossier[[#This Row],[DossierCode]],\"\")","v":""},{"$f":"IF(Collaborateur_Dossier[[#This Row],[Collaborateur dossier]]<>\"\",Collaborateur_Dossier[[#This Row],[Trigramme]],\"\")","v":""}]
[null,null,null,null,null,null,null,null,null,null,null,null,null,null,null,null,null,null,{"$f":"IF(AND(SUMIFS(Collaborateur_Dossier[PourcentageFacturation],Collaborateur_Dossier[DossierId],Collaborateur_Dossier[[#This Row],[DossierId]])=0,Collaborateur_Dossier[[#This Row],[RoleDossier]]=\"Responsable\",Collaborateur_Dossier[[#This Row],[Defaut]]),1,Collaborateur_Dossier[[#This Row],[PourcentageFacturation]]/100)","v":0},{"$f":"_xlfn.CONCAT(Collaborateur_Dossier[[#This Row],[DossierCode]],\"|\",Collaborateur_Dossier[[#This Row],[RoleDossier]])","v":"|"},{"$f":"VLOOKUP(Collaborateur_Dossier[[#This Row],[DossierId]],Honoraire[[DossierId]:[Rappel Client ID]],44,FALSE)","v":{"$error":"#N/A"}},{"$f":"Collaborateur_Dossier[[#This Row],[CollaborateurId]]","v":0},{"$f":"Collaborateur_Dossier[[#This Row],[Trigramme]]","v":0},{"$f":"IF(AND(Collaborateur_Dossier[[#This Row],[RoleDossier]]=\"Responsable\",Collaborateur_Dossier[[#This Row],[Defaut]]),Collaborateur_Dossier[[#This Row],[DossierCode]],\"\")","v":""},{"$f":"IF(Collaborateur_Dossier[[#This Row],[Collaborateur dossier]]<>\"\",Collaborateur_Dossier[[#This Row],[Trigramme]],\"\")","v":""}]
[null,null,null,null,null,null,null,null,null,null,null,null,null,null,null,null,null,null,{"$f":"IF(AND(SUMIFS(Collaborateur_Dossier[PourcentageFacturation],Collaborateur_Dossier[DossierId],Collaborateur_Dossier[[#This Row],[DossierId]])=0,Collaborateur_Dossier[[#This Row],[RoleDossier]]=\"Responsable\",Collaborateur_Dossier[[#This Row],[Defaut]]),1,Collaborateur_Dossier[[#This Row],[PourcentageFacturation]]/100)","v":0},{"$f":"_xlfn.CONCAT(Collaborateur_Dossier[[#This Row],[DossierCode]],\"|\",Collaborateur_Dossier[[#This Row],[RoleDossier]])","v":"|"},{"$f":"VLOOKUP(Collaborateur_Dossier[[#This Row],[DossierId]],Honoraire[[DossierId]:[Rappel Client ID]],44,FALSE)","v":{"$error":"#N/A"}},{"$f":"Collaborateur_Dossier[[#This Row],[CollaborateurId]]","v":0},{"$f":"Collaborateur_Dossier[[#This Row],[Trigramme]]","v":0},{"$f":"IF(AND(Collaborateur_Dossier[[#This Row],[RoleDossier]]=\"Responsable\",Collaborateur_Dossier[[#This Row],[Defaut]]),Collaborateur_Dossier[[#This Row],[DossierCode]],\"\")","v":""},{"$f":"IF(Collaborateur_Dossier[[#This Row],[Collaborateur dossier]]<>\"\",Collaborateur_Dossier[[#This Row],[Trigramme]],\"\")","v":""}]
[null,null,null,null,null,null,null,null,null,null,null,null,null,null,null,null,null,null,{"$f":"IF(AND(SUMIFS(Collaborateur_Dossier[PourcentageFacturation],Collaborateur_Dossier[DossierId],Collaborateur_Dossier[[#This Row],[DossierId]])=0,Collaborateur_Dossier[[#This Row],[RoleDossier]]=\"Responsable\",Collaborateur_Dossier[[#This Row],[Defaut]]),1,Collaborateur_Dossier[[#This Row],[PourcentageFacturation]]/100)","v":0},{"$f":"_xlfn.CONCAT(Collaborateur_Dossier[[#This Row],[DossierCode]],\"|\",Collaborateur_Dossier[[#This Row],[RoleDossier]])","v":"|"},{"$f":"VLOOKUP(Collaborateur_Dossier[[#This Row],[DossierId]],Honoraire[[DossierId]:[Rappel Client ID]],44,FALSE)","v":{"$error":"#N/A"}},{"$f":"Collaborateur_Dossier[[#This Row],[CollaborateurId]]","v":0},{"$f":"Collaborateur_Dossier[[#This Row],[Trigramme]]","v":0},{"$f":"IF(AND(Collaborateur_Dossier[[#This Row],[RoleDossier]]=\"Responsable\",Collaborateur_Dossier[[#This Row],[Defaut]]),Collaborateur_Dossier[[#This Row],[DossierCode]],\"\")","v":""},{"$f":"IF(Collaborateur_Dossier[[#This Row],[Collaborateur dossier]]<>\"\",Collaborateur_Dossier[[#This Row],[Trigramme]],\"\")","v":""}]
[null,null,null,null,null,null,null,null,null,null,null,null,null,null,null,null,null,null,{"$f":"IF(AND(SUMIFS(Collaborateur_Dossier[PourcentageFacturation],Collaborateur_Dossier[DossierId],Collaborateur_Dossier[[#This Row],[DossierId]])=0,Collaborateur_Dossier[[#This Row],[RoleDossier]]=\"Responsable\",Collaborateur_Dossier[[#This Row],[Defaut]]),1,Collaborateur_Dossier[[#This Row],[PourcentageFacturation]]/100)","v":0},{"$f":"_xlfn.CONCAT(Collaborateur_Dossier[[#This Row],[DossierCode]],\"|\",Collaborateur_Dossier[[#This Row],[RoleDossier]])","v":"|"},{"$f":"VLOOKUP(Collaborateur_Dossier[[#This Row],[DossierId]],Honoraire[[DossierId]:[Rappel Client ID]],44,FALSE)","v":{"$error":"#N/A"}},{"$f":"Collaborateur_Dossier[[#This Row],[CollaborateurId]]","v":0},{"$f":"Collaborateur_Dossier[[#This Row],[Trigramme]]","v":0},{"$f":"IF(AND(Collaborateur_Dossier[[#This Row],[RoleDossier]]=\"Responsable\",Collaborateur_Dossier[[#This Row],[Defaut]]),Collaborateur_Dossier[[#This Row],[DossierCode]],\"\")","v":""},{"$f":"IF(Collaborateur_Dossier[[#This Row],[Collaborateur dossier]]<>\"\",Collaborateur_Dossier[[#This Row],[Trigramme]],\"\")","v":""}]
[null,null,null,null,null,null,null,null,null,null,null,null,null,null,null,null,null,null,{"$f":"IF(AND(SUMIFS(Collaborateur_Dossier[PourcentageFacturation],Collaborateur_Dossier[DossierId],Collaborateur_Dossier[[#This Row],[DossierId]])=0,Collaborateur_Dossier[[#This Row],[RoleDossier]]=\"Responsable\",Collaborateur_Dossier[[#This Row],[Defaut]]),1,Collaborateur_Dossier[[#This Row],[PourcentageFacturation]]/100)","v":0},{"$f":"_xlfn.CONCAT(Collaborateur_Dossier[[#This Row],[DossierCode]],\"|\",Collaborateur_Dossier[[#This Row],[RoleDossier]])","v":"|"},{"$f":"VLOOKUP(Collaborateur_Dossier[[#This Row],[DossierId]],Honoraire[[DossierId]:[Rappel Client ID]],44,FALSE)","v":{"$error":"#N/A"}},{"$f":"Collaborateur_Dossier[[#This Row],[CollaborateurId]]","v":0},{"$f":"Collaborateur_Dossier[[#This Row],[Trigramme]]","v":0},{"$f":"IF(AND(Collaborateur_Dossier[[#This Row],[RoleDossier]]=\"Responsable\",Collaborateur_Dossier[[#This Row],[Defaut]]),Collaborateur_Dossier[[#This Row],[DossierCode]],\"\")","v":""},{"$f":"IF(Collaborateur_Dossier[[#This Row],[Collaborateur dossier]]<>\"\",Collaborateur_Dossier[[#This Row],[Trigramme]],\"\")","v":""}]
[null,null,null,null,null,null,null,null,null,null,null,null,null,null,null,null,null,null,{"$f":"IF(AND(SUMIFS(Collaborateur_Dossier[PourcentageFacturation],Collaborateur_Dossier[DossierId],Collaborateur_Dossier[[#This Row],[DossierId]])=0,Collaborateur_Dossier[[#This Row],[RoleDossier]]=\"Responsable\",Collaborateur_Dossier[[#This Row],[Defaut]]),1,Collaborateur_Dossier[[#This Row],[PourcentageFacturation]]/100)","v":0},{"$f":"_xlfn.CONCAT(Collaborateur_Dossier[[#This Row],[DossierCode]],\"|\",Collaborateur_Dossier[[#This Row],[RoleDossier]])","v":"|"},{"$f":"VLOOKUP(Collaborateur_Dossier[[#This Row],[DossierId]],Honoraire[[DossierId]:[Rappel Client ID]],44,FALSE)","v":{"$error":"#N/A"}},{"$f":"Collaborateur_Dossier[[#This Row],[CollaborateurId]]","v":0},{"$f":"Collaborateur_Dossier[[#This Row],[Trigramme]]","v":0},{"$f":"IF(AND(Collaborateur_Dossier[[#This Row],[RoleDossier]]=\"Responsable\",Collaborateur_Dossier[[#This Row],[Defaut]]),Collaborateur_Dossier[[#This Row],[DossierCode]],\"\")","v":""},{"$f":"IF(Collaborateur_Dossier[[#This Row],[Collaborateur dossier]]<>\"\",Collaborateur_Dossier[[#This Row],[Trigramme]],\"\")","v":""}]
[null,null,null,null,null,null,null,null,null,null,null,null,null,null,null,null,null,null,{"$f":"IF(AND(SUMIFS(Collaborateur_Dossier[PourcentageFacturation],Collaborateur_Dossier[DossierId],Collaborateur_Dossier[[#This Row],[DossierId]])=0,Collaborateur_Dossier[[#This Row],[RoleDossier]]=\"Responsable\",Collaborateur_Dossier[[#This Row],[Defaut]]),1,Collaborateur_Dossier[[#This Row],[PourcentageFacturation]]/100)","v":0},{"$f":"_xlfn.CONCAT(Collaborateur_Dossier[[#This Row],[DossierCode]],\"|\",Collaborateur_Dossier[[#This Row],[RoleDossier]])","v":"|"},{"$f":"VLOOKUP(Collaborateur_Dossier[[#This Row],[DossierId]],Honoraire[[DossierId]:[Rappel Client ID]],44,FALSE)","v":{"$error":"#N/A"}},{"$f":"Collaborateur_Dossier[[#This Row],[CollaborateurId]]","v":0},{"$f":"Collaborateur_Dossier[[#This Row],[Trigramme]]","v":0},{"$f":"IF(AND(Collaborateur_Dossier[[#This Row],[RoleDossier]]=\"Responsable\",Collaborateur_Dossier[[#This Row],[Defaut]]),Collaborateur_Dossier[[#This Row],[DossierCode]],\"\")","v":""},{"$f":"IF(Collaborateur_Dossier[[#This Row],[Collaborateur dossier]]<>\"\",Collaborateur_Dossier[[#This Row],[Trigramme]],\"\")","v":""}]
[null,null,null,null,null,null,null,null,null,null,null,null,null,null,null,null,null,null,{"$f":"IF(AND(SUMIFS(Collaborateur_Dossier[PourcentageFacturation],Collaborateur_Dossier[DossierId],Collaborateur_Dossier[[#This Row],[DossierId]])=0,Collaborateur_Dossier[[#This Row],[RoleDossier]]=\"Responsable\",Collaborateur_Dossier[[#This Row],[Defaut]]),1,Collaborateur_Dossier[[#This Row],[PourcentageFacturation]]/100)","v":0},{"$f":"_xlfn.CONCAT(Collaborateur_Dossier[[#This Row],[DossierCode]],\"|\",Collaborateur_Dossier[[#This Row],[RoleDossier]])","v":"|"},{"$f":"VLOOKUP(Collaborateur_Dossier[[#This Row],[DossierId]],Honoraire[[DossierId]:[Rappel Client ID]],44,FALSE)","v":{"$error":"#N/A"}},{"$f":"Collaborateur_Dossier[[#This Row],[CollaborateurId]]","v":0},{"$f":"Collaborateur_Dossier[[#This Row],[Trigramme]]","v":0},{"$f":"IF(AND(Collaborateur_Dossier[[#This Row],[RoleDossier]]=\"Responsable\",Collaborateur_Dossier[[#This Row],[Defaut]]),Collaborateur_Dossier[[#This Row],[DossierCode]],\"\")","v":""},{"$f":"IF(Collaborateur_Dossier[[#This Row],[Collaborateur dossier]]<>\"\",Collaborateur_Dossier[[#This Row],[Trigramme]],\"\")","v":""}]
[null,null,null,null,null,null,null,null,null,null,null,null,null,null,null,null,null,null,{"$f":"IF(AND(SUMIFS(Collaborateur_Dossier[PourcentageFacturation],Collaborateur_Dossier[DossierId],Collaborateur_Dossier[[#This Row],[DossierId]])=0,Collaborateur_Dossier[[#This Row],[RoleDossier]]=\"Responsable\",Collaborateur_Dossier[[#This Row],[Defaut]]),1,Collaborateur_Dossier[[#This Row],[PourcentageFacturation]]/100)","v":0},{"$f":"_xlfn.CONCAT(Collaborateur_Dossier[[#This Row],[DossierCode]],\"|\",Collaborateur_Dossier[[#This Row],[RoleDossier]])","v":"|"},{"$f":"VLOOKUP(Collaborateur_Dossier[[#This Row],[DossierId]],Honoraire[[DossierId]:[Rappel Client ID]],44,FALSE)","v":{"$error":"#N/A"}},{"$f":"Collaborateur_Dossier[[#This Row],[CollaborateurId]]","v":0},{"$f":"Collaborateur_Dossier[[#This Row],[Trigramme]]","v":0},{"$f":"IF(AND(Collaborateur_Dossier[[#This Row],[RoleDossier]]=\"Responsable\",Collaborateur_Dossier[[#This Row],[Defaut]]),Collaborateur_Dossier[[#This Row],[DossierCode]],\"\")","v":""},{"$f":"IF(Collaborateur_Dossier[[#This Row],[Collaborateur dossier]]<>\"\",Collaborateur_Dossier[[#This Row],[Trigramme]],\"\")","v":""}]
[null,null,null,null,null,null,null,null,null,null,null,null,null,null,null,null,null,null,{"$f":"IF(AND(SUMIFS(Collaborateur_Dossier[PourcentageFacturation],Collaborateur_Dossier[DossierId],Collaborateur_Dossier[[#This Row],[DossierId]])=0,Collaborateur_Dossier[[#This Row],[RoleDossier]]=\"Responsable\",Collaborateur_Dossier[[#This Row],[Defaut]]),1,Collaborateur_Dossier[[#This Row],[PourcentageFacturation]]/100)","v":0},{"$f":"_xlfn.CONCAT(Collaborateur_Dossier[[#This Row],[DossierCode]],\"|\",Collaborateur_Dossier[[#This Row],[RoleDossier]])","v":"|"},{"$f":"VLOOKUP(Collaborateur_Dossier[[#This Row],[DossierId]],Honoraire[[DossierId]:[Rappel Client ID]],44,FALSE)","v":{"$error":"#N/A"}},{"$f":"Collaborateur_Dossier[[#This Row],[CollaborateurId]]","v":0},{"$f":"Collaborateur_Dossier[[#This Row],[Trigramme]]","v":0},{"$f":"IF(AND(Collaborateur_Dossier[[#This Row],[RoleDossier]]=\"Responsable\",Collaborateur_Dossier[[#This Row],[Defaut]]),Collaborateur_Dossier[[#This Row],[DossierCode]],\"\")","v":""},{"$f":"IF(Collaborateur_Dossier[[#This Row],[Collaborateur dossier]]<>\"\",Collaborateur_Dossier[[#This Row],[Trigramme]],\"\")","v":""}]
[null,null,null,null,null,null,null,null,null,null,null,null,null,null,null,null,null,null,{"$f":"IF(AND(SUMIFS(Collaborateur_Dossier[PourcentageFacturation],Collaborateur_Dossier[DossierId],Collaborateur_Dossier[[#This Row],[DossierId]])=0,Collaborateur_Dossier[[#This Row],[RoleDossier]]=\"Responsable\",Collaborateur_Dossier[[#This Row],[Defaut]]),1,Collaborateur_Dossier[[#This Row],[PourcentageFacturation]]/100)","v":0},{"$f":"_xlfn.CONCAT(Collaborateur_Dossier[[#This Row],[DossierCode]],\"|\",Collaborateur_Dossier[[#This Row],[RoleDossier]])","v":"|"},{"$f":"VLOOKUP(Collaborateur_Dossier[[#This Row],[DossierId]],Honoraire[[DossierId]:[Rappel Client ID]],44,FALSE)","v":{"$error":"#N/A"}},{"$f":"Collaborateur_Dossier[[#This Row],[CollaborateurId]]","v":0},{"$f":"Collaborateur_Dossier[[#This Row],[Trigramme]]","v":0},{"$f":"IF(AND(Collaborateur_Dossier[[#This Row],[RoleDossier]]=\"Responsable\",Collaborateur_Dossier[[#This Row],[Defaut]]),Collaborateur_Dossier[[#This Row],[DossierCode]],\"\")","v":""},{"$f":"IF(Collaborateur_Dossier[[#This Row],[Collaborateur dossier]]<>\"\",Collaborateur_Dossier[[#This Row],[Trigramme]],\"\")","v":""}]
[null,null,null,null,null,null,null,null,null,null,null,null,null,null,null,null,null,null,{"$f":"IF(AND(SUMIFS(Collaborateur_Dossier[PourcentageFacturation],Collaborateur_Dossier[DossierId],Collaborateur_Dossier[[#This Row],[DossierId]])=0,Collaborateur_Dossier[[#This Row],[RoleDossier]]=\"Responsable\",Collaborateur_Dossier[[#This Row],[Defaut]]),1,Collaborateur_Dossier[[#This Row],[PourcentageFacturation]]/100)","v":0},{"$f":"_xlfn.CONCAT(Collaborateur_Dossier[[#This Row],[DossierCode]],\"|\",Collaborateur_Dossier[[#This Row],[RoleDossier]])","v":"|"},{"$f":"VLOOKUP(Collaborateur_Dossier[[#This Row],[DossierId]],Honoraire[[DossierId]:[Rappel Client ID]],44,FALSE)","v":{"$error":"#N/A"}},{"$f":"Collaborateur_Dossier[[#This Row],[CollaborateurId]]","v":0},{"$f":"Collaborateur_Dossier[[#This Row],[Trigramme]]","v":0},{"$f":"IF(AND(Collaborateur_Dossier[[#This Row],[RoleDossier]]=\"Responsable\",Collaborateur_Dossier[[#This Row],[Defaut]]),Collaborateur_Dossier[[#This Row],[DossierCode]],\"\")","v":""},{"$f":"IF(Collaborateur_Dossier[[#This Row],[Collaborateur dossier]]<>\"\",Collaborateur_Dossier[[#This Row],[Trigramme]],\"\")","v":""}]
[null,null,null,null,null,null,null,null,null,null,null,null,null,null,null,null,null,null,{"$f":"IF(AND(SUMIFS(Collaborateur_Dossier[PourcentageFacturation],Collaborateur_Dossier[DossierId],Collaborateur_Dossier[[#This Row],[DossierId]])=0,Collaborateur_Dossier[[#This Row],[RoleDossier]]=\"Responsable\",Collaborateur_Dossier[[#This Row],[Defaut]]),1,Collaborateur_Dossier[[#This Row],[PourcentageFacturation]]/100)","v":0},{"$f":"_xlfn.CONCAT(Collaborateur_Dossier[[#This Row],[DossierCode]],\"|\",Collaborateur_Dossier[[#This Row],[RoleDossier]])","v":"|"},{"$f":"VLOOKUP(Collaborateur_Dossier[[#This Row],[DossierId]],Honoraire[[DossierId]:[Rappel Client ID]],44,FALSE)","v":{"$error":"#N/A"}},{"$f":"Collaborateur_Dossier[[#This Row],[CollaborateurId]]","v":0},{"$f":"Collaborateur_Dossier[[#This Row],[Trigramme]]","v":0},{"$f":"IF(AND(Collaborateur_Dossier[[#This Row],[RoleDossier]]=\"Responsable\",Collaborateur_Dossier[[#This Row],[Defaut]]),Collaborateur_Dossier[[#This Row],[DossierCode]],\"\")","v":""},{"$f":"IF(Collaborateur_Dossier[[#This Row],[Collaborateur dossier]]<>\"\",Collaborateur_Dossier[[#This Row],[Trigramme]],\"\")","v":""}]
[null,null,null,null,null,null,null,null,null,null,null,null,null,null,null,null,null,null,{"$f":"IF(AND(SUMIFS(Collaborateur_Dossier[PourcentageFacturation],Collaborateur_Dossier[DossierId],Collaborateur_Dossier[[#This Row],[DossierId]])=0,Collaborateur_Dossier[[#This Row],[RoleDossier]]=\"Responsable\",Collaborateur_Dossier[[#This Row],[Defaut]]),1,Collaborateur_Dossier[[#This Row],[PourcentageFacturation]]/100)","v":0},{"$f":"_xlfn.CONCAT(Collaborateur_Dossier[[#This Row],[DossierCode]],\"|\",Collaborateur_Dossier[[#This Row],[RoleDossier]])","v":"|"},{"$f":"VLOOKUP(Collaborateur_Dossier[[#This Row],[DossierId]],Honoraire[[DossierId]:[Rappel Client ID]],44,FALSE)","v":{"$error":"#N/A"}},{"$f":"Collaborateur_Dossier[[#This Row],[CollaborateurId]]","v":0},{"$f":"Collaborateur_Dossier[[#This Row],[Trigramme]]","v":0},{"$f":"IF(AND(Collaborateur_Dossier[[#This Row],[RoleDossier]]=\"Responsable\",Collaborateur_Dossier[[#This Row],[Defaut]]),Collaborateur_Dossier[[#This Row],[DossierCode]],\"\")","v":""},{"$f":"IF(Collaborateur_Dossier[[#This Row],[Collaborateur dossier]]<>\"\",Collaborateur_Dossier[[#This Row],[Trigramme]],\"\")","v":""}]
[null,null,null,null,null,null,null,null,null,null,null,null,null,null,null,null,null,null,{"$f":"IF(AND(SUMIFS(Collaborateur_Dossier[PourcentageFacturation],Collaborateur_Dossier[DossierId],Collaborateur_Dossier[[#This Row],[DossierId]])=0,Collaborateur_Dossier[[#This Row],[RoleDossier]]=\"Responsable\",Collaborateur_Dossier[[#This Row],[Defaut]]),1,Collaborateur_Dossier[[#This Row],[PourcentageFacturation]]/100)","v":0},{"$f":"_xlfn.CONCAT(Collaborateur_Dossier[[#This Row],[DossierCode]],\"|\",Collaborateur_Dossier[[#This Row],[RoleDossier]])","v":"|"},{"$f":"VLOOKUP(Collaborateur_Dossier[[#This Row],[DossierId]],Honoraire[[DossierId]:[Rappel Client ID]],44,FALSE)","v":{"$error":"#N/A"}},{"$f":"Collaborateur_Dossier[[#This Row],[CollaborateurId]]","v":0},{"$f":"Collaborateur_Dossier[[#This Row],[Trigramme]]","v":0},{"$f":"IF(AND(Collaborateur_Dossier[[#This Row],[RoleDossier]]=\"Responsable\",Collaborateur_Dossier[[#This Row],[Defaut]]),Collaborateur_Dossier[[#This Row],[DossierCode]],\"\")","v":""},{"$f":"IF(Collaborateur_Dossier[[#This Row],[Collaborateur dossier]]<>\"\",Collaborateur_Dossier[[#This Row],[Trigramme]],\"\")","v":""}]
[null,null,null,null,null,null,null,null,null,null,null,null,null,null,null,null,null,null,{"$f":"IF(AND(SUMIFS(Collaborateur_Dossier[PourcentageFacturation],Collaborateur_Dossier[DossierId],Collaborateur_Dossier[[#This Row],[DossierId]])=0,Collaborateur_Dossier[[#This Row],[RoleDossier]]=\"Responsable\",Collaborateur_Dossier[[#This Row],[Defaut]]),1,Collaborateur_Dossier[[#This Row],[PourcentageFacturation]]/100)","v":0},{"$f":"_xlfn.CONCAT(Collaborateur_Dossier[[#This Row],[DossierCode]],\"|\",Collaborateur_Dossier[[#This Row],[RoleDossier]])","v":"|"},{"$f":"VLOOKUP(Collaborateur_Dossier[[#This Row],[DossierId]],Honoraire[[DossierId]:[Rappel Client ID]],44,FALSE)","v":{"$error":"#N/A"}},{"$f":"Collaborateur_Dossier[[#This Row],[CollaborateurId]]","v":0},{"$f":"Collaborateur_Dossier[[#This Row],[Trigramme]]","v":0},{"$f":"IF(AND(Collaborateur_Dossier[[#This Row],[RoleDossier]]=\"Responsable\",Collaborateur_Dossier[[#This Row],[Defaut]]),Collaborateur_Dossier[[#This Row],[DossierCode]],\"\")","v":""},{"$f":"IF(Collaborateur_Dossier[[#This Row],[Collaborateur dossier]]<>\"\",Collaborateur_Dossier[[#This Row],[Trigramme]],\"\")","v":""}]
[null,null,null,null,null,null,null,null,null,null,null,null,null,null,null,null,null,null,{"$f":"IF(AND(SUMIFS(Collaborateur_Dossier[PourcentageFacturation],Collaborateur_Dossier[DossierId],Collaborateur_Dossier[[#This Row],[DossierId]])=0,Collaborateur_Dossier[[#This Row],[RoleDossier]]=\"Responsable\",Collaborateur_Dossier[[#This Row],[Defaut]]),1,Collaborateur_Dossier[[#This Row],[PourcentageFacturation]]/100)","v":0},{"$f":"_xlfn.CONCAT(Collaborateur_Dossier[[#This Row],[DossierCode]],\"|\",Collaborateur_Dossier[[#This Row],[RoleDossier]])","v":"|"},{"$f":"VLOOKUP(Collaborateur_Dossier[[#This Row],[DossierId]],Honoraire[[DossierId]:[Rappel Client ID]],44,FALSE)","v":{"$error":"#N/A"}},{"$f":"Collaborateur_Dossier[[#This Row],[CollaborateurId]]","v":0},{"$f":"Collaborateur_Dossier[[#This Row],[Trigramme]]","v":0},{"$f":"IF(AND(Collaborateur_Dossier[[#This Row],[RoleDossier]]=\"Responsable\",Collaborateur_Dossier[[#This Row],[Defaut]]),Collaborateur_Dossier[[#This Row],[DossierCode]],\"\")","v":""},{"$f":"IF(Collaborateur_Dossier[[#This Row],[Collaborateur dossier]]<>\"\",Collaborateur_Dossier[[#This Row],[Trigramme]],\"\")","v":""}]
[null,null,null,null,null,null,null,null,null,null,null,null,null,null,null,null,null,null,{"$f":"IF(AND(SUMIFS(Collaborateur_Dossier[PourcentageFacturation],Collaborateur_Dossier[DossierId],Collaborateur_Dossier[[#This Row],[DossierId]])=0,Collaborateur_Dossier[[#This Row],[RoleDossier]]=\"Responsable\",Collaborateur_Dossier[[#This Row],[Defaut]]),1,Collaborateur_Dossier[[#This Row],[PourcentageFacturation]]/100)","v":0},{"$f":"_xlfn.CONCAT(Collaborateur_Dossier[[#This Row],[DossierCode]],\"|\",Collaborateur_Dossier[[#This Row],[RoleDossier]])","v":"|"},{"$f":"VLOOKUP(Collaborateur_Dossier[[#This Row],[DossierId]],Honoraire[[DossierId]:[Rappel Client ID]],44,FALSE)","v":{"$error":"#N/A"}},{"$f":"Collaborateur_Dossier[[#This Row],[CollaborateurId]]","v":0},{"$f":"Collaborateur_Dossier[[#This Row],[Trigramme]]","v":0},{"$f":"IF(AND(Collaborateur_Dossier[[#This Row],[RoleDossier]]=\"Responsable\",Collaborateur_Dossier[[#This Row],[Defaut]]),Collaborateur_Dossier[[#This Row],[DossierCode]],\"\")","v":""},{"$f":"IF(Collaborateur_Dossier[[#This Row],[Collaborateur dossier]]<>\"\",Collaborateur_Dossier[[#This Row],[Trigramme]],\"\")","v":""}]
[null,null,null,null,null,null,null,null,null,null,null,null,null,null,null,null,null,null,{"$f":"IF(AND(SUMIFS(Collaborateur_Dossier[PourcentageFacturation],Collaborateur_Dossier[DossierId],Collaborateur_Dossier[[#This Row],[DossierId]])=0,Collaborateur_Dossier[[#This Row],[RoleDossier]]=\"Responsable\",Collaborateur_Dossier[[#This Row],[Defaut]]),1,Collaborateur_Dossier[[#This Row],[PourcentageFacturation]]/100)","v":0},{"$f":"_xlfn.CONCAT(Collaborateur_Dossier[[#This Row],[DossierCode]],\"|\",Collaborateur_Dossier[[#This Row],[RoleDossier]])","v":"|"},{"$f":"VLOOKUP(Collaborateur_Dossier[[#This Row],[DossierId]],Honoraire[[DossierId]:[Rappel Client ID]],44,FALSE)","v":{"$error":"#N/A"}},{"$f":"Collaborateur_Dossier[[#This Row],[CollaborateurId]]","v":0},{"$f":"Collaborateur_Dossier[[#This Row],[Trigramme]]","v":0},{"$f":"IF(AND(Collaborateur_Dossier[[#This Row],[RoleDossier]]=\"Responsable\",Collaborateur_Dossier[[#This Row],[Defaut]]),Collaborateur_Dossier[[#This Row],[DossierCode]],\"\")","v":""},{"$f":"IF(Collaborateur_Dossier[[#This Row],[Collaborateur dossier]]<>\"\",Collaborateur_Dossier[[#This Row],[Trigramme]],\"\")","v":""}]
[null,null,null,null,null,null,null,null,null,null,null,null,null,null,null,null,null,null,{"$f":"IF(AND(SUMIFS(Collaborateur_Dossier[PourcentageFacturation],Collaborateur_Dossier[DossierId],Collaborateur_Dossier[[#This Row],[DossierId]])=0,Collaborateur_Dossier[[#This Row],[RoleDossier]]=\"Responsable\",Collaborateur_Dossier[[#This Row],[Defaut]]),1,Collaborateur_Dossier[[#This Row],[PourcentageFacturation]]/100)","v":0},{"$f":"_xlfn.CONCAT(Collaborateur_Dossier[[#This Row],[DossierCode]],\"|\",Collaborateur_Dossier[[#This Row],[RoleDossier]])","v":"|"},{"$f":"VLOOKUP(Collaborateur_Dossier[[#This Row],[DossierId]],Honoraire[[DossierId]:[Rappel Client ID]],44,FALSE)","v":{"$error":"#N/A"}},{"$f":"Collaborateur_Dossier[[#This Row],[CollaborateurId]]","v":0},{"$f":"Collaborateur_Dossier[[#This Row],[Trigramme]]","v":0},{"$f":"IF(AND(Collaborateur_Dossier[[#This Row],[RoleDossier]]=\"Responsable\",Collaborateur_Dossier[[#This Row],[Defaut]]),Collaborateur_Dossier[[#This Row],[DossierCode]],\"\")","v":""},{"$f":"IF(Collaborateur_Dossier[[#This Row],[Collaborateur dossier]]<>\"\",Collaborateur_Dossier[[#This Row],[Trigramme]],\"\")","v":""}]
[null,null,null,null,null,null,null,null,null,null,null,null,null,null,null,null,null,null,{"$f":"IF(AND(SUMIFS(Collaborateur_Dossier[PourcentageFacturation],Collaborateur_Dossier[DossierId],Collaborateur_Dossier[[#This Row],[DossierId]])=0,Collaborateur_Dossier[[#This Row],[RoleDossier]]=\"Responsable\",Collaborateur_Dossier[[#This Row],[Defaut]]),1,Collaborateur_Dossier[[#This Row],[PourcentageFacturation]]/100)","v":0},{"$f":"_xlfn.CONCAT(Collaborateur_Dossier[[#This Row],[DossierCode]],\"|\",Collaborateur_Dossier[[#This Row],[RoleDossier]])","v":"|"},{"$f":"VLOOKUP(Collaborateur_Dossier[[#This Row],[DossierId]],Honoraire[[DossierId]:[Rappel Client ID]],44,FALSE)","v":{"$error":"#N/A"}},{"$f":"Collaborateur_Dossier[[#This Row],[CollaborateurId]]","v":0},{"$f":"Collaborateur_Dossier[[#This Row],[Trigramme]]","v":0},{"$f":"IF(AND(Collaborateur_Dossier[[#This Row],[RoleDossier]]=\"Responsable\",Collaborateur_Dossier[[#This Row],[Defaut]]),Collaborateur_Dossier[[#This Row],[DossierCode]],\"\")","v":""},{"$f":"IF(Collaborateur_Dossier[[#This Row],[Collaborateur dossier]]<>\"\",Collaborateur_Dossier[[#This Row],[Trigramme]],\"\")","v":""}]
[null,null,null,null,null,null,null,null,null,null,null,null,null,null,null,null,null,null,{"$f":"IF(AND(SUMIFS(Collaborateur_Dossier[PourcentageFacturation],Collaborateur_Dossier[DossierId],Collaborateur_Dossier[[#This Row],[DossierId]])=0,Collaborateur_Dossier[[#This Row],[RoleDossier]]=\"Responsable\",Collaborateur_Dossier[[#This Row],[Defaut]]),1,Collaborateur_Dossier[[#This Row],[PourcentageFacturation]]/100)","v":0},{"$f":"_xlfn.CONCAT(Collaborateur_Dossier[[#This Row],[DossierCode]],\"|\",Collaborateur_Dossier[[#This Row],[RoleDossier]])","v":"|"},{"$f":"VLOOKUP(Collaborateur_Dossier[[#This Row],[DossierId]],Honoraire[[DossierId]:[Rappel Client ID]],44,FALSE)","v":{"$error":"#N/A"}},{"$f":"Collaborateur_Dossier[[#This Row],[CollaborateurId]]","v":0},{"$f":"Collaborateur_Dossier[[#This Row],[Trigramme]]","v":0},{"$f":"IF(AND(Collaborateur_Dossier[[#This Row],[RoleDossier]]=\"Responsable\",Collaborateur_Dossier[[#This Row],[Defaut]]),Collaborateur_Dossier[[#This Row],[DossierCode]],\"\")","v":""},{"$f":"IF(Collaborateur_Dossier[[#This Row],[Collaborateur dossier]]<>\"\",Collaborateur_Dossier[[#This Row],[Trigramme]],\"\")","v":""}]
[null,null,null,null,null,null,null,null,null,null,null,null,null,null,null,null,null,null,{"$f":"IF(AND(SUMIFS(Collaborateur_Dossier[PourcentageFacturation],Collaborateur_Dossier[DossierId],Collaborateur_Dossier[[#This Row],[DossierId]])=0,Collaborateur_Dossier[[#This Row],[RoleDossier]]=\"Responsable\",Collaborateur_Dossier[[#This Row],[Defaut]]),1,Collaborateur_Dossier[[#This Row],[PourcentageFacturation]]/100)","v":0},{"$f":"_xlfn.CONCAT(Collaborateur_Dossier[[#This Row],[DossierCode]],\"|\",Collaborateur_Dossier[[#This Row],[RoleDossier]])","v":"|"},{"$f":"VLOOKUP(Collaborateur_Dossier[[#This Row],[DossierId]],Honoraire[[DossierId]:[Rappel Client ID]],44,FALSE)","v":{"$error":"#N/A"}},{"$f":"Collaborateur_Dossier[[#This Row],[CollaborateurId]]","v":0},{"$f":"Collaborateur_Dossier[[#This Row],[Trigramme]]","v":0},{"$f":"IF(AND(Collaborateur_Dossier[[#This Row],[RoleDossier]]=\"Responsable\",Collaborateur_Dossier[[#This Row],[Defaut]]),Collaborateur_Dossier[[#This Row],[DossierCode]],\"\")","v":""},{"$f":"IF(Collaborateur_Dossier[[#This Row],[Collaborateur dossier]]<>\"\",Collaborateur_Dossier[[#This Row],[Trigramme]],\"\")","v":""}]
[null,null,null,null,null,null,null,null,null,null,null,null,null,null,null,null,null,null,{"$f":"IF(AND(SUMIFS(Collaborateur_Dossier[PourcentageFacturation],Collaborateur_Dossier[DossierId],Collaborateur_Dossier[[#This Row],[DossierId]])=0,Collaborateur_Dossier[[#This Row],[RoleDossier]]=\"Responsable\",Collaborateur_Dossier[[#This Row],[Defaut]]),1,Collaborateur_Dossier[[#This Row],[PourcentageFacturation]]/100)","v":0},{"$f":"_xlfn.CONCAT(Collaborateur_Dossier[[#This Row],[DossierCode]],\"|\",Collaborateur_Dossier[[#This Row],[RoleDossier]])","v":"|"},{"$f":"VLOOKUP(Collaborateur_Dossier[[#This Row],[DossierId]],Honoraire[[DossierId]:[Rappel Client ID]],44,FALSE)","v":{"$error":"#N/A"}},{"$f":"Collaborateur_Dossier[[#This Row],[CollaborateurId]]","v":0},{"$f":"Collaborateur_Dossier[[#This Row],[Trigramme]]","v":0},{"$f":"IF(AND(Collaborateur_Dossier[[#This Row],[RoleDossier]]=\"Responsable\",Collaborateur_Dossier[[#This Row],[Defaut]]),Collaborateur_Dossier[[#This Row],[DossierCode]],\"\")","v":""},{"$f":"IF(Collaborateur_Dossier[[#This Row],[Collaborateur dossier]]<>\"\",Collaborateur_Dossier[[#This Row],[Trigramme]],\"\")","v":""}]
[null,null,null,null,null,null,null,null,null,null,null,null,null,null,null,null,null,null,{"$f":"IF(AND(SUMIFS(Collaborateur_Dossier[PourcentageFacturation],Collaborateur_Dossier[DossierId],Collaborateur_Dossier[[#This Row],[DossierId]])=0,Collaborateur_Dossier[[#This Row],[RoleDossier]]=\"Responsable\",Collaborateur_Dossier[[#This Row],[Defaut]]),1,Collaborateur_Dossier[[#This Row],[PourcentageFacturation]]/100)","v":0},{"$f":"_xlfn.CONCAT(Collaborateur_Dossier[[#This Row],[DossierCode]],\"|\",Collaborateur_Dossier[[#This Row],[RoleDossier]])","v":"|"},{"$f":"VLOOKUP(Collaborateur_Dossier[[#This Row],[DossierId]],Honoraire[[DossierId]:[Rappel Client ID]],44,FALSE)","v":{"$error":"#N/A"}},{"$f":"Collaborateur_Dossier[[#This Row],[CollaborateurId]]","v":0},{"$f":"Collaborateur_Dossier[[#This Row],[Trigramme]]","v":0},{"$f":"IF(AND(Collaborateur_Dossier[[#This Row],[RoleDossier]]=\"Responsable\",Collaborateur_Dossier[[#This Row],[Defaut]]),Collaborateur_Dossier[[#This Row],[DossierCode]],\"\")","v":""},{"$f":"IF(Collaborateur_Dossier[[#This Row],[Collaborateur dossier]]<>\"\",Collaborateur_Dossier[[#This Row],[Trigramme]],\"\")","v":""}]
[null,null,null,null,null,null,null,null,null,null,null,null,null,null,null,null,null,null,{"$f":"IF(AND(SUMIFS(Collaborateur_Dossier[PourcentageFacturation],Collaborateur_Dossier[DossierId],Collaborateur_Dossier[[#This Row],[DossierId]])=0,Collaborateur_Dossier[[#This Row],[RoleDossier]]=\"Responsable\",Collaborateur_Dossier[[#This Row],[Defaut]]),1,Collaborateur_Dossier[[#This Row],[PourcentageFacturation]]/100)","v":0},{"$f":"_xlfn.CONCAT(Collaborateur_Dossier[[#This Row],[DossierCode]],\"|\",Collaborateur_Dossier[[#This Row],[RoleDossier]])","v":"|"},{"$f":"VLOOKUP(Collaborateur_Dossier[[#This Row],[DossierId]],Honoraire[[DossierId]:[Rappel Client ID]],44,FALSE)","v":{"$error":"#N/A"}},{"$f":"Collaborateur_Dossier[[#This Row],[CollaborateurId]]","v":0},{"$f":"Collaborateur_Dossier[[#This Row],[Trigramme]]","v":0},{"$f":"IF(AND(Collaborateur_Dossier[[#This Row],[RoleDossier]]=\"Responsable\",Collaborateur_Dossier[[#This Row],[Defaut]]),Collaborateur_Dossier[[#This Row],[DossierCode]],\"\")","v":""},{"$f":"IF(Collaborateur_Dossier[[#This Row],[Collaborateur dossier]]<>\"\",Collaborateur_Dossier[[#This Row],[Trigramme]],\"\")","v":""}]
[null,null,null,null,null,null,null,null,null,null,null,null,null,null,null,null,null,null,{"$f":"IF(AND(SUMIFS(Collaborateur_Dossier[PourcentageFacturation],Collaborateur_Dossier[DossierId],Collaborateur_Dossier[[#This Row],[DossierId]])=0,Collaborateur_Dossier[[#This Row],[RoleDossier]]=\"Responsable\",Collaborateur_Dossier[[#This Row],[Defaut]]),1,Collaborateur_Dossier[[#This Row],[PourcentageFacturation]]/100)","v":0},{"$f":"_xlfn.CONCAT(Collaborateur_Dossier[[#This Row],[DossierCode]],\"|\",Collaborateur_Dossier[[#This Row],[RoleDossier]])","v":"|"},{"$f":"VLOOKUP(Collaborateur_Dossier[[#This Row],[DossierId]],Honoraire[[DossierId]:[Rappel Client ID]],44,FALSE)","v":{"$error":"#N/A"}},{"$f":"Collaborateur_Dossier[[#This Row],[CollaborateurId]]","v":0},{"$f":"Collaborateur_Dossier[[#This Row],[Trigramme]]","v":0},{"$f":"IF(AND(Collaborateur_Dossier[[#This Row],[RoleDossier]]=\"Responsable\",Collaborateur_Dossier[[#This Row],[Defaut]]),Collaborateur_Dossier[[#This Row],[DossierCode]],\"\")","v":""},{"$f":"IF(Collaborateur_Dossier[[#This Row],[Collaborateur dossier]]<>\"\",Collaborateur_Dossier[[#This Row],[Trigramme]],\"\")","v":""}]
[null,null,null,null,null,null,null,null,null,null,null,null,null,null,null,null,null,null,{"$f":"IF(AND(SUMIFS(Collaborateur_Dossier[PourcentageFacturation],Collaborateur_Dossier[DossierId],Collaborateur_Dossier[[#This Row],[DossierId]])=0,Collaborateur_Dossier[[#This Row],[RoleDossier]]=\"Responsable\",Collaborateur_Dossier[[#This Row],[Defaut]]),1,Collaborateur_Dossier[[#This Row],[PourcentageFacturation]]/100)","v":0},{"$f":"_xlfn.CONCAT(Collaborateur_Dossier[[#This Row],[DossierCode]],\"|\",Collaborateur_Dossier[[#This Row],[RoleDossier]])","v":"|"},{"$f":"VLOOKUP(Collaborateur_Dossier[[#This Row],[DossierId]],Honoraire[[DossierId]:[Rappel Client ID]],44,FALSE)","v":{"$error":"#N/A"}},{"$f":"Collaborateur_Dossier[[#This Row],[CollaborateurId]]","v":0},{"$f":"Collaborateur_Dossier[[#This Row],[Trigramme]]","v":0},{"$f":"IF(AND(Collaborateur_Dossier[[#This Row],[RoleDossier]]=\"Responsable\",Collaborateur_Dossier[[#This Row],[Defaut]]),Collaborateur_Dossier[[#This Row],[DossierCode]],\"\")","v":""},{"$f":"IF(Collaborateur_Dossier[[#This Row],[Collaborateur dossier]]<>\"\",Collaborateur_Dossier[[#This Row],[Trigramme]],\"\")","v":""}]
[null,null,null,null,null,null,null,null,null,null,null,null,null,null,null,null,null,null,{"$f":"IF(AND(SUMIFS(Collaborateur_Dossier[PourcentageFacturation],Collaborateur_Dossier[DossierId],Collaborateur_Dossier[[#This Row],[DossierId]])=0,Collaborateur_Dossier[[#This Row],[RoleDossier]]=\"Responsable\",Collaborateur_Dossier[[#This Row],[Defaut]]),1,Collaborateur_Dossier[[#This Row],[PourcentageFacturation]]/100)","v":0},{"$f":"_xlfn.CONCAT(Collaborateur_Dossier[[#This Row],[DossierCode]],\"|\",Collaborateur_Dossier[[#This Row],[RoleDossier]])","v":"|"},{"$f":"VLOOKUP(Collaborateur_Dossier[[#This Row],[DossierId]],Honoraire[[DossierId]:[Rappel Client ID]],44,FALSE)","v":{"$error":"#N/A"}},{"$f":"Collaborateur_Dossier[[#This Row],[CollaborateurId]]","v":0},{"$f":"Collaborateur_Dossier[[#This Row],[Trigramme]]","v":0},{"$f":"IF(AND(Collaborateur_Dossier[[#This Row],[RoleDossier]]=\"Responsable\",Collaborateur_Dossier[[#This Row],[Defaut]]),Collaborateur_Dossier[[#This Row],[DossierCode]],\"\")","v":""},{"$f":"IF(Collaborateur_Dossier[[#This Row],[Collaborateur dossier]]<>\"\",Collaborateur_Dossier[[#This Row],[Trigramme]],\"\")","v":""}]
[null,null,null,null,null,null,null,null,null,null,null,null,null,null,null,null,null,null,{"$f":"IF(AND(SUMIFS(Collaborateur_Dossier[PourcentageFacturation],Collaborateur_Dossier[DossierId],Collaborateur_Dossier[[#This Row],[DossierId]])=0,Collaborateur_Dossier[[#This Row],[RoleDossier]]=\"Responsable\",Collaborateur_Dossier[[#This Row],[Defaut]]),1,Collaborateur_Dossier[[#This Row],[PourcentageFacturation]]/100)","v":0},{"$f":"_xlfn.CONCAT(Collaborateur_Dossier[[#This Row],[DossierCode]],\"|\",Collaborateur_Dossier[[#This Row],[RoleDossier]])","v":"|"},{"$f":"VLOOKUP(Collaborateur_Dossier[[#This Row],[DossierId]],Honoraire[[DossierId]:[Rappel Client ID]],44,FALSE)","v":{"$error":"#N/A"}},{"$f":"Collaborateur_Dossier[[#This Row],[CollaborateurId]]","v":0},{"$f":"Collaborateur_Dossier[[#This Row],[Trigramme]]","v":0},{"$f":"IF(AND(Collaborateur_Dossier[[#This Row],[RoleDossier]]=\"Responsable\",Collaborateur_Dossier[[#This Row],[Defaut]]),Collaborateur_Dossier[[#This Row],[DossierCode]],\"\")","v":""},{"$f":"IF(Collaborateur_Dossier[[#This Row],[Collaborateur dossier]]<>\"\",Collaborateur_Dossier[[#This Row],[Trigramme]],\"\")","v":""}]
[null,null,null,null,null,null,null,null,null,null,null,null,null,null,null,null,null,null,{"$f":"IF(AND(SUMIFS(Collaborateur_Dossier[PourcentageFacturation],Collaborateur_Dossier[DossierId],Collaborateur_Dossier[[#This Row],[DossierId]])=0,Collaborateur_Dossier[[#This Row],[RoleDossier]]=\"Responsable\",Collaborateur_Dossier[[#This Row],[Defaut]]),1,Collaborateur_Dossier[[#This Row],[PourcentageFacturation]]/100)","v":0},{"$f":"_xlfn.CONCAT(Collaborateur_Dossier[[#This Row],[DossierCode]],\"|\",Collaborateur_Dossier[[#This Row],[RoleDossier]])","v":"|"},{"$f":"VLOOKUP(Collaborateur_Dossier[[#This Row],[DossierId]],Honoraire[[DossierId]:[Rappel Client ID]],44,FALSE)","v":{"$error":"#N/A"}},{"$f":"Collaborateur_Dossier[[#This Row],[CollaborateurId]]","v":0},{"$f":"Collaborateur_Dossier[[#This Row],[Trigramme]]","v":0},{"$f":"IF(AND(Collaborateur_Dossier[[#This Row],[RoleDossier]]=\"Responsable\",Collaborateur_Dossier[[#This Row],[Defaut]]),Collaborateur_Dossier[[#This Row],[DossierCode]],\"\")","v":""},{"$f":"IF(Collaborateur_Dossier[[#This Row],[Collaborateur dossier]]<>\"\",Collaborateur_Dossier[[#This Row],[Trigramme]],\"\")","v":""}]
[null,null,null,null,null,null,null,null,null,null,null,null,null,null,null,null,null,null,{"$f":"IF(AND(SUMIFS(Collaborateur_Dossier[PourcentageFacturation],Collaborateur_Dossier[DossierId],Collaborateur_Dossier[[#This Row],[DossierId]])=0,Collaborateur_Dossier[[#This Row],[RoleDossier]]=\"Responsable\",Collaborateur_Dossier[[#This Row],[Defaut]]),1,Collaborateur_Dossier[[#This Row],[PourcentageFacturation]]/100)","v":0},{"$f":"_xlfn.CONCAT(Collaborateur_Dossier[[#This Row],[DossierCode]],\"|\",Collaborateur_Dossier[[#This Row],[RoleDossier]])","v":"|"},{"$f":"VLOOKUP(Collaborateur_Dossier[[#This Row],[DossierId]],Honoraire[[DossierId]:[Rappel Client ID]],44,FALSE)","v":{"$error":"#N/A"}},{"$f":"Collaborateur_Dossier[[#This Row],[CollaborateurId]]","v":0},{"$f":"Collaborateur_Dossier[[#This Row],[Trigramme]]","v":0},{"$f":"IF(AND(Collaborateur_Dossier[[#This Row],[RoleDossier]]=\"Responsable\",Collaborateur_Dossier[[#This Row],[Defaut]]),Collaborateur_Dossier[[#This Row],[DossierCode]],\"\")","v":""},{"$f":"IF(Collaborateur_Dossier[[#This Row],[Collaborateur dossier]]<>\"\",Collaborateur_Dossier[[#This Row],[Trigramme]],\"\")","v":""}]
[null,null,null,null,null,null,null,null,null,null,null,null,null,null,null,null,null,null,{"$f":"IF(AND(SUMIFS(Collaborateur_Dossier[PourcentageFacturation],Collaborateur_Dossier[DossierId],Collaborateur_Dossier[[#This Row],[DossierId]])=0,Collaborateur_Dossier[[#This Row],[RoleDossier]]=\"Responsable\",Collaborateur_Dossier[[#This Row],[Defaut]]),1,Collaborateur_Dossier[[#This Row],[PourcentageFacturation]]/100)","v":0},{"$f":"_xlfn.CONCAT(Collaborateur_Dossier[[#This Row],[DossierCode]],\"|\",Collaborateur_Dossier[[#This Row],[RoleDossier]])","v":"|"},{"$f":"VLOOKUP(Collaborateur_Dossier[[#This Row],[DossierId]],Honoraire[[DossierId]:[Rappel Client ID]],44,FALSE)","v":{"$error":"#N/A"}},{"$f":"Collaborateur_Dossier[[#This Row],[CollaborateurId]]","v":0},{"$f":"Collaborateur_Dossier[[#This Row],[Trigramme]]","v":0},{"$f":"IF(AND(Collaborateur_Dossier[[#This Row],[RoleDossier]]=\"Responsable\",Collaborateur_Dossier[[#This Row],[Defaut]]),Collaborateur_Dossier[[#This Row],[DossierCode]],\"\")","v":""},{"$f":"IF(Collaborateur_Dossier[[#This Row],[Collaborateur dossier]]<>\"\",Collaborateur_Dossier[[#This Row],[Trigramme]],\"\")","v":""}]
[null,null,null,null,null,null,null,null,null,null,null,null,null,null,null,null,null,null,{"$f":"IF(AND(SUMIFS(Collaborateur_Dossier[PourcentageFacturation],Collaborateur_Dossier[DossierId],Collaborateur_Dossier[[#This Row],[DossierId]])=0,Collaborateur_Dossier[[#This Row],[RoleDossier]]=\"Responsable\",Collaborateur_Dossier[[#This Row],[Defaut]]),1,Collaborateur_Dossier[[#This Row],[PourcentageFacturation]]/100)","v":0},{"$f":"_xlfn.CONCAT(Collaborateur_Dossier[[#This Row],[DossierCode]],\"|\",Collaborateur_Dossier[[#This Row],[RoleDossier]])","v":"|"},{"$f":"VLOOKUP(Collaborateur_Dossier[[#This Row],[DossierId]],Honoraire[[DossierId]:[Rappel Client ID]],44,FALSE)","v":{"$error":"#N/A"}},{"$f":"Collaborateur_Dossier[[#This Row],[CollaborateurId]]","v":0},{"$f":"Collaborateur_Dossier[[#This Row],[Trigramme]]","v":0},{"$f":"IF(AND(Collaborateur_Dossier[[#This Row],[RoleDossier]]=\"Responsable\",Collaborateur_Dossier[[#This Row],[Defaut]]),Collaborateur_Dossier[[#This Row],[DossierCode]],\"\")","v":""},{"$f":"IF(Collaborateur_Dossier[[#This Row],[Collaborateur dossier]]<>\"\",Collaborateur_Dossier[[#This Row],[Trigramme]],\"\")","v":""}]
[null,null,null,null,null,null,null,null,null,null,null,null,null,null,null,null,null,null,{"$f":"IF(AND(SUMIFS(Collaborateur_Dossier[PourcentageFacturation],Collaborateur_Dossier[DossierId],Collaborateur_Dossier[[#This Row],[DossierId]])=0,Collaborateur_Dossier[[#This Row],[RoleDossier]]=\"Responsable\",Collaborateur_Dossier[[#This Row],[Defaut]]),1,Collaborateur_Dossier[[#This Row],[PourcentageFacturation]]/100)","v":0},{"$f":"_xlfn.CONCAT(Collaborateur_Dossier[[#This Row],[DossierCode]],\"|\",Collaborateur_Dossier[[#This Row],[RoleDossier]])","v":"|"},{"$f":"VLOOKUP(Collaborateur_Dossier[[#This Row],[DossierId]],Honoraire[[DossierId]:[Rappel Client ID]],44,FALSE)","v":{"$error":"#N/A"}},{"$f":"Collaborateur_Dossier[[#This Row],[CollaborateurId]]","v":0},{"$f":"Collaborateur_Dossier[[#This Row],[Trigramme]]","v":0},{"$f":"IF(AND(Collaborateur_Dossier[[#This Row],[RoleDossier]]=\"Responsable\",Collaborateur_Dossier[[#This Row],[Defaut]]),Collaborateur_Dossier[[#This Row],[DossierCode]],\"\")","v":""},{"$f":"IF(Collaborateur_Dossier[[#This Row],[Collaborateur dossier]]<>\"\",Collaborateur_Dossier[[#This Row],[Trigramme]],\"\")","v":""}]
[null,null,null,null,null,null,null,null,null,null,null,null,null,null,null,null,null,null,{"$f":"IF(AND(SUMIFS(Collaborateur_Dossier[PourcentageFacturation],Collaborateur_Dossier[DossierId],Collaborateur_Dossier[[#This Row],[DossierId]])=0,Collaborateur_Dossier[[#This Row],[RoleDossier]]=\"Responsable\",Collaborateur_Dossier[[#This Row],[Defaut]]),1,Collaborateur_Dossier[[#This Row],[PourcentageFacturation]]/100)","v":0},{"$f":"_xlfn.CONCAT(Collaborateur_Dossier[[#This Row],[DossierCode]],\"|\",Collaborateur_Dossier[[#This Row],[RoleDossier]])","v":"|"},{"$f":"VLOOKUP(Collaborateur_Dossier[[#This Row],[DossierId]],Honoraire[[DossierId]:[Rappel Client ID]],44,FALSE)","v":{"$error":"#N/A"}},{"$f":"Collaborateur_Dossier[[#This Row],[CollaborateurId]]","v":0},{"$f":"Collaborateur_Dossier[[#This Row],[Trigramme]]","v":0},{"$f":"IF(AND(Collaborateur_Dossier[[#This Row],[RoleDossier]]=\"Responsable\",Collaborateur_Dossier[[#This Row],[Defaut]]),Collaborateur_Dossier[[#This Row],[DossierCode]],\"\")","v":""},{"$f":"IF(Collaborateur_Dossier[[#This Row],[Collaborateur dossier]]<>\"\",Collaborateur_Dossier[[#This Row],[Trigramme]],\"\")","v":""}]
[null,null,null,null,null,null,null,null,null,null,null,null,null,null,null,null,null,null,{"$f":"IF(AND(SUMIFS(Collaborateur_Dossier[PourcentageFacturation],Collaborateur_Dossier[DossierId],Collaborateur_Dossier[[#This Row],[DossierId]])=0,Collaborateur_Dossier[[#This Row],[RoleDossier]]=\"Responsable\",Collaborateur_Dossier[[#This Row],[Defaut]]),1,Collaborateur_Dossier[[#This Row],[PourcentageFacturation]]/100)","v":0},{"$f":"_xlfn.CONCAT(Collaborateur_Dossier[[#This Row],[DossierCode]],\"|\",Collaborateur_Dossier[[#This Row],[RoleDossier]])","v":"|"},{"$f":"VLOOKUP(Collaborateur_Dossier[[#This Row],[DossierId]],Honoraire[[DossierId]:[Rappel Client ID]],44,FALSE)","v":{"$error":"#N/A"}},{"$f":"Collaborateur_Dossier[[#This Row],[CollaborateurId]]","v":0},{"$f":"Collaborateur_Dossier[[#This Row],[Trigramme]]","v":0},{"$f":"IF(AND(Collaborateur_Dossier[[#This Row],[RoleDossier]]=\"Responsable\",Collaborateur_Dossier[[#This Row],[Defaut]]),Collaborateur_Dossier[[#This Row],[DossierCode]],\"\")","v":""},{"$f":"IF(Collaborateur_Dossier[[#This Row],[Collaborateur dossier]]<>\"\",Collaborateur_Dossier[[#This Row],[Trigramme]],\"\")","v":""}]
[null,null,null,null,null,null,null,null,null,null,null,null,null,null,null,null,null,null,{"$f":"IF(AND(SUMIFS(Collaborateur_Dossier[PourcentageFacturation],Collaborateur_Dossier[DossierId],Collaborateur_Dossier[[#This Row],[DossierId]])=0,Collaborateur_Dossier[[#This Row],[RoleDossier]]=\"Responsable\",Collaborateur_Dossier[[#This Row],[Defaut]]),1,Collaborateur_Dossier[[#This Row],[PourcentageFacturation]]/100)","v":0},{"$f":"_xlfn.CONCAT(Collaborateur_Dossier[[#This Row],[DossierCode]],\"|\",Collaborateur_Dossier[[#This Row],[RoleDossier]])","v":"|"},{"$f":"VLOOKUP(Collaborateur_Dossier[[#This Row],[DossierId]],Honoraire[[DossierId]:[Rappel Client ID]],44,FALSE)","v":{"$error":"#N/A"}},{"$f":"Collaborateur_Dossier[[#This Row],[CollaborateurId]]","v":0},{"$f":"Collaborateur_Dossier[[#This Row],[Trigramme]]","v":0},{"$f":"IF(AND(Collaborateur_Dossier[[#This Row],[RoleDossier]]=\"Responsable\",Collaborateur_Dossier[[#This Row],[Defaut]]),Collaborateur_Dossier[[#This Row],[DossierCode]],\"\")","v":""},{"$f":"IF(Collaborateur_Dossier[[#This Row],[Collaborateur dossier]]<>\"\",Collaborateur_Dossier[[#This Row],[Trigramme]],\"\")","v":""}]
[null,null,null,null,null,null,null,null,null,null,null,null,null,null,null,null,null,null,{"$f":"IF(AND(SUMIFS(Collaborateur_Dossier[PourcentageFacturation],Collaborateur_Dossier[DossierId],Collaborateur_Dossier[[#This Row],[DossierId]])=0,Collaborateur_Dossier[[#This Row],[RoleDossier]]=\"Responsable\",Collaborateur_Dossier[[#This Row],[Defaut]]),1,Collaborateur_Dossier[[#This Row],[PourcentageFacturation]]/100)","v":0},{"$f":"_xlfn.CONCAT(Collaborateur_Dossier[[#This Row],[DossierCode]],\"|\",Collaborateur_Dossier[[#This Row],[RoleDossier]])","v":"|"},{"$f":"VLOOKUP(Collaborateur_Dossier[[#This Row],[DossierId]],Honoraire[[DossierId]:[Rappel Client ID]],44,FALSE)","v":{"$error":"#N/A"}},{"$f":"Collaborateur_Dossier[[#This Row],[CollaborateurId]]","v":0},{"$f":"Collaborateur_Dossier[[#This Row],[Trigramme]]","v":0},{"$f":"IF(AND(Collaborateur_Dossier[[#This Row],[RoleDossier]]=\"Responsable\",Collaborateur_Dossier[[#This Row],[Defaut]]),Collaborateur_Dossier[[#This Row],[DossierCode]],\"\")","v":""},{"$f":"IF(Collaborateur_Dossier[[#This Row],[Collaborateur dossier]]<>\"\",Collaborateur_Dossier[[#This Row],[Trigramme]],\"\")","v":""}]
[null,null,null,null,null,null,null,null,null,null,null,null,null,null,null,null,null,null,{"$f":"IF(AND(SUMIFS(Collaborateur_Dossier[PourcentageFacturation],Collaborateur_Dossier[DossierId],Collaborateur_Dossier[[#This Row],[DossierId]])=0,Collaborateur_Dossier[[#This Row],[RoleDossier]]=\"Responsable\",Collaborateur_Dossier[[#This Row],[Defaut]]),1,Collaborateur_Dossier[[#This Row],[PourcentageFacturation]]/100)","v":0},{"$f":"_xlfn.CONCAT(Collaborateur_Dossier[[#This Row],[DossierCode]],\"|\",Collaborateur_Dossier[[#This Row],[RoleDossier]])","v":"|"},{"$f":"VLOOKUP(Collaborateur_Dossier[[#This Row],[DossierId]],Honoraire[[DossierId]:[Rappel Client ID]],44,FALSE)","v":{"$error":"#N/A"}},{"$f":"Collaborateur_Dossier[[#This Row],[CollaborateurId]]","v":0},{"$f":"Collaborateur_Dossier[[#This Row],[Trigramme]]","v":0},{"$f":"IF(AND(Collaborateur_Dossier[[#This Row],[RoleDossier]]=\"Responsable\",Collaborateur_Dossier[[#This Row],[Defaut]]),Collaborateur_Dossier[[#This Row],[DossierCode]],\"\")","v":""},{"$f":"IF(Collaborateur_Dossier[[#This Row],[Collaborateur dossier]]<>\"\",Collaborateur_Dossier[[#This Row],[Trigramme]],\"\")","v":""}]
[null,null,null,null,null,null,null,null,null,null,null,null,null,null,null,null,null,null,{"$f":"IF(AND(SUMIFS(Collaborateur_Dossier[PourcentageFacturation],Collaborateur_Dossier[DossierId],Collaborateur_Dossier[[#This Row],[DossierId]])=0,Collaborateur_Dossier[[#This Row],[RoleDossier]]=\"Responsable\",Collaborateur_Dossier[[#This Row],[Defaut]]),1,Collaborateur_Dossier[[#This Row],[PourcentageFacturation]]/100)","v":0},{"$f":"_xlfn.CONCAT(Collaborateur_Dossier[[#This Row],[DossierCode]],\"|\",Collaborateur_Dossier[[#This Row],[RoleDossier]])","v":"|"},{"$f":"VLOOKUP(Collaborateur_Dossier[[#This Row],[DossierId]],Honoraire[[DossierId]:[Rappel Client ID]],44,FALSE)","v":{"$error":"#N/A"}},{"$f":"Collaborateur_Dossier[[#This Row],[CollaborateurId]]","v":0},{"$f":"Collaborateur_Dossier[[#This Row],[Trigramme]]","v":0},{"$f":"IF(AND(Collaborateur_Dossier[[#This Row],[RoleDossier]]=\"Responsable\",Collaborateur_Dossier[[#This Row],[Defaut]]),Collaborateur_Dossier[[#This Row],[DossierCode]],\"\")","v":""},{"$f":"IF(Collaborateur_Dossier[[#This Row],[Collaborateur dossier]]<>\"\",Collaborateur_Dossier[[#This Row],[Trigramme]],\"\")","v":""}]
[null,null,null,null,null,null,null,null,null,null,null,null,null,null,null,null,null,null,{"$f":"IF(AND(SUMIFS(Collaborateur_Dossier[PourcentageFacturation],Collaborateur_Dossier[DossierId],Collaborateur_Dossier[[#This Row],[DossierId]])=0,Collaborateur_Dossier[[#This Row],[RoleDossier]]=\"Responsable\",Collaborateur_Dossier[[#This Row],[Defaut]]),1,Collaborateur_Dossier[[#This Row],[PourcentageFacturation]]/100)","v":0},{"$f":"_xlfn.CONCAT(Collaborateur_Dossier[[#This Row],[DossierCode]],\"|\",Collaborateur_Dossier[[#This Row],[RoleDossier]])","v":"|"},{"$f":"VLOOKUP(Collaborateur_Dossier[[#This Row],[DossierId]],Honoraire[[DossierId]:[Rappel Client ID]],44,FALSE)","v":{"$error":"#N/A"}},{"$f":"Collaborateur_Dossier[[#This Row],[CollaborateurId]]","v":0},{"$f":"Collaborateur_Dossier[[#This Row],[Trigramme]]","v":0},{"$f":"IF(AND(Collaborateur_Dossier[[#This Row],[RoleDossier]]=\"Responsable\",Collaborateur_Dossier[[#This Row],[Defaut]]),Collaborateur_Dossier[[#This Row],[DossierCode]],\"\")","v":""},{"$f":"IF(Collaborateur_Dossier[[#This Row],[Collaborateur dossier]]<>\"\",Collaborateur_Dossier[[#This Row],[Trigramme]],\"\")","v":""}]
[null,null,null,null,null,null,null,null,null,null,null,null,null,null,null,null,null,null,{"$f":"IF(AND(SUMIFS(Collaborateur_Dossier[PourcentageFacturation],Collaborateur_Dossier[DossierId],Collaborateur_Dossier[[#This Row],[DossierId]])=0,Collaborateur_Dossier[[#This Row],[RoleDossier]]=\"Responsable\",Collaborateur_Dossier[[#This Row],[Defaut]]),1,Collaborateur_Dossier[[#This Row],[PourcentageFacturation]]/100)","v":0},{"$f":"_xlfn.CONCAT(Collaborateur_Dossier[[#This Row],[DossierCode]],\"|\",Collaborateur_Dossier[[#This Row],[RoleDossier]])","v":"|"},{"$f":"VLOOKUP(Collaborateur_Dossier[[#This Row],[DossierId]],Honoraire[[DossierId]:[Rappel Client ID]],44,FALSE)","v":{"$error":"#N/A"}},{"$f":"Collaborateur_Dossier[[#This Row],[CollaborateurId]]","v":0},{"$f":"Collaborateur_Dossier[[#This Row],[Trigramme]]","v":0},{"$f":"IF(AND(Collaborateur_Dossier[[#This Row],[RoleDossier]]=\"Responsable\",Collaborateur_Dossier[[#This Row],[Defaut]]),Collaborateur_Dossier[[#This Row],[DossierCode]],\"\")","v":""},{"$f":"IF(Collaborateur_Dossier[[#This Row],[Collaborateur dossier]]<>\"\",Collaborateur_Dossier[[#This Row],[Trigramme]],\"\")","v":""}]
[null,null,null,null,null,null,null,null,null,null,null,null,null,null,null,null,null,null,{"$f":"IF(AND(SUMIFS(Collaborateur_Dossier[PourcentageFacturation],Collaborateur_Dossier[DossierId],Collaborateur_Dossier[[#This Row],[DossierId]])=0,Collaborateur_Dossier[[#This Row],[RoleDossier]]=\"Responsable\",Collaborateur_Dossier[[#This Row],[Defaut]]),1,Collaborateur_Dossier[[#This Row],[PourcentageFacturation]]/100)","v":0},{"$f":"_xlfn.CONCAT(Collaborateur_Dossier[[#This Row],[DossierCode]],\"|\",Collaborateur_Dossier[[#This Row],[RoleDossier]])","v":"|"},{"$f":"VLOOKUP(Collaborateur_Dossier[[#This Row],[DossierId]],Honoraire[[DossierId]:[Rappel Client ID]],44,FALSE)","v":{"$error":"#N/A"}},{"$f":"Collaborateur_Dossier[[#This Row],[CollaborateurId]]","v":0},{"$f":"Collaborateur_Dossier[[#This Row],[Trigramme]]","v":0},{"$f":"IF(AND(Collaborateur_Dossier[[#This Row],[RoleDossier]]=\"Responsable\",Collaborateur_Dossier[[#This Row],[Defaut]]),Collaborateur_Dossier[[#This Row],[DossierCode]],\"\")","v":""},{"$f":"IF(Collaborateur_Dossier[[#This Row],[Collaborateur dossier]]<>\"\",Collaborateur_Dossier[[#This Row],[Trigramme]],\"\")","v":""}]
[null,null,null,null,null,null,null,null,null,null,null,null,null,null,null,null,null,null,{"$f":"IF(AND(SUMIFS(Collaborateur_Dossier[PourcentageFacturation],Collaborateur_Dossier[DossierId],Collaborateur_Dossier[[#This Row],[DossierId]])=0,Collaborateur_Dossier[[#This Row],[RoleDossier]]=\"Responsable\",Collaborateur_Dossier[[#This Row],[Defaut]]),1,Collaborateur_Dossier[[#This Row],[PourcentageFacturation]]/100)","v":0},{"$f":"_xlfn.CONCAT(Collaborateur_Dossier[[#This Row],[DossierCode]],\"|\",Collaborateur_Dossier[[#This Row],[RoleDossier]])","v":"|"},{"$f":"VLOOKUP(Collaborateur_Dossier[[#This Row],[DossierId]],Honoraire[[DossierId]:[Rappel Client ID]],44,FALSE)","v":{"$error":"#N/A"}},{"$f":"Collaborateur_Dossier[[#This Row],[CollaborateurId]]","v":0},{"$f":"Collaborateur_Dossier[[#This Row],[Trigramme]]","v":0},{"$f":"IF(AND(Collaborateur_Dossier[[#This Row],[RoleDossier]]=\"Responsable\",Collaborateur_Dossier[[#This Row],[Defaut]]),Collaborateur_Dossier[[#This Row],[DossierCode]],\"\")","v":""},{"$f":"IF(Collaborateur_Dossier[[#This Row],[Collaborateur dossier]]<>\"\",Collaborateur_Dossier[[#This Row],[Trigramme]],\"\")","v":""}]
[null,null,null,null,null,null,null,null,null,null,null,null,null,null,null,null,null,null,{"$f":"IF(AND(SUMIFS(Collaborateur_Dossier[PourcentageFacturation],Collaborateur_Dossier[DossierId],Collaborateur_Dossier[[#This Row],[DossierId]])=0,Collaborateur_Dossier[[#This Row],[RoleDossier]]=\"Responsable\",Collaborateur_Dossier[[#This Row],[Defaut]]),1,Collaborateur_Dossier[[#This Row],[PourcentageFacturation]]/100)","v":0},{"$f":"_xlfn.CONCAT(Collaborateur_Dossier[[#This Row],[DossierCode]],\"|\",Collaborateur_Dossier[[#This Row],[RoleDossier]])","v":"|"},{"$f":"VLOOKUP(Collaborateur_Dossier[[#This Row],[DossierId]],Honoraire[[DossierId]:[Rappel Client ID]],44,FALSE)","v":{"$error":"#N/A"}},{"$f":"Collaborateur_Dossier[[#This Row],[CollaborateurId]]","v":0},{"$f":"Collaborateur_Dossier[[#This Row],[Trigramme]]","v":0},{"$f":"IF(AND(Collaborateur_Dossier[[#This Row],[RoleDossier]]=\"Responsable\",Collaborateur_Dossier[[#This Row],[Defaut]]),Collaborateur_Dossier[[#This Row],[DossierCode]],\"\")","v":""},{"$f":"IF(Collaborateur_Dossier[[#This Row],[Collaborateur dossier]]<>\"\",Collaborateur_Dossier[[#This Row],[Trigramme]],\"\")","v":""}]

{"sheet":"Feuil1","index":8,"n_rows":0,"n_cols":0,"rows_kept":0,"cut":false,"hidden":true,"merged":[]}

{"sheet":"BI - ABO","index":9,"n_rows":5,"n_cols":14,"rows_kept":5,"cut":false,"hidden":false,"merged":[]}
[]
[null,"ABONNEMENTS"]
[null,"EXPORT DE DONNEES"]
[]
[null,"DossierId","DossierCode","DossierDateCreation","PersonneId","Nomcomplet","Civilite","Nom","Prenom","MontantEcheanceHT","MontantAnnuelHT","DateRenouvellment","NbIterationAn","DateFraicheur"]

{"sheet":"BI - HON","index":10,"n_rows":11,"n_cols":83,"rows_kept":11,"cut":false,"hidden":false,"merged":[]}
[]
[null,"HONORAIRES"]
[null,"EXPORT DE DONNEES",null,null,null,null,null,null,null,null,null,null,null,null,null,null,null,null,null,null,null,null,null,null,null,"TOTAL REEL FACTURE HT","TOTAL REEL FACTURE TTC","REGLEMENT HT",null,"AVOIR HT",null,"IMPAYE HT",null,null,null,"HONORAIRE REEL FACTURE HT","FRAIS FACTURE HT","DEBOURS FACTURE HT",null,null,null,null,null,null,null,null,null,null,null,null,null,null,null,null,"Total facturable au moment de l'export"]
[]
[null,"HonoraireId","DateFacture","FactureNumero","FactureLibelle","NumeroPiece","LienFactureId","ClientId","ClientType","ClientNom","ClientPays","CodeTVA","LibelleTVA","TauxTVA","CodeTVAExo","LibelleTVAExo","TauxTVAExo","Territoire","GroupeId","GroupeNom","CollaborateurId","CollaborateurNomComplet","CollaborateurCivilite","CollaborateurNom","CollaborateurPrenom","CollaborateurTrigramme","Site","DossierId","DossierCode","DossierNom","DossierDateCreation","TypedePiece","Abonnement","Forfait","TotalHT","TotalTTC","TotalReglementHT","TotalReglementTTC","TotalAvoirHT","TotalAvoirTTC","TotalImpayeHT","TotalImpayeTTC","TotalAnnulationFactureHT","TotalAnnulationFactureTTC","TotalHonoraireHT","TotalFraisHT","TotalDeboursHT","TotalReglementHonoraireHT","TotalReglementFraisHT","TotalReglementDeboursHT","TotalAvoirHonoraireHT","TotalAvoirFraisHT","TotalAvoirDeboursHT","TotalImpayeHonoraireHT","TotalImpayeFraisHT","TotalImpayeDeboursHT","TotalAnnulationFactureHonoraireHT","TotalAnnulationFactureFraisHT","TotalAnnulationFactureDeboursHT","SoldeDuHT","SoldeDuTTC","RemiseHT","MajorationHT","TotalPrestationFacturableHT","Partiel","Lettree","Annulee","LettrageId","DateFraicheur","Facture (HT) avec répartition","Rappel Client ID","Rappel numéro de facture","Rappel date de facture","Numéro de facture présente dans le board","Rappel collaborateur ID","Rappel dossier code","Rappel dossier nom","Rappel total TTC","Rappel solde TTC","Auteur de prestation","Solde non nul","Mois de facturation","Année de facturation"]
[null,null,null,null,null,null,null,null,null,null,null,null,null,null,null,null,null,null,null,null,null,null,null,null,null,null,null,null,null,null,null,null,null,null,null,null,null,null,null,null,null,null,null,null,null,null,null,null,null,null,null,null,null,null,null,null,null,null,null,null,null,null,null,null,null,null,null,null,null,{"$f":"IF(PARAMETRES!$B$3=\"SANS\",\nHonoraire[[#This Row],[TotalHonoraireHT]]*SUMIFS(Collaborateur_Dossier[% facture ajuste],Collaborateur_Dossier[CollaborateurId],Honoraire[[#This Row],[CollaborateurId]],Collaborateur_Dossier[DossierId],Honoraire[[#This Row],[DossierId]]),\nHonoraire[[#This Row],[TotalHT]]*SUMIFS(Collaborateur_Dossier[% facture ajuste],Collaborateur_Dossier[CollaborateurId],Honoraire[[#This Row],[CollaborateurId]],Collaborateur_Dossier[DossierId],Honoraire[[#This Row],[DossierId]])\n)","v":0},{"$f":"Honoraire[[#This Row],[ClientId]]","v":0},{"$f":"Honoraire[[#This Row],[FactureNumero]]","v":0},{"$f":"Honoraire[[#This Row],[DateFacture]]","v":"00:00:00"},{"$f":"IFERROR(VLOOKUP(Honoraire[[#This Row],[Rappel numéro de facture]],Tableau122[FACTURE],1,FALSE),\"\")","v":""},{"$f":"Honoraire[[#This Row],[CollaborateurId]]","v":0},{"$f":"Honoraire[[#This Row],[DossierCode]]","v":0},{"$f":"Honoraire[[#This Row],[DossierNom]]","v":0},{"$f":"Honoraire[[#This Row],[TotalTTC]]","v":0},{"$f":"Honoraire[[#This Row],[SoldeDuTTC]]","v":0},{"$f":"VLOOKUP(Honoraire[[#This Row],[HonoraireId]],Prestation[[HonoraireId]:[Rappel collaborateur]],35,FALSE)","v":{"$error":"#N/A"}},{"$f":"IF(Honoraire[[#This Row],[Rappel solde TTC]]>0,TRUE,FALSE)","v":false},{"$f":"MONTH(Honoraire[[#This Row],[DateFacture]])","v":1},{"$f":"YEAR(Honoraire[[#This Row],[DateFacture]])","v":1900}]
[null,null,null,null,null,null,null,null,null,null,null,null,null,null,null,null,null,null,null,null,null,null,null,null,null,null,null,null,null,null,null,null,null,null,null,null,null,null,null,null,null,null,null,null,null,null,null,null,null,null,null,null,null,null,null,null,null,null,null,null,null,null,null,null,null,null,null,null,null,{"$f":"IF(PARAMETRES!$B$3=\"SANS\",\nHonoraire[[#This Row],[TotalHonoraireHT]]*SUMIFS(Collaborateur_Dossier[% facture ajuste],Collaborateur_Dossier[CollaborateurId],Honoraire[[#This Row],[CollaborateurId]],Collaborateur_Dossier[DossierId],Honoraire[[#This Row],[DossierId]]),\nHonoraire[[#This Row],[TotalHT]]*SUMIFS(Collaborateur_Dossier[% facture ajuste],Collaborateur_Dossier[CollaborateurId],Honoraire[[#This Row],[CollaborateurId]],Collaborateur_Dossier[DossierId],Honoraire[[#This Row],[DossierId]])\n)","v":0},{"$f":"Honoraire[[#This Row],[ClientId]]","v":0},{"$f":"Honoraire[[#This Row],[FactureNumero]]","v":0},{"$f":"Honoraire[[#This Row],[DateFacture]]","v":"00:00:00"},{"$f":"IFERROR(VLOOKUP(Honoraire[[#This Row],[Rappel numéro de facture]],Tableau122[FACTURE],1,FALSE),\"\")","v":""},{"$f":"Honoraire[[#This Row],[CollaborateurId]]","v":0},{"$f":"Honoraire[[#This Row],[DossierCode]]","v":0},{"$f":"Honoraire[[#This Row],[DossierNom]]","v":0},{"$f":"Honoraire[[#This Row],[TotalTTC]]","v":0},{"$f":"Honoraire[[#This Row],[SoldeDuTTC]]","v":0},{"$f":"VLOOKUP(Honoraire[[#This Row],[HonoraireId]],Prestation[[HonoraireId]:[Rappel collaborateur]],35,FALSE)","v":{"$error":"#N/A"}},{"$f":"IF(Honoraire[[#This Row],[Rappel solde TTC]]>0,TRUE,FALSE)","v":false},{"$f":"MONTH(Honoraire[[#This Row],[DateFacture]])","v":1},{"$f":"YEAR(Honoraire[[#This Row],[DateFacture]])","v":1900}]
[null,null,null,null,null,null,null,null,null,null,null,null,null,null,null,null,null,null,null,null,null,null,null,null,null,null,null,null,null,null,null,null,null,null,null,null,null,null,null,null,null,null,null,null,null,null,null,null,null,null,null,null,null,null,null,null,null,null,null,null,null,null,null,null,null,null,null,null,null,{"$f":"IF(PARAMETRES!$B$3=\"SANS\",\nHonoraire[[#This Row],[TotalHonoraireHT]]*SUMIFS(Collaborateur_Dossier[% facture ajuste],Collaborateur_Dossier[CollaborateurId],Honoraire[[#This Row],[CollaborateurId]],Collaborateur_Dossier[DossierId],Honoraire[[#This Row],[DossierId]]),\nHonoraire[[#This Row],[TotalHT]]*SUMIFS(Collaborateur_Dossier[% facture ajuste],Collaborateur_Dossier[CollaborateurId],Honoraire[[#This Row],[CollaborateurId]],Collaborateur_Dossier[DossierId],Honoraire[[#This Row],[DossierId]])\n)","v":0},{"$f":"Honoraire[[#This Row],[ClientId]]","v":0},{"$f":"Honoraire[[#This Row],[FactureNumero]]","v":0},{"$f":"Honoraire[[#This Row],[DateFacture]]","v":"00:00:00"},{"$f":"IFERROR(VLOOKUP(Honoraire[[#This Row],[Rappel numéro de facture]],Tableau122[FACTURE],1,FALSE),\"\")","v":""},{"$f":"Honoraire[[#This Row],[CollaborateurId]]","v":0},{"$f":"Honoraire[[#This Row],[DossierCode]]","v":0},{"$f":"Honoraire[[#This Row],[DossierNom]]","v":0},{"$f":"Honoraire[[#This Row],[TotalTTC]]","v":0},{"$f":"Honoraire[[#This Row],[SoldeDuTTC]]","v":0},{"$f":"VLOOKUP(Honoraire[[#This Row],[HonoraireId]],Prestation[[HonoraireId]:[Rappel collaborateur]],35,FALSE)","v":{"$error":"#N/A"}},{"$f":"IF(Honoraire[[#This Row],[Rappel solde TTC]]>0,TRUE,FALSE)","v":false},{"$f":"MONTH(Honoraire[[#This Row],[DateFacture]])","v":1},{"$f":"YEAR(Honoraire[[#This Row],[DateFacture]])","v":1900}]
[null,null,null,null,null,null,null,null,null,null,null,null,null,null,null,null,null,null,null,null,null,null,null,null,null,null,null,null,null,null,null,null,null,null,null,null,null,null,null,null,null,null,null,null,null,null,null,null,null,null,null,null,null,null,null,null,null,null,null,null,null,null,null,null,null,null,null,null,null,{"$f":"IF(PARAMETRES!$B$3=\"SANS\",\nHonoraire[[#This Row],[TotalHonoraireHT]]*SUMIFS(Collaborateur_Dossier[% facture ajuste],Collaborateur_Dossier[CollaborateurId],Honoraire[[#This Row],[CollaborateurId]],Collaborateur_Dossier[DossierId],Honoraire[[#This Row],[DossierId]]),\nHonoraire[[#This Row],[TotalHT]]*SUMIFS(Collaborateur_Dossier[% facture ajuste],Collaborateur_Dossier[CollaborateurId],Honoraire[[#This Row],[CollaborateurId]],Collaborateur_Dossier[DossierId],Honoraire[[#This Row],[DossierId]])\n)","v":0},{"$f":"Honoraire[[#This Row],[ClientId]]","v":0},{"$f":"Honoraire[[#This Row],[FactureNumero]]","v":0},{"$f":"Honoraire[[#This Row],[DateFacture]]","v":"00:00:00"},{"$f":"IFERROR(VLOOKUP(Honoraire[[#This Row],[Rappel numéro de facture]],Tableau122[FACTURE],1,FALSE),\"\")","v":""},{"$f":"Honoraire[[#This Row],[CollaborateurId]]","v":0},{"$f":"Honoraire[[#This Row],[DossierCode]]","v":0},{"$f":"Honoraire[[#This Row],[DossierNom]]","v":0},{"$f":"Honoraire[[#This Row],[TotalTTC]]","v":0},{"$f":"Honoraire[[#This Row],[SoldeDuTTC]]","v":0},{"$f":"VLOOKUP(Honoraire[[#This Row],[HonoraireId]],Prestation[[HonoraireId]:[Rappel collaborateur]],35,FALSE)","v":{"$error":"#N/A"}},{"$f":"IF(Honoraire[[#This Row],[Rappel solde TTC]]>0,TRUE,FALSE)","v":false},{"$f":"MONTH(Honoraire[[#This Row],[DateFacture]])","v":1},{"$f":"YEAR(Honoraire[[#This Row],[DateFacture]])","v":1900}]
[null,null,null,null,null,null,null,null,null,null,null,null,null,null,null,null,null,null,null,null,null,null,null,null,null,null,null,null,null,null,null,null,null,null,null,null,null,null,null,null,null,null,null,null,null,null,null,null,null,null,null,null,null,null,null,null,null,null,null,null,null,null,null,null,null,null,null,null,null,{"$f":"IF(PARAMETRES!$B$3=\"SANS\",\nHonoraire[[#This Row],[TotalHonoraireHT]]*SUMIFS(Collaborateur_Dossier[% facture ajuste],Collaborateur_Dossier[CollaborateurId],Honoraire[[#This Row],[CollaborateurId]],Collaborateur_Dossier[DossierId],Honoraire[[#This Row],[DossierId]]),\nHonoraire[[#This Row],[TotalHT]]*SUMIFS(Collaborateur_Dossier[% facture ajuste],Collaborateur_Dossier[CollaborateurId],Honoraire[[#This Row],[CollaborateurId]],Collaborateur_Dossier[DossierId],Honoraire[[#This Row],[DossierId]])\n)","v":0},{"$f":"Honoraire[[#This Row],[ClientId]]","v":0},{"$f":"Honoraire[[#This Row],[FactureNumero]]","v":0},{"$f":"Honoraire[[#This Row],[DateFacture]]","v":"00:00:00"},{"$f":"IFERROR(VLOOKUP(Honoraire[[#This Row],[Rappel numéro de facture]],Tableau122[FACTURE],1,FALSE),\"\")","v":""},{"$f":"Honoraire[[#This Row],[CollaborateurId]]","v":0},{"$f":"Honoraire[[#This Row],[DossierCode]]","v":0},{"$f":"Honoraire[[#This Row],[DossierNom]]","v":0},{"$f":"Honoraire[[#This Row],[TotalTTC]]","v":0},{"$f":"Honoraire[[#This Row],[SoldeDuTTC]]","v":0},{"$f":"VLOOKUP(Honoraire[[#This Row],[HonoraireId]],Prestation[[HonoraireId]:[Rappel collaborateur]],35,FALSE)","v":{"$error":"#N/A"}},{"$f":"IF(Honoraire[[#This Row],[Rappel solde TTC]]>0,TRUE,FALSE)","v":false},{"$f":"MONTH(Honoraire[[#This Row],[DateFacture]])","v":1},{"$f":"YEAR(Honoraire[[#This Row],[DateFacture]])","v":1900}]
[null,null,null,null,null,null,null,null,null,null,null,null,null,null,null,null,null,null,null,null,null,null,null,null,null,null,null,null,null,null,null,null,null,null,null,null,null,null,null,null,null,null,null,null,null,null,null,null,null,null,null,null,null,null,null,null,null,null,null,null,null,null,null,null,null,null,null,null,null,{"$f":"IF(PARAMETRES!$B$3=\"SANS\",\nHonoraire[[#This Row],[TotalHonoraireHT]]*SUMIFS(Collaborateur_Dossier[% facture ajuste],Collaborateur_Dossier[CollaborateurId],Honoraire[[#This Row],[CollaborateurId]],Collaborateur_Dossier[DossierId],Honoraire[[#This Row],[DossierId]]),\nHonoraire[[#This Row],[TotalHT]]*SUMIFS(Collaborateur_Dossier[% facture ajuste],Collaborateur_Dossier[CollaborateurId],Honoraire[[#This Row],[CollaborateurId]],Collaborateur_Dossier[DossierId],Honoraire[[#This Row],[DossierId]])\n)","v":0},{"$f":"Honoraire[[#This Row],[ClientId]]","v":0},{"$f":"Honoraire[[#This Row],[FactureNumero]]","v":0},{"$f":"Honoraire[[#This Row],[DateFacture]]","v":"00:00:00"},{"$f":"IFERROR(VLOOKUP(Honoraire[[#This Row],[Rappel numéro de facture]],Tableau122[FACTURE],1,FALSE),\"\")","v":""},{"$f":"Honoraire[[#This Row],[CollaborateurId]]","v":0},{"$f":"Honoraire[[#This Row],[DossierCode]]","v":0},{"$f":"Honoraire[[#This Row],[DossierNom]]","v":0},{"$f":"Honoraire[[#This Row],[TotalTTC]]","v":0},{"$f":"Honoraire[[#This Row],[SoldeDuTTC]]","v":0},{"$f":"VLOOKUP(Honoraire[[#This Row],[HonoraireId]],Prestation[[HonoraireId]:[Rappel collaborateur]],35,FALSE)","v":{"$error":"#N/A"}},{"$f":"IF(Honoraire[[#This Row],[Rappel solde TTC]]>0,TRUE,FALSE)","v":false},{"$f":"MONTH(Honoraire[[#This Row],[DateFacture]])","v":1},{"$f":"YEAR(Honoraire[[#This Row],[DateFacture]])","v":1900}]

{"sheet":"BI - PRE","index":11,"n_rows":130,"n_cols":79,"rows_kept":130,"cut":false,"hidden":false,"merged":[]}
[]
[null,"PRESTATIONS"]
[null,"EXPORT DE DONNEES",null,null,null,null,null,null,null,null,null,null,null,null,null,null,null,null,null,null,null,null,null,null,null,null,null,null,null,null,null,null,null,null,"TH CODE OU THM COLLABORATEUR SINON"]
[null,null,null,null,null,null,null,null,null,null,null,null,null,null,null,null,null,null,null,null,null,null,null,null,null,null,null,null,null,null,null,null,null,null,null,null,null,"x"]
[null,"PrestationId","DossierId","DossierCode","DossierDateCreation","PrestationDate","CollaborateurId","CollaborateurNomComplet","CollaborateurCivilite","CollaborateurNom","CollaborateurPrenom","CollaborateurTrigramme","Site","Categorie","Type","Code","CodeType","CodeLibelle","Forfait","ForfaitLibelleCourt","ForfaitMontantHT","ForfaitMontantEngageHT","PrestationEtat","PrestationEtape","HonoraireId","DateFacture","FactureNumero","FournisseurId","FournisseurType","FournisseurNom","ClientId","ClientNom","ClientPays","CodeTVA","LibelleTVA","TauxTVA","CodeTVAExo","LibelleTVAExo","TauxTVAExo","Territoire","GroupeId","GroupeNom","LienFactureId","DeductionHonoraireId","DateDeduction","MontantHT","Duree","TarifHoraire","MontantFacturableHT_TotalPrestation","DureeFacturable_TotalPrestation","MontantFacturableHT","DureeFacturable","TarifHoraireFacturable","MontantFactureHT_TotalPrestation","DureeFacture_TotalPrestation","MontantFactureHT","DureeFacture","TarifHoraireFacture","MontantDeductibleHT","MontantDeduitHT","MontantRemiseHT","MontantMajorationHT","MontantRemiseVentileeHT","MontantMajorationVentileeHT","MontantAboHT","MontantForfaitHT","ExportCompta","DateFraicheur","Temps passé par code (H)","Temps passé unique par code (H)","Rappel collaborateur","Rappel dossier","Clés dossier et collaborateur","Numéro de ligne","Numéro min de ligne pour la clé","Collaborateur unique","Liste des collaborateurs","MoisPrestation","AnneePrestation"]
[null,null,null,null,null,null,null,null,null,null,null,null,null,null,null,null,null,null,null,null,null,null,null,null,null,null,null,null,null,null,null,null,null,null,null,null,null,null,null,null,null,null,null,null,null,null,null,null,null,null,null,null,null,null,null,null,null,null,null,null,null,null,null,null,null,null,null,null,{"$f":"SUMIFS(Prestation[Duree],Prestation[Code],Prestation[[#This Row],[Code]])","v":0},{"$f":"Prestation[[#This Row],[Temps passé par code (H)]]&ROW()/10000","v":"00,0006"},{"$f":"Prestation[[#This Row],[CollaborateurTrigramme]]","v":0},{"$f":"Prestation[[#This Row],[DossierCode]]","v":0},{"$f":"_xlfn.CONCAT(Prestation[[#This Row],[DossierCode]],\"-\",Prestation[[#This Row],[CollaborateurTrigramme]])","v":"-"},{"$f":"ROW(Prestation[[#This Row],[Clés dossier et collaborateur]])","v":6},{"$f":"_xlfn.MINIFS(Prestation[Numéro de ligne],Prestation[Clés dossier et collaborateur],Prestation[[#This Row],[Clés dossier et collaborateur]])","v":6},{"$f":"IF(Prestation[[#This Row],[Numéro min de ligne pour la clé]]=Prestation[[#This Row],[Numéro de ligne]],Prestation[[#This Row],[Rappel collaborateur]],\"\")","v":0},{"$f":"_xlfn.TEXTJOIN(\",\",TRUE,IF(Prestation[DossierCode]=Prestation[[#This Row],[DossierCode]],Prestation[Collaborateur unique],\"\"))","v":"0"},{"$f":"MONTH(Prestation[[#This Row],[DateFacture]])","v":1},{"$f":"YEAR(Prestation[[#This Row],[DateFacture]])","v":1900}]
[null,null,null,null,null,null,null,null,null,null,null,null,null,null,null,null,null,null,null,null,null,null,null,null,null,null,null,null,null,null,null,null,null,null,null,null,null,null,null,null,null,null,null,null,null,null,null,null,null,null,null,null,null,null,null,null,null,null,null,null,null,null,null,null,null,null,null,null,{"$f":"SUMIFS(Prestation[Duree],Prestation[Code],Prestation[[#This Row],[Code]])","v":0},{"$f":"Prestation[[#This Row],[Temps passé par code (H)]]&ROW()/10000","v":"00,0007"},{"$f":"Prestation[[#This Row],[CollaborateurTrigramme]]","v":0},{"$f":"Prestation[[#This Row],[DossierCode]]","v":0},{"$f":"_xlfn.CONCAT(Prestation[[#This Row],[DossierCode]],\"-\",Prestation[[#This Row],[CollaborateurTrigramme]])","v":"-"},{"$f":"ROW(Prestation[[#This Row],[Clés dossier et collaborateur]])","v":7},{"$f":"_xlfn.MINIFS(Prestation[Numéro de ligne],Prestation[Clés dossier et collaborateur],Prestation[[#This Row],[Clés dossier et collaborateur]])","v":6},{"$f":"IF(Prestation[[#This Row],[Numéro min de ligne pour la clé]]=Prestation[[#This Row],[Numéro de ligne]],Prestation[[#This Row],[Rappel collaborateur]],\"\")","v":""},{"$f":"_xlfn.TEXTJOIN(\",\",TRUE,IF(Prestation[DossierCode]=Prestation[[#This Row],[DossierCode]],Prestation[Collaborateur unique],\"\"))","v":"0"},{"$f":"MONTH(Prestation[[#This Row],[DateFacture]])","v":1},{"$f":"YEAR(Prestation[[#This Row],[DateFacture]])","v":1900}]
[null,null,null,null,null,null,null,null,null,null,null,null,null,null,null,null,null,null,null,null,null,null,null,null,null,null,null,null,null,null,null,null,null,null,null,null,null,null,null,null,null,null,null,null,null,null,null,null,null,null,null,null,null,null,null,null,null,null,null,null,null,null,null,null,null,null,null,null,{"$f":"SUMIFS(Prestation[Duree],Prestation[Code],Prestation[[#This Row],[Code]])","v":0},{"$f":"Prestation[[#This Row],[Temps passé par code (H)]]&ROW()/10000","v":"00,0008"},{"$f":"Prestation[[#This Row],[CollaborateurTrigramme]]","v":0},{"$f":"Prestation[[#This Row],[DossierCode]]","v":0},{"$f":"_xlfn.CONCAT(Prestation[[#This Row],[DossierCode]],\"-\",Prestation[[#This Row],[CollaborateurTrigramme]])","v":"-"},{"$f":"ROW(Prestation[[#This Row],[Clés dossier et collaborateur]])","v":8},{"$f":"_xlfn.MINIFS(Prestation[Numéro de ligne],Prestation[Clés dossier et collaborateur],Prestation[[#This Row],[Clés dossier et collaborateur]])","v":6},{"$f":"IF(Prestation[[#This Row],[Numéro min de ligne pour la clé]]=Prestation[[#This Row],[Numéro de ligne]],Prestation[[#This Row],[Rappel collaborateur]],\"\")","v":""},{"$f":"_xlfn.TEXTJOIN(\",\",TRUE,IF(Prestation[DossierCode]=Prestation[[#This Row],[DossierCode]],Prestation[Collaborateur unique],\"\"))","v":"0"},{"$f":"MONTH(Prestation[[#This Row],[DateFacture]])","v":1},{"$f":"YEAR(Prestation[[#This Row],[DateFacture]])","v":1900}]
[null,null,null,null,null,null,null,null,null,null,null,null,null,null,null,null,null,null,null,null,null,null,null,null,null,null,null,null,null,null,null,null,null,null,null,null,null,null,null,null,null,null,null,null,null,null,null,null,null,null,null,null,null,null,null,null,null,null,null,null,null,null,null,null,null,null,null,null,{"$f":"SUMIFS(Prestation[Duree],Prestation[Code],Prestation[[#This Row],[Code]])","v":0},{"$f":"Prestation[[#This Row],[Temps passé par code (H)]]&ROW()/10000","v":"00,0009"},{"$f":"Prestation[[#This Row],[CollaborateurTrigramme]]","v":0},{"$f":"Prestation[[#This Row],[DossierCode]]","v":0},{"$f":"_xlfn.CONCAT(Prestation[[#This Row],[DossierCode]],\"-\",Prestation[[#This Row],[CollaborateurTrigramme]])","v":"-"},{"$f":"ROW(Prestation[[#This Row],[Clés dossier et collaborateur]])","v":9},{"$f":"_xlfn.MINIFS(Prestation[Numéro de ligne],Prestation[Clés dossier et collaborateur],Prestation[[#This Row],[Clés dossier et collaborateur]])","v":6},{"$f":"IF(Prestation[[#This Row],[Numéro min de ligne pour la clé]]=Prestation[[#This Row],[Numéro de ligne]],Prestation[[#This Row],[Rappel collaborateur]],\"\")","v":""},{"$f":"_xlfn.TEXTJOIN(\",\",TRUE,IF(Prestation[DossierCode]=Prestation[[#This Row],[DossierCode]],Prestation[Collaborateur unique],\"\"))","v":"0"},{"$f":"MONTH(Prestation[[#This Row],[DateFacture]])","v":1},{"$f":"YEAR(Prestation[[#This Row],[DateFacture]])","v":1900}]
[null,null,null,null,null,null,null,null,null,null,null,null,null,null,null,null,null,null,null,null,null,null,null,null,null,null,null,null,null,null,null,null,null,null,null,null,null,null,null,null,null,null,null,null,null,null,null,null,null,null,null,null,null,null,null,null,null,null,null,null,null,null,null,null,null,null,null,null,{"$f":"SUMIFS(Prestation[Duree],Prestation[Code],Prestation[[#This Row],[Code]])","v":0},{"$f":"Prestation[[#This Row],[Temps passé par code (H)]]&ROW()/10000","v":"00,001"},{"$f":"Prestation[[#This Row],[CollaborateurTrigramme]]","v":0},{"$f":"Prestation[[#This Row],[DossierCode]]","v":0},{"$f":"_xlfn.CONCAT(Prestation[[#This Row],[DossierCode]],\"-\",Prestation[[#This Row],[CollaborateurTrigramme]])","v":"-"},{"$f":"ROW(Prestation[[#This Row],[Clés dossier et collaborateur]])","v":10},{"$f":"_xlfn.MINIFS(Prestation[Numéro de ligne],Prestation[Clés dossier et collaborateur],Prestation[[#This Row],[Clés dossier et collaborateur]])","v":6},{"$f":"IF(Prestation[[#This Row],[Numéro min de ligne pour la clé]]=Prestation[[#This Row],[Numéro de ligne]],Prestation[[#This Row],[Rappel collaborateur]],\"\")","v":""},{"$f":"_xlfn.TEXTJOIN(\",\",TRUE,IF(Prestation[DossierCode]=Prestation[[#This Row],[DossierCode]],Prestation[Collaborateur unique],\"\"))","v":"0"},{"$f":"MONTH(Prestation[[#This Row],[DateFacture]])","v":1},{"$f":"YEAR(Prestation[[#This Row],[DateFacture]])","v":1900}]
[null,null,null,null,null,null,null,null,null,null,null,null,null,null,null,null,null,null,null,null,null,null,null,null,null,null,null,null,null,null,null,null,null,null,null,null,null,null,null,null,null,null,null,null,null,null,null,null,null,null,null,null,null,null,null,null,null,null,null,null,null,null,null,null,null,null,null,null,{"$f":"SUMIFS(Prestation[Duree],Prestation[Code],Prestation[[#This Row],[Code]])","v":0},{"$f":"Prestation[[#This Row],[Temps passé par code (H)]]&ROW()/10000","v":"00,0011"},{"$f":"Prestation[[#This Row],[CollaborateurTrigramme]]","v":0},{"$f":"Prestation[[#This Row],[DossierCode]]","v":0},{"$f":"_xlfn.CONCAT(Prestation[[#This Row],[DossierCode]],\"-\",Prestation[[#This Row],[CollaborateurTrigramme]])","v":"-"},{"$f":"ROW(Prestation[[#This Row],[Clés dossier et collaborateur]])","v":11},{"$f":"_xlfn.MINIFS(Prestation[Numéro de ligne],Prestation[Clés dossier et collaborateur],Prestation[[#This Row],[Clés dossier et collaborateur]])","v":6},{"$f":"IF(Prestation[[#This Row],[Numéro min de ligne pour la clé]]=Prestation[[#This Row],[Numéro de ligne]],Prestation[[#This Row],[Rappel collaborateur]],\"\")","v":""},{"$f":"_xlfn.TEXTJOIN(\",\",TRUE,IF(Prestation[DossierCode]=Prestation[[#This Row],[DossierCode]],Prestation[Collaborateur unique],\"\"))","v":"0"},{"$f":"MONTH(Prestation[[#This Row],[DateFacture]])","v":1},{"$f":"YEAR(Prestation[[#This Row],[DateFacture]])","v":1900}]
[null,null,null,null,null,null,null,null,null,null,null,null,null,null,null,null,null,null,null,null,null,null,null,null,null,null,null,null,null,null,null,null,null,null,null,null,null,null,null,null,null,null,null,null,null,null,null,null,null,null,null,null,null,null,null,null,null,null,null,null,null,null,null,null,null,null,null,null,{"$f":"SUMIFS(Prestation[Duree],Prestation[Code],Prestation[[#This Row],[Code]])","v":0},{"$f":"Prestation[[#This Row],[Temps passé par code (H)]]&ROW()/10000","v":"00,0012"},{"$f":"Prestation[[#This Row],[CollaborateurTrigramme]]","v":0},{"$f":"Prestation[[#This Row],[DossierCode]]","v":0},{"$f":"_xlfn.CONCAT(Prestation[[#This Row],[DossierCode]],\"-\",Prestation[[#This Row],[CollaborateurTrigramme]])","v":"-"},{"$f":"ROW(Prestation[[#This Row],[Clés dossier et collaborateur]])","v":12},{"$f":"_xlfn.MINIFS(Prestation[Numéro de ligne],Prestation[Clés dossier et collaborateur],Prestation[[#This Row],[Clés dossier et collaborateur]])","v":6},{"$f":"IF(Prestation[[#This Row],[Numéro min de ligne pour la clé]]=Prestation[[#This Row],[Numéro de ligne]],Prestation[[#This Row],[Rappel collaborateur]],\"\")","v":""},{"$f":"_xlfn.TEXTJOIN(\",\",TRUE,IF(Prestation[DossierCode]=Prestation[[#This Row],[DossierCode]],Prestation[Collaborateur unique],\"\"))","v":"0"},{"$f":"MONTH(Prestation[[#This Row],[DateFacture]])","v":1},{"$f":"YEAR(Prestation[[#This Row],[DateFacture]])","v":1900}]
[null,null,null,null,null,null,null,null,null,null,null,null,null,null,null,null,null,null,null,null,null,null,null,null,null,null,null,null,null,null,null,null,null,null,null,null,null,null,null,null,null,null,null,null,null,null,null,null,null,null,null,null,null,null,null,null,null,null,null,null,null,null,null,null,null,null,null,null,{"$f":"SUMIFS(Prestation[Duree],Prestation[Code],Prestation[[#This Row],[Code]])","v":0},{"$f":"Prestation[[#This Row],[Temps passé par code (H)]]&ROW()/10000","v":"00,0013"},{"$f":"Prestation[[#This Row],[CollaborateurTrigramme]]","v":0},{"$f":"Prestation[[#This Row],[DossierCode]]","v":0},{"$f":"_xlfn.CONCAT(Prestation[[#This Row],[DossierCode]],\"-\",Prestation[[#This Row],[CollaborateurTrigramme]])","v":"-"},{"$f":"ROW(Prestation[[#This Row],[Clés dossier et collaborateur]])","v":13},{"$f":"_xlfn.MINIFS(Prestation[Numéro de ligne],Prestation[Clés dossier et collaborateur],Prestation[[#This Row],[Clés dossier et collaborateur]])","v":6},{"$f":"IF(Prestation[[#This Row],[Numéro min de ligne pour la clé]]=Prestation[[#This Row],[Numéro de ligne]],Prestation[[#This Row],[Rappel collaborateur]],\"\")","v":""},{"$f":"_xlfn.TEXTJOIN(\",\",TRUE,IF(Prestation[DossierCode]=Prestation[[#This Row],[DossierCode]],Prestation[Collaborateur unique],\"\"))","v":"0"},{"$f":"MONTH(Prestation[[#This Row],[DateFacture]])","v":1},{"$f":"YEAR(Prestation[[#This Row],[DateFacture]])","v":1900}]
[null,null,null,null,null,null,null,null,null,null,null,null,null,null,null,null,null,null,null,null,null,null,null,null,null,null,null,null,null,null,null,null,null,null,null,null,null,null,null,null,null,null,null,null,null,null,null,null,null,null,null,null,null,null,null,null,null,null,null,null,null,null,null,null,null,null,null,null,{"$f":"SUMIFS(Prestation[Duree],Prestation[Code],Prestation[[#This Row],[Code]])","v":0},{"$f":"Prestation[[#This Row],[Temps passé par code (H)]]&ROW()/10000","v":"00,0014"},{"$f":"Prestation[[#This Row],[CollaborateurTrigramme]]","v":0},{"$f":"Prestation[[#This Row],[DossierCode]]","v":0},{"$f":"_xlfn.CONCAT(Prestation[[#This Row],[DossierCode]],\"-\",Prestation[[#This Row],[CollaborateurTrigramme]])","v":"-"},{"$f":"ROW(Prestation[[#This Row],[Clés dossier et collaborateur]])","v":14},{"$f":"_xlfn.MINIFS(Prestation[Numéro de ligne],Prestation[Clés dossier et collaborateur],Prestation[[#This Row],[Clés dossier et collaborateur]])","v":6},{"$f":"IF(Prestation[[#This Row],[Numéro min de ligne pour la clé]]=Prestation[[#This Row],[Numéro de ligne]],Prestation[[#This Row],[Rappel collaborateur]],\"\")","v":""},{"$f":"_xlfn.TEXTJOIN(\",\",TRUE,IF(Prestation[DossierCode]=Prestation[[#This Row],[DossierCode]],Prestation[Collaborateur unique],\"\"))","v":"0"},{"$f":"MONTH(Prestation[[#This Row],[DateFacture]])","v":1},{"$f":"YEAR(Prestation[[#This Row],[DateFacture]])","v":1900}]
[null,null,null,null,null,null,null,null,null,null,null,null,null,null,null,null,null,null,null,null,null,null,null,null,null,null,null,null,null,null,null,null,null,null,null,null,null,null,null,null,null,null,null,null,null,null,null,null,null,null,null,null,null,null,null,null,null,null,null,null,null,null,null,null,null,null,null,null,{"$f":"SUMIFS(Prestation[Duree],Prestation[Code],Prestation[[#This Row],[Code]])","v":0},{"$f":"Prestation[[#This Row],[Temps passé par code (H)]]&ROW()/10000","v":"00,0015"},{"$f":"Prestation[[#This Row],[CollaborateurTrigramme]]","v":0},{"$f":"Prestation[[#This Row],[DossierCode]]","v":0},{"$f":"_xlfn.CONCAT(Prestation[[#This Row],[DossierCode]],\"-\",Prestation[[#This Row],[CollaborateurTrigramme]])","v":"-"},{"$f":"ROW(Prestation[[#This Row],[Clés dossier et collaborateur]])","v":15},{"$f":"_xlfn.MINIFS(Prestation[Numéro de ligne],Prestation[Clés dossier et collaborateur],Prestation[[#This Row],[Clés dossier et collaborateur]])","v":6},{"$f":"IF(Prestation[[#This Row],[Numéro min de ligne pour la clé]]=Prestation[[#This Row],[Numéro de ligne]],Prestation[[#This Row],[Rappel collaborateur]],\"\")","v":""},{"$f":"_xlfn.TEXTJOIN(\",\",TRUE,IF(Prestation[DossierCode]=Prestation[[#This Row],[DossierCode]],Prestation[Collaborateur unique],\"\"))","v":"0"},{"$f":"MONTH(Prestation[[#This Row],[DateFacture]])","v":1},{"$f":"YEAR(Prestation[[#This Row],[DateFacture]])","v":1900}]
[null,null,null,null,null,null,null,null,null,null,null,null,null,null,null,null,null,null,null,null,null,null,null,null,null,null,null,null,null,null,null,null,null,null,null,null,null,null,null,null,null,null,null,null,null,null,null,null,null,null,null,null,null,null,null,null,null,null,null,null,null,null,null,null,null,null,null,null,{"$f":"SUMIFS(Prestation[Duree],Prestation[Code],Prestation[[#This Row],[Code]])","v":0},{"$f":"Prestation[[#This Row],[Temps passé par code (H)]]&ROW()/10000","v":"00,0016"},{"$f":"Prestation[[#This Row],[CollaborateurTrigramme]]","v":0},{"$f":"Prestation[[#This Row],[DossierCode]]","v":0},{"$f":"_xlfn.CONCAT(Prestation[[#This Row],[DossierCode]],\"-\",Prestation[[#This Row],[CollaborateurTrigramme]])","v":"-"},{"$f":"ROW(Prestation[[#This Row],[Clés dossier et collaborateur]])","v":16},{"$f":"_xlfn.MINIFS(Prestation[Numéro de ligne],Prestation[Clés dossier et collaborateur],Prestation[[#This Row],[Clés dossier et collaborateur]])","v":6},{"$f":"IF(Prestation[[#This Row],[Numéro min de ligne pour la clé]]=Prestation[[#This Row],[Numéro de ligne]],Prestation[[#This Row],[Rappel collaborateur]],\"\")","v":""},{"$f":"_xlfn.TEXTJOIN(\",\",TRUE,IF(Prestation[DossierCode]=Prestation[[#This Row],[DossierCode]],Prestation[Collaborateur unique],\"\"))","v":"0"},{"$f":"MONTH(Prestation[[#This Row],[DateFacture]])","v":1},{"$f":"YEAR(Prestation[[#This Row],[DateFacture]])","v":1900}]
[null,null,null,null,null,null,null,null,null,null,null,null,null,null,null,null,null,null,null,null,null,null,null,null,null,null,null,null,null,null,null,null,null,null,null,null,null,null,null,null,null,null,null,null,null,null,null,null,null,null,null,null,null,null,null,null,null,null,null,null,null,null,null,null,null,null,null,null,{"$f":"SUMIFS(Prestation[Duree],Prestation[Code],Prestation[[#This Row],[Code]])","v":0},{"$f":"Prestation[[#This Row],[Temps passé par code (H)]]&ROW()/10000","v":"00,0017"},{"$f":"Prestation[[#This Row],[CollaborateurTrigramme]]","v":0},{"$f":"Prestation[[#This Row],[DossierCode]]","v":0},{"$f":"_xlfn.CONCAT(Prestation[[#This Row],[DossierCode]],\"-\",Prestation[[#This Row],[CollaborateurTrigramme]])","v":"-"},{"$f":"ROW(Prestation[[#This Row],[Clés dossier et collaborateur]])","v":17},{"$f":"_xlfn.MINIFS(Prestation[Numéro de ligne],Prestation[Clés dossier et collaborateur],Prestation[[#This Row],[Clés dossier et collaborateur]])","v":6},{"$f":"IF(Prestation[[#This Row],[Numéro min de ligne pour la clé]]=Prestation[[#This Row],[Numéro de ligne]],Prestation[[#This Row],[Rappel collaborateur]],\"\")","v":""},{"$f":"_xlfn.TEXTJOIN(\",\",TRUE,IF(Prestation[DossierCode]=Prestation[[#This Row],[DossierCode]],Prestation[Collaborateur unique],\"\"))","v":"0"},{"$f":"MONTH(Prestation[[#This Row],[DateFacture]])","v":1},{"$f":"YEAR(Prestation[[#This Row],[DateFacture]])","v":1900}]
[null,null,null,null,null,null,null,null,null,null,null,null,null,null,null,null,null,null,null,null,null,null,null,null,null,null,null,null,null,null,null,null,null,null,null,null,null,null,null,null,null,null,null,null,null,null,null,null,null,null,null,null,null,null,null,null,null,null,null,null,null,null,null,null,null,null,null,null,{"$f":"SUMIFS(Prestation[Duree],Prestation[Code],Prestation[[#This Row],[Code]])","v":0},{"$f":"Prestation[[#This Row],[Temps passé par code (H)]]&ROW()/10000","v":"00,0018"},{"$f":"Prestation[[#This Row],[CollaborateurTrigramme]]","v":0},{"$f":"Prestation[[#This Row],[DossierCode]]","v":0},{"$f":"_xlfn.CONCAT(Prestation[[#This Row],[DossierCode]],\"-\",Prestation[[#This Row],[CollaborateurTrigramme]])","v":"-"},{"$f":"ROW(Prestation[[#This Row],[Clés dossier et collaborateur]])","v":18},{"$f":"_xlfn.MINIFS(Prestation[Numéro de ligne],Prestation[Clés dossier et collaborateur],Prestation[[#This Row],[Clés dossier et collaborateur]])","v":6},{"$f":"IF(Prestation[[#This Row],[Numéro min de ligne pour la clé]]=Prestation[[#This Row],[Numéro de ligne]],Prestation[[#This Row],[Rappel collaborateur]],\"\")","v":""},{"$f":"_xlfn.TEXTJOIN(\",\",TRUE,IF(Prestation[DossierCode]=Prestation[[#This Row],[DossierCode]],Prestation[Collaborateur unique],\"\"))","v":"0"},{"$f":"MONTH(Prestation[[#This Row],[DateFacture]])","v":1},{"$f":"YEAR(Prestation[[#This Row],[DateFacture]])","v":1900}]
[null,null,null,null,null,null,null,null,null,null,null,null,null,null,null,null,null,null,null,null,null,null,null,null,null,null,null,null,null,null,null,null,null,null,null,null,null,null,null,null,null,null,null,null,null,null,null,null,null,null,null,null,null,null,null,null,null,null,null,null,null,null,null,null,null,null,null,null,{"$f":"SUMIFS(Prestation[Duree],Prestation[Code],Prestation[[#This Row],[Code]])","v":0},{"$f":"Prestation[[#This Row],[Temps passé par code (H)]]&ROW()/10000","v":"00,0019"},{"$f":"Prestation[[#This Row],[CollaborateurTrigramme]]","v":0},{"$f":"Prestation[[#This Row],[DossierCode]]","v":0},{"$f":"_xlfn.CONCAT(Prestation[[#This Row],[DossierCode]],\"-\",Prestation[[#This Row],[CollaborateurTrigramme]])","v":"-"},{"$f":"ROW(Prestation[[#This Row],[Clés dossier et collaborateur]])","v":19},{"$f":"_xlfn.MINIFS(Prestation[Numéro de ligne],Prestation[Clés dossier et collaborateur],Prestation[[#This Row],[Clés dossier et collaborateur]])","v":6},{"$f":"IF(Prestation[[#This Row],[Numéro min de ligne pour la clé]]=Prestation[[#This Row],[Numéro de ligne]],Prestation[[#This Row],[Rappel collaborateur]],\"\")","v":""},{"$f":"_xlfn.TEXTJOIN(\",\",TRUE,IF(Prestation[DossierCode]=Prestation[[#This Row],[DossierCode]],Prestation[Collaborateur unique],\"\"))","v":"0"},{"$f":"MONTH(Prestation[[#This Row],[DateFacture]])","v":1},{"$f":"YEAR(Prestation[[#This Row],[DateFacture]])","v":1900}]
[null,null,null,null,null,null,null,null,null,null,null,null,null,null,null,null,null,null,null,null,null,null,null,null,null,null,null,null,null,null,null,null,null,null,null,null,null,null,null,null,null,null,null,null,null,null,null,null,null,null,null,null,null,null,null,null,null,null,null,null,null,null,null,null,null,null,null,null,{"$f":"SUMIFS(Prestation[Duree],Prestation[Code],Prestation[[#This Row],[Code]])","v":0},{"$f":"Prestation[[#This Row],[Temps passé par code (H)]]&ROW()/10000","v":"00,002"},{"$f":"Prestation[[#This Row],[CollaborateurTrigramme]]","v":0},{"$f":"Prestation[[#This Row],[DossierCode]]","v":0},{"$f":"_xlfn.CONCAT(Prestation[[#This Row],[DossierCode]],\"-\",Prestation[[#This Row],[CollaborateurTrigramme]])","v":"-"},{"$f":"ROW(Prestation[[#This Row],[Clés dossier et collaborateur]])","v":20},{"$f":"_xlfn.MINIFS(Prestation[Numéro de ligne],Prestation[Clés dossier et collaborateur],Prestation[[#This Row],[Clés dossier et collaborateur]])","v":6},{"$f":"IF(Prestation[[#This Row],[Numéro min de ligne pour la clé]]=Prestation[[#This Row],[Numéro de ligne]],Prestation[[#This Row],[Rappel collaborateur]],\"\")","v":""},{"$f":"_xlfn.TEXTJOIN(\",\",TRUE,IF(Prestation[DossierCode]=Prestation[[#This Row],[DossierCode]],Prestation[Collaborateur unique],\"\"))","v":"0"},{"$f":"MONTH(Prestation[[#This Row],[DateFacture]])","v":1},{"$f":"YEAR(Prestation[[#This Row],[DateFacture]])","v":1900}]
[null,null,null,null,null,null,null,null,null,null,null,null,null,null,null,null,null,null,null,null,null,null,null,null,null,null,null,null,null,null,null,null,null,null,null,null,null,null,null,null,null,null,null,null,null,null,null,null,null,null,null,null,null,null,null,null,null,null,null,null,null,null,null,null,null,null,null,null,{"$f":"SUMIFS(Prestation[Duree],Prestation[Code],Prestation[[#This Row],[Code]])","v":0},{"$f":"Prestation[[#This Row],[Temps passé par code (H)]]&ROW()/10000","v":"00,0021"},{"$f":"Prestation[[#This Row],[CollaborateurTrigramme]]","v":0},{"$f":"Prestation[[#This Row],[DossierCode]]","v":0},{"$f":"_xlfn.CONCAT(Prestation[[#This Row],[DossierCode]],\"-\",Prestation[[#This Row],[CollaborateurTrigramme]])","v":"-"},{"$f":"ROW(Prestation[[#This Row],[Clés dossier et collaborateur]])","v":21},{"$f":"_xlfn.MINIFS(Prestation[Numéro de ligne],Prestation[Clés dossier et collaborateur],Prestation[[#This Row],[Clés dossier et collaborateur]])","v":6},{"$f":"IF(Prestation[[#This Row],[Numéro min de ligne pour la clé]]=Prestation[[#This Row],[Numéro de ligne]],Prestation[[#This Row],[Rappel collaborateur]],\"\")","v":""},{"$f":"_xlfn.TEXTJOIN(\",\",TRUE,IF(Prestation[DossierCode]=Prestation[[#This Row],[DossierCode]],Prestation[Collaborateur unique],\"\"))","v":"0"},{"$f":"MONTH(Prestation[[#This Row],[DateFacture]])","v":1},{"$f":"YEAR(Prestation[[#This Row],[DateFacture]])","v":1900}]
[null,null,null,null,null,null,null,null,null,null,null,null,null,null,null,null,null,null,null,null,null,null,null,null,null,null,null,null,null,null,null,null,null,null,null,null,null,null,null,null,null,null,null,null,null,null,null,null,null,null,null,null,null,null,null,null,null,null,null,null,null,null,null,null,null,null,null,null,{"$f":"SUMIFS(Prestation[Duree],Prestation[Code],Prestation[[#This Row],[Code]])","v":0},{"$f":"Prestation[[#This Row],[Temps passé par code (H)]]&ROW()/10000","v":"00,0022"},{"$f":"Prestation[[#This Row],[CollaborateurTrigramme]]","v":0},{"$f":"Prestation[[#This Row],[DossierCode]]","v":0},{"$f":"_xlfn.CONCAT(Prestation[[#This Row],[DossierCode]],\"-\",Prestation[[#This Row],[CollaborateurTrigramme]])","v":"-"},{"$f":"ROW(Prestation[[#This Row],[Clés dossier et collaborateur]])","v":22},{"$f":"_xlfn.MINIFS(Prestation[Numéro de ligne],Prestation[Clés dossier et collaborateur],Prestation[[#This Row],[Clés dossier et collaborateur]])","v":6},{"$f":"IF(Prestation[[#This Row],[Numéro min de ligne pour la clé]]=Prestation[[#This Row],[Numéro de ligne]],Prestation[[#This Row],[Rappel collaborateur]],\"\")","v":""},{"$f":"_xlfn.TEXTJOIN(\",\",TRUE,IF(Prestation[DossierCode]=Prestation[[#This Row],[DossierCode]],Prestation[Collaborateur unique],\"\"))","v":"0"},{"$f":"MONTH(Prestation[[#This Row],[DateFacture]])","v":1},{"$f":"YEAR(Prestation[[#This Row],[DateFacture]])","v":1900}]
[null,null,null,null,null,null,null,null,null,null,null,null,null,null,null,null,null,null,null,null,null,null,null,null,null,null,null,null,null,null,null,null,null,null,null,null,null,null,null,null,null,null,null,null,null,null,null,null,null,null,null,null,null,null,null,null,null,null,null,null,null,null,null,null,null,null,null,null,{"$f":"SUMIFS(Prestation[Duree],Prestation[Code],Prestation[[#This Row],[Code]])","v":0},{"$f":"Prestation[[#This Row],[Temps passé par code (H)]]&ROW()/10000","v":"00,0023"},{"$f":"Prestation[[#This Row],[CollaborateurTrigramme]]","v":0},{"$f":"Prestation[[#This Row],[DossierCode]]","v":0},{"$f":"_xlfn.CONCAT(Prestation[[#This Row],[DossierCode]],\"-\",Prestation[[#This Row],[CollaborateurTrigramme]])","v":"-"},{"$f":"ROW(Prestation[[#This Row],[Clés dossier et collaborateur]])","v":23},{"$f":"_xlfn.MINIFS(Prestation[Numéro de ligne],Prestation[Clés dossier et collaborateur],Prestation[[#This Row],[Clés dossier et collaborateur]])","v":6},{"$f":"IF(Prestation[[#This Row],[Numéro min de ligne pour la clé]]=Prestation[[#This Row],[Numéro de ligne]],Prestation[[#This Row],[Rappel collaborateur]],\"\")","v":""},{"$f":"_xlfn.TEXTJOIN(\",\",TRUE,IF(Prestation[DossierCode]=Prestation[[#This Row],[DossierCode]],Prestation[Collaborateur unique],\"\"))","v":"0"},{"$f":"MONTH(Prestation[[#This Row],[DateFacture]])","v":1},{"$f":"YEAR(Prestation[[#This Row],[DateFacture]])","v":1900}]
[null,null,null,null,null,null,null,null,null,null,null,null,null,null,null,null,null,null,null,null,null,null,null,null,null,null,null,null,null,null,null,null,null,null,null,null,null,null,null,null,null,null,null,null,null,null,null,null,null,null,null,null,null,null,null,null,null,null,null,null,null,null,null,null,null,null,null,null,{"$f":"SUMIFS(Prestation[Duree],Prestation[Code],Prestation[[#This Row],[Code]])","v":0},{"$f":"Prestation[[#This Row],[Temps passé par code (H)]]&ROW()/10000","v":"00,0024"},{"$f":"Prestation[[#This Row],[CollaborateurTrigramme]]","v":0},{"$f":"Prestation[[#This Row],[DossierCode]]","v":0},{"$f":"_xlfn.CONCAT(Prestation[[#This Row],[DossierCode]],\"-\",Prestation[[#This Row],[CollaborateurTrigramme]])","v":"-"},{"$f":"ROW(Prestation[[#This Row],[Clés dossier et collaborateur]])","v":24},{"$f":"_xlfn.MINIFS(Prestation[Numéro de ligne],Prestation[Clés dossier et collaborateur],Prestation[[#This Row],[Clés dossier et collaborateur]])","v":6},{"$f":"IF(Prestation[[#This Row],[Numéro min de ligne pour la clé]]=Prestation[[#This Row],[Numéro de ligne]],Prestation[[#This Row],[Rappel collaborateur]],\"\")","v":""},{"$f":"_xlfn.TEXTJOIN(\",\",TRUE,IF(Prestation[DossierCode]=Prestation[[#This Row],[DossierCode]],Prestation[Collaborateur unique],\"\"))","v":"0"},{"$f":"MONTH(Prestation[[#This Row],[DateFacture]])","v":1},{"$f":"YEAR(Prestation[[#This Row],[DateFacture]])","v":1900}]
[null,null,null,null,null,null,null,null,null,null,null,null,null,null,null,null,null,null,null,null,null,null,null,null,null,null,null,null,null,null,null,null,null,null,null,null,null,null,null,null,null,null,null,null,null,null,null,null,null,null,null,null,null,null,null,null,null,null,null,null,null,null,null,null,null,null,null,null,{"$f":"SUMIFS(Prestation[Duree],Prestation[Code],Prestation[[#This Row],[Code]])","v":0},{"$f":"Prestation[[#This Row],[Temps passé par code (H)]]&ROW()/10000","v":"00,0025"},{"$f":"Prestation[[#This Row],[CollaborateurTrigramme]]","v":0},{"$f":"Prestation[[#This Row],[DossierCode]]","v":0},{"$f":"_xlfn.CONCAT(Prestation[[#This Row],[DossierCode]],\"-\",Prestation[[#This Row],[CollaborateurTrigramme]])","v":"-"},{"$f":"ROW(Prestation[[#This Row],[Clés dossier et collaborateur]])","v":25},{"$f":"_xlfn.MINIFS(Prestation[Numéro de ligne],Prestation[Clés dossier et collaborateur],Prestation[[#This Row],[Clés dossier et collaborateur]])","v":6},{"$f":"IF(Prestation[[#This Row],[Numéro min de ligne pour la clé]]=Prestation[[#This Row],[Numéro de ligne]],Prestation[[#This Row],[Rappel collaborateur]],\"\")","v":""},{"$f":"_xlfn.TEXTJOIN(\",\",TRUE,IF(Prestation[DossierCode]=Prestation[[#This Row],[DossierCode]],Prestation[Collaborateur unique],\"\"))","v":"0"},{"$f":"MONTH(Prestation[[#This Row],[DateFacture]])","v":1},{"$f":"YEAR(Prestation[[#This Row],[DateFacture]])","v":1900}]
[null,null,null,null,null,null,null,null,null,null,null,null,null,null,null,null,null,null,null,null,null,null,null,null,null,null,null,null,null,null,null,null,null,null,null,null,null,null,null,null,null,null,null,null,null,null,null,null,null,null,null,null,null,null,null,null,null,null,null,null,null,null,null,null,null,null,null,null,{"$f":"SUMIFS(Prestation[Duree],Prestation[Code],Prestation[[#This Row],[Code]])","v":0},{"$f":"Prestation[[#This Row],[Temps passé par code (H)]]&ROW()/10000","v":"00,0026"},{"$f":"Prestation[[#This Row],[CollaborateurTrigramme]]","v":0},{"$f":"Prestation[[#This Row],[DossierCode]]","v":0},{"$f":"_xlfn.CONCAT(Prestation[[#This Row],[DossierCode]],\"-\",Prestation[[#This Row],[CollaborateurTrigramme]])","v":"-"},{"$f":"ROW(Prestation[[#This Row],[Clés dossier et collaborateur]])","v":26},{"$f":"_xlfn.MINIFS(Prestation[Numéro de ligne],Prestation[Clés dossier et collaborateur],Prestation[[#This Row],[Clés dossier et collaborateur]])","v":6},{"$f":"IF(Prestation[[#This Row],[Numéro min de ligne pour la clé]]=Prestation[[#This Row],[Numéro de ligne]],Prestation[[#This Row],[Rappel collaborateur]],\"\")","v":""},{"$f":"_xlfn.TEXTJOIN(\",\",TRUE,IF(Prestation[DossierCode]=Prestation[[#This Row],[DossierCode]],Prestation[Collaborateur unique],\"\"))","v":"0"},{"$f":"MONTH(Prestation[[#This Row],[DateFacture]])","v":1},{"$f":"YEAR(Prestation[[#This Row],[DateFacture]])","v":1900}]
[null,null,null,null,null,null,null,null,null,null,null,null,null,null,null,null,null,null,null,null,null,null,null,null,null,null,null,null,null,null,null,null,null,null,null,null,null,null,null,null,null,null,null,null,null,null,null,null,null,null,null,null,null,null,null,null,null,null,null,null,null,null,null,null,null,null,null,null,{"$f":"SUMIFS(Prestation[Duree],Prestation[Code],Prestation[[#This Row],[Code]])","v":0},{"$f":"Prestation[[#This Row],[Temps passé par code (H)]]&ROW()/10000","v":"00,0027"},{"$f":"Prestation[[#This Row],[CollaborateurTrigramme]]","v":0},{"$f":"Prestation[[#This Row],[DossierCode]]","v":0},{"$f":"_xlfn.CONCAT(Prestation[[#This Row],[DossierCode]],\"-\",Prestation[[#This Row],[CollaborateurTrigramme]])","v":"-"},{"$f":"ROW(Prestation[[#This Row],[Clés dossier et collaborateur]])","v":27},{"$f":"_xlfn.MINIFS(Prestation[Numéro de ligne],Prestation[Clés dossier et collaborateur],Prestation[[#This Row],[Clés dossier et collaborateur]])","v":6},{"$f":"IF(Prestation[[#This Row],[Numéro min de ligne pour la clé]]=Prestation[[#This Row],[Numéro de ligne]],Prestation[[#This Row],[Rappel collaborateur]],\"\")","v":""},{"$f":"_xlfn.TEXTJOIN(\",\",TRUE,IF(Prestation[DossierCode]=Prestation[[#This Row],[DossierCode]],Prestation[Collaborateur unique],\"\"))","v":"0"},{"$f":"MONTH(Prestation[[#This Row],[DateFacture]])","v":1},{"$f":"YEAR(Prestation[[#This Row],[DateFacture]])","v":1900}]
[null,null,null,null,null,null,null,null,null,null,null,null,null,null,null,null,null,null,null,null,null,null,null,null,null,null,null,null,null,null,null,null,null,null,null,null,null,null,null,null,null,null,null,null,null,null,null,null,null,null,null,null,null,null,null,null,null,null,null,null,null,null,null,null,null,null,null,null,{"$f":"SUMIFS(Prestation[Duree],Prestation[Code],Prestation[[#This Row],[Code]])","v":0},{"$f":"Prestation[[#This Row],[Temps passé par code (H)]]&ROW()/10000","v":"00,0028"},{"$f":"Prestation[[#This Row],[CollaborateurTrigramme]]","v":0},{"$f":"Prestation[[#This Row],[DossierCode]]","v":0},{"$f":"_xlfn.CONCAT(Prestation[[#This Row],[DossierCode]],\"-\",Prestation[[#This Row],[CollaborateurTrigramme]])","v":"-"},{"$f":"ROW(Prestation[[#This Row],[Clés dossier et collaborateur]])","v":28},{"$f":"_xlfn.MINIFS(Prestation[Numéro de ligne],Prestation[Clés dossier et collaborateur],Prestation[[#This Row],[Clés dossier et collaborateur]])","v":6},{"$f":"IF(Prestation[[#This Row],[Numéro min de ligne pour la clé]]=Prestation[[#This Row],[Numéro de ligne]],Prestation[[#This Row],[Rappel collaborateur]],\"\")","v":""},{"$f":"_xlfn.TEXTJOIN(\",\",TRUE,IF(Prestation[DossierCode]=Prestation[[#This Row],[DossierCode]],Prestation[Collaborateur unique],\"\"))","v":"0"},{"$f":"MONTH(Prestation[[#This Row],[DateFacture]])","v":1},{"$f":"YEAR(Prestation[[#This Row],[DateFacture]])","v":1900}]
[null,null,null,null,null,null,null,null,null,null,null,null,null,null,null,null,null,null,null,null,null,null,null,null,null,null,null,null,null,null,null,null,null,null,null,null,null,null,null,null,null,null,null,null,null,null,null,null,null,null,null,null,null,null,null,null,null,null,null,null,null,null,null,null,null,null,null,null,{"$f":"SUMIFS(Prestation[Duree],Prestation[Code],Prestation[[#This Row],[Code]])","v":0},{"$f":"Prestation[[#This Row],[Temps passé par code (H)]]&ROW()/10000","v":"00,0029"},{"$f":"Prestation[[#This Row],[CollaborateurTrigramme]]","v":0},{"$f":"Prestation[[#This Row],[DossierCode]]","v":0},{"$f":"_xlfn.CONCAT(Prestation[[#This Row],[DossierCode]],\"-\",Prestation[[#This Row],[CollaborateurTrigramme]])","v":"-"},{"$f":"ROW(Prestation[[#This Row],[Clés dossier et collaborateur]])","v":29},{"$f":"_xlfn.MINIFS(Prestation[Numéro de ligne],Prestation[Clés dossier et collaborateur],Prestation[[#This Row],[Clés dossier et collaborateur]])","v":6},{"$f":"IF(Prestation[[#This Row],[Numéro min de ligne pour la clé]]=Prestation[[#This Row],[Numéro de ligne]],Prestation[[#This Row],[Rappel collaborateur]],\"\")","v":""},{"$f":"_xlfn.TEXTJOIN(\",\",TRUE,IF(Prestation[DossierCode]=Prestation[[#This Row],[DossierCode]],Prestation[Collaborateur unique],\"\"))","v":"0"},{"$f":"MONTH(Prestation[[#This Row],[DateFacture]])","v":1},{"$f":"YEAR(Prestation[[#This Row],[DateFacture]])","v":1900}]
[null,null,null,null,null,null,null,null,null,null,null,null,null,null,null,null,null,null,null,null,null,null,null,null,null,null,null,null,null,null,null,null,null,null,null,null,null,null,null,null,null,null,null,null,null,null,null,null,null,null,null,null,null,null,null,null,null,null,null,null,null,null,null,null,null,null,null,null,{"$f":"SUMIFS(Prestation[Duree],Prestation[Code],Prestation[[#This Row],[Code]])","v":0},{"$f":"Prestation[[#This Row],[Temps passé par code (H)]]&ROW()/10000","v":"00,003"},{"$f":"Prestation[[#This Row],[CollaborateurTrigramme]]","v":0},{"$f":"Prestation[[#This Row],[DossierCode]]","v":0},{"$f":"_xlfn.CONCAT(Prestation[[#This Row],[DossierCode]],\"-\",Prestation[[#This Row],[CollaborateurTrigramme]])","v":"-"},{"$f":"ROW(Prestation[[#This Row],[Clés dossier et collaborateur]])","v":30},{"$f":"_xlfn.MINIFS(Prestation[Numéro de ligne],Prestation[Clés dossier et collaborateur],Prestation[[#This Row],[Clés dossier et collaborateur]])","v":6},{"$f":"IF(Prestation[[#This Row],[Numéro min de ligne pour la clé]]=Prestation[[#This Row],[Numéro de ligne]],Prestation[[#This Row],[Rappel collaborateur]],\"\")","v":""},{"$f":"_xlfn.TEXTJOIN(\",\",TRUE,IF(Prestation[DossierCode]=Prestation[[#This Row],[DossierCode]],Prestation[Collaborateur unique],\"\"))","v":"0"},{"$f":"MONTH(Prestation[[#This Row],[DateFacture]])","v":1},{"$f":"YEAR(Prestation[[#This Row],[DateFacture]])","v":1900}]
[null,null,null,null,null,null,null,null,null,null,null,null,null,null,null,null,null,null,null,null,null,null,null,null,null,null,null,null,null,null,null,null,null,null,null,null,null,null,null,null,null,null,null,null,null,null,null,null,null,null,null,null,null,null,null,null,null,null,null,null,null,null,null,null,null,null,null,null,{"$f":"SUMIFS(Prestation[Duree],Prestation[Code],Prestation[[#This Row],[Code]])","v":0},{"$f":"Prestation[[#This Row],[Temps passé par code (H)]]&ROW()/10000","v":"00,0031"},{"$f":"Prestation[[#This Row],[CollaborateurTrigramme]]","v":0},{"$f":"Prestation[[#This Row],[DossierCode]]","v":0},{"$f":"_xlfn.CONCAT(Prestation[[#This Row],[DossierCode]],\"-\",Prestation[[#This Row],[CollaborateurTrigramme]])","v":"-"},{"$f":"ROW(Prestation[[#This Row],[Clés dossier et collaborateur]])","v":31},{"$f":"_xlfn.MINIFS(Prestation[Numéro de ligne],Prestation[Clés dossier et collaborateur],Prestation[[#This Row],[Clés dossier et collaborateur]])","v":6},{"$f":"IF(Prestation[[#This Row],[Numéro min de ligne pour la clé]]=Prestation[[#This Row],[Numéro de ligne]],Prestation[[#This Row],[Rappel collaborateur]],\"\")","v":""},{"$f":"_xlfn.TEXTJOIN(\",\",TRUE,IF(Prestation[DossierCode]=Prestation[[#This Row],[DossierCode]],Prestation[Collaborateur unique],\"\"))","v":"0"},{"$f":"MONTH(Prestation[[#This Row],[DateFacture]])","v":1},{"$f":"YEAR(Prestation[[#This Row],[DateFacture]])","v":1900}]
[null,null,null,null,null,null,null,null,null,null,null,null,null,null,null,null,null,null,null,null,null,null,null,null,null,null,null,null,null,null,null,null,null,null,null,null,null,null,null,null,null,null,null,null,null,null,null,null,null,null,null,null,null,null,null,null,null,null,null,null,null,null,null,null,null,null,null,null,{"$f":"SUMIFS(Prestation[Duree],Prestation[Code],Prestation[[#This Row],[Code]])","v":0},{"$f":"Prestation[[#This Row],[Temps passé par code (H)]]&ROW()/10000","v":"00,0032"},{"$f":"Prestation[[#This Row],[CollaborateurTrigramme]]","v":0},{"$f":"Prestation[[#This Row],[DossierCode]]","v":0},{"$f":"_xlfn.CONCAT(Prestation[[#This Row],[DossierCode]],\"-\",Prestation[[#This Row],[CollaborateurTrigramme]])","v":"-"},{"$f":"ROW(Prestation[[#This Row],[Clés dossier et collaborateur]])","v":32},{"$f":"_xlfn.MINIFS(Prestation[Numéro de ligne],Prestation[Clés dossier et collaborateur],Prestation[[#This Row],[Clés dossier et collaborateur]])","v":6},{"$f":"IF(Prestation[[#This Row],[Numéro min de ligne pour la clé]]=Prestation[[#This Row],[Numéro de ligne]],Prestation[[#This Row],[Rappel collaborateur]],\"\")","v":""},{"$f":"_xlfn.TEXTJOIN(\",\",TRUE,IF(Prestation[DossierCode]=Prestation[[#This Row],[DossierCode]],Prestation[Collaborateur unique],\"\"))","v":"0"},{"$f":"MONTH(Prestation[[#This Row],[DateFacture]])","v":1},{"$f":"YEAR(Prestation[[#This Row],[DateFacture]])","v":1900}]
[null,null,null,null,null,null,null,null,null,null,null,null,null,null,null,null,null,null,null,null,null,null,null,null,null,null,null,null,null,null,null,null,null,null,null,null,null,null,null,null,null,null,null,null,null,null,null,null,null,null,null,null,null,null,null,null,null,null,null,null,null,null,null,null,null,null,null,null,{"$f":"SUMIFS(Prestation[Duree],Prestation[Code],Prestation[[#This Row],[Code]])","v":0},{"$f":"Prestation[[#This Row],[Temps passé par code (H)]]&ROW()/10000","v":"00,0033"},{"$f":"Prestation[[#This Row],[CollaborateurTrigramme]]","v":0},{"$f":"Prestation[[#This Row],[DossierCode]]","v":0},{"$f":"_xlfn.CONCAT(Prestation[[#This Row],[DossierCode]],\"-\",Prestation[[#This Row],[CollaborateurTrigramme]])","v":"-"},{"$f":"ROW(Prestation[[#This Row],[Clés dossier et collaborateur]])","v":33},{"$f":"_xlfn.MINIFS(Prestation[Numéro de ligne],Prestation[Clés dossier et collaborateur],Prestation[[#This Row],[Clés dossier et collaborateur]])","v":6},{"$f":"IF(Prestation[[#This Row],[Numéro min de ligne pour la clé]]=Prestation[[#This Row],[Numéro de ligne]],Prestation[[#This Row],[Rappel collaborateur]],\"\")","v":""},{"$f":"_xlfn.TEXTJOIN(\",\",TRUE,IF(Prestation[DossierCode]=Prestation[[#This Row],[DossierCode]],Prestation[Collaborateur unique],\"\"))","v":"0"},{"$f":"MONTH(Prestation[[#This Row],[DateFacture]])","v":1},{"$f":"YEAR(Prestation[[#This Row],[DateFacture]])","v":1900}]
[null,null,null,null,null,null,null,null,null,null,null,null,null,null,null,null,null,null,null,null,null,null,null,null,null,null,null,null,null,null,null,null,null,null,null,null,null,null,null,null,null,null,null,null,null,null,null,null,null,null,null,null,null,null,null,null,null,null,null,null,null,null,null,null,null,null,null,null,{"$f":"SUMIFS(Prestation[Duree],Prestation[Code],Prestation[[#This Row],[Code]])","v":0},{"$f":"Prestation[[#This Row],[Temps passé par code (H)]]&ROW()/10000","v":"00,0034"},{"$f":"Prestation[[#This Row],[CollaborateurTrigramme]]","v":0},{"$f":"Prestation[[#This Row],[DossierCode]]","v":0},{"$f":"_xlfn.CONCAT(Prestation[[#This Row],[DossierCode]],\"-\",Prestation[[#This Row],[CollaborateurTrigramme]])","v":"-"},{"$f":"ROW(Prestation[[#This Row],[Clés dossier et collaborateur]])","v":34},{"$f":"_xlfn.MINIFS(Prestation[Numéro de ligne],Prestation[Clés dossier et collaborateur],Prestation[[#This Row],[Clés dossier et collaborateur]])","v":6},{"$f":"IF(Prestation[[#This Row],[Numéro min de ligne pour la clé]]=Prestation[[#This Row],[Numéro de ligne]],Prestation[[#This Row],[Rappel collaborateur]],\"\")","v":""},{"$f":"_xlfn.TEXTJOIN(\",\",TRUE,IF(Prestation[DossierCode]=Prestation[[#This Row],[DossierCode]],Prestation[Collaborateur unique],\"\"))","v":"0"},{"$f":"MONTH(Prestation[[#This Row],[DateFacture]])","v":1},{"$f":"YEAR(Prestation[[#This Row],[DateFacture]])","v":1900}]
[null,null,null,null,null,null,null,null,null,null,null,null,null,null,null,null,null,null,null,null,null,null,null,null,null,null,null,null,null,null,null,null,null,null,null,null,null,null,null,null,null,null,null,null,null,null,null,null,null,null,null,null,null,null,null,null,null,null,null,null,null,null,null,null,null,null,null,null,{"$f":"SUMIFS(Prestation[Duree],Prestation[Code],Prestation[[#This Row],[Code]])","v":0},{"$f":"Prestation[[#This Row],[Temps passé par code (H)]]&ROW()/10000","v":"00,0035"},{"$f":"Prestation[[#This Row],[CollaborateurTrigramme]]","v":0},{"$f":"Prestation[[#This Row],[DossierCode]]","v":0},{"$f":"_xlfn.CONCAT(Prestation[[#This Row],[DossierCode]],\"-\",Prestation[[#This Row],[CollaborateurTrigramme]])","v":"-"},{"$f":"ROW(Prestation[[#This Row],[Clés dossier et collaborateur]])","v":35},{"$f":"_xlfn.MINIFS(Prestation[Numéro de ligne],Prestation[Clés dossier et collaborateur],Prestation[[#This Row],[Clés dossier et collaborateur]])","v":6},{"$f":"IF(Prestation[[#This Row],[Numéro min de ligne pour la clé]]=Prestation[[#This Row],[Numéro de ligne]],Prestation[[#This Row],[Rappel collaborateur]],\"\")","v":""},{"$f":"_xlfn.TEXTJOIN(\",\",TRUE,IF(Prestation[DossierCode]=Prestation[[#This Row],[DossierCode]],Prestation[Collaborateur unique],\"\"))","v":"0"},{"$f":"MONTH(Prestation[[#This Row],[DateFacture]])","v":1},{"$f":"YEAR(Prestation[[#This Row],[DateFacture]])","v":1900}]
[null,null,null,null,null,null,null,null,null,null,null,null,null,null,null,null,null,null,null,null,null,null,null,null,null,null,null,null,null,null,null,null,null,null,null,null,null,null,null,null,null,null,null,null,null,null,null,null,null,null,null,null,null,null,null,null,null,null,null,null,null,null,null,null,null,null,null,null,{"$f":"SUMIFS(Prestation[Duree],Prestation[Code],Prestation[[#This Row],[Code]])","v":0},{"$f":"Prestation[[#This Row],[Temps passé par code (H)]]&ROW()/10000","v":"00,0036"},{"$f":"Prestation[[#This Row],[CollaborateurTrigramme]]","v":0},{"$f":"Prestation[[#This Row],[DossierCode]]","v":0},{"$f":"_xlfn.CONCAT(Prestation[[#This Row],[DossierCode]],\"-\",Prestation[[#This Row],[CollaborateurTrigramme]])","v":"-"},{"$f":"ROW(Prestation[[#This Row],[Clés dossier et collaborateur]])","v":36},{"$f":"_xlfn.MINIFS(Prestation[Numéro de ligne],Prestation[Clés dossier et collaborateur],Prestation[[#This Row],[Clés dossier et collaborateur]])","v":6},{"$f":"IF(Prestation[[#This Row],[Numéro min de ligne pour la clé]]=Prestation[[#This Row],[Numéro de ligne]],Prestation[[#This Row],[Rappel collaborateur]],\"\")","v":""},{"$f":"_xlfn.TEXTJOIN(\",\",TRUE,IF(Prestation[DossierCode]=Prestation[[#This Row],[DossierCode]],Prestation[Collaborateur unique],\"\"))","v":"0"},{"$f":"MONTH(Prestation[[#This Row],[DateFacture]])","v":1},{"$f":"YEAR(Prestation[[#This Row],[DateFacture]])","v":1900}]
[null,null,null,null,null,null,null,null,null,null,null,null,null,null,null,null,null,null,null,null,null,null,null,null,null,null,null,null,null,null,null,null,null,null,null,null,null,null,null,null,null,null,null,null,null,null,null,null,null,null,null,null,null,null,null,null,null,null,null,null,null,null,null,null,null,null,null,null,{"$f":"SUMIFS(Prestation[Duree],Prestation[Code],Prestation[[#This Row],[Code]])","v":0},{"$f":"Prestation[[#This Row],[Temps passé par code (H)]]&ROW()/10000","v":"00,0037"},{"$f":"Prestation[[#This Row],[CollaborateurTrigramme]]","v":0},{"$f":"Prestation[[#This Row],[DossierCode]]","v":0},{"$f":"_xlfn.CONCAT(Prestation[[#This Row],[DossierCode]],\"-\",Prestation[[#This Row],[CollaborateurTrigramme]])","v":"-"},{"$f":"ROW(Prestation[[#This Row],[Clés dossier et collaborateur]])","v":37},{"$f":"_xlfn.MINIFS(Prestation[Numéro de ligne],Prestation[Clés dossier et collaborateur],Prestation[[#This Row],[Clés dossier et collaborateur]])","v":6},{"$f":"IF(Prestation[[#This Row],[Numéro min de ligne pour la clé]]=Prestation[[#This Row],[Numéro de ligne]],Prestation[[#This Row],[Rappel collaborateur]],\"\")","v":""},{"$f":"_xlfn.TEXTJOIN(\",\",TRUE,IF(Prestation[DossierCode]=Prestation[[#This Row],[DossierCode]],Prestation[Collaborateur unique],\"\"))","v":"0"},{"$f":"MONTH(Prestation[[#This Row],[DateFacture]])","v":1},{"$f":"YEAR(Prestation[[#This Row],[DateFacture]])","v":1900}]
[null,null,null,null,null,null,null,null,null,null,null,null,null,null,null,null,null,null,null,null,null,null,null,null,null,null,null,null,null,null,null,null,null,null,null,null,null,null,null,null,null,null,null,null,null,null,null,null,null,null,null,null,null,null,null,null,null,null,null,null,null,null,null,null,null,null,null,null,{"$f":"SUMIFS(Prestation[Duree],Prestation[Code],Prestation[[#This Row],[Code]])","v":0},{"$f":"Prestation[[#This Row],[Temps passé par code (H)]]&ROW()/10000","v":"00,0038"},{"$f":"Prestation[[#This Row],[CollaborateurTrigramme]]","v":0},{"$f":"Prestation[[#This Row],[DossierCode]]","v":0},{"$f":"_xlfn.CONCAT(Prestation[[#This Row],[DossierCode]],\"-\",Prestation[[#This Row],[CollaborateurTrigramme]])","v":"-"},{"$f":"ROW(Prestation[[#This Row],[Clés dossier et collaborateur]])","v":38},{"$f":"_xlfn.MINIFS(Prestation[Numéro de ligne],Prestation[Clés dossier et collaborateur],Prestation[[#This Row],[Clés dossier et collaborateur]])","v":6},{"$f":"IF(Prestation[[#This Row],[Numéro min de ligne pour la clé]]=Prestation[[#This Row],[Numéro de ligne]],Prestation[[#This Row],[Rappel collaborateur]],\"\")","v":""},{"$f":"_xlfn.TEXTJOIN(\",\",TRUE,IF(Prestation[DossierCode]=Prestation[[#This Row],[DossierCode]],Prestation[Collaborateur unique],\"\"))","v":"0"},{"$f":"MONTH(Prestation[[#This Row],[DateFacture]])","v":1},{"$f":"YEAR(Prestation[[#This Row],[DateFacture]])","v":1900}]
[null,null,null,null,null,null,null,null,null,null,null,null,null,null,null,null,null,null,null,null,null,null,null,null,null,null,null,null,null,null,null,null,null,null,null,null,null,null,null,null,null,null,null,null,null,null,null,null,null,null,null,null,null,null,null,null,null,null,null,null,null,null,null,null,null,null,null,null,{"$f":"SUMIFS(Prestation[Duree],Prestation[Code],Prestation[[#This Row],[Code]])","v":0},{"$f":"Prestation[[#This Row],[Temps passé par code (H)]]&ROW()/10000","v":"00,0039"},{"$f":"Prestation[[#This Row],[CollaborateurTrigramme]]","v":0},{"$f":"Prestation[[#This Row],[DossierCode]]","v":0},{"$f":"_xlfn.CONCAT(Prestation[[#This Row],[DossierCode]],\"-\",Prestation[[#This Row],[CollaborateurTrigramme]])","v":"-"},{"$f":"ROW(Prestation[[#This Row],[Clés dossier et collaborateur]])","v":39},{"$f":"_xlfn.MINIFS(Prestation[Numéro de ligne],Prestation[Clés dossier et collaborateur],Prestation[[#This Row],[Clés dossier et collaborateur]])","v":6},{"$f":"IF(Prestation[[#This Row],[Numéro min de ligne pour la clé]]=Prestation[[#This Row],[Numéro de ligne]],Prestation[[#This Row],[Rappel collaborateur]],\"\")","v":""},{"$f":"_xlfn.TEXTJOIN(\",\",TRUE,IF(Prestation[DossierCode]=Prestation[[#This Row],[DossierCode]],Prestation[Collaborateur unique],\"\"))","v":"0"},{"$f":"MONTH(Prestation[[#This Row],[DateFacture]])","v":1},{"$f":"YEAR(Prestation[[#This Row],[DateFacture]])","v":1900}]
[null,null,null,null,null,null,null,null,null,null,null,null,null,null,null,null,null,null,null,null,null,null,null,null,null,null,null,null,null,null,null,null,null,null,null,null,null,null,null,null,null,null,null,null,null,null,null,null,null,null,null,null,null,null,null,null,null,null,null,null,null,null,null,null,null,null,null,null,{"$f":"SUMIFS(Prestation[Duree],Prestation[Code],Prestation[[#This Row],[Code]])","v":0},{"$f":"Prestation[[#This Row],[Temps passé par code (H)]]&ROW()/10000","v":"00,004"},{"$f":"Prestation[[#This Row],[CollaborateurTrigramme]]","v":0},{"$f":"Prestation[[#This Row],[DossierCode]]","v":0},{"$f":"_xlfn.CONCAT(Prestation[[#This Row],[DossierCode]],\"-\",Prestation[[#This Row],[CollaborateurTrigramme]])","v":"-"},{"$f":"ROW(Prestation[[#This Row],[Clés dossier et collaborateur]])","v":40},{"$f":"_xlfn.MINIFS(Prestation[Numéro de ligne],Prestation[Clés dossier et collaborateur],Prestation[[#This Row],[Clés dossier et collaborateur]])","v":6},{"$f":"IF(Prestation[[#This Row],[Numéro min de ligne pour la clé]]=Prestation[[#This Row],[Numéro de ligne]],Prestation[[#This Row],[Rappel collaborateur]],\"\")","v":""},{"$f":"_xlfn.TEXTJOIN(\",\",TRUE,IF(Prestation[DossierCode]=Prestation[[#This Row],[DossierCode]],Prestation[Collaborateur unique],\"\"))","v":"0"},{"$f":"MONTH(Prestation[[#This Row],[DateFacture]])","v":1},{"$f":"YEAR(Prestation[[#This Row],[DateFacture]])","v":1900}]
[null,null,null,null,null,null,null,null,null,null,null,null,null,null,null,null,null,null,null,null,null,null,null,null,null,null,null,null,null,null,null,null,null,null,null,null,null,null,null,null,null,null,null,null,null,null,null,null,null,null,null,null,null,null,null,null,null,null,null,null,null,null,null,null,null,null,null,null,{"$f":"SUMIFS(Prestation[Duree],Prestation[Code],Prestation[[#This Row],[Code]])","v":0},{"$f":"Prestation[[#This Row],[Temps passé par code (H)]]&ROW()/10000","v":"00,0041"},{"$f":"Prestation[[#This Row],[CollaborateurTrigramme]]","v":0},{"$f":"Prestation[[#This Row],[DossierCode]]","v":0},{"$f":"_xlfn.CONCAT(Prestation[[#This Row],[DossierCode]],\"-\",Prestation[[#This Row],[CollaborateurTrigramme]])","v":"-"},{"$f":"ROW(Prestation[[#This Row],[Clés dossier et collaborateur]])","v":41},{"$f":"_xlfn.MINIFS(Prestation[Numéro de ligne],Prestation[Clés dossier et collaborateur],Prestation[[#This Row],[Clés dossier et collaborateur]])","v":6},{"$f":"IF(Prestation[[#This Row],[Numéro min de ligne pour la clé]]=Prestation[[#This Row],[Numéro de ligne]],Prestation[[#This Row],[Rappel collaborateur]],\"\")","v":""},{"$f":"_xlfn.TEXTJOIN(\",\",TRUE,IF(Prestation[DossierCode]=Prestation[[#This Row],[DossierCode]],Prestation[Collaborateur unique],\"\"))","v":"0"},{"$f":"MONTH(Prestation[[#This Row],[DateFacture]])","v":1},{"$f":"YEAR(Prestation[[#This Row],[DateFacture]])","v":1900}]
[null,null,null,null,null,null,null,null,null,null,null,null,null,null,null,null,null,null,null,null,null,null,null,null,null,null,null,null,null,null,null,null,null,null,null,null,null,null,null,null,null,null,null,null,null,null,null,null,null,null,null,null,null,null,null,null,null,null,null,null,null,null,null,null,null,null,null,null,{"$f":"SUMIFS(Prestation[Duree],Prestation[Code],Prestation[[#This Row],[Code]])","v":0},{"$f":"Prestation[[#This Row],[Temps passé par code (H)]]&ROW()/10000","v":"00,0042"},{"$f":"Prestation[[#This Row],[CollaborateurTrigramme]]","v":0},{"$f":"Prestation[[#This Row],[DossierCode]]","v":0},{"$f":"_xlfn.CONCAT(Prestation[[#This Row],[DossierCode]],\"-\",Prestation[[#This Row],[CollaborateurTrigramme]])","v":"-"},{"$f":"ROW(Prestation[[#This Row],[Clés dossier et collaborateur]])","v":42},{"$f":"_xlfn.MINIFS(Prestation[Numéro de ligne],Prestation[Clés dossier et collaborateur],Prestation[[#This Row],[Clés dossier et collaborateur]])","v":6},{"$f":"IF(Prestation[[#This Row],[Numéro min de ligne pour la clé]]=Prestation[[#This Row],[Numéro de ligne]],Prestation[[#This Row],[Rappel collaborateur]],\"\")","v":""},{"$f":"_xlfn.TEXTJOIN(\",\",TRUE,IF(Prestation[DossierCode]=Prestation[[#This Row],[DossierCode]],Prestation[Collaborateur unique],\"\"))","v":"0"},{"$f":"MONTH(Prestation[[#This Row],[DateFacture]])","v":1},{"$f":"YEAR(Prestation[[#This Row],[DateFacture]])","v":1900}]
[null,null,null,null,null,null,null,null,null,null,null,null,null,null,null,null,null,null,null,null,null,null,null,null,null,null,null,null,null,null,null,null,null,null,null,null,null,null,null,null,null,null,null,null,null,null,null,null,null,null,null,null,null,null,null,null,null,null,null,null,null,null,null,null,null,null,null,null,{"$f":"SUMIFS(Prestation[Duree],Prestation[Code],Prestation[[#This Row],[Code]])","v":0},{"$f":"Prestation[[#This Row],[Temps passé par code (H)]]&ROW()/10000","v":"00,0043"},{"$f":"Prestation[[#This Row],[CollaborateurTrigramme]]","v":0},{"$f":"Prestation[[#This Row],[DossierCode]]","v":0},{"$f":"_xlfn.CONCAT(Prestation[[#This Row],[DossierCode]],\"-\",Prestation[[#This Row],[CollaborateurTrigramme]])","v":"-"},{"$f":"ROW(Prestation[[#This Row],[Clés dossier et collaborateur]])","v":43},{"$f":"_xlfn.MINIFS(Prestation[Numéro de ligne],Prestation[Clés dossier et collaborateur],Prestation[[#This Row],[Clés dossier et collaborateur]])","v":6},{"$f":"IF(Prestation[[#This Row],[Numéro min de ligne pour la clé]]=Prestation[[#This Row],[Numéro de ligne]],Prestation[[#This Row],[Rappel collaborateur]],\"\")","v":""},{"$f":"_xlfn.TEXTJOIN(\",\",TRUE,IF(Prestation[DossierCode]=Prestation[[#This Row],[DossierCode]],Prestation[Collaborateur unique],\"\"))","v":"0"},{"$f":"MONTH(Prestation[[#This Row],[DateFacture]])","v":1},{"$f":"YEAR(Prestation[[#This Row],[DateFacture]])","v":1900}]
[null,null,null,null,null,null,null,null,null,null,null,null,null,null,null,null,null,null,null,null,null,null,null,null,null,null,null,null,null,null,null,null,null,null,null,null,null,null,null,null,null,null,null,null,null,null,null,null,null,null,null,null,null,null,null,null,null,null,null,null,null,null,null,null,null,null,null,null,{"$f":"SUMIFS(Prestation[Duree],Prestation[Code],Prestation[[#This Row],[Code]])","v":0},{"$f":"Prestation[[#This Row],[Temps passé par code (H)]]&ROW()/10000","v":"00,0044"},{"$f":"Prestation[[#This Row],[CollaborateurTrigramme]]","v":0},{"$f":"Prestation[[#This Row],[DossierCode]]","v":0},{"$f":"_xlfn.CONCAT(Prestation[[#This Row],[DossierCode]],\"-\",Prestation[[#This Row],[CollaborateurTrigramme]])","v":"-"},{"$f":"ROW(Prestation[[#This Row],[Clés dossier et collaborateur]])","v":44},{"$f":"_xlfn.MINIFS(Prestation[Numéro de ligne],Prestation[Clés dossier et collaborateur],Prestation[[#This Row],[Clés dossier et collaborateur]])","v":6},{"$f":"IF(Prestation[[#This Row],[Numéro min de ligne pour la clé]]=Prestation[[#This Row],[Numéro de ligne]],Prestation[[#This Row],[Rappel collaborateur]],\"\")","v":""},{"$f":"_xlfn.TEXTJOIN(\",\",TRUE,IF(Prestation[DossierCode]=Prestation[[#This Row],[DossierCode]],Prestation[Collaborateur unique],\"\"))","v":"0"},{"$f":"MONTH(Prestation[[#This Row],[DateFacture]])","v":1},{"$f":"YEAR(Prestation[[#This Row],[DateFacture]])","v":1900}]
[null,null,null,null,null,null,null,null,null,null,null,null,null,null,null,null,null,null,null,null,null,null,null,null,null,null,null,null,null,null,null,null,null,null,null,null,null,null,null,null,null,null,null,null,null,null,null,null,null,null,null,null,null,null,null,null,null,null,null,null,null,null,null,null,null,null,null,null,{"$f":"SUMIFS(Prestation[Duree],Prestation[Code],Prestation[[#This Row],[Code]])","v":0},{"$f":"Prestation[[#This Row],[Temps passé par code (H)]]&ROW()/10000","v":"00,0045"},{"$f":"Prestation[[#This Row],[CollaborateurTrigramme]]","v":0},{"$f":"Prestation[[#This Row],[DossierCode]]","v":0},{"$f":"_xlfn.CONCAT(Prestation[[#This Row],[DossierCode]],\"-\",Prestation[[#This Row],[CollaborateurTrigramme]])","v":"-"},{"$f":"ROW(Prestation[[#This Row],[Clés dossier et collaborateur]])","v":45},{"$f":"_xlfn.MINIFS(Prestation[Numéro de ligne],Prestation[Clés dossier et collaborateur],Prestation[[#This Row],[Clés dossier et collaborateur]])","v":6},{"$f":"IF(Prestation[[#This Row],[Numéro min de ligne pour la clé]]=Prestation[[#This Row],[Numéro de ligne]],Prestation[[#This Row],[Rappel collaborateur]],\"\")","v":""},{"$f":"_xlfn.TEXTJOIN(\",\",TRUE,IF(Prestation[DossierCode]=Prestation[[#This Row],[DossierCode]],Prestation[Collaborateur unique],\"\"))","v":"0"},{"$f":"MONTH(Prestation[[#This Row],[DateFacture]])","v":1},{"$f":"YEAR(Prestation[[#This Row],[DateFacture]])","v":1900}]
[null,null,null,null,null,null,null,null,null,null,null,null,null,null,null,null,null,null,null,null,null,null,null,null,null,null,null,null,null,null,null,null,null,null,null,null,null,null,null,null,null,null,null,null,null,null,null,null,null,null,null,null,null,null,null,null,null,null,null,null,null,null,null,null,null,null,null,null,{"$f":"SUMIFS(Prestation[Duree],Prestation[Code],Prestation[[#This Row],[Code]])","v":0},{"$f":"Prestation[[#This Row],[Temps passé par code (H)]]&ROW()/10000","v":"00,0046"},{"$f":"Prestation[[#This Row],[CollaborateurTrigramme]]","v":0},{"$f":"Prestation[[#This Row],[DossierCode]]","v":0},{"$f":"_xlfn.CONCAT(Prestation[[#This Row],[DossierCode]],\"-\",Prestation[[#This Row],[CollaborateurTrigramme]])","v":"-"},{"$f":"ROW(Prestation[[#This Row],[Clés dossier et collaborateur]])","v":46},{"$f":"_xlfn.MINIFS(Prestation[Numéro de ligne],Prestation[Clés dossier et collaborateur],Prestation[[#This Row],[Clés dossier et collaborateur]])","v":6},{"$f":"IF(Prestation[[#This Row],[Numéro min de ligne pour la clé]]=Prestation[[#This Row],[Numéro de ligne]],Prestation[[#This Row],[Rappel collaborateur]],\"\")","v":""},{"$f":"_xlfn.TEXTJOIN(\",\",TRUE,IF(Prestation[DossierCode]=Prestation[[#This Row],[DossierCode]],Prestation[Collaborateur unique],\"\"))","v":"0"},{"$f":"MONTH(Prestation[[#This Row],[DateFacture]])","v":1},{"$f":"YEAR(Prestation[[#This Row],[DateFacture]])","v":1900}]
[null,null,null,null,null,null,null,null,null,null,null,null,null,null,null,null,null,null,null,null,null,null,null,null,null,null,null,null,null,null,null,null,null,null,null,null,null,null,null,null,null,null,null,null,null,null,null,null,null,null,null,null,null,null,null,null,null,null,null,null,null,null,null,null,null,null,null,null,{"$f":"SUMIFS(Prestation[Duree],Prestation[Code],Prestation[[#This Row],[Code]])","v":0},{"$f":"Prestation[[#This Row],[Temps passé par code (H)]]&ROW()/10000","v":"00,0047"},{"$f":"Prestation[[#This Row],[CollaborateurTrigramme]]","v":0},{"$f":"Prestation[[#This Row],[DossierCode]]","v":0},{"$f":"_xlfn.CONCAT(Prestation[[#This Row],[DossierCode]],\"-\",Prestation[[#This Row],[CollaborateurTrigramme]])","v":"-"},{"$f":"ROW(Prestation[[#This Row],[Clés dossier et collaborateur]])","v":47},{"$f":"_xlfn.MINIFS(Prestation[Numéro de ligne],Prestation[Clés dossier et collaborateur],Prestation[[#This Row],[Clés dossier et collaborateur]])","v":6},{"$f":"IF(Prestation[[#This Row],[Numéro min de ligne pour la clé]]=Prestation[[#This Row],[Numéro de ligne]],Prestation[[#This Row],[Rappel collaborateur]],\"\")","v":""},{"$f":"_xlfn.TEXTJOIN(\",\",TRUE,IF(Prestation[DossierCode]=Prestation[[#This Row],[DossierCode]],Prestation[Collaborateur unique],\"\"))","v":"0"},{"$f":"MONTH(Prestation[[#This Row],[DateFacture]])","v":1},{"$f":"YEAR(Prestation[[#This Row],[DateFacture]])","v":1900}]
[null,null,null,null,null,null,null,null,null,null,null,null,null,null,null,null,null,null,null,null,null,null,null,null,null,null,null,null,null,null,null,null,null,null,null,null,null,null,null,null,null,null,null,null,null,null,null,null,null,null,null,null,null,null,null,null,null,null,null,null,null,null,null,null,null,null,null,null,{"$f":"SUMIFS(Prestation[Duree],Prestation[Code],Prestation[[#This Row],[Code]])","v":0},{"$f":"Prestation[[#This Row],[Temps passé par code (H)]]&ROW()/10000","v":"00,0048"},{"$f":"Prestation[[#This Row],[CollaborateurTrigramme]]","v":0},{"$f":"Prestation[[#This Row],[DossierCode]]","v":0},{"$f":"_xlfn.CONCAT(Prestation[[#This Row],[DossierCode]],\"-\",Prestation[[#This Row],[CollaborateurTrigramme]])","v":"-"},{"$f":"ROW(Prestation[[#This Row],[Clés dossier et collaborateur]])","v":48},{"$f":"_xlfn.MINIFS(Prestation[Numéro de ligne],Prestation[Clés dossier et collaborateur],Prestation[[#This Row],[Clés dossier et collaborateur]])","v":6},{"$f":"IF(Prestation[[#This Row],[Numéro min de ligne pour la clé]]=Prestation[[#This Row],[Numéro de ligne]],Prestation[[#This Row],[Rappel collaborateur]],\"\")","v":""},{"$f":"_xlfn.TEXTJOIN(\",\",TRUE,IF(Prestation[DossierCode]=Prestation[[#This Row],[DossierCode]],Prestation[Collaborateur unique],\"\"))","v":"0"},{"$f":"MONTH(Prestation[[#This Row],[DateFacture]])","v":1},{"$f":"YEAR(Prestation[[#This Row],[DateFacture]])","v":1900}]
[null,null,null,null,null,null,null,null,null,null,null,null,null,null,null,null,null,null,null,null,null,null,null,null,null,null,null,null,null,null,null,null,null,null,null,null,null,null,null,null,null,null,null,null,null,null,null,null,null,null,null,null,null,null,null,null,null,null,null,null,null,null,null,null,null,null,null,null,{"$f":"SUMIFS(Prestation[Duree],Prestation[Code],Prestation[[#This Row],[Code]])","v":0},{"$f":"Prestation[[#This Row],[Temps passé par code (H)]]&ROW()/10000","v":"00,0049"},{"$f":"Prestation[[#This Row],[CollaborateurTrigramme]]","v":0},{"$f":"Prestation[[#This Row],[DossierCode]]","v":0},{"$f":"_xlfn.CONCAT(Prestation[[#This Row],[DossierCode]],\"-\",Prestation[[#This Row],[CollaborateurTrigramme]])","v":"-"},{"$f":"ROW(Prestation[[#This Row],[Clés dossier et collaborateur]])","v":49},{"$f":"_xlfn.MINIFS(Prestation[Numéro de ligne],Prestation[Clés dossier et collaborateur],Prestation[[#This Row],[Clés dossier et collaborateur]])","v":6},{"$f":"IF(Prestation[[#This Row],[Numéro min de ligne pour la clé]]=Prestation[[#This Row],[Numéro de ligne]],Prestation[[#This Row],[Rappel collaborateur]],\"\")","v":""},{"$f":"_xlfn.TEXTJOIN(\",\",TRUE,IF(Prestation[DossierCode]=Prestation[[#This Row],[DossierCode]],Prestation[Collaborateur unique],\"\"))","v":"0"},{"$f":"MONTH(Prestation[[#This Row],[DateFacture]])","v":1},{"$f":"YEAR(Prestation[[#This Row],[DateFacture]])","v":1900}]
[null,null,null,null,null,null,null,null,null,null,null,null,null,null,null,null,null,null,null,null,null,null,null,null,null,null,null,null,null,null,null,null,null,null,null,null,null,null,null,null,null,null,null,null,null,null,null,null,null,null,null,null,null,null,null,null,null,null,null,null,null,null,null,null,null,null,null,null,{"$f":"SUMIFS(Prestation[Duree],Prestation[Code],Prestation[[#This Row],[Code]])","v":0},{"$f":"Prestation[[#This Row],[Temps passé par code (H)]]&ROW()/10000","v":"00,005"},{"$f":"Prestation[[#This Row],[CollaborateurTrigramme]]","v":0},{"$f":"Prestation[[#This Row],[DossierCode]]","v":0},{"$f":"_xlfn.CONCAT(Prestation[[#This Row],[DossierCode]],\"-\",Prestation[[#This Row],[CollaborateurTrigramme]])","v":"-"},{"$f":"ROW(Prestation[[#This Row],[Clés dossier et collaborateur]])","v":50},{"$f":"_xlfn.MINIFS(Prestation[Numéro de ligne],Prestation[Clés dossier et collaborateur],Prestation[[#This Row],[Clés dossier et collaborateur]])","v":6},{"$f":"IF(Prestation[[#This Row],[Numéro min de ligne pour la clé]]=Prestation[[#This Row],[Numéro de ligne]],Prestation[[#This Row],[Rappel collaborateur]],\"\")","v":""},{"$f":"_xlfn.TEXTJOIN(\",\",TRUE,IF(Prestation[DossierCode]=Prestation[[#This Row],[DossierCode]],Prestation[Collaborateur unique],\"\"))","v":"0"},{"$f":"MONTH(Prestation[[#This Row],[DateFacture]])","v":1},{"$f":"YEAR(Prestation[[#This Row],[DateFacture]])","v":1900}]
[null,null,null,null,null,null,null,null,null,null,null,null,null,null,null,null,null,null,null,null,null,null,null,null,null,null,null,null,null,null,null,null,null,null,null,null,null,null,null,null,null,null,null,null,null,null,null,null,null,null,null,null,null,null,null,null,null,null,null,null,null,null,null,null,null,null,null,null,{"$f":"SUMIFS(Prestation[Duree],Prestation[Code],Prestation[[#This Row],[Code]])","v":0},{"$f":"Prestation[[#This Row],[Temps passé par code (H)]]&ROW()/10000","v":"00,0051"},{"$f":"Prestation[[#This Row],[CollaborateurTrigramme]]","v":0},{"$f":"Prestation[[#This Row],[DossierCode]]","v":0},{"$f":"_xlfn.CONCAT(Prestation[[#This Row],[DossierCode]],\"-\",Prestation[[#This Row],[CollaborateurTrigramme]])","v":"-"},{"$f":"ROW(Prestation[[#This Row],[Clés dossier et collaborateur]])","v":51},{"$f":"_xlfn.MINIFS(Prestation[Numéro de ligne],Prestation[Clés dossier et collaborateur],Prestation[[#This Row],[Clés dossier et collaborateur]])","v":6},{"$f":"IF(Prestation[[#This Row],[Numéro min de ligne pour la clé]]=Prestation[[#This Row],[Numéro de ligne]],Prestation[[#This Row],[Rappel collaborateur]],\"\")","v":""},{"$f":"_xlfn.TEXTJOIN(\",\",TRUE,IF(Prestation[DossierCode]=Prestation[[#This Row],[DossierCode]],Prestation[Collaborateur unique],\"\"))","v":"0"},{"$f":"MONTH(Prestation[[#This Row],[DateFacture]])","v":1},{"$f":"YEAR(Prestation[[#This Row],[DateFacture]])","v":1900}]
[null,null,null,null,null,null,null,null,null,null,null,null,null,null,null,null,null,null,null,null,null,null,null,null,null,null,null,null,null,null,null,null,null,null,null,null,null,null,null,null,null,null,null,null,null,null,null,null,null,null,null,null,null,null,null,null,null,null,null,null,null,null,null,null,null,null,null,null,{"$f":"SUMIFS(Prestation[Duree],Prestation[Code],Prestation[[#This Row],[Code]])","v":0},{"$f":"Prestation[[#This Row],[Temps passé par code (H)]]&ROW()/10000","v":"00,0052"},{"$f":"Prestation[[#This Row],[CollaborateurTrigramme]]","v":0},{"$f":"Prestation[[#This Row],[DossierCode]]","v":0},{"$f":"_xlfn.CONCAT(Prestation[[#This Row],[DossierCode]],\"-\",Prestation[[#This Row],[CollaborateurTrigramme]])","v":"-"},{"$f":"ROW(Prestation[[#This Row],[Clés dossier et collaborateur]])","v":52},{"$f":"_xlfn.MINIFS(Prestation[Numéro de ligne],Prestation[Clés dossier et collaborateur],Prestation[[#This Row],[Clés dossier et collaborateur]])","v":6},{"$f":"IF(Prestation[[#This Row],[Numéro min de ligne pour la clé]]=Prestation[[#This Row],[Numéro de ligne]],Prestation[[#This Row],[Rappel collaborateur]],\"\")","v":""},{"$f":"_xlfn.TEXTJOIN(\",\",TRUE,IF(Prestation[DossierCode]=Prestation[[#This Row],[DossierCode]],Prestation[Collaborateur unique],\"\"))","v":"0"},{"$f":"MONTH(Prestation[[#This Row],[DateFacture]])","v":1},{"$f":"YEAR(Prestation[[#This Row],[DateFacture]])","v":1900}]
[null,null,null,null,null,null,null,null,null,null,null,null,null,null,null,null,null,null,null,null,null,null,null,null,null,null,null,null,null,null,null,null,null,null,null,null,null,null,null,null,null,null,null,null,null,null,null,null,null,null,null,null,null,null,null,null,null,null,null,null,null,null,null,null,null,null,null,null,{"$f":"SUMIFS(Prestation[Duree],Prestation[Code],Prestation[[#This Row],[Code]])","v":0},{"$f":"Prestation[[#This Row],[Temps passé par code (H)]]&ROW()/10000","v":"00,0053"},{"$f":"Prestation[[#This Row],[CollaborateurTrigramme]]","v":0},{"$f":"Prestation[[#This Row],[DossierCode]]","v":0},{"$f":"_xlfn.CONCAT(Prestation[[#This Row],[DossierCode]],\"-\",Prestation[[#This Row],[CollaborateurTrigramme]])","v":"-"},{"$f":"ROW(Prestation[[#This Row],[Clés dossier et collaborateur]])","v":53},{"$f":"_xlfn.MINIFS(Prestation[Numéro de ligne],Prestation[Clés dossier et collaborateur],Prestation[[#This Row],[Clés dossier et collaborateur]])","v":6},{"$f":"IF(Prestation[[#This Row],[Numéro min de ligne pour la clé]]=Prestation[[#This Row],[Numéro de ligne]],Prestation[[#This Row],[Rappel collaborateur]],\"\")","v":""},{"$f":"_xlfn.TEXTJOIN(\",\",TRUE,IF(Prestation[DossierCode]=Prestation[[#This Row],[DossierCode]],Prestation[Collaborateur unique],\"\"))","v":"0"},{"$f":"MONTH(Prestation[[#This Row],[DateFacture]])","v":1},{"$f":"YEAR(Prestation[[#This Row],[DateFacture]])","v":1900}]
[null,null,null,null,null,null,null,null,null,null,null,null,null,null,null,null,null,null,null,null,null,null,null,null,null,null,null,null,null,null,null,null,null,null,null,null,null,null,null,null,null,null,null,null,null,null,null,null,null,null,null,null,null,null,null,null,null,null,null,null,null,null,null,null,null,null,null,null,{"$f":"SUMIFS(Prestation[Duree],Prestation[Code],Prestation[[#This Row],[Code]])","v":0},{"$f":"Prestation[[#This Row],[Temps passé par code (H)]]&ROW()/10000","v":"00,0054"},{"$f":"Prestation[[#This Row],[CollaborateurTrigramme]]","v":0},{"$f":"Prestation[[#This Row],[DossierCode]]","v":0},{"$f":"_xlfn.CONCAT(Prestation[[#This Row],[DossierCode]],\"-\",Prestation[[#This Row],[CollaborateurTrigramme]])","v":"-"},{"$f":"ROW(Prestation[[#This Row],[Clés dossier et collaborateur]])","v":54},{"$f":"_xlfn.MINIFS(Prestation[Numéro de ligne],Prestation[Clés dossier et collaborateur],Prestation[[#This Row],[Clés dossier et collaborateur]])","v":6},{"$f":"IF(Prestation[[#This Row],[Numéro min de ligne pour la clé]]=Prestation[[#This Row],[Numéro de ligne]],Prestation[[#This Row],[Rappel collaborateur]],\"\")","v":""},{"$f":"_xlfn.TEXTJOIN(\",\",TRUE,IF(Prestation[DossierCode]=Prestation[[#This Row],[DossierCode]],Prestation[Collaborateur unique],\"\"))","v":"0"},{"$f":"MONTH(Prestation[[#This Row],[DateFacture]])","v":1},{"$f":"YEAR(Prestation[[#This Row],[DateFacture]])","v":1900}]
[null,null,null,null,null,null,null,null,null,null,null,null,null,null,null,null,null,null,null,null,null,null,null,null,null,null,null,null,null,null,null,null,null,null,null,null,null,null,null,null,null,null,null,null,null,null,null,null,null,null,null,null,null,null,null,null,null,null,null,null,null,null,null,null,null,null,null,null,{"$f":"SUMIFS(Prestation[Duree],Prestation[Code],Prestation[[#This Row],[Code]])","v":0},{"$f":"Prestation[[#This Row],[Temps passé par code (H)]]&ROW()/10000","v":"00,0055"},{"$f":"Prestation[[#This Row],[CollaborateurTrigramme]]","v":0},{"$f":"Prestation[[#This Row],[DossierCode]]","v":0},{"$f":"_xlfn.CONCAT(Prestation[[#This Row],[DossierCode]],\"-\",Prestation[[#This Row],[CollaborateurTrigramme]])","v":"-"},{"$f":"ROW(Prestation[[#This Row],[Clés dossier et collaborateur]])","v":55},{"$f":"_xlfn.MINIFS(Prestation[Numéro de ligne],Prestation[Clés dossier et collaborateur],Prestation[[#This Row],[Clés dossier et collaborateur]])","v":6},{"$f":"IF(Prestation[[#This Row],[Numéro min de ligne pour la clé]]=Prestation[[#This Row],[Numéro de ligne]],Prestation[[#This Row],[Rappel collaborateur]],\"\")","v":""},{"$f":"_xlfn.TEXTJOIN(\",\",TRUE,IF(Prestation[DossierCode]=Prestation[[#This Row],[DossierCode]],Prestation[Collaborateur unique],\"\"))","v":"0"},{"$f":"MONTH(Prestation[[#This Row],[DateFacture]])","v":1},{"$f":"YEAR(Prestation[[#This Row],[DateFacture]])","v":1900}]
[null,null,null,null,null,null,null,null,null,null,null,null,null,null,null,null,null,null,null,null,null,null,null,null,null,null,null,null,null,null,null,null,null,null,null,null,null,null,null,null,null,null,null,null,null,null,null,null,null,null,null,null,null,null,null,null,null,null,null,null,null,null,null,null,null,null,null,null,{"$f":"SUMIFS(Prestation[Duree],Prestation[Code],Prestation[[#This Row],[Code]])","v":0},{"$f":"Prestation[[#This Row],[Temps passé par code (H)]]&ROW()/10000","v":"00,0056"},{"$f":"Prestation[[#This Row],[CollaborateurTrigramme]]","v":0},{"$f":"Prestation[[#This Row],[DossierCode]]","v":0},{"$f":"_xlfn.CONCAT(Prestation[[#This Row],[DossierCode]],\"-\",Prestation[[#This Row],[CollaborateurTrigramme]])","v":"-"},{"$f":"ROW(Prestation[[#This Row],[Clés dossier et collaborateur]])","v":56},{"$f":"_xlfn.MINIFS(Prestation[Numéro de ligne],Prestation[Clés dossier et collaborateur],Prestation[[#This Row],[Clés dossier et collaborateur]])","v":6},{"$f":"IF(Prestation[[#This Row],[Numéro min de ligne pour la clé]]=Prestation[[#This Row],[Numéro de ligne]],Prestation[[#This Row],[Rappel collaborateur]],\"\")","v":""},{"$f":"_xlfn.TEXTJOIN(\",\",TRUE,IF(Prestation[DossierCode]=Prestation[[#This Row],[DossierCode]],Prestation[Collaborateur unique],\"\"))","v":"0"},{"$f":"MONTH(Prestation[[#This Row],[DateFacture]])","v":1},{"$f":"YEAR(Prestation[[#This Row],[DateFacture]])","v":1900}]
[null,null,null,null,null,null,null,null,null,null,null,null,null,null,null,null,null,null,null,null,null,null,null,null,null,null,null,null,null,null,null,null,null,null,null,null,null,null,null,null,null,null,null,null,null,null,null,null,null,null,null,null,null,null,null,null,null,null,null,null,null,null,null,null,null,null,null,null,{"$f":"SUMIFS(Prestation[Duree],Prestation[Code],Prestation[[#This Row],[Code]])","v":0},{"$f":"Prestation[[#This Row],[Temps passé par code (H)]]&ROW()/10000","v":"00,0057"},{"$f":"Prestation[[#This Row],[CollaborateurTrigramme]]","v":0},{"$f":"Prestation[[#This Row],[DossierCode]]","v":0},{"$f":"_xlfn.CONCAT(Prestation[[#This Row],[DossierCode]],\"-\",Prestation[[#This Row],[CollaborateurTrigramme]])","v":"-"},{"$f":"ROW(Prestation[[#This Row],[Clés dossier et collaborateur]])","v":57},{"$f":"_xlfn.MINIFS(Prestation[Numéro de ligne],Prestation[Clés dossier et collaborateur],Prestation[[#This Row],[Clés dossier et collaborateur]])","v":6},{"$f":"IF(Prestation[[#This Row],[Numéro min de ligne pour la clé]]=Prestation[[#This Row],[Numéro de ligne]],Prestation[[#This Row],[Rappel collaborateur]],\"\")","v":""},{"$f":"_xlfn.TEXTJOIN(\",\",TRUE,IF(Prestation[DossierCode]=Prestation[[#This Row],[DossierCode]],Prestation[Collaborateur unique],\"\"))","v":"0"},{"$f":"MONTH(Prestation[[#This Row],[DateFacture]])","v":1},{"$f":"YEAR(Prestation[[#This Row],[DateFacture]])","v":1900}]
[null,null,null,null,null,null,null,null,null,null,null,null,null,null,null,null,null,null,null,null,null,null,null,null,null,null,null,null,null,null,null,null,null,null,null,null,null,null,null,null,null,null,null,null,null,null,null,null,null,null,null,null,null,null,null,null,null,null,null,null,null,null,null,null,null,null,null,null,{"$f":"SUMIFS(Prestation[Duree],Prestation[Code],Prestation[[#This Row],[Code]])","v":0},{"$f":"Prestation[[#This Row],[Temps passé par code (H)]]&ROW()/10000","v":"00,0058"},{"$f":"Prestation[[#This Row],[CollaborateurTrigramme]]","v":0},{"$f":"Prestation[[#This Row],[DossierCode]]","v":0},{"$f":"_xlfn.CONCAT(Prestation[[#This Row],[DossierCode]],\"-\",Prestation[[#This Row],[CollaborateurTrigramme]])","v":"-"},{"$f":"ROW(Prestation[[#This Row],[Clés dossier et collaborateur]])","v":58},{"$f":"_xlfn.MINIFS(Prestation[Numéro de ligne],Prestation[Clés dossier et collaborateur],Prestation[[#This Row],[Clés dossier et collaborateur]])","v":6},{"$f":"IF(Prestation[[#This Row],[Numéro min de ligne pour la clé]]=Prestation[[#This Row],[Numéro de ligne]],Prestation[[#This Row],[Rappel collaborateur]],\"\")","v":""},{"$f":"_xlfn.TEXTJOIN(\",\",TRUE,IF(Prestation[DossierCode]=Prestation[[#This Row],[DossierCode]],Prestation[Collaborateur unique],\"\"))","v":"0"},{"$f":"MONTH(Prestation[[#This Row],[DateFacture]])","v":1},{"$f":"YEAR(Prestation[[#This Row],[DateFacture]])","v":1900}]
[null,null,null,null,null,null,null,null,null,null,null,null,null,null,null,null,null,null,null,null,null,null,null,null,null,null,null,null,null,null,null,null,null,null,null,null,null,null,null,null,null,null,null,null,null,null,null,null,null,null,null,null,null,null,null,null,null,null,null,null,null,null,null,null,null,null,null,null,{"$f":"SUMIFS(Prestation[Duree],Prestation[Code],Prestation[[#This Row],[Code]])","v":0},{"$f":"Prestation[[#This Row],[Temps passé par code (H)]]&ROW()/10000","v":"00,0059"},{"$f":"Prestation[[#This Row],[CollaborateurTrigramme]]","v":0},{"$f":"Prestation[[#This Row],[DossierCode]]","v":0},{"$f":"_xlfn.CONCAT(Prestation[[#This Row],[DossierCode]],\"-\",Prestation[[#This Row],[CollaborateurTrigramme]])","v":"-"},{"$f":"ROW(Prestation[[#This Row],[Clés dossier et collaborateur]])","v":59},{"$f":"_xlfn.MINIFS(Prestation[Numéro de ligne],Prestation[Clés dossier et collaborateur],Prestation[[#This Row],[Clés dossier et collaborateur]])","v":6},{"$f":"IF(Prestation[[#This Row],[Numéro min de ligne pour la clé]]=Prestation[[#This Row],[Numéro de ligne]],Prestation[[#This Row],[Rappel collaborateur]],\"\")","v":""},{"$f":"_xlfn.TEXTJOIN(\",\",TRUE,IF(Prestation[DossierCode]=Prestation[[#This Row],[DossierCode]],Prestation[Collaborateur unique],\"\"))","v":"0"},{"$f":"MONTH(Prestation[[#This Row],[DateFacture]])","v":1},{"$f":"YEAR(Prestation[[#This Row],[DateFacture]])","v":1900}]
[null,null,null,null,null,null,null,null,null,null,null,null,null,null,null,null,null,null,null,null,null,null,null,null,null,null,null,null,null,null,null,null,null,null,null,null,null,null,null,null,null,null,null,null,null,null,null,null,null,null,null,null,null,null,null,null,null,null,null,null,null,null,null,null,null,null,null,null,{"$f":"SUMIFS(Prestation[Duree],Prestation[Code],Prestation[[#This Row],[Code]])","v":0},{"$f":"Prestation[[#This Row],[Temps passé par code (H)]]&ROW()/10000","v":"00,006"},{"$f":"Prestation[[#This Row],[CollaborateurTrigramme]]","v":0},{"$f":"Prestation[[#This Row],[DossierCode]]","v":0},{"$f":"_xlfn.CONCAT(Prestation[[#This Row],[DossierCode]],\"-\",Prestation[[#This Row],[CollaborateurTrigramme]])","v":"-"},{"$f":"ROW(Prestation[[#This Row],[Clés dossier et collaborateur]])","v":60},{"$f":"_xlfn.MINIFS(Prestation[Numéro de ligne],Prestation[Clés dossier et collaborateur],Prestation[[#This Row],[Clés dossier et collaborateur]])","v":6},{"$f":"IF(Prestation[[#This Row],[Numéro min de ligne pour la clé]]=Prestation[[#This Row],[Numéro de ligne]],Prestation[[#This Row],[Rappel collaborateur]],\"\")","v":""},{"$f":"_xlfn.TEXTJOIN(\",\",TRUE,IF(Prestation[DossierCode]=Prestation[[#This Row],[DossierCode]],Prestation[Collaborateur unique],\"\"))","v":"0"},{"$f":"MONTH(Prestation[[#This Row],[DateFacture]])","v":1},{"$f":"YEAR(Prestation[[#This Row],[DateFacture]])","v":1900}]
[null,null,null,null,null,null,null,null,null,null,null,null,null,null,null,null,null,null,null,null,null,null,null,null,null,null,null,null,null,null,null,null,null,null,null,null,null,null,null,null,null,null,null,null,null,null,null,null,null,null,null,null,null,null,null,null,null,null,null,null,null,null,null,null,null,null,null,null,{"$f":"SUMIFS(Prestation[Duree],Prestation[Code],Prestation[[#This Row],[Code]])","v":0},{"$f":"Prestation[[#This Row],[Temps passé par code (H)]]&ROW()/10000","v":"00,0061"},{"$f":"Prestation[[#This Row],[CollaborateurTrigramme]]","v":0},{"$f":"Prestation[[#This Row],[DossierCode]]","v":0},{"$f":"_xlfn.CONCAT(Prestation[[#This Row],[DossierCode]],\"-\",Prestation[[#This Row],[CollaborateurTrigramme]])","v":"-"},{"$f":"ROW(Prestation[[#This Row],[Clés dossier et collaborateur]])","v":61},{"$f":"_xlfn.MINIFS(Prestation[Numéro de ligne],Prestation[Clés dossier et collaborateur],Prestation[[#This Row],[Clés dossier et collaborateur]])","v":6},{"$f":"IF(Prestation[[#This Row],[Numéro min de ligne pour la clé]]=Prestation[[#This Row],[Numéro de ligne]],Prestation[[#This Row],[Rappel collaborateur]],\"\")","v":""},{"$f":"_xlfn.TEXTJOIN(\",\",TRUE,IF(Prestation[DossierCode]=Prestation[[#This Row],[DossierCode]],Prestation[Collaborateur unique],\"\"))","v":"0"},{"$f":"MONTH(Prestation[[#This Row],[DateFacture]])","v":1},{"$f":"YEAR(Prestation[[#This Row],[DateFacture]])","v":1900}]
[null,null,null,null,null,null,null,null,null,null,null,null,null,null,null,null,null,null,null,null,null,null,null,null,null,null,null,null,null,null,null,null,null,null,null,null,null,null,null,null,null,null,null,null,null,null,null,null,null,null,null,null,null,null,null,null,null,null,null,null,null,null,null,null,null,null,null,null,{"$f":"SUMIFS(Prestation[Duree],Prestation[Code],Prestation[[#This Row],[Code]])","v":0},{"$f":"Prestation[[#This Row],[Temps passé par code (H)]]&ROW()/10000","v":"00,0062"},{"$f":"Prestation[[#This Row],[CollaborateurTrigramme]]","v":0},{"$f":"Prestation[[#This Row],[DossierCode]]","v":0},{"$f":"_xlfn.CONCAT(Prestation[[#This Row],[DossierCode]],\"-\",Prestation[[#This Row],[CollaborateurTrigramme]])","v":"-"},{"$f":"ROW(Prestation[[#This Row],[Clés dossier et collaborateur]])","v":62},{"$f":"_xlfn.MINIFS(Prestation[Numéro de ligne],Prestation[Clés dossier et collaborateur],Prestation[[#This Row],[Clés dossier et collaborateur]])","v":6},{"$f":"IF(Prestation[[#This Row],[Numéro min de ligne pour la clé]]=Prestation[[#This Row],[Numéro de ligne]],Prestation[[#This Row],[Rappel collaborateur]],\"\")","v":""},{"$f":"_xlfn.TEXTJOIN(\",\",TRUE,IF(Prestation[DossierCode]=Prestation[[#This Row],[DossierCode]],Prestation[Collaborateur unique],\"\"))","v":"0"},{"$f":"MONTH(Prestation[[#This Row],[DateFacture]])","v":1},{"$f":"YEAR(Prestation[[#This Row],[DateFacture]])","v":1900}]
[null,null,null,null,null,null,null,null,null,null,null,null,null,null,null,null,null,null,null,null,null,null,null,null,null,null,null,null,null,null,null,null,null,null,null,null,null,null,null,null,null,null,null,null,null,null,null,null,null,null,null,null,null,null,null,null,null,null,null,null,null,null,null,null,null,null,null,null,{"$f":"SUMIFS(Prestation[Duree],Prestation[Code],Prestation[[#This Row],[Code]])","v":0},{"$f":"Prestation[[#This Row],[Temps passé par code (H)]]&ROW()/10000","v":"00,0063"},{"$f":"Prestation[[#This Row],[CollaborateurTrigramme]]","v":0},{"$f":"Prestation[[#This Row],[DossierCode]]","v":0},{"$f":"_xlfn.CONCAT(Prestation[[#This Row],[DossierCode]],\"-\",Prestation[[#This Row],[CollaborateurTrigramme]])","v":"-"},{"$f":"ROW(Prestation[[#This Row],[Clés dossier et collaborateur]])","v":63},{"$f":"_xlfn.MINIFS(Prestation[Numéro de ligne],Prestation[Clés dossier et collaborateur],Prestation[[#This Row],[Clés dossier et collaborateur]])","v":6},{"$f":"IF(Prestation[[#This Row],[Numéro min de ligne pour la clé]]=Prestation[[#This Row],[Numéro de ligne]],Prestation[[#This Row],[Rappel collaborateur]],\"\")","v":""},{"$f":"_xlfn.TEXTJOIN(\",\",TRUE,IF(Prestation[DossierCode]=Prestation[[#This Row],[DossierCode]],Prestation[Collaborateur unique],\"\"))","v":"0"},{"$f":"MONTH(Prestation[[#This Row],[DateFacture]])","v":1},{"$f":"YEAR(Prestation[[#This Row],[DateFacture]])","v":1900}]
[null,null,null,null,null,null,null,null,null,null,null,null,null,null,null,null,null,null,null,null,null,null,null,null,null,null,null,null,null,null,null,null,null,null,null,null,null,null,null,null,null,null,null,null,null,null,null,null,null,null,null,null,null,null,null,null,null,null,null,null,null,null,null,null,null,null,null,null,{"$f":"SUMIFS(Prestation[Duree],Prestation[Code],Prestation[[#This Row],[Code]])","v":0},{"$f":"Prestation[[#This Row],[Temps passé par code (H)]]&ROW()/10000","v":"00,0064"},{"$f":"Prestation[[#This Row],[CollaborateurTrigramme]]","v":0},{"$f":"Prestation[[#This Row],[DossierCode]]","v":0},{"$f":"_xlfn.CONCAT(Prestation[[#This Row],[DossierCode]],\"-\",Prestation[[#This Row],[CollaborateurTrigramme]])","v":"-"},{"$f":"ROW(Prestation[[#This Row],[Clés dossier et collaborateur]])","v":64},{"$f":"_xlfn.MINIFS(Prestation[Numéro de ligne],Prestation[Clés dossier et collaborateur],Prestation[[#This Row],[Clés dossier et collaborateur]])","v":6},{"$f":"IF(Prestation[[#This Row],[Numéro min de ligne pour la clé]]=Prestation[[#This Row],[Numéro de ligne]],Prestation[[#This Row],[Rappel collaborateur]],\"\")","v":""},{"$f":"_xlfn.TEXTJOIN(\",\",TRUE,IF(Prestation[DossierCode]=Prestation[[#This Row],[DossierCode]],Prestation[Collaborateur unique],\"\"))","v":"0"},{"$f":"MONTH(Prestation[[#This Row],[DateFacture]])","v":1},{"$f":"YEAR(Prestation[[#This Row],[DateFacture]])","v":1900}]
[null,null,null,null,null,null,null,null,null,null,null,null,null,null,null,null,null,null,null,null,null,null,null,null,null,null,null,null,null,null,null,null,null,null,null,null,null,null,null,null,null,null,null,null,null,null,null,null,null,null,null,null,null,null,null,null,null,null,null,null,null,null,null,null,null,null,null,null,{"$f":"SUMIFS(Prestation[Duree],Prestation[Code],Prestation[[#This Row],[Code]])","v":0},{"$f":"Prestation[[#This Row],[Temps passé par code (H)]]&ROW()/10000","v":"00,0065"},{"$f":"Prestation[[#This Row],[CollaborateurTrigramme]]","v":0},{"$f":"Prestation[[#This Row],[DossierCode]]","v":0},{"$f":"_xlfn.CONCAT(Prestation[[#This Row],[DossierCode]],\"-\",Prestation[[#This Row],[CollaborateurTrigramme]])","v":"-"},{"$f":"ROW(Prestation[[#This Row],[Clés dossier et collaborateur]])","v":65},{"$f":"_xlfn.MINIFS(Prestation[Numéro de ligne],Prestation[Clés dossier et collaborateur],Prestation[[#This Row],[Clés dossier et collaborateur]])","v":6},{"$f":"IF(Prestation[[#This Row],[Numéro min de ligne pour la clé]]=Prestation[[#This Row],[Numéro de ligne]],Prestation[[#This Row],[Rappel collaborateur]],\"\")","v":""},{"$f":"_xlfn.TEXTJOIN(\",\",TRUE,IF(Prestation[DossierCode]=Prestation[[#This Row],[DossierCode]],Prestation[Collaborateur unique],\"\"))","v":"0"},{"$f":"MONTH(Prestation[[#This Row],[DateFacture]])","v":1},{"$f":"YEAR(Prestation[[#This Row],[DateFacture]])","v":1900}]
[null,null,null,null,null,null,null,null,null,null,null,null,null,null,null,null,null,null,null,null,null,null,null,null,null,null,null,null,null,null,null,null,null,null,null,null,null,null,null,null,null,null,null,null,null,null,null,null,null,null,null,null,null,null,null,null,null,null,null,null,null,null,null,null,null,null,null,null,{"$f":"SUMIFS(Prestation[Duree],Prestation[Code],Prestation[[#This Row],[Code]])","v":0},{"$f":"Prestation[[#This Row],[Temps passé par code (H)]]&ROW()/10000","v":"00,0066"},{"$f":"Prestation[[#This Row],[CollaborateurTrigramme]]","v":0},{"$f":"Prestation[[#This Row],[DossierCode]]","v":0},{"$f":"_xlfn.CONCAT(Prestation[[#This Row],[DossierCode]],\"-\",Prestation[[#This Row],[CollaborateurTrigramme]])","v":"-"},{"$f":"ROW(Prestation[[#This Row],[Clés dossier et collaborateur]])","v":66},{"$f":"_xlfn.MINIFS(Prestation[Numéro de ligne],Prestation[Clés dossier et collaborateur],Prestation[[#This Row],[Clés dossier et collaborateur]])","v":6},{"$f":"IF(Prestation[[#This Row],[Numéro min de ligne pour la clé]]=Prestation[[#This Row],[Numéro de ligne]],Prestation[[#This Row],[Rappel collaborateur]],\"\")","v":""},{"$f":"_xlfn.TEXTJOIN(\",\",TRUE,IF(Prestation[DossierCode]=Prestation[[#This Row],[DossierCode]],Prestation[Collaborateur unique],\"\"))","v":"0"},{"$f":"MONTH(Prestation[[#This Row],[DateFacture]])","v":1},{"$f":"YEAR(Prestation[[#This Row],[DateFacture]])","v":1900}]
[null,null,null,null,null,null,null,null,null,null,null,null,null,null,null,null,null,null,null,null,null,null,null,null,null,null,null,null,null,null,null,null,null,null,null,null,null,null,null,null,null,null,null,null,null,null,null,null,null,null,null,null,null,null,null,null,null,null,null,null,null,null,null,null,null,null,null,null,{"$f":"SUMIFS(Prestation[Duree],Prestation[Code],Prestation[[#This Row],[Code]])","v":0},{"$f":"Prestation[[#This Row],[Temps passé par code (H)]]&ROW()/10000","v":"00,0067"},{"$f":"Prestation[[#This Row],[CollaborateurTrigramme]]","v":0},{"$f":"Prestation[[#This Row],[DossierCode]]","v":0},{"$f":"_xlfn.CONCAT(Prestation[[#This Row],[DossierCode]],\"-\",Prestation[[#This Row],[CollaborateurTrigramme]])","v":"-"},{"$f":"ROW(Prestation[[#This Row],[Clés dossier et collaborateur]])","v":67},{"$f":"_xlfn.MINIFS(Prestation[Numéro de ligne],Prestation[Clés dossier et collaborateur],Prestation[[#This Row],[Clés dossier et collaborateur]])","v":6},{"$f":"IF(Prestation[[#This Row],[Numéro min de ligne pour la clé]]=Prestation[[#This Row],[Numéro de ligne]],Prestation[[#This Row],[Rappel collaborateur]],\"\")","v":""},{"$f":"_xlfn.TEXTJOIN(\",\",TRUE,IF(Prestation[DossierCode]=Prestation[[#This Row],[DossierCode]],Prestation[Collaborateur unique],\"\"))","v":"0"},{"$f":"MONTH(Prestation[[#This Row],[DateFacture]])","v":1},{"$f":"YEAR(Prestation[[#This Row],[DateFacture]])","v":1900}]
[null,null,null,null,null,null,null,null,null,null,null,null,null,null,null,null,null,null,null,null,null,null,null,null,null,null,null,null,null,null,null,null,null,null,null,null,null,null,null,null,null,null,null,null,null,null,null,null,null,null,null,null,null,null,null,null,null,null,null,null,null,null,null,null,null,null,null,null,{"$f":"SUMIFS(Prestation[Duree],Prestation[Code],Prestation[[#This Row],[Code]])","v":0},{"$f":"Prestation[[#This Row],[Temps passé par code (H)]]&ROW()/10000","v":"00,0068"},{"$f":"Prestation[[#This Row],[CollaborateurTrigramme]]","v":0},{"$f":"Prestation[[#This Row],[DossierCode]]","v":0},{"$f":"_xlfn.CONCAT(Prestation[[#This Row],[DossierCode]],\"-\",Prestation[[#This Row],[CollaborateurTrigramme]])","v":"-"},{"$f":"ROW(Prestation[[#This Row],[Clés dossier et collaborateur]])","v":68},{"$f":"_xlfn.MINIFS(Prestation[Numéro de ligne],Prestation[Clés dossier et collaborateur],Prestation[[#This Row],[Clés dossier et collaborateur]])","v":6},{"$f":"IF(Prestation[[#This Row],[Numéro min de ligne pour la clé]]=Prestation[[#This Row],[Numéro de ligne]],Prestation[[#This Row],[Rappel collaborateur]],\"\")","v":""},{"$f":"_xlfn.TEXTJOIN(\",\",TRUE,IF(Prestation[DossierCode]=Prestation[[#This Row],[DossierCode]],Prestation[Collaborateur unique],\"\"))","v":"0"},{"$f":"MONTH(Prestation[[#This Row],[DateFacture]])","v":1},{"$f":"YEAR(Prestation[[#This Row],[DateFacture]])","v":1900}]
[null,null,null,null,null,null,null,null,null,null,null,null,null,null,null,null,null,null,null,null,null,null,null,null,null,null,null,null,null,null,null,null,null,null,null,null,null,null,null,null,null,null,null,null,null,null,null,null,null,null,null,null,null,null,null,null,null,null,null,null,null,null,null,null,null,null,null,null,{"$f":"SUMIFS(Prestation[Duree],Prestation[Code],Prestation[[#This Row],[Code]])","v":0},{"$f":"Prestation[[#This Row],[Temps passé par code (H)]]&ROW()/10000","v":"00,0069"},{"$f":"Prestation[[#This Row],[CollaborateurTrigramme]]","v":0},{"$f":"Prestation[[#This Row],[DossierCode]]","v":0},{"$f":"_xlfn.CONCAT(Prestation[[#This Row],[DossierCode]],\"-\",Prestation[[#This Row],[CollaborateurTrigramme]])","v":"-"},{"$f":"ROW(Prestation[[#This Row],[Clés dossier et collaborateur]])","v":69},{"$f":"_xlfn.MINIFS(Prestation[Numéro de ligne],Prestation[Clés dossier et collaborateur],Prestation[[#This Row],[Clés dossier et collaborateur]])","v":6},{"$f":"IF(Prestation[[#This Row],[Numéro min de ligne pour la clé]]=Prestation[[#This Row],[Numéro de ligne]],Prestation[[#This Row],[Rappel collaborateur]],\"\")","v":""},{"$f":"_xlfn.TEXTJOIN(\",\",TRUE,IF(Prestation[DossierCode]=Prestation[[#This Row],[DossierCode]],Prestation[Collaborateur unique],\"\"))","v":"0"},{"$f":"MONTH(Prestation[[#This Row],[DateFacture]])","v":1},{"$f":"YEAR(Prestation[[#This Row],[DateFacture]])","v":1900}]
[null,null,null,null,null,null,null,null,null,null,null,null,null,null,null,null,null,null,null,null,null,null,null,null,null,null,null,null,null,null,null,null,null,null,null,null,null,null,null,null,null,null,null,null,null,null,null,null,null,null,null,null,null,null,null,null,null,null,null,null,null,null,null,null,null,null,null,null,{"$f":"SUMIFS(Prestation[Duree],Prestation[Code],Prestation[[#This Row],[Code]])","v":0},{"$f":"Prestation[[#This Row],[Temps passé par code (H)]]&ROW()/10000","v":"00,007"},{"$f":"Prestation[[#This Row],[CollaborateurTrigramme]]","v":0},{"$f":"Prestation[[#This Row],[DossierCode]]","v":0},{"$f":"_xlfn.CONCAT(Prestation[[#This Row],[DossierCode]],\"-\",Prestation[[#This Row],[CollaborateurTrigramme]])","v":"-"},{"$f":"ROW(Prestation[[#This Row],[Clés dossier et collaborateur]])","v":70},{"$f":"_xlfn.MINIFS(Prestation[Numéro de ligne],Prestation[Clés dossier et collaborateur],Prestation[[#This Row],[Clés dossier et collaborateur]])","v":6},{"$f":"IF(Prestation[[#This Row],[Numéro min de ligne pour la clé]]=Prestation[[#This Row],[Numéro de ligne]],Prestation[[#This Row],[Rappel collaborateur]],\"\")","v":""},{"$f":"_xlfn.TEXTJOIN(\",\",TRUE,IF(Prestation[DossierCode]=Prestation[[#This Row],[DossierCode]],Prestation[Collaborateur unique],\"\"))","v":"0"},{"$f":"MONTH(Prestation[[#This Row],[DateFacture]])","v":1},{"$f":"YEAR(Prestation[[#This Row],[DateFacture]])","v":1900}]
[null,null,null,null,null,null,null,null,null,null,null,null,null,null,null,null,null,null,null,null,null,null,null,null,null,null,null,null,null,null,null,null,null,null,null,null,null,null,null,null,null,null,null,null,null,null,null,null,null,null,null,null,null,null,null,null,null,null,null,null,null,null,null,null,null,null,null,null,{"$f":"SUMIFS(Prestation[Duree],Prestation[Code],Prestation[[#This Row],[Code]])","v":0},{"$f":"Prestation[[#This Row],[Temps passé par code (H)]]&ROW()/10000","v":"00,0071"},{"$f":"Prestation[[#This Row],[CollaborateurTrigramme]]","v":0},{"$f":"Prestation[[#This Row],[DossierCode]]","v":0},{"$f":"_xlfn.CONCAT(Prestation[[#This Row],[DossierCode]],\"-\",Prestation[[#This Row],[CollaborateurTrigramme]])","v":"-"},{"$f":"ROW(Prestation[[#This Row],[Clés dossier et collaborateur]])","v":71},{"$f":"_xlfn.MINIFS(Prestation[Numéro de ligne],Prestation[Clés dossier et collaborateur],Prestation[[#This Row],[Clés dossier et collaborateur]])","v":6},{"$f":"IF(Prestation[[#This Row],[Numéro min de ligne pour la clé]]=Prestation[[#This Row],[Numéro de ligne]],Prestation[[#This Row],[Rappel collaborateur]],\"\")","v":""},{"$f":"_xlfn.TEXTJOIN(\",\",TRUE,IF(Prestation[DossierCode]=Prestation[[#This Row],[DossierCode]],Prestation[Collaborateur unique],\"\"))","v":"0"},{"$f":"MONTH(Prestation[[#This Row],[DateFacture]])","v":1},{"$f":"YEAR(Prestation[[#This Row],[DateFacture]])","v":1900}]
[null,null,null,null,null,null,null,null,null,null,null,null,null,null,null,null,null,null,null,null,null,null,null,null,null,null,null,null,null,null,null,null,null,null,null,null,null,null,null,null,null,null,null,null,null,null,null,null,null,null,null,null,null,null,null,null,null,null,null,null,null,null,null,null,null,null,null,null,{"$f":"SUMIFS(Prestation[Duree],Prestation[Code],Prestation[[#This Row],[Code]])","v":0},{"$f":"Prestation[[#This Row],[Temps passé par code (H)]]&ROW()/10000","v":"00,0072"},{"$f":"Prestation[[#This Row],[CollaborateurTrigramme]]","v":0},{"$f":"Prestation[[#This Row],[DossierCode]]","v":0},{"$f":"_xlfn.CONCAT(Prestation[[#This Row],[DossierCode]],\"-\",Prestation[[#This Row],[CollaborateurTrigramme]])","v":"-"},{"$f":"ROW(Prestation[[#This Row],[Clés dossier et collaborateur]])","v":72},{"$f":"_xlfn.MINIFS(Prestation[Numéro de ligne],Prestation[Clés dossier et collaborateur],Prestation[[#This Row],[Clés dossier et collaborateur]])","v":6},{"$f":"IF(Prestation[[#This Row],[Numéro min de ligne pour la clé]]=Prestation[[#This Row],[Numéro de ligne]],Prestation[[#This Row],[Rappel collaborateur]],\"\")","v":""},{"$f":"_xlfn.TEXTJOIN(\",\",TRUE,IF(Prestation[DossierCode]=Prestation[[#This Row],[DossierCode]],Prestation[Collaborateur unique],\"\"))","v":"0"},{"$f":"MONTH(Prestation[[#This Row],[DateFacture]])","v":1},{"$f":"YEAR(Prestation[[#This Row],[DateFacture]])","v":1900}]
[null,null,null,null,null,null,null,null,null,null,null,null,null,null,null,null,null,null,null,null,null,null,null,null,null,null,null,null,null,null,null,null,null,null,null,null,null,null,null,null,null,null,null,null,null,null,null,null,null,null,null,null,null,null,null,null,null,null,null,null,null,null,null,null,null,null,null,null,{"$f":"SUMIFS(Prestation[Duree],Prestation[Code],Prestation[[#This Row],[Code]])","v":0},{"$f":"Prestation[[#This Row],[Temps passé par code (H)]]&ROW()/10000","v":"00,0073"},{"$f":"Prestation[[#This Row],[CollaborateurTrigramme]]","v":0},{"$f":"Prestation[[#This Row],[DossierCode]]","v":0},{"$f":"_xlfn.CONCAT(Prestation[[#This Row],[DossierCode]],\"-\",Prestation[[#This Row],[CollaborateurTrigramme]])","v":"-"},{"$f":"ROW(Prestation[[#This Row],[Clés dossier et collaborateur]])","v":73},{"$f":"_xlfn.MINIFS(Prestation[Numéro de ligne],Prestation[Clés dossier et collaborateur],Prestation[[#This Row],[Clés dossier et collaborateur]])","v":6},{"$f":"IF(Prestation[[#This Row],[Numéro min de ligne pour la clé]]=Prestation[[#This Row],[Numéro de ligne]],Prestation[[#This Row],[Rappel collaborateur]],\"\")","v":""},{"$f":"_xlfn.TEXTJOIN(\",\",TRUE,IF(Prestation[DossierCode]=Prestation[[#This Row],[DossierCode]],Prestation[Collaborateur unique],\"\"))","v":"0"},{"$f":"MONTH(Prestation[[#This Row],[DateFacture]])","v":1},{"$f":"YEAR(Prestation[[#This Row],[DateFacture]])","v":1900}]
[null,null,null,null,null,null,null,null,null,null,null,null,null,null,null,null,null,null,null,null,null,null,null,null,null,null,null,null,null,null,null,null,null,null,null,null,null,null,null,null,null,null,null,null,null,null,null,null,null,null,null,null,null,null,null,null,null,null,null,null,null,null,null,null,null,null,null,null,{"$f":"SUMIFS(Prestation[Duree],Prestation[Code],Prestation[[#This Row],[Code]])","v":0},{"$f":"Prestation[[#This Row],[Temps passé par code (H)]]&ROW()/10000","v":"00,0074"},{"$f":"Prestation[[#This Row],[CollaborateurTrigramme]]","v":0},{"$f":"Prestation[[#This Row],[DossierCode]]","v":0},{"$f":"_xlfn.CONCAT(Prestation[[#This Row],[DossierCode]],\"-\",Prestation[[#This Row],[CollaborateurTrigramme]])","v":"-"},{"$f":"ROW(Prestation[[#This Row],[Clés dossier et collaborateur]])","v":74},{"$f":"_xlfn.MINIFS(Prestation[Numéro de ligne],Prestation[Clés dossier et collaborateur],Prestation[[#This Row],[Clés dossier et collaborateur]])","v":6},{"$f":"IF(Prestation[[#This Row],[Numéro min de ligne pour la clé]]=Prestation[[#This Row],[Numéro de ligne]],Prestation[[#This Row],[Rappel collaborateur]],\"\")","v":""},{"$f":"_xlfn.TEXTJOIN(\",\",TRUE,IF(Prestation[DossierCode]=Prestation[[#This Row],[DossierCode]],Prestation[Collaborateur unique],\"\"))","v":"0"},{"$f":"MONTH(Prestation[[#This Row],[DateFacture]])","v":1},{"$f":"YEAR(Prestation[[#This Row],[DateFacture]])","v":1900}]
[null,null,null,null,null,null,null,null,null,null,null,null,null,null,null,null,null,null,null,null,null,null,null,null,null,null,null,null,null,null,null,null,null,null,null,null,null,null,null,null,null,null,null,null,null,null,null,null,null,null,null,null,null,null,null,null,null,null,null,null,null,null,null,null,null,null,null,null,{"$f":"SUMIFS(Prestation[Duree],Prestation[Code],Prestation[[#This Row],[Code]])","v":0},{"$f":"Prestation[[#This Row],[Temps passé par code (H)]]&ROW()/10000","v":"00,0075"},{"$f":"Prestation[[#This Row],[CollaborateurTrigramme]]","v":0},{"$f":"Prestation[[#This Row],[DossierCode]]","v":0},{"$f":"_xlfn.CONCAT(Prestation[[#This Row],[DossierCode]],\"-\",Prestation[[#This Row],[CollaborateurTrigramme]])","v":"-"},{"$f":"ROW(Prestation[[#This Row],[Clés dossier et collaborateur]])","v":75},{"$f":"_xlfn.MINIFS(Prestation[Numéro de ligne],Prestation[Clés dossier et collaborateur],Prestation[[#This Row],[Clés dossier et collaborateur]])","v":6},{"$f":"IF(Prestation[[#This Row],[Numéro min de ligne pour la clé]]=Prestation[[#This Row],[Numéro de ligne]],Prestation[[#This Row],[Rappel collaborateur]],\"\")","v":""},{"$f":"_xlfn.TEXTJOIN(\",\",TRUE,IF(Prestation[DossierCode]=Prestation[[#This Row],[DossierCode]],Prestation[Collaborateur unique],\"\"))","v":"0"},{"$f":"MONTH(Prestation[[#This Row],[DateFacture]])","v":1},{"$f":"YEAR(Prestation[[#This Row],[DateFacture]])","v":1900}]
[null,null,null,null,null,null,null,null,null,null,null,null,null,null,null,null,null,null,null,null,null,null,null,null,null,null,null,null,null,null,null,null,null,null,null,null,null,null,null,null,null,null,null,null,null,null,null,null,null,null,null,null,null,null,null,null,null,null,null,null,null,null,null,null,null,null,null,null,{"$f":"SUMIFS(Prestation[Duree],Prestation[Code],Prestation[[#This Row],[Code]])","v":0},{"$f":"Prestation[[#This Row],[Temps passé par code (H)]]&ROW()/10000","v":"00,0076"},{"$f":"Prestation[[#This Row],[CollaborateurTrigramme]]","v":0},{"$f":"Prestation[[#This Row],[DossierCode]]","v":0},{"$f":"_xlfn.CONCAT(Prestation[[#This Row],[DossierCode]],\"-\",Prestation[[#This Row],[CollaborateurTrigramme]])","v":"-"},{"$f":"ROW(Prestation[[#This Row],[Clés dossier et collaborateur]])","v":76},{"$f":"_xlfn.MINIFS(Prestation[Numéro de ligne],Prestation[Clés dossier et collaborateur],Prestation[[#This Row],[Clés dossier et collaborateur]])","v":6},{"$f":"IF(Prestation[[#This Row],[Numéro min de ligne pour la clé]]=Prestation[[#This Row],[Numéro de ligne]],Prestation[[#This Row],[Rappel collaborateur]],\"\")","v":""},{"$f":"_xlfn.TEXTJOIN(\",\",TRUE,IF(Prestation[DossierCode]=Prestation[[#This Row],[DossierCode]],Prestation[Collaborateur unique],\"\"))","v":"0"},{"$f":"MONTH(Prestation[[#This Row],[DateFacture]])","v":1},{"$f":"YEAR(Prestation[[#This Row],[DateFacture]])","v":1900}]
[null,null,null,null,null,null,null,null,null,null,null,null,null,null,null,null,null,null,null,null,null,null,null,null,null,null,null,null,null,null,null,null,null,null,null,null,null,null,null,null,null,null,null,null,null,null,null,null,null,null,null,null,null,null,null,null,null,null,null,null,null,null,null,null,null,null,null,null,{"$f":"SUMIFS(Prestation[Duree],Prestation[Code],Prestation[[#This Row],[Code]])","v":0},{"$f":"Prestation[[#This Row],[Temps passé par code (H)]]&ROW()/10000","v":"00,0077"},{"$f":"Prestation[[#This Row],[CollaborateurTrigramme]]","v":0},{"$f":"Prestation[[#This Row],[DossierCode]]","v":0},{"$f":"_xlfn.CONCAT(Prestation[[#This Row],[DossierCode]],\"-\",Prestation[[#This Row],[CollaborateurTrigramme]])","v":"-"},{"$f":"ROW(Prestation[[#This Row],[Clés dossier et collaborateur]])","v":77},{"$f":"_xlfn.MINIFS(Prestation[Numéro de ligne],Prestation[Clés dossier et collaborateur],Prestation[[#This Row],[Clés dossier et collaborateur]])","v":6},{"$f":"IF(Prestation[[#This Row],[Numéro min de ligne pour la clé]]=Prestation[[#This Row],[Numéro de ligne]],Prestation[[#This Row],[Rappel collaborateur]],\"\")","v":""},{"$f":"_xlfn.TEXTJOIN(\",\",TRUE,IF(Prestation[DossierCode]=Prestation[[#This Row],[DossierCode]],Prestation[Collaborateur unique],\"\"))","v":"0"},{"$f":"MONTH(Prestation[[#This Row],[DateFacture]])","v":1},{"$f":"YEAR(Prestation[[#This Row],[DateFacture]])","v":1900}]
[null,null,null,null,null,null,null,null,null,null,null,null,null,null,null,null,null,null,null,null,null,null,null,null,null,null,null,null,null,null,null,null,null,null,null,null,null,null,null,null,null,null,null,null,null,null,null,null,null,null,null,null,null,null,null,null,null,null,null,null,null,null,null,null,null,null,null,null,{"$f":"SUMIFS(Prestation[Duree],Prestation[Code],Prestation[[#This Row],[Code]])","v":0},{"$f":"Prestation[[#This Row],[Temps passé par code (H)]]&ROW()/10000","v":"00,0078"},{"$f":"Prestation[[#This Row],[CollaborateurTrigramme]]","v":0},{"$f":"Prestation[[#This Row],[DossierCode]]","v":0},{"$f":"_xlfn.CONCAT(Prestation[[#This Row],[DossierCode]],\"-\",Prestation[[#This Row],[CollaborateurTrigramme]])","v":"-"},{"$f":"ROW(Prestation[[#This Row],[Clés dossier et collaborateur]])","v":78},{"$f":"_xlfn.MINIFS(Prestation[Numéro de ligne],Prestation[Clés dossier et collaborateur],Prestation[[#This Row],[Clés dossier et collaborateur]])","v":6},{"$f":"IF(Prestation[[#This Row],[Numéro min de ligne pour la clé]]=Prestation[[#This Row],[Numéro de ligne]],Prestation[[#This Row],[Rappel collaborateur]],\"\")","v":""},{"$f":"_xlfn.TEXTJOIN(\",\",TRUE,IF(Prestation[DossierCode]=Prestation[[#This Row],[DossierCode]],Prestation[Collaborateur unique],\"\"))","v":"0"},{"$f":"MONTH(Prestation[[#This Row],[DateFacture]])","v":1},{"$f":"YEAR(Prestation[[#This Row],[DateFacture]])","v":1900}]
[null,null,null,null,null,null,null,null,null,null,null,null,null,null,null,null,null,null,null,null,null,null,null,null,null,null,null,null,null,null,null,null,null,null,null,null,null,null,null,null,null,null,null,null,null,null,null,null,null,null,null,null,null,null,null,null,null,null,null,null,null,null,null,null,null,null,null,null,{"$f":"SUMIFS(Prestation[Duree],Prestation[Code],Prestation[[#This Row],[Code]])","v":0},{"$f":"Prestation[[#This Row],[Temps passé par code (H)]]&ROW()/10000","v":"00,0079"},{"$f":"Prestation[[#This Row],[CollaborateurTrigramme]]","v":0},{"$f":"Prestation[[#This Row],[DossierCode]]","v":0},{"$f":"_xlfn.CONCAT(Prestation[[#This Row],[DossierCode]],\"-\",Prestation[[#This Row],[CollaborateurTrigramme]])","v":"-"},{"$f":"ROW(Prestation[[#This Row],[Clés dossier et collaborateur]])","v":79},{"$f":"_xlfn.MINIFS(Prestation[Numéro de ligne],Prestation[Clés dossier et collaborateur],Prestation[[#This Row],[Clés dossier et collaborateur]])","v":6},{"$f":"IF(Prestation[[#This Row],[Numéro min de ligne pour la clé]]=Prestation[[#This Row],[Numéro de ligne]],Prestation[[#This Row],[Rappel collaborateur]],\"\")","v":""},{"$f":"_xlfn.TEXTJOIN(\",\",TRUE,IF(Prestation[DossierCode]=Prestation[[#This Row],[DossierCode]],Prestation[Collaborateur unique],\"\"))","v":"0"},{"$f":"MONTH(Prestation[[#This Row],[DateFacture]])","v":1},{"$f":"YEAR(Prestation[[#This Row],[DateFacture]])","v":1900}]
[null,null,null,null,null,null,null,null,null,null,null,null,null,null,null,null,null,null,null,null,null,null,null,null,null,null,null,null,null,null,null,null,null,null,null,null,null,null,null,null,null,null,null,null,null,null,null,null,null,null,null,null,null,null,null,null,null,null,null,null,null,null,null,null,null,null,null,null,{"$f":"SUMIFS(Prestation[Duree],Prestation[Code],Prestation[[#This Row],[Code]])","v":0},{"$f":"Prestation[[#This Row],[Temps passé par code (H)]]&ROW()/10000","v":"00,008"},{"$f":"Prestation[[#This Row],[CollaborateurTrigramme]]","v":0},{"$f":"Prestation[[#This Row],[DossierCode]]","v":0},{"$f":"_xlfn.CONCAT(Prestation[[#This Row],[DossierCode]],\"-\",Prestation[[#This Row],[CollaborateurTrigramme]])","v":"-"},{"$f":"ROW(Prestation[[#This Row],[Clés dossier et collaborateur]])","v":80},{"$f":"_xlfn.MINIFS(Prestation[Numéro de ligne],Prestation[Clés dossier et collaborateur],Prestation[[#This Row],[Clés dossier et collaborateur]])","v":6},{"$f":"IF(Prestation[[#This Row],[Numéro min de ligne pour la clé]]=Prestation[[#This Row],[Numéro de ligne]],Prestation[[#This Row],[Rappel collaborateur]],\"\")","v":""},{"$f":"_xlfn.TEXTJOIN(\",\",TRUE,IF(Prestation[DossierCode]=Prestation[[#This Row],[DossierCode]],Prestation[Collaborateur unique],\"\"))","v":"0"},{"$f":"MONTH(Prestation[[#This Row],[DateFacture]])","v":1},{"$f":"YEAR(Prestation[[#This Row],[DateFacture]])","v":1900}]
[null,null,null,null,null,null,null,null,null,null,null,null,null,null,null,null,null,null,null,null,null,null,null,null,null,null,null,null,null,null,null,null,null,null,null,null,null,null,null,null,null,null,null,null,null,null,null,null,null,null,null,null,null,null,null,null,null,null,null,null,null,null,null,null,null,null,null,null,{"$f":"SUMIFS(Prestation[Duree],Prestation[Code],Prestation[[#This Row],[Code]])","v":0},{"$f":"Prestation[[#This Row],[Temps passé par code (H)]]&ROW()/10000","v":"00,0081"},{"$f":"Prestation[[#This Row],[CollaborateurTrigramme]]","v":0},{"$f":"Prestation[[#This Row],[DossierCode]]","v":0},{"$f":"_xlfn.CONCAT(Prestation[[#This Row],[DossierCode]],\"-\",Prestation[[#This Row],[CollaborateurTrigramme]])","v":"-"},{"$f":"ROW(Prestation[[#This Row],[Clés dossier et collaborateur]])","v":81},{"$f":"_xlfn.MINIFS(Prestation[Numéro de ligne],Prestation[Clés dossier et collaborateur],Prestation[[#This Row],[Clés dossier et collaborateur]])","v":6},{"$f":"IF(Prestation[[#This Row],[Numéro min de ligne pour la clé]]=Prestation[[#This Row],[Numéro de ligne]],Prestation[[#This Row],[Rappel collaborateur]],\"\")","v":""},{"$f":"_xlfn.TEXTJOIN(\",\",TRUE,IF(Prestation[DossierCode]=Prestation[[#This Row],[DossierCode]],Prestation[Collaborateur unique],\"\"))","v":"0"},{"$f":"MONTH(Prestation[[#This Row],[DateFacture]])","v":1},{"$f":"YEAR(Prestation[[#This Row],[DateFacture]])","v":1900}]
[null,null,null,null,null,null,null,null,null,null,null,null,null,null,null,null,null,null,null,null,null,null,null,null,null,null,null,null,null,null,null,null,null,null,null,null,null,null,null,null,null,null,null,null,null,null,null,null,null,null,null,null,null,null,null,null,null,null,null,null,null,null,null,null,null,null,null,null,{"$f":"SUMIFS(Prestation[Duree],Prestation[Code],Prestation[[#This Row],[Code]])","v":0},{"$f":"Prestation[[#This Row],[Temps passé par code (H)]]&ROW()/10000","v":"00,0082"},{"$f":"Prestation[[#This Row],[CollaborateurTrigramme]]","v":0},{"$f":"Prestation[[#This Row],[DossierCode]]","v":0},{"$f":"_xlfn.CONCAT(Prestation[[#This Row],[DossierCode]],\"-\",Prestation[[#This Row],[CollaborateurTrigramme]])","v":"-"},{"$f":"ROW(Prestation[[#This Row],[Clés dossier et collaborateur]])","v":82},{"$f":"_xlfn.MINIFS(Prestation[Numéro de ligne],Prestation[Clés dossier et collaborateur],Prestation[[#This Row],[Clés dossier et collaborateur]])","v":6},{"$f":"IF(Prestation[[#This Row],[Numéro min de ligne pour la clé]]=Prestation[[#This Row],[Numéro de ligne]],Prestation[[#This Row],[Rappel collaborateur]],\"\")","v":""},{"$f":"_xlfn.TEXTJOIN(\",\",TRUE,IF(Prestation[DossierCode]=Prestation[[#This Row],[DossierCode]],Prestation[Collaborateur unique],\"\"))","v":"0"},{"$f":"MONTH(Prestation[[#This Row],[DateFacture]])","v":1},{"$f":"YEAR(Prestation[[#This Row],[DateFacture]])","v":1900}]
[null,null,null,null,null,null,null,null,null,null,null,null,null,null,null,null,null,null,null,null,null,null,null,null,null,null,null,null,null,null,null,null,null,null,null,null,null,null,null,null,null,null,null,null,null,null,null,null,null,null,null,null,null,null,null,null,null,null,null,null,null,null,null,null,null,null,null,null,{"$f":"SUMIFS(Prestation[Duree],Prestation[Code],Prestation[[#This Row],[Code]])","v":0},{"$f":"Prestation[[#This Row],[Temps passé par code (H)]]&ROW()/10000","v":"00,0083"},{"$f":"Prestation[[#This Row],[CollaborateurTrigramme]]","v":0},{"$f":"Prestation[[#This Row],[DossierCode]]","v":0},{"$f":"_xlfn.CONCAT(Prestation[[#This Row],[DossierCode]],\"-\",Prestation[[#This Row],[CollaborateurTrigramme]])","v":"-"},{"$f":"ROW(Prestation[[#This Row],[Clés dossier et collaborateur]])","v":83},{"$f":"_xlfn.MINIFS(Prestation[Numéro de ligne],Prestation[Clés dossier et collaborateur],Prestation[[#This Row],[Clés dossier et collaborateur]])","v":6},{"$f":"IF(Prestation[[#This Row],[Numéro min de ligne pour la clé]]=Prestation[[#This Row],[Numéro de ligne]],Prestation[[#This Row],[Rappel collaborateur]],\"\")","v":""},{"$f":"_xlfn.TEXTJOIN(\",\",TRUE,IF(Prestation[DossierCode]=Prestation[[#This Row],[DossierCode]],Prestation[Collaborateur unique],\"\"))","v":"0"},{"$f":"MONTH(Prestation[[#This Row],[DateFacture]])","v":1},{"$f":"YEAR(Prestation[[#This Row],[DateFacture]])","v":1900}]
[null,null,null,null,null,null,null,null,null,null,null,null,null,null,null,null,null,null,null,null,null,null,null,null,null,null,null,null,null,null,null,null,null,null,null,null,null,null,null,null,null,null,null,null,null,null,null,null,null,null,null,null,null,null,null,null,null,null,null,null,null,null,null,null,null,null,null,null,{"$f":"SUMIFS(Prestation[Duree],Prestation[Code],Prestation[[#This Row],[Code]])","v":0},{"$f":"Prestation[[#This Row],[Temps passé par code (H)]]&ROW()/10000","v":"00,0084"},{"$f":"Prestation[[#This Row],[CollaborateurTrigramme]]","v":0},{"$f":"Prestation[[#This Row],[DossierCode]]","v":0},{"$f":"_xlfn.CONCAT(Prestation[[#This Row],[DossierCode]],\"-\",Prestation[[#This Row],[CollaborateurTrigramme]])","v":"-"},{"$f":"ROW(Prestation[[#This Row],[Clés dossier et collaborateur]])","v":84},{"$f":"_xlfn.MINIFS(Prestation[Numéro de ligne],Prestation[Clés dossier et collaborateur],Prestation[[#This Row],[Clés dossier et collaborateur]])","v":6},{"$f":"IF(Prestation[[#This Row],[Numéro min de ligne pour la clé]]=Prestation[[#This Row],[Numéro de ligne]],Prestation[[#This Row],[Rappel collaborateur]],\"\")","v":""},{"$f":"_xlfn.TEXTJOIN(\",\",TRUE,IF(Prestation[DossierCode]=Prestation[[#This Row],[DossierCode]],Prestation[Collaborateur unique],\"\"))","v":"0"},{"$f":"MONTH(Prestation[[#This Row],[DateFacture]])","v":1},{"$f":"YEAR(Prestation[[#This Row],[DateFacture]])","v":1900}]
[null,null,null,null,null,null,null,null,null,null,null,null,null,null,null,null,null,null,null,null,null,null,null,null,null,null,null,null,null,null,null,null,null,null,null,null,null,null,null,null,null,null,null,null,null,null,null,null,null,null,null,null,null,null,null,null,null,null,null,null,null,null,null,null,null,null,null,null,{"$f":"SUMIFS(Prestation[Duree],Prestation[Code],Prestation[[#This Row],[Code]])","v":0},{"$f":"Prestation[[#This Row],[Temps passé par code (H)]]&ROW()/10000","v":"00,0085"},{"$f":"Prestation[[#This Row],[CollaborateurTrigramme]]","v":0},{"$f":"Prestation[[#This Row],[DossierCode]]","v":0},{"$f":"_xlfn.CONCAT(Prestation[[#This Row],[DossierCode]],\"-\",Prestation[[#This Row],[CollaborateurTrigramme]])","v":"-"},{"$f":"ROW(Prestation[[#This Row],[Clés dossier et collaborateur]])","v":85},{"$f":"_xlfn.MINIFS(Prestation[Numéro de ligne],Prestation[Clés dossier et collaborateur],Prestation[[#This Row],[Clés dossier et collaborateur]])","v":6},{"$f":"IF(Prestation[[#This Row],[Numéro min de ligne pour la clé]]=Prestation[[#This Row],[Numéro de ligne]],Prestation[[#This Row],[Rappel collaborateur]],\"\")","v":""},{"$f":"_xlfn.TEXTJOIN(\",\",TRUE,IF(Prestation[DossierCode]=Prestation[[#This Row],[DossierCode]],Prestation[Collaborateur unique],\"\"))","v":"0"},{"$f":"MONTH(Prestation[[#This Row],[DateFacture]])","v":1},{"$f":"YEAR(Prestation[[#This Row],[DateFacture]])","v":1900}]
[null,null,null,null,null,null,null,null,null,null,null,null,null,null,null,null,null,null,null,null,null,null,null,null,null,null,null,null,null,null,null,null,null,null,null,null,null,null,null,null,null,null,null,null,null,null,null,null,null,null,null,null,null,null,null,null,null,null,null,null,null,null,null,null,null,null,null,null,{"$f":"SUMIFS(Prestation[Duree],Prestation[Code],Prestation[[#This Row],[Code]])","v":0},{"$f":"Prestation[[#This Row],[Temps passé par code (H)]]&ROW()/10000","v":"00,0086"},{"$f":"Prestation[[#This Row],[CollaborateurTrigramme]]","v":0},{"$f":"Prestation[[#This Row],[DossierCode]]","v":0},{"$f":"_xlfn.CONCAT(Prestation[[#This Row],[DossierCode]],\"-\",Prestation[[#This Row],[CollaborateurTrigramme]])","v":"-"},{"$f":"ROW(Prestation[[#This Row],[Clés dossier et collaborateur]])","v":86},{"$f":"_xlfn.MINIFS(Prestation[Numéro de ligne],Prestation[Clés dossier et collaborateur],Prestation[[#This Row],[Clés dossier et collaborateur]])","v":6},{"$f":"IF(Prestation[[#This Row],[Numéro min de ligne pour la clé]]=Prestation[[#This Row],[Numéro de ligne]],Prestation[[#This Row],[Rappel collaborateur]],\"\")","v":""},{"$f":"_xlfn.TEXTJOIN(\",\",TRUE,IF(Prestation[DossierCode]=Prestation[[#This Row],[DossierCode]],Prestation[Collaborateur unique],\"\"))","v":"0"},{"$f":"MONTH(Prestation[[#This Row],[DateFacture]])","v":1},{"$f":"YEAR(Prestation[[#This Row],[DateFacture]])","v":1900}]
[null,null,null,null,null,null,null,null,null,null,null,null,null,null,null,null,null,null,null,null,null,null,null,null,null,null,null,null,null,null,null,null,null,null,null,null,null,null,null,null,null,null,null,null,null,null,null,null,null,null,null,null,null,null,null,null,null,null,null,null,null,null,null,null,null,null,null,null,{"$f":"SUMIFS(Prestation[Duree],Prestation[Code],Prestation[[#This Row],[Code]])","v":0},{"$f":"Prestation[[#This Row],[Temps passé par code (H)]]&ROW()/10000","v":"00,0087"},{"$f":"Prestation[[#This Row],[CollaborateurTrigramme]]","v":0},{"$f":"Prestation[[#This Row],[DossierCode]]","v":0},{"$f":"_xlfn.CONCAT(Prestation[[#This Row],[DossierCode]],\"-\",Prestation[[#This Row],[CollaborateurTrigramme]])","v":"-"},{"$f":"ROW(Prestation[[#This Row],[Clés dossier et collaborateur]])","v":87},{"$f":"_xlfn.MINIFS(Prestation[Numéro de ligne],Prestation[Clés dossier et collaborateur],Prestation[[#This Row],[Clés dossier et collaborateur]])","v":6},{"$f":"IF(Prestation[[#This Row],[Numéro min de ligne pour la clé]]=Prestation[[#This Row],[Numéro de ligne]],Prestation[[#This Row],[Rappel collaborateur]],\"\")","v":""},{"$f":"_xlfn.TEXTJOIN(\",\",TRUE,IF(Prestation[DossierCode]=Prestation[[#This Row],[DossierCode]],Prestation[Collaborateur unique],\"\"))","v":"0"},{"$f":"MONTH(Prestation[[#This Row],[DateFacture]])","v":1},{"$f":"YEAR(Prestation[[#This Row],[DateFacture]])","v":1900}]
[null,null,null,null,null,null,null,null,null,null,null,null,null,null,null,null,null,null,null,null,null,null,null,null,null,null,null,null,null,null,null,null,null,null,null,null,null,null,null,null,null,null,null,null,null,null,null,null,null,null,null,null,null,null,null,null,null,null,null,null,null,null,null,null,null,null,null,null,{"$f":"SUMIFS(Prestation[Duree],Prestation[Code],Prestation[[#This Row],[Code]])","v":0},{"$f":"Prestation[[#This Row],[Temps passé par code (H)]]&ROW()/10000","v":"00,0088"},{"$f":"Prestation[[#This Row],[CollaborateurTrigramme]]","v":0},{"$f":"Prestation[[#This Row],[DossierCode]]","v":0},{"$f":"_xlfn.CONCAT(Prestation[[#This Row],[DossierCode]],\"-\",Prestation[[#This Row],[CollaborateurTrigramme]])","v":"-"},{"$f":"ROW(Prestation[[#This Row],[Clés dossier et collaborateur]])","v":88},{"$f":"_xlfn.MINIFS(Prestation[Numéro de ligne],Prestation[Clés dossier et collaborateur],Prestation[[#This Row],[Clés dossier et collaborateur]])","v":6},{"$f":"IF(Prestation[[#This Row],[Numéro min de ligne pour la clé]]=Prestation[[#This Row],[Numéro de ligne]],Prestation[[#This Row],[Rappel collaborateur]],\"\")","v":""},{"$f":"_xlfn.TEXTJOIN(\",\",TRUE,IF(Prestation[DossierCode]=Prestation[[#This Row],[DossierCode]],Prestation[Collaborateur unique],\"\"))","v":"0"},{"$f":"MONTH(Prestation[[#This Row],[DateFacture]])","v":1},{"$f":"YEAR(Prestation[[#This Row],[DateFacture]])","v":1900}]
[null,null,null,null,null,null,null,null,null,null,null,null,null,null,null,null,null,null,null,null,null,null,null,null,null,null,null,null,null,null,null,null,null,null,null,null,null,null,null,null,null,null,null,null,null,null,null,null,null,null,null,null,null,null,null,null,null,null,null,null,null,null,null,null,null,null,null,null,{"$f":"SUMIFS(Prestation[Duree],Prestation[Code],Prestation[[#This Row],[Code]])","v":0},{"$f":"Prestation[[#This Row],[Temps passé par code (H)]]&ROW()/10000","v":"00,0089"},{"$f":"Prestation[[#This Row],[CollaborateurTrigramme]]","v":0},{"$f":"Prestation[[#This Row],[DossierCode]]","v":0},{"$f":"_xlfn.CONCAT(Prestation[[#This Row],[DossierCode]],\"-\",Prestation[[#This Row],[CollaborateurTrigramme]])","v":"-"},{"$f":"ROW(Prestation[[#This Row],[Clés dossier et collaborateur]])","v":89},{"$f":"_xlfn.MINIFS(Prestation[Numéro de ligne],Prestation[Clés dossier et collaborateur],Prestation[[#This Row],[Clés dossier et collaborateur]])","v":6},{"$f":"IF(Prestation[[#This Row],[Numéro min de ligne pour la clé]]=Prestation[[#This Row],[Numéro de ligne]],Prestation[[#This Row],[Rappel collaborateur]],\"\")","v":""},{"$f":"_xlfn.TEXTJOIN(\",\",TRUE,IF(Prestation[DossierCode]=Prestation[[#This Row],[DossierCode]],Prestation[Collaborateur unique],\"\"))","v":"0"},{"$f":"MONTH(Prestation[[#This Row],[DateFacture]])","v":1},{"$f":"YEAR(Prestation[[#This Row],[DateFacture]])","v":1900}]
[null,null,null,null,null,null,null,null,null,null,null,null,null,null,null,null,null,null,null,null,null,null,null,null,null,null,null,null,null,null,null,null,null,null,null,null,null,null,null,null,null,null,null,null,null,null,null,null,null,null,null,null,null,null,null,null,null,null,null,null,null,null,null,null,null,null,null,null,{"$f":"SUMIFS(Prestation[Duree],Prestation[Code],Prestation[[#This Row],[Code]])","v":0},{"$f":"Prestation[[#This Row],[Temps passé par code (H)]]&ROW()/10000","v":"00,009"},{"$f":"Prestation[[#This Row],[CollaborateurTrigramme]]","v":0},{"$f":"Prestation[[#This Row],[DossierCode]]","v":0},{"$f":"_xlfn.CONCAT(Prestation[[#This Row],[DossierCode]],\"-\",Prestation[[#This Row],[CollaborateurTrigramme]])","v":"-"},{"$f":"ROW(Prestation[[#This Row],[Clés dossier et collaborateur]])","v":90},{"$f":"_xlfn.MINIFS(Prestation[Numéro de ligne],Prestation[Clés dossier et collaborateur],Prestation[[#This Row],[Clés dossier et collaborateur]])","v":6},{"$f":"IF(Prestation[[#This Row],[Numéro min de ligne pour la clé]]=Prestation[[#This Row],[Numéro de ligne]],Prestation[[#This Row],[Rappel collaborateur]],\"\")","v":""},{"$f":"_xlfn.TEXTJOIN(\",\",TRUE,IF(Prestation[DossierCode]=Prestation[[#This Row],[DossierCode]],Prestation[Collaborateur unique],\"\"))","v":"0"},{"$f":"MONTH(Prestation[[#This Row],[DateFacture]])","v":1},{"$f":"YEAR(Prestation[[#This Row],[DateFacture]])","v":1900}]
[null,null,null,null,null,null,null,null,null,null,null,null,null,null,null,null,null,null,null,null,null,null,null,null,null,null,null,null,null,null,null,null,null,null,null,null,null,null,null,null,null,null,null,null,null,null,null,null,null,null,null,null,null,null,null,null,null,null,null,null,null,null,null,null,null,null,null,null,{"$f":"SUMIFS(Prestation[Duree],Prestation[Code],Prestation[[#This Row],[Code]])","v":0},{"$f":"Prestation[[#This Row],[Temps passé par code (H)]]&ROW()/10000","v":"00,0091"},{"$f":"Prestation[[#This Row],[CollaborateurTrigramme]]","v":0},{"$f":"Prestation[[#This Row],[DossierCode]]","v":0},{"$f":"_xlfn.CONCAT(Prestation[[#This Row],[DossierCode]],\"-\",Prestation[[#This Row],[CollaborateurTrigramme]])","v":"-"},{"$f":"ROW(Prestation[[#This Row],[Clés dossier et collaborateur]])","v":91},{"$f":"_xlfn.MINIFS(Prestation[Numéro de ligne],Prestation[Clés dossier et collaborateur],Prestation[[#This Row],[Clés dossier et collaborateur]])","v":6},{"$f":"IF(Prestation[[#This Row],[Numéro min de ligne pour la clé]]=Prestation[[#This Row],[Numéro de ligne]],Prestation[[#This Row],[Rappel collaborateur]],\"\")","v":""},{"$f":"_xlfn.TEXTJOIN(\",\",TRUE,IF(Prestation[DossierCode]=Prestation[[#This Row],[DossierCode]],Prestation[Collaborateur unique],\"\"))","v":"0"},{"$f":"MONTH(Prestation[[#This Row],[DateFacture]])","v":1},{"$f":"YEAR(Prestation[[#This Row],[DateFacture]])","v":1900}]
[null,null,null,null,null,null,null,null,null,null,null,null,null,null,null,null,null,null,null,null,null,null,null,null,null,null,null,null,null,null,null,null,null,null,null,null,null,null,null,null,null,null,null,null,null,null,null,null,null,null,null,null,null,null,null,null,null,null,null,null,null,null,null,null,null,null,null,null,{"$f":"SUMIFS(Prestation[Duree],Prestation[Code],Prestation[[#This Row],[Code]])","v":0},{"$f":"Prestation[[#This Row],[Temps passé par code (H)]]&ROW()/10000","v":"00,0092"},{"$f":"Prestation[[#This Row],[CollaborateurTrigramme]]","v":0},{"$f":"Prestation[[#This Row],[DossierCode]]","v":0},{"$f":"_xlfn.CONCAT(Prestation[[#This Row],[DossierCode]],\"-\",Prestation[[#This Row],[CollaborateurTrigramme]])","v":"-"},{"$f":"ROW(Prestation[[#This Row],[Clés dossier et collaborateur]])","v":92},{"$f":"_xlfn.MINIFS(Prestation[Numéro de ligne],Prestation[Clés dossier et collaborateur],Prestation[[#This Row],[Clés dossier et collaborateur]])","v":6},{"$f":"IF(Prestation[[#This Row],[Numéro min de ligne pour la clé]]=Prestation[[#This Row],[Numéro de ligne]],Prestation[[#This Row],[Rappel collaborateur]],\"\")","v":""},{"$f":"_xlfn.TEXTJOIN(\",\",TRUE,IF(Prestation[DossierCode]=Prestation[[#This Row],[DossierCode]],Prestation[Collaborateur unique],\"\"))","v":"0"},{"$f":"MONTH(Prestation[[#This Row],[DateFacture]])","v":1},{"$f":"YEAR(Prestation[[#This Row],[DateFacture]])","v":1900}]
[null,null,null,null,null,null,null,null,null,null,null,null,null,null,null,null,null,null,null,null,null,null,null,null,null,null,null,null,null,null,null,null,null,null,null,null,null,null,null,null,null,null,null,null,null,null,null,null,null,null,null,null,null,null,null,null,null,null,null,null,null,null,null,null,null,null,null,null,{"$f":"SUMIFS(Prestation[Duree],Prestation[Code],Prestation[[#This Row],[Code]])","v":0},{"$f":"Prestation[[#This Row],[Temps passé par code (H)]]&ROW()/10000","v":"00,0093"},{"$f":"Prestation[[#This Row],[CollaborateurTrigramme]]","v":0},{"$f":"Prestation[[#This Row],[DossierCode]]","v":0},{"$f":"_xlfn.CONCAT(Prestation[[#This Row],[DossierCode]],\"-\",Prestation[[#This Row],[CollaborateurTrigramme]])","v":"-"},{"$f":"ROW(Prestation[[#This Row],[Clés dossier et collaborateur]])","v":93},{"$f":"_xlfn.MINIFS(Prestation[Numéro de ligne],Prestation[Clés dossier et collaborateur],Prestation[[#This Row],[Clés dossier et collaborateur]])","v":6},{"$f":"IF(Prestation[[#This Row],[Numéro min de ligne pour la clé]]=Prestation[[#This Row],[Numéro de ligne]],Prestation[[#This Row],[Rappel collaborateur]],\"\")","v":""},{"$f":"_xlfn.TEXTJOIN(\",\",TRUE,IF(Prestation[DossierCode]=Prestation[[#This Row],[DossierCode]],Prestation[Collaborateur unique],\"\"))","v":"0"},{"$f":"MONTH(Prestation[[#This Row],[DateFacture]])","v":1},{"$f":"YEAR(Prestation[[#This Row],[DateFacture]])","v":1900}]
[null,null,null,null,null,null,null,null,null,null,null,null,null,null,null,null,null,null,null,null,null,null,null,null,null,null,null,null,null,null,null,null,null,null,null,null,null,null,null,null,null,null,null,null,null,null,null,null,null,null,null,null,null,null,null,null,null,null,null,null,null,null,null,null,null,null,null,null,{"$f":"SUMIFS(Prestation[Duree],Prestation[Code],Prestation[[#This Row],[Code]])","v":0},{"$f":"Prestation[[#This Row],[Temps passé par code (H)]]&ROW()/10000","v":"00,0094"},{"$f":"Prestation[[#This Row],[CollaborateurTrigramme]]","v":0},{"$f":"Prestation[[#This Row],[DossierCode]]","v":0},{"$f":"_xlfn.CONCAT(Prestation[[#This Row],[DossierCode]],\"-\",Prestation[[#This Row],[CollaborateurTrigramme]])","v":"-"},{"$f":"ROW(Prestation[[#This Row],[Clés dossier et collaborateur]])","v":94},{"$f":"_xlfn.MINIFS(Prestation[Numéro de ligne],Prestation[Clés dossier et collaborateur],Prestation[[#This Row],[Clés dossier et collaborateur]])","v":6},{"$f":"IF(Prestation[[#This Row],[Numéro min de ligne pour la clé]]=Prestation[[#This Row],[Numéro de ligne]],Prestation[[#This Row],[Rappel collaborateur]],\"\")","v":""},{"$f":"_xlfn.TEXTJOIN(\",\",TRUE,IF(Prestation[DossierCode]=Prestation[[#This Row],[DossierCode]],Prestation[Collaborateur unique],\"\"))","v":"0"},{"$f":"MONTH(Prestation[[#This Row],[DateFacture]])","v":1},{"$f":"YEAR(Prestation[[#This Row],[DateFacture]])","v":1900}]
[null,null,null,null,null,null,null,null,null,null,null,null,null,null,null,null,null,null,null,null,null,null,null,null,null,null,null,null,null,null,null,null,null,null,null,null,null,null,null,null,null,null,null,null,null,null,null,null,null,null,null,null,null,null,null,null,null,null,null,null,null,null,null,null,null,null,null,null,{"$f":"SUMIFS(Prestation[Duree],Prestation[Code],Prestation[[#This Row],[Code]])","v":0},{"$f":"Prestation[[#This Row],[Temps passé par code (H)]]&ROW()/10000","v":"00,0095"},{"$f":"Prestation[[#This Row],[CollaborateurTrigramme]]","v":0},{"$f":"Prestation[[#This Row],[DossierCode]]","v":0},{"$f":"_xlfn.CONCAT(Prestation[[#This Row],[DossierCode]],\"-\",Prestation[[#This Row],[CollaborateurTrigramme]])","v":"-"},{"$f":"ROW(Prestation[[#This Row],[Clés dossier et collaborateur]])","v":95},{"$f":"_xlfn.MINIFS(Prestation[Numéro de ligne],Prestation[Clés dossier et collaborateur],Prestation[[#This Row],[Clés dossier et collaborateur]])","v":6},{"$f":"IF(Prestation[[#This Row],[Numéro min de ligne pour la clé]]=Prestation[[#This Row],[Numéro de ligne]],Prestation[[#This Row],[Rappel collaborateur]],\"\")","v":""},{"$f":"_xlfn.TEXTJOIN(\",\",TRUE,IF(Prestation[DossierCode]=Prestation[[#This Row],[DossierCode]],Prestation[Collaborateur unique],\"\"))","v":"0"},{"$f":"MONTH(Prestation[[#This Row],[DateFacture]])","v":1},{"$f":"YEAR(Prestation[[#This Row],[DateFacture]])","v":1900}]
[null,null,null,null,null,null,null,null,null,null,null,null,null,null,null,null,null,null,null,null,null,null,null,null,null,null,null,null,null,null,null,null,null,null,null,null,null,null,null,null,null,null,null,null,null,null,null,null,null,null,null,null,null,null,null,null,null,null,null,null,null,null,null,null,null,null,null,null,{"$f":"SUMIFS(Prestation[Duree],Prestation[Code],Prestation[[#This Row],[Code]])","v":0},{"$f":"Prestation[[#This Row],[Temps passé par code (H)]]&ROW()/10000","v":"00,0096"},{"$f":"Prestation[[#This Row],[CollaborateurTrigramme]]","v":0},{"$f":"Prestation[[#This Row],[DossierCode]]","v":0},{"$f":"_xlfn.CONCAT(Prestation[[#This Row],[DossierCode]],\"-\",Prestation[[#This Row],[CollaborateurTrigramme]])","v":"-"},{"$f":"ROW(Prestation[[#This Row],[Clés dossier et collaborateur]])","v":96},{"$f":"_xlfn.MINIFS(Prestation[Numéro de ligne],Prestation[Clés dossier et collaborateur],Prestation[[#This Row],[Clés dossier et collaborateur]])","v":6},{"$f":"IF(Prestation[[#This Row],[Numéro min de ligne pour la clé]]=Prestation[[#This Row],[Numéro de ligne]],Prestation[[#This Row],[Rappel collaborateur]],\"\")","v":""},{"$f":"_xlfn.TEXTJOIN(\",\",TRUE,IF(Prestation[DossierCode]=Prestation[[#This Row],[DossierCode]],Prestation[Collaborateur unique],\"\"))","v":"0"},{"$f":"MONTH(Prestation[[#This Row],[DateFacture]])","v":1},{"$f":"YEAR(Prestation[[#This Row],[DateFacture]])","v":1900}]
[null,null,null,null,null,null,null,null,null,null,null,null,null,null,null,null,null,null,null,null,null,null,null,null,null,null,null,null,null,null,null,null,null,null,null,null,null,null,null,null,null,null,null,null,null,null,null,null,null,null,null,null,null,null,null,null,null,null,null,null,null,null,null,null,null,null,null,null,{"$f":"SUMIFS(Prestation[Duree],Prestation[Code],Prestation[[#This Row],[Code]])","v":0},{"$f":"Prestation[[#This Row],[Temps passé par code (H)]]&ROW()/10000","v":"00,0097"},{"$f":"Prestation[[#This Row],[CollaborateurTrigramme]]","v":0},{"$f":"Prestation[[#This Row],[DossierCode]]","v":0},{"$f":"_xlfn.CONCAT(Prestation[[#This Row],[DossierCode]],\"-\",Prestation[[#This Row],[CollaborateurTrigramme]])","v":"-"},{"$f":"ROW(Prestation[[#This Row],[Clés dossier et collaborateur]])","v":97},{"$f":"_xlfn.MINIFS(Prestation[Numéro de ligne],Prestation[Clés dossier et collaborateur],Prestation[[#This Row],[Clés dossier et collaborateur]])","v":6},{"$f":"IF(Prestation[[#This Row],[Numéro min de ligne pour la clé]]=Prestation[[#This Row],[Numéro de ligne]],Prestation[[#This Row],[Rappel collaborateur]],\"\")","v":""},{"$f":"_xlfn.TEXTJOIN(\",\",TRUE,IF(Prestation[DossierCode]=Prestation[[#This Row],[DossierCode]],Prestation[Collaborateur unique],\"\"))","v":"0"},{"$f":"MONTH(Prestation[[#This Row],[DateFacture]])","v":1},{"$f":"YEAR(Prestation[[#This Row],[DateFacture]])","v":1900}]
[null,null,null,null,null,null,null,null,null,null,null,null,null,null,null,null,null,null,null,null,null,null,null,null,null,null,null,null,null,null,null,null,null,null,null,null,null,null,null,null,null,null,null,null,null,null,null,null,null,null,null,null,null,null,null,null,null,null,null,null,null,null,null,null,null,null,null,null,{"$f":"SUMIFS(Prestation[Duree],Prestation[Code],Prestation[[#This Row],[Code]])","v":0},{"$f":"Prestation[[#This Row],[Temps passé par code (H)]]&ROW()/10000","v":"00,0098"},{"$f":"Prestation[[#This Row],[CollaborateurTrigramme]]","v":0},{"$f":"Prestation[[#This Row],[DossierCode]]","v":0},{"$f":"_xlfn.CONCAT(Prestation[[#This Row],[DossierCode]],\"-\",Prestation[[#This Row],[CollaborateurTrigramme]])","v":"-"},{"$f":"ROW(Prestation[[#This Row],[Clés dossier et collaborateur]])","v":98},{"$f":"_xlfn.MINIFS(Prestation[Numéro de ligne],Prestation[Clés dossier et collaborateur],Prestation[[#This Row],[Clés dossier et collaborateur]])","v":6},{"$f":"IF(Prestation[[#This Row],[Numéro min de ligne pour la clé]]=Prestation[[#This Row],[Numéro de ligne]],Prestation[[#This Row],[Rappel collaborateur]],\"\")","v":""},{"$f":"_xlfn.TEXTJOIN(\",\",TRUE,IF(Prestation[DossierCode]=Prestation[[#This Row],[DossierCode]],Prestation[Collaborateur unique],\"\"))","v":"0"},{"$f":"MONTH(Prestation[[#This Row],[DateFacture]])","v":1},{"$f":"YEAR(Prestation[[#This Row],[DateFacture]])","v":1900}]
[null,null,null,null,null,null,null,null,null,null,null,null,null,null,null,null,null,null,null,null,null,null,null,null,null,null,null,null,null,null,null,null,null,null,null,null,null,null,null,null,null,null,null,null,null,null,null,null,null,null,null,null,null,null,null,null,null,null,null,null,null,null,null,null,null,null,null,null,{"$f":"SUMIFS(Prestation[Duree],Prestation[Code],Prestation[[#This Row],[Code]])","v":0},{"$f":"Prestation[[#This Row],[Temps passé par code (H)]]&ROW()/10000","v":"00,0099"},{"$f":"Prestation[[#This Row],[CollaborateurTrigramme]]","v":0},{"$f":"Prestation[[#This Row],[DossierCode]]","v":0},{"$f":"_xlfn.CONCAT(Prestation[[#This Row],[DossierCode]],\"-\",Prestation[[#This Row],[CollaborateurTrigramme]])","v":"-"},{"$f":"ROW(Prestation[[#This Row],[Clés dossier et collaborateur]])","v":99},{"$f":"_xlfn.MINIFS(Prestation[Numéro de ligne],Prestation[Clés dossier et collaborateur],Prestation[[#This Row],[Clés dossier et collaborateur]])","v":6},{"$f":"IF(Prestation[[#This Row],[Numéro min de ligne pour la clé]]=Prestation[[#This Row],[Numéro de ligne]],Prestation[[#This Row],[Rappel collaborateur]],\"\")","v":""},{"$f":"_xlfn.TEXTJOIN(\",\",TRUE,IF(Prestation[DossierCode]=Prestation[[#This Row],[DossierCode]],Prestation[Collaborateur unique],\"\"))","v":"0"},{"$f":"MONTH(Prestation[[#This Row],[DateFacture]])","v":1},{"$f":"YEAR(Prestation[[#This Row],[DateFacture]])","v":1900}]
[null,null,null,null,null,null,null,null,null,null,null,null,null,null,null,null,null,null,null,null,null,null,null,null,null,null,null,null,null,null,null,null,null,null,null,null,null,null,null,null,null,null,null,null,null,null,null,null,null,null,null,null,null,null,null,null,null,null,null,null,null,null,null,null,null,null,null,null,{"$f":"SUMIFS(Prestation[Duree],Prestation[Code],Prestation[[#This Row],[Code]])","v":0},{"$f":"Prestation[[#This Row],[Temps passé par code (H)]]&ROW()/10000","v":"00,01"},{"$f":"Prestation[[#This Row],[CollaborateurTrigramme]]","v":0},{"$f":"Prestation[[#This Row],[DossierCode]]","v":0},{"$f":"_xlfn.CONCAT(Prestation[[#This Row],[DossierCode]],\"-\",Prestation[[#This Row],[CollaborateurTrigramme]])","v":"-"},{"$f":"ROW(Prestation[[#This Row],[Clés dossier et collaborateur]])","v":100},{"$f":"_xlfn.MINIFS(Prestation[Numéro de ligne],Prestation[Clés dossier et collaborateur],Prestation[[#This Row],[Clés dossier et collaborateur]])","v":6},{"$f":"IF(Prestation[[#This Row],[Numéro min de ligne pour la clé]]=Prestation[[#This Row],[Numéro de ligne]],Prestation[[#This Row],[Rappel collaborateur]],\"\")","v":""},{"$f":"_xlfn.TEXTJOIN(\",\",TRUE,IF(Prestation[DossierCode]=Prestation[[#This Row],[DossierCode]],Prestation[Collaborateur unique],\"\"))","v":"0"},{"$f":"MONTH(Prestation[[#This Row],[DateFacture]])","v":1},{"$f":"YEAR(Prestation[[#This Row],[DateFacture]])","v":1900}]
[null,null,null,null,null,null,null,null,null,null,null,null,null,null,null,null,null,null,null,null,null,null,null,null,null,null,null,null,null,null,null,null,null,null,null,null,null,null,null,null,null,null,null,null,null,null,null,null,null,null,null,null,null,null,null,null,null,null,null,null,null,null,null,null,null,null,null,null,{"$f":"SUMIFS(Prestation[Duree],Prestation[Code],Prestation[[#This Row],[Code]])","v":0},{"$f":"Prestation[[#This Row],[Temps passé par code (H)]]&ROW()/10000","v":"00,0101"},{"$f":"Prestation[[#This Row],[CollaborateurTrigramme]]","v":0},{"$f":"Prestation[[#This Row],[DossierCode]]","v":0},{"$f":"_xlfn.CONCAT(Prestation[[#This Row],[DossierCode]],\"-\",Prestation[[#This Row],[CollaborateurTrigramme]])","v":"-"},{"$f":"ROW(Prestation[[#This Row],[Clés dossier et collaborateur]])","v":101},{"$f":"_xlfn.MINIFS(Prestation[Numéro de ligne],Prestation[Clés dossier et collaborateur],Prestation[[#This Row],[Clés dossier et collaborateur]])","v":6},{"$f":"IF(Prestation[[#This Row],[Numéro min de ligne pour la clé]]=Prestation[[#This Row],[Numéro de ligne]],Prestation[[#This Row],[Rappel collaborateur]],\"\")","v":""},{"$f":"_xlfn.TEXTJOIN(\",\",TRUE,IF(Prestation[DossierCode]=Prestation[[#This Row],[DossierCode]],Prestation[Collaborateur unique],\"\"))","v":"0"},{"$f":"MONTH(Prestation[[#This Row],[DateFacture]])","v":1},{"$f":"YEAR(Prestation[[#This Row],[DateFacture]])","v":1900}]
[null,null,null,null,null,null,null,null,null,null,null,null,null,null,null,null,null,null,null,null,null,null,null,null,null,null,null,null,null,null,null,null,null,null,null,null,null,null,null,null,null,null,null,null,null,null,null,null,null,null,null,null,null,null,null,null,null,null,null,null,null,null,null,null,null,null,null,null,{"$f":"SUMIFS(Prestation[Duree],Prestation[Code],Prestation[[#This Row],[Code]])","v":0},{"$f":"Prestation[[#This Row],[Temps passé par code (H)]]&ROW()/10000","v":"00,0102"},{"$f":"Prestation[[#This Row],[CollaborateurTrigramme]]","v":0},{"$f":"Prestation[[#This Row],[DossierCode]]","v":0},{"$f":"_xlfn.CONCAT(Prestation[[#This Row],[DossierCode]],\"-\",Prestation[[#This Row],[CollaborateurTrigramme]])","v":"-"},{"$f":"ROW(Prestation[[#This Row],[Clés dossier et collaborateur]])","v":102},{"$f":"_xlfn.MINIFS(Prestation[Numéro de ligne],Prestation[Clés dossier et collaborateur],Prestation[[#This Row],[Clés dossier et collaborateur]])","v":6},{"$f":"IF(Prestation[[#This Row],[Numéro min de ligne pour la clé]]=Prestation[[#This Row],[Numéro de ligne]],Prestation[[#This Row],[Rappel collaborateur]],\"\")","v":""},{"$f":"_xlfn.TEXTJOIN(\",\",TRUE,IF(Prestation[DossierCode]=Prestation[[#This Row],[DossierCode]],Prestation[Collaborateur unique],\"\"))","v":"0"},{"$f":"MONTH(Prestation[[#This Row],[DateFacture]])","v":1},{"$f":"YEAR(Prestation[[#This Row],[DateFacture]])","v":1900}]
[null,null,null,null,null,null,null,null,null,null,null,null,null,null,null,null,null,null,null,null,null,null,null,null,null,null,null,null,null,null,null,null,null,null,null,null,null,null,null,null,null,null,null,null,null,null,null,null,null,null,null,null,null,null,null,null,null,null,null,null,null,null,null,null,null,null,null,null,{"$f":"SUMIFS(Prestation[Duree],Prestation[Code],Prestation[[#This Row],[Code]])","v":0},{"$f":"Prestation[[#This Row],[Temps passé par code (H)]]&ROW()/10000","v":"00,0103"},{"$f":"Prestation[[#This Row],[CollaborateurTrigramme]]","v":0},{"$f":"Prestation[[#This Row],[DossierCode]]","v":0},{"$f":"_xlfn.CONCAT(Prestation[[#This Row],[DossierCode]],\"-\",Prestation[[#This Row],[CollaborateurTrigramme]])","v":"-"},{"$f":"ROW(Prestation[[#This Row],[Clés dossier et collaborateur]])","v":103},{"$f":"_xlfn.MINIFS(Prestation[Numéro de ligne],Prestation[Clés dossier et collaborateur],Prestation[[#This Row],[Clés dossier et collaborateur]])","v":6},{"$f":"IF(Prestation[[#This Row],[Numéro min de ligne pour la clé]]=Prestation[[#This Row],[Numéro de ligne]],Prestation[[#This Row],[Rappel collaborateur]],\"\")","v":""},{"$f":"_xlfn.TEXTJOIN(\",\",TRUE,IF(Prestation[DossierCode]=Prestation[[#This Row],[DossierCode]],Prestation[Collaborateur unique],\"\"))","v":"0"},{"$f":"MONTH(Prestation[[#This Row],[DateFacture]])","v":1},{"$f":"YEAR(Prestation[[#This Row],[DateFacture]])","v":1900}]
[null,null,null,null,null,null,null,null,null,null,null,null,null,null,null,null,null,null,null,null,null,null,null,null,null,null,null,null,null,null,null,null,null,null,null,null,null,null,null,null,null,null,null,null,null,null,null,null,null,null,null,null,null,null,null,null,null,null,null,null,null,null,null,null,null,null,null,null,{"$f":"SUMIFS(Prestation[Duree],Prestation[Code],Prestation[[#This Row],[Code]])","v":0},{"$f":"Prestation[[#This Row],[Temps passé par code (H)]]&ROW()/10000","v":"00,0104"},{"$f":"Prestation[[#This Row],[CollaborateurTrigramme]]","v":0},{"$f":"Prestation[[#This Row],[DossierCode]]","v":0},{"$f":"_xlfn.CONCAT(Prestation[[#This Row],[DossierCode]],\"-\",Prestation[[#This Row],[CollaborateurTrigramme]])","v":"-"},{"$f":"ROW(Prestation[[#This Row],[Clés dossier et collaborateur]])","v":104},{"$f":"_xlfn.MINIFS(Prestation[Numéro de ligne],Prestation[Clés dossier et collaborateur],Prestation[[#This Row],[Clés dossier et collaborateur]])","v":6},{"$f":"IF(Prestation[[#This Row],[Numéro min de ligne pour la clé]]=Prestation[[#This Row],[Numéro de ligne]],Prestation[[#This Row],[Rappel collaborateur]],\"\")","v":""},{"$f":"_xlfn.TEXTJOIN(\",\",TRUE,IF(Prestation[DossierCode]=Prestation[[#This Row],[DossierCode]],Prestation[Collaborateur unique],\"\"))","v":"0"},{"$f":"MONTH(Prestation[[#This Row],[DateFacture]])","v":1},{"$f":"YEAR(Prestation[[#This Row],[DateFacture]])","v":1900}]
[null,null,null,null,null,null,null,null,null,null,null,null,null,null,null,null,null,null,null,null,null,null,null,null,null,null,null,null,null,null,null,null,null,null,null,null,null,null,null,null,null,null,null,null,null,null,null,null,null,null,null,null,null,null,null,null,null,null,null,null,null,null,null,null,null,null,null,null,{"$f":"SUMIFS(Prestation[Duree],Prestation[Code],Prestation[[#This Row],[Code]])","v":0},{"$f":"Prestation[[#This Row],[Temps passé par code (H)]]&ROW()/10000","v":"00,0105"},{"$f":"Prestation[[#This Row],[CollaborateurTrigramme]]","v":0},{"$f":"Prestation[[#This Row],[DossierCode]]","v":0},{"$f":"_xlfn.CONCAT(Prestation[[#This Row],[DossierCode]],\"-\",Prestation[[#This Row],[CollaborateurTrigramme]])","v":"-"},{"$f":"ROW(Prestation[[#This Row],[Clés dossier et collaborateur]])","v":105},{"$f":"_xlfn.MINIFS(Prestation[Numéro de ligne],Prestation[Clés dossier et collaborateur],Prestation[[#This Row],[Clés dossier et collaborateur]])","v":6},{"$f":"IF(Prestation[[#This Row],[Numéro min de ligne pour la clé]]=Prestation[[#This Row],[Numéro de ligne]],Prestation[[#This Row],[Rappel collaborateur]],\"\")","v":""},{"$f":"_xlfn.TEXTJOIN(\",\",TRUE,IF(Prestation[DossierCode]=Prestation[[#This Row],[DossierCode]],Prestation[Collaborateur unique],\"\"))","v":"0"},{"$f":"MONTH(Prestation[[#This Row],[DateFacture]])","v":1},{"$f":"YEAR(Prestation[[#This Row],[DateFacture]])","v":1900}]
[null,null,null,null,null,null,null,null,null,null,null,null,null,null,null,null,null,null,null,null,null,null,null,null,null,null,null,null,null,null,null,null,null,null,null,null,null,null,null,null,null,null,null,null,null,null,null,null,null,null,null,null,null,null,null,null,null,null,null,null,null,null,null,null,null,null,null,null,{"$f":"SUMIFS(Prestation[Duree],Prestation[Code],Prestation[[#This Row],[Code]])","v":0},{"$f":"Prestation[[#This Row],[Temps passé par code (H)]]&ROW()/10000","v":"00,0106"},{"$f":"Prestation[[#This Row],[CollaborateurTrigramme]]","v":0},{"$f":"Prestation[[#This Row],[DossierCode]]","v":0},{"$f":"_xlfn.CONCAT(Prestation[[#This Row],[DossierCode]],\"-\",Prestation[[#This Row],[CollaborateurTrigramme]])","v":"-"},{"$f":"ROW(Prestation[[#This Row],[Clés dossier et collaborateur]])","v":106},{"$f":"_xlfn.MINIFS(Prestation[Numéro de ligne],Prestation[Clés dossier et collaborateur],Prestation[[#This Row],[Clés dossier et collaborateur]])","v":6},{"$f":"IF(Prestation[[#This Row],[Numéro min de ligne pour la clé]]=Prestation[[#This Row],[Numéro de ligne]],Prestation[[#This Row],[Rappel collaborateur]],\"\")","v":""},{"$f":"_xlfn.TEXTJOIN(\",\",TRUE,IF(Prestation[DossierCode]=Prestation[[#This Row],[DossierCode]],Prestation[Collaborateur unique],\"\"))","v":"0"},{"$f":"MONTH(Prestation[[#This Row],[DateFacture]])","v":1},{"$f":"YEAR(Prestation[[#This Row],[DateFacture]])","v":1900}]
[null,null,null,null,null,null,null,null,null,null,null,null,null,null,null,null,null,null,null,null,null,null,null,null,null,null,null,null,null,null,null,null,null,null,null,null,null,null,null,null,null,null,null,null,null,null,null,null,null,null,null,null,null,null,null,null,null,null,null,null,null,null,null,null,null,null,null,null,{"$f":"SUMIFS(Prestation[Duree],Prestation[Code],Prestation[[#This Row],[Code]])","v":0},{"$f":"Prestation[[#This Row],[Temps passé par code (H)]]&ROW()/10000","v":"00,0107"},{"$f":"Prestation[[#This Row],[CollaborateurTrigramme]]","v":0},{"$f":"Prestation[[#This Row],[DossierCode]]","v":0},{"$f":"_xlfn.CONCAT(Prestation[[#This Row],[DossierCode]],\"-\",Prestation[[#This Row],[CollaborateurTrigramme]])","v":"-"},{"$f":"ROW(Prestation[[#This Row],[Clés dossier et collaborateur]])","v":107},{"$f":"_xlfn.MINIFS(Prestation[Numéro de ligne],Prestation[Clés dossier et collaborateur],Prestation[[#This Row],[Clés dossier et collaborateur]])","v":6},{"$f":"IF(Prestation[[#This Row],[Numéro min de ligne pour la clé]]=Prestation[[#This Row],[Numéro de ligne]],Prestation[[#This Row],[Rappel collaborateur]],\"\")","v":""},{"$f":"_xlfn.TEXTJOIN(\",\",TRUE,IF(Prestation[DossierCode]=Prestation[[#This Row],[DossierCode]],Prestation[Collaborateur unique],\"\"))","v":"0"},{"$f":"MONTH(Prestation[[#This Row],[DateFacture]])","v":1},{"$f":"YEAR(Prestation[[#This Row],[DateFacture]])","v":1900}]
[null,null,null,null,null,null,null,null,null,null,null,null,null,null,null,null,null,null,null,null,null,null,null,null,null,null,null,null,null,null,null,null,null,null,null,null,null,null,null,null,null,null,null,null,null,null,null,null,null,null,null,null,null,null,null,null,null,null,null,null,null,null,null,null,null,null,null,null,{"$f":"SUMIFS(Prestation[Duree],Prestation[Code],Prestation[[#This Row],[Code]])","v":0},{"$f":"Prestation[[#This Row],[Temps passé par code (H)]]&ROW()/10000","v":"00,0108"},{"$f":"Prestation[[#This Row],[CollaborateurTrigramme]]","v":0},{"$f":"Prestation[[#This Row],[DossierCode]]","v":0},{"$f":"_xlfn.CONCAT(Prestation[[#This Row],[DossierCode]],\"-\",Prestation[[#This Row],[CollaborateurTrigramme]])","v":"-"},{"$f":"ROW(Prestation[[#This Row],[Clés dossier et collaborateur]])","v":108},{"$f":"_xlfn.MINIFS(Prestation[Numéro de ligne],Prestation[Clés dossier et collaborateur],Prestation[[#This Row],[Clés dossier et collaborateur]])","v":6},{"$f":"IF(Prestation[[#This Row],[Numéro min de ligne pour la clé]]=Prestation[[#This Row],[Numéro de ligne]],Prestation[[#This Row],[Rappel collaborateur]],\"\")","v":""},{"$f":"_xlfn.TEXTJOIN(\",\",TRUE,IF(Prestation[DossierCode]=Prestation[[#This Row],[DossierCode]],Prestation[Collaborateur unique],\"\"))","v":"0"},{"$f":"MONTH(Prestation[[#This Row],[DateFacture]])","v":1},{"$f":"YEAR(Prestation[[#This Row],[DateFacture]])","v":1900}]
[null,null,null,null,null,null,null,null,null,null,null,null,null,null,null,null,null,null,null,null,null,null,null,null,null,null,null,null,null,null,null,null,null,null,null,null,null,null,null,null,null,null,null,null,null,null,null,null,null,null,null,null,null,null,null,null,null,null,null,null,null,null,null,null,null,null,null,null,{"$f":"SUMIFS(Prestation[Duree],Prestation[Code],Prestation[[#This Row],[Code]])","v":0},{"$f":"Prestation[[#This Row],[Temps passé par code (H)]]&ROW()/10000","v":"00,0109"},{"$f":"Prestation[[#This Row],[CollaborateurTrigramme]]","v":0},{"$f":"Prestation[[#This Row],[DossierCode]]","v":0},{"$f":"_xlfn.CONCAT(Prestation[[#This Row],[DossierCode]],\"-\",Prestation[[#This Row],[CollaborateurTrigramme]])","v":"-"},{"$f":"ROW(Prestation[[#This Row],[Clés dossier et collaborateur]])","v":109},{"$f":"_xlfn.MINIFS(Prestation[Numéro de ligne],Prestation[Clés dossier et collaborateur],Prestation[[#This Row],[Clés dossier et collaborateur]])","v":6},{"$f":"IF(Prestation[[#This Row],[Numéro min de ligne pour la clé]]=Prestation[[#This Row],[Numéro de ligne]],Prestation[[#This Row],[Rappel collaborateur]],\"\")","v":""},{"$f":"_xlfn.TEXTJOIN(\",\",TRUE,IF(Prestation[DossierCode]=Prestation[[#This Row],[DossierCode]],Prestation[Collaborateur unique],\"\"))","v":"0"},{"$f":"MONTH(Prestation[[#This Row],[DateFacture]])","v":1},{"$f":"YEAR(Prestation[[#This Row],[DateFacture]])","v":1900}]
[null,null,null,null,null,null,null,null,null,null,null,null,null,null,null,null,null,null,null,null,null,null,null,null,null,null,null,null,null,null,null,null,null,null,null,null,null,null,null,null,null,null,null,null,null,null,null,null,null,null,null,null,null,null,null,null,null,null,null,null,null,null,null,null,null,null,null,null,{"$f":"SUMIFS(Prestation[Duree],Prestation[Code],Prestation[[#This Row],[Code]])","v":0},{"$f":"Prestation[[#This Row],[Temps passé par code (H)]]&ROW()/10000","v":"00,011"},{"$f":"Prestation[[#This Row],[CollaborateurTrigramme]]","v":0},{"$f":"Prestation[[#This Row],[DossierCode]]","v":0},{"$f":"_xlfn.CONCAT(Prestation[[#This Row],[DossierCode]],\"-\",Prestation[[#This Row],[CollaborateurTrigramme]])","v":"-"},{"$f":"ROW(Prestation[[#This Row],[Clés dossier et collaborateur]])","v":110},{"$f":"_xlfn.MINIFS(Prestation[Numéro de ligne],Prestation[Clés dossier et collaborateur],Prestation[[#This Row],[Clés dossier et collaborateur]])","v":6},{"$f":"IF(Prestation[[#This Row],[Numéro min de ligne pour la clé]]=Prestation[[#This Row],[Numéro de ligne]],Prestation[[#This Row],[Rappel collaborateur]],\"\")","v":""},{"$f":"_xlfn.TEXTJOIN(\",\",TRUE,IF(Prestation[DossierCode]=Prestation[[#This Row],[DossierCode]],Prestation[Collaborateur unique],\"\"))","v":"0"},{"$f":"MONTH(Prestation[[#This Row],[DateFacture]])","v":1},{"$f":"YEAR(Prestation[[#This Row],[DateFacture]])","v":1900}]
[null,null,null,null,null,null,null,null,null,null,null,null,null,null,null,null,null,null,null,null,null,null,null,null,null,null,null,null,null,null,null,null,null,null,null,null,null,null,null,null,null,null,null,null,null,null,null,null,null,null,null,null,null,null,null,null,null,null,null,null,null,null,null,null,null,null,null,null,{"$f":"SUMIFS(Prestation[Duree],Prestation[Code],Prestation[[#This Row],[Code]])","v":0},{"$f":"Prestation[[#This Row],[Temps passé par code (H)]]&ROW()/10000","v":"00,0111"},{"$f":"Prestation[[#This Row],[CollaborateurTrigramme]]","v":0},{"$f":"Prestation[[#This Row],[DossierCode]]","v":0},{"$f":"_xlfn.CONCAT(Prestation[[#This Row],[DossierCode]],\"-\",Prestation[[#This Row],[CollaborateurTrigramme]])","v":"-"},{"$f":"ROW(Prestation[[#This Row],[Clés dossier et collaborateur]])","v":111},{"$f":"_xlfn.MINIFS(Prestation[Numéro de ligne],Prestation[Clés dossier et collaborateur],Prestation[[#This Row],[Clés dossier et collaborateur]])","v":6},{"$f":"IF(Prestation[[#This Row],[Numéro min de ligne pour la clé]]=Prestation[[#This Row],[Numéro de ligne]],Prestation[[#This Row],[Rappel collaborateur]],\"\")","v":""},{"$f":"_xlfn.TEXTJOIN(\",\",TRUE,IF(Prestation[DossierCode]=Prestation[[#This Row],[DossierCode]],Prestation[Collaborateur unique],\"\"))","v":"0"},{"$f":"MONTH(Prestation[[#This Row],[DateFacture]])","v":1},{"$f":"YEAR(Prestation[[#This Row],[DateFacture]])","v":1900}]
[null,null,null,null,null,null,null,null,null,null,null,null,null,null,null,null,null,null,null,null,null,null,null,null,null,null,null,null,null,null,null,null,null,null,null,null,null,null,null,null,null,null,null,null,null,null,null,null,null,null,null,null,null,null,null,null,null,null,null,null,null,null,null,null,null,null,null,null,{"$f":"SUMIFS(Prestation[Duree],Prestation[Code],Prestation[[#This Row],[Code]])","v":0},{"$f":"Prestation[[#This Row],[Temps passé par code (H)]]&ROW()/10000","v":"00,0112"},{"$f":"Prestation[[#This Row],[CollaborateurTrigramme]]","v":0},{"$f":"Prestation[[#This Row],[DossierCode]]","v":0},{"$f":"_xlfn.CONCAT(Prestation[[#This Row],[DossierCode]],\"-\",Prestation[[#This Row],[CollaborateurTrigramme]])","v":"-"},{"$f":"ROW(Prestation[[#This Row],[Clés dossier et collaborateur]])","v":112},{"$f":"_xlfn.MINIFS(Prestation[Numéro de ligne],Prestation[Clés dossier et collaborateur],Prestation[[#This Row],[Clés dossier et collaborateur]])","v":6},{"$f":"IF(Prestation[[#This Row],[Numéro min de ligne pour la clé]]=Prestation[[#This Row],[Numéro de ligne]],Prestation[[#This Row],[Rappel collaborateur]],\"\")","v":""},{"$f":"_xlfn.TEXTJOIN(\",\",TRUE,IF(Prestation[DossierCode]=Prestation[[#This Row],[DossierCode]],Prestation[Collaborateur unique],\"\"))","v":"0"},{"$f":"MONTH(Prestation[[#This Row],[DateFacture]])","v":1},{"$f":"YEAR(Prestation[[#This Row],[DateFacture]])","v":1900}]
[null,null,null,null,null,null,null,null,null,null,null,null,null,null,null,null,null,null,null,null,null,null,null,null,null,null,null,null,null,null,null,null,null,null,null,null,null,null,null,null,null,null,null,null,null,null,null,null,null,null,null,null,null,null,null,null,null,null,null,null,null,null,null,null,null,null,null,null,{"$f":"SUMIFS(Prestation[Duree],Prestation[Code],Prestation[[#This Row],[Code]])","v":0},{"$f":"Prestation[[#This Row],[Temps passé par code (H)]]&ROW()/10000","v":"00,0113"},{"$f":"Prestation[[#This Row],[CollaborateurTrigramme]]","v":0},{"$f":"Prestation[[#This Row],[DossierCode]]","v":0},{"$f":"_xlfn.CONCAT(Prestation[[#This Row],[DossierCode]],\"-\",Prestation[[#This Row],[CollaborateurTrigramme]])","v":"-"},{"$f":"ROW(Prestation[[#This Row],[Clés dossier et collaborateur]])","v":113},{"$f":"_xlfn.MINIFS(Prestation[Numéro de ligne],Prestation[Clés dossier et collaborateur],Prestation[[#This Row],[Clés dossier et collaborateur]])","v":6},{"$f":"IF(Prestation[[#This Row],[Numéro min de ligne pour la clé]]=Prestation[[#This Row],[Numéro de ligne]],Prestation[[#This Row],[Rappel collaborateur]],\"\")","v":""},{"$f":"_xlfn.TEXTJOIN(\",\",TRUE,IF(Prestation[DossierCode]=Prestation[[#This Row],[DossierCode]],Prestation[Collaborateur unique],\"\"))","v":"0"},{"$f":"MONTH(Prestation[[#This Row],[DateFacture]])","v":1},{"$f":"YEAR(Prestation[[#This Row],[DateFacture]])","v":1900}]
[null,null,null,null,null,null,null,null,null,null,null,null,null,null,null,null,null,null,null,null,null,null,null,null,null,null,null,null,null,null,null,null,null,null,null,null,null,null,null,null,null,null,null,null,null,null,null,null,null,null,null,null,null,null,null,null,null,null,null,null,null,null,null,null,null,null,null,null,{"$f":"SUMIFS(Prestation[Duree],Prestation[Code],Prestation[[#This Row],[Code]])","v":0},{"$f":"Prestation[[#This Row],[Temps passé par code (H)]]&ROW()/10000","v":"00,0114"},{"$f":"Prestation[[#This Row],[CollaborateurTrigramme]]","v":0},{"$f":"Prestation[[#This Row],[DossierCode]]","v":0},{"$f":"_xlfn.CONCAT(Prestation[[#This Row],[DossierCode]],\"-\",Prestation[[#This Row],[CollaborateurTrigramme]])","v":"-"},{"$f":"ROW(Prestation[[#This Row],[Clés dossier et collaborateur]])","v":114},{"$f":"_xlfn.MINIFS(Prestation[Numéro de ligne],Prestation[Clés dossier et collaborateur],Prestation[[#This Row],[Clés dossier et collaborateur]])","v":6},{"$f":"IF(Prestation[[#This Row],[Numéro min de ligne pour la clé]]=Prestation[[#This Row],[Numéro de ligne]],Prestation[[#This Row],[Rappel collaborateur]],\"\")","v":""},{"$f":"_xlfn.TEXTJOIN(\",\",TRUE,IF(Prestation[DossierCode]=Prestation[[#This Row],[DossierCode]],Prestation[Collaborateur unique],\"\"))","v":"0"},{"$f":"MONTH(Prestation[[#This Row],[DateFacture]])","v":1},{"$f":"YEAR(Prestation[[#This Row],[DateFacture]])","v":1900}]
[null,null,null,null,null,null,null,null,null,null,null,null,null,null,null,null,null,null,null,null,null,null,null,null,null,null,null,null,null,null,null,null,null,null,null,null,null,null,null,null,null,null,null,null,null,null,null,null,null,null,null,null,null,null,null,null,null,null,null,null,null,null,null,null,null,null,null,null,{"$f":"SUMIFS(Prestation[Duree],Prestation[Code],Prestation[[#This Row],[Code]])","v":0},{"$f":"Prestation[[#This Row],[Temps passé par code (H)]]&ROW()/10000","v":"00,0115"},{"$f":"Prestation[[#This Row],[CollaborateurTrigramme]]","v":0},{"$f":"Prestation[[#This Row],[DossierCode]]","v":0},{"$f":"_xlfn.CONCAT(Prestation[[#This Row],[DossierCode]],\"-\",Prestation[[#This Row],[CollaborateurTrigramme]])","v":"-"},{"$f":"ROW(Prestation[[#This Row],[Clés dossier et collaborateur]])","v":115},{"$f":"_xlfn.MINIFS(Prestation[Numéro de ligne],Prestation[Clés dossier et collaborateur],Prestation[[#This Row],[Clés dossier et collaborateur]])","v":6},{"$f":"IF(Prestation[[#This Row],[Numéro min de ligne pour la clé]]=Prestation[[#This Row],[Numéro de ligne]],Prestation[[#This Row],[Rappel collaborateur]],\"\")","v":""},{"$f":"_xlfn.TEXTJOIN(\",\",TRUE,IF(Prestation[DossierCode]=Prestation[[#This Row],[DossierCode]],Prestation[Collaborateur unique],\"\"))","v":"0"},{"$f":"MONTH(Prestation[[#This Row],[DateFacture]])","v":1},{"$f":"YEAR(Prestation[[#This Row],[DateFacture]])","v":1900}]
[null,null,null,null,null,null,null,null,null,null,null,null,null,null,null,null,null,null,null,null,null,null,null,null,null,null,null,null,null,null,null,null,null,null,null,null,null,null,null,null,null,null,null,null,null,null,null,null,null,null,null,null,null,null,null,null,null,null,null,null,null,null,null,null,null,null,null,null,{"$f":"SUMIFS(Prestation[Duree],Prestation[Code],Prestation[[#This Row],[Code]])","v":0},{"$f":"Prestation[[#This Row],[Temps passé par code (H)]]&ROW()/10000","v":"00,0116"},{"$f":"Prestation[[#This Row],[CollaborateurTrigramme]]","v":0},{"$f":"Prestation[[#This Row],[DossierCode]]","v":0},{"$f":"_xlfn.CONCAT(Prestation[[#This Row],[DossierCode]],\"-\",Prestation[[#This Row],[CollaborateurTrigramme]])","v":"-"},{"$f":"ROW(Prestation[[#This Row],[Clés dossier et collaborateur]])","v":116},{"$f":"_xlfn.MINIFS(Prestation[Numéro de ligne],Prestation[Clés dossier et collaborateur],Prestation[[#This Row],[Clés dossier et collaborateur]])","v":6},{"$f":"IF(Prestation[[#This Row],[Numéro min de ligne pour la clé]]=Prestation[[#This Row],[Numéro de ligne]],Prestation[[#This Row],[Rappel collaborateur]],\"\")","v":""},{"$f":"_xlfn.TEXTJOIN(\",\",TRUE,IF(Prestation[DossierCode]=Prestation[[#This Row],[DossierCode]],Prestation[Collaborateur unique],\"\"))","v":"0"},{"$f":"MONTH(Prestation[[#This Row],[DateFacture]])","v":1},{"$f":"YEAR(Prestation[[#This Row],[DateFacture]])","v":1900}]
[null,null,null,null,null,null,null,null,null,null,null,null,null,null,null,null,null,null,null,null,null,null,null,null,null,null,null,null,null,null,null,null,null,null,null,null,null,null,null,null,null,null,null,null,null,null,null,null,null,null,null,null,null,null,null,null,null,null,null,null,null,null,null,null,null,null,null,null,{"$f":"SUMIFS(Prestation[Duree],Prestation[Code],Prestation[[#This Row],[Code]])","v":0},{"$f":"Prestation[[#This Row],[Temps passé par code (H)]]&ROW()/10000","v":"00,0117"},{"$f":"Prestation[[#This Row],[CollaborateurTrigramme]]","v":0},{"$f":"Prestation[[#This Row],[DossierCode]]","v":0},{"$f":"_xlfn.CONCAT(Prestation[[#This Row],[DossierCode]],\"-\",Prestation[[#This Row],[CollaborateurTrigramme]])","v":"-"},{"$f":"ROW(Prestation[[#This Row],[Clés dossier et collaborateur]])","v":117},{"$f":"_xlfn.MINIFS(Prestation[Numéro de ligne],Prestation[Clés dossier et collaborateur],Prestation[[#This Row],[Clés dossier et collaborateur]])","v":6},{"$f":"IF(Prestation[[#This Row],[Numéro min de ligne pour la clé]]=Prestation[[#This Row],[Numéro de ligne]],Prestation[[#This Row],[Rappel collaborateur]],\"\")","v":""},{"$f":"_xlfn.TEXTJOIN(\",\",TRUE,IF(Prestation[DossierCode]=Prestation[[#This Row],[DossierCode]],Prestation[Collaborateur unique],\"\"))","v":"0"},{"$f":"MONTH(Prestation[[#This Row],[DateFacture]])","v":1},{"$f":"YEAR(Prestation[[#This Row],[DateFacture]])","v":1900}]
[null,null,null,null,null,null,null,null,null,null,null,null,null,null,null,null,null,null,null,null,null,null,null,null,null,null,null,null,null,null,null,null,null,null,null,null,null,null,null,null,null,null,null,null,null,null,null,null,null,null,null,null,null,null,null,null,null,null,null,null,null,null,null,null,null,null,null,null,{"$f":"SUMIFS(Prestation[Duree],Prestation[Code],Prestation[[#This Row],[Code]])","v":0},{"$f":"Prestation[[#This Row],[Temps passé par code (H)]]&ROW()/10000","v":"00,0118"},{"$f":"Prestation[[#This Row],[CollaborateurTrigramme]]","v":0},{"$f":"Prestation[[#This Row],[DossierCode]]","v":0},{"$f":"_xlfn.CONCAT(Prestation[[#This Row],[DossierCode]],\"-\",Prestation[[#This Row],[CollaborateurTrigramme]])","v":"-"},{"$f":"ROW(Prestation[[#This Row],[Clés dossier et collaborateur]])","v":118},{"$f":"_xlfn.MINIFS(Prestation[Numéro de ligne],Prestation[Clés dossier et collaborateur],Prestation[[#This Row],[Clés dossier et collaborateur]])","v":6},{"$f":"IF(Prestation[[#This Row],[Numéro min de ligne pour la clé]]=Prestation[[#This Row],[Numéro de ligne]],Prestation[[#This Row],[Rappel collaborateur]],\"\")","v":""},{"$f":"_xlfn.TEXTJOIN(\",\",TRUE,IF(Prestation[DossierCode]=Prestation[[#This Row],[DossierCode]],Prestation[Collaborateur unique],\"\"))","v":"0"},{"$f":"MONTH(Prestation[[#This Row],[DateFacture]])","v":1},{"$f":"YEAR(Prestation[[#This Row],[DateFacture]])","v":1900}]
[null,null,null,null,null,null,null,null,null,null,null,null,null,null,null,null,null,null,null,null,null,null,null,null,null,null,null,null,null,null,null,null,null,null,null,null,null,null,null,null,null,null,null,null,null,null,null,null,null,null,null,null,null,null,null,null,null,null,null,null,null,null,null,null,null,null,null,null,{"$f":"SUMIFS(Prestation[Duree],Prestation[Code],Prestation[[#This Row],[Code]])","v":0},{"$f":"Prestation[[#This Row],[Temps passé par code (H)]]&ROW()/10000","v":"00,0119"},{"$f":"Prestation[[#This Row],[CollaborateurTrigramme]]","v":0},{"$f":"Prestation[[#This Row],[DossierCode]]","v":0},{"$f":"_xlfn.CONCAT(Prestation[[#This Row],[DossierCode]],\"-\",Prestation[[#This Row],[CollaborateurTrigramme]])","v":"-"},{"$f":"ROW(Prestation[[#This Row],[Clés dossier et collaborateur]])","v":119},{"$f":"_xlfn.MINIFS(Prestation[Numéro de ligne],Prestation[Clés dossier et collaborateur],Prestation[[#This Row],[Clés dossier et collaborateur]])","v":6},{"$f":"IF(Prestation[[#This Row],[Numéro min de ligne pour la clé]]=Prestation[[#This Row],[Numéro de ligne]],Prestation[[#This Row],[Rappel collaborateur]],\"\")","v":""},{"$f":"_xlfn.TEXTJOIN(\",\",TRUE,IF(Prestation[DossierCode]=Prestation[[#This Row],[DossierCode]],Prestation[Collaborateur unique],\"\"))","v":"0"},{"$f":"MONTH(Prestation[[#This Row],[DateFacture]])","v":1},{"$f":"YEAR(Prestation[[#This Row],[DateFacture]])","v":1900}]
[null,null,null,null,null,null,null,null,null,null,null,null,null,null,null,null,null,null,null,null,null,null,null,null,null,null,null,null,null,null,null,null,null,null,null,null,null,null,null,null,null,null,null,null,null,null,null,null,null,null,null,null,null,null,null,null,null,null,null,null,null,null,null,null,null,null,null,null,{"$f":"SUMIFS(Prestation[Duree],Prestation[Code],Prestation[[#This Row],[Code]])","v":0},{"$f":"Prestation[[#This Row],[Temps passé par code (H)]]&ROW()/10000","v":"00,012"},{"$f":"Prestation[[#This Row],[CollaborateurTrigramme]]","v":0},{"$f":"Prestation[[#This Row],[DossierCode]]","v":0},{"$f":"_xlfn.CONCAT(Prestation[[#This Row],[DossierCode]],\"-\",Prestation[[#This Row],[CollaborateurTrigramme]])","v":"-"},{"$f":"ROW(Prestation[[#This Row],[Clés dossier et collaborateur]])","v":120},{"$f":"_xlfn.MINIFS(Prestation[Numéro de ligne],Prestation[Clés dossier et collaborateur],Prestation[[#This Row],[Clés dossier et collaborateur]])","v":6},{"$f":"IF(Prestation[[#This Row],[Numéro min de ligne pour la clé]]=Prestation[[#This Row],[Numéro de ligne]],Prestation[[#This Row],[Rappel collaborateur]],\"\")","v":""},{"$f":"_xlfn.TEXTJOIN(\",\",TRUE,IF(Prestation[DossierCode]=Prestation[[#This Row],[DossierCode]],Prestation[Collaborateur unique],\"\"))","v":"0"},{"$f":"MONTH(Prestation[[#This Row],[DateFacture]])","v":1},{"$f":"YEAR(Prestation[[#This Row],[DateFacture]])","v":1900}]
[null,null,null,null,null,null,null,null,null,null,null,null,null,null,null,null,null,null,null,null,null,null,null,null,null,null,null,null,null,null,null,null,null,null,null,null,null,null,null,null,null,null,null,null,null,null,null,null,null,null,null,null,null,null,null,null,null,null,null,null,null,null,null,null,null,null,null,null,{"$f":"SUMIFS(Prestation[Duree],Prestation[Code],Prestation[[#This Row],[Code]])","v":0},{"$f":"Prestation[[#This Row],[Temps passé par code (H)]]&ROW()/10000","v":"00,0121"},{"$f":"Prestation[[#This Row],[CollaborateurTrigramme]]","v":0},{"$f":"Prestation[[#This Row],[DossierCode]]","v":0},{"$f":"_xlfn.CONCAT(Prestation[[#This Row],[DossierCode]],\"-\",Prestation[[#This Row],[CollaborateurTrigramme]])","v":"-"},{"$f":"ROW(Prestation[[#This Row],[Clés dossier et collaborateur]])","v":121},{"$f":"_xlfn.MINIFS(Prestation[Numéro de ligne],Prestation[Clés dossier et collaborateur],Prestation[[#This Row],[Clés dossier et collaborateur]])","v":6},{"$f":"IF(Prestation[[#This Row],[Numéro min de ligne pour la clé]]=Prestation[[#This Row],[Numéro de ligne]],Prestation[[#This Row],[Rappel collaborateur]],\"\")","v":""},{"$f":"_xlfn.TEXTJOIN(\",\",TRUE,IF(Prestation[DossierCode]=Prestation[[#This Row],[DossierCode]],Prestation[Collaborateur unique],\"\"))","v":"0"},{"$f":"MONTH(Prestation[[#This Row],[DateFacture]])","v":1},{"$f":"YEAR(Prestation[[#This Row],[DateFacture]])","v":1900}]
[null,null,null,null,null,null,null,null,null,null,null,null,null,null,null,null,null,null,null,null,null,null,null,null,null,null,null,null,null,null,null,null,null,null,null,null,null,null,null,null,null,null,null,null,null,null,null,null,null,null,null,null,null,null,null,null,null,null,null,null,null,null,null,null,null,null,null,null,{"$f":"SUMIFS(Prestation[Duree],Prestation[Code],Prestation[[#This Row],[Code]])","v":0},{"$f":"Prestation[[#This Row],[Temps passé par code (H)]]&ROW()/10000","v":"00,0122"},{"$f":"Prestation[[#This Row],[CollaborateurTrigramme]]","v":0},{"$f":"Prestation[[#This Row],[DossierCode]]","v":0},{"$f":"_xlfn.CONCAT(Prestation[[#This Row],[DossierCode]],\"-\",Prestation[[#This Row],[CollaborateurTrigramme]])","v":"-"},{"$f":"ROW(Prestation[[#This Row],[Clés dossier et collaborateur]])","v":122},{"$f":"_xlfn.MINIFS(Prestation[Numéro de ligne],Prestation[Clés dossier et collaborateur],Prestation[[#This Row],[Clés dossier et collaborateur]])","v":6},{"$f":"IF(Prestation[[#This Row],[Numéro min de ligne pour la clé]]=Prestation[[#This Row],[Numéro de ligne]],Prestation[[#This Row],[Rappel collaborateur]],\"\")","v":""},{"$f":"_xlfn.TEXTJOIN(\",\",TRUE,IF(Prestation[DossierCode]=Prestation[[#This Row],[DossierCode]],Prestation[Collaborateur unique],\"\"))","v":"0"},{"$f":"MONTH(Prestation[[#This Row],[DateFacture]])","v":1},{"$f":"YEAR(Prestation[[#This Row],[DateFacture]])","v":1900}]
[null,null,null,null,null,null,null,null,null,null,null,null,null,null,null,null,null,null,null,null,null,null,null,null,null,null,null,null,null,null,null,null,null,null,null,null,null,null,null,null,null,null,null,null,null,null,null,null,null,null,null,null,null,null,null,null,null,null,null,null,null,null,null,null,null,null,null,null,{"$f":"SUMIFS(Prestation[Duree],Prestation[Code],Prestation[[#This Row],[Code]])","v":0},{"$f":"Prestation[[#This Row],[Temps passé par code (H)]]&ROW()/10000","v":"00,0123"},{"$f":"Prestation[[#This Row],[CollaborateurTrigramme]]","v":0},{"$f":"Prestation[[#This Row],[DossierCode]]","v":0},{"$f":"_xlfn.CONCAT(Prestation[[#This Row],[DossierCode]],\"-\",Prestation[[#This Row],[CollaborateurTrigramme]])","v":"-"},{"$f":"ROW(Prestation[[#This Row],[Clés dossier et collaborateur]])","v":123},{"$f":"_xlfn.MINIFS(Prestation[Numéro de ligne],Prestation[Clés dossier et collaborateur],Prestation[[#This Row],[Clés dossier et collaborateur]])","v":6},{"$f":"IF(Prestation[[#This Row],[Numéro min de ligne pour la clé]]=Prestation[[#This Row],[Numéro de ligne]],Prestation[[#This Row],[Rappel collaborateur]],\"\")","v":""},{"$f":"_xlfn.TEXTJOIN(\",\",TRUE,IF(Prestation[DossierCode]=Prestation[[#This Row],[DossierCode]],Prestation[Collaborateur unique],\"\"))","v":"0"},{"$f":"MONTH(Prestation[[#This Row],[DateFacture]])","v":1},{"$f":"YEAR(Prestation[[#This Row],[DateFacture]])","v":1900}]
[null,null,null,null,null,null,null,null,null,null,null,null,null,null,null,null,null,null,null,null,null,null,null,null,null,null,null,null,null,null,null,null,null,null,null,null,null,null,null,null,null,null,null,null,null,null,null,null,null,null,null,null,null,null,null,null,null,null,null,null,null,null,null,null,null,null,null,null,{"$f":"SUMIFS(Prestation[Duree],Prestation[Code],Prestation[[#This Row],[Code]])","v":0},{"$f":"Prestation[[#This Row],[Temps passé par code (H)]]&ROW()/10000","v":"00,0124"},{"$f":"Prestation[[#This Row],[CollaborateurTrigramme]]","v":0},{"$f":"Prestation[[#This Row],[DossierCode]]","v":0},{"$f":"_xlfn.CONCAT(Prestation[[#This Row],[DossierCode]],\"-\",Prestation[[#This Row],[CollaborateurTrigramme]])","v":"-"},{"$f":"ROW(Prestation[[#This Row],[Clés dossier et collaborateur]])","v":124},{"$f":"_xlfn.MINIFS(Prestation[Numéro de ligne],Prestation[Clés dossier et collaborateur],Prestation[[#This Row],[Clés dossier et collaborateur]])","v":6},{"$f":"IF(Prestation[[#This Row],[Numéro min de ligne pour la clé]]=Prestation[[#This Row],[Numéro de ligne]],Prestation[[#This Row],[Rappel collaborateur]],\"\")","v":""},{"$f":"_xlfn.TEXTJOIN(\",\",TRUE,IF(Prestation[DossierCode]=Prestation[[#This Row],[DossierCode]],Prestation[Collaborateur unique],\"\"))","v":"0"},{"$f":"MONTH(Prestation[[#This Row],[DateFacture]])","v":1},{"$f":"YEAR(Prestation[[#This Row],[DateFacture]])","v":1900}]
[null,null,null,null,null,null,null,null,null,null,null,null,null,null,null,null,null,null,null,null,null,null,null,null,null,null,null,null,null,null,null,null,null,null,null,null,null,null,null,null,null,null,null,null,null,null,null,null,null,null,null,null,null,null,null,null,null,null,null,null,null,null,null,null,null,null,null,null,{"$f":"SUMIFS(Prestation[Duree],Prestation[Code],Prestation[[#This Row],[Code]])","v":0},{"$f":"Prestation[[#This Row],[Temps passé par code (H)]]&ROW()/10000","v":"00,0125"},{"$f":"Prestation[[#This Row],[CollaborateurTrigramme]]","v":0},{"$f":"Prestation[[#This Row],[DossierCode]]","v":0},{"$f":"_xlfn.CONCAT(Prestation[[#This Row],[DossierCode]],\"-\",Prestation[[#This Row],[CollaborateurTrigramme]])","v":"-"},{"$f":"ROW(Prestation[[#This Row],[Clés dossier et collaborateur]])","v":125},{"$f":"_xlfn.MINIFS(Prestation[Numéro de ligne],Prestation[Clés dossier et collaborateur],Prestation[[#This Row],[Clés dossier et collaborateur]])","v":6},{"$f":"IF(Prestation[[#This Row],[Numéro min de ligne pour la clé]]=Prestation[[#This Row],[Numéro de ligne]],Prestation[[#This Row],[Rappel collaborateur]],\"\")","v":""},{"$f":"_xlfn.TEXTJOIN(\",\",TRUE,IF(Prestation[DossierCode]=Prestation[[#This Row],[DossierCode]],Prestation[Collaborateur unique],\"\"))","v":"0"},{"$f":"MONTH(Prestation[[#This Row],[DateFacture]])","v":1},{"$f":"YEAR(Prestation[[#This Row],[DateFacture]])","v":1900}]
[null,null,null,null,null,null,null,null,null,null,null,null,null,null,null,null,null,null,null,null,null,null,null,null,null,null,null,null,null,null,null,null,null,null,null,null,null,null,null,null,null,null,null,null,null,null,null,null,null,null,null,null,null,null,null,null,null,null,null,null,null,null,null,null,null,null,null,null,{"$f":"SUMIFS(Prestation[Duree],Prestation[Code],Prestation[[#This Row],[Code]])","v":0},{"$f":"Prestation[[#This Row],[Temps passé par code (H)]]&ROW()/10000","v":"00,0126"},{"$f":"Prestation[[#This Row],[CollaborateurTrigramme]]","v":0},{"$f":"Prestation[[#This Row],[DossierCode]]","v":0},{"$f":"_xlfn.CONCAT(Prestation[[#This Row],[DossierCode]],\"-\",Prestation[[#This Row],[CollaborateurTrigramme]])","v":"-"},{"$f":"ROW(Prestation[[#This Row],[Clés dossier et collaborateur]])","v":126},{"$f":"_xlfn.MINIFS(Prestation[Numéro de ligne],Prestation[Clés dossier et collaborateur],Prestation[[#This Row],[Clés dossier et collaborateur]])","v":6},{"$f":"IF(Prestation[[#This Row],[Numéro min de ligne pour la clé]]=Prestation[[#This Row],[Numéro de ligne]],Prestation[[#This Row],[Rappel collaborateur]],\"\")","v":""},{"$f":"_xlfn.TEXTJOIN(\",\",TRUE,IF(Prestation[DossierCode]=Prestation[[#This Row],[DossierCode]],Prestation[Collaborateur unique],\"\"))","v":"0"},{"$f":"MONTH(Prestation[[#This Row],[DateFacture]])","v":1},{"$f":"YEAR(Prestation[[#This Row],[DateFacture]])","v":1900}]
[null,null,null,null,null,null,null,null,null,null,null,null,null,null,null,null,null,null,null,null,null,null,null,null,null,null,null,null,null,null,null,null,null,null,null,null,null,null,null,null,null,null,null,null,null,null,null,null,null,null,null,null,null,null,null,null,null,null,null,null,null,null,null,null,null,null,null,null,{"$f":"SUMIFS(Prestation[Duree],Prestation[Code],Prestation[[#This Row],[Code]])","v":0},{"$f":"Prestation[[#This Row],[Temps passé par code (H)]]&ROW()/10000","v":"00,0127"},{"$f":"Prestation[[#This Row],[CollaborateurTrigramme]]","v":0},{"$f":"Prestation[[#This Row],[DossierCode]]","v":0},{"$f":"_xlfn.CONCAT(Prestation[[#This Row],[DossierCode]],\"-\",Prestation[[#This Row],[CollaborateurTrigramme]])","v":"-"},{"$f":"ROW(Prestation[[#This Row],[Clés dossier et collaborateur]])","v":127},{"$f":"_xlfn.MINIFS(Prestation[Numéro de ligne],Prestation[Clés dossier et collaborateur],Prestation[[#This Row],[Clés dossier et collaborateur]])","v":6},{"$f":"IF(Prestation[[#This Row],[Numéro min de ligne pour la clé]]=Prestation[[#This Row],[Numéro de ligne]],Prestation[[#This Row],[Rappel collaborateur]],\"\")","v":""},{"$f":"_xlfn.TEXTJOIN(\",\",TRUE,IF(Prestation[DossierCode]=Prestation[[#This Row],[DossierCode]],Prestation[Collaborateur unique],\"\"))","v":"0"},{"$f":"MONTH(Prestation[[#This Row],[DateFacture]])","v":1},{"$f":"YEAR(Prestation[[#This Row],[DateFacture]])","v":1900}]
[null,null,null,null,null,null,null,null,null,null,null,null,null,null,null,null,null,null,null,null,null,null,null,null,null,null,null,null,null,null,null,null,null,null,null,null,null,null,null,null,null,null,null,null,null,null,null,null,null,null,null,null,null,null,null,null,null,null,null,null,null,null,null,null,null,null,null,null,{"$f":"SUMIFS(Prestation[Duree],Prestation[Code],Prestation[[#This Row],[Code]])","v":0},{"$f":"Prestation[[#This Row],[Temps passé par code (H)]]&ROW()/10000","v":"00,0128"},{"$f":"Prestation[[#This Row],[CollaborateurTrigramme]]","v":0},{"$f":"Prestation[[#This Row],[DossierCode]]","v":0},{"$f":"_xlfn.CONCAT(Prestation[[#This Row],[DossierCode]],\"-\",Prestation[[#This Row],[CollaborateurTrigramme]])","v":"-"},{"$f":"ROW(Prestation[[#This Row],[Clés dossier et collaborateur]])","v":128},{"$f":"_xlfn.MINIFS(Prestation[Numéro de ligne],Prestation[Clés dossier et collaborateur],Prestation[[#This Row],[Clés dossier et collaborateur]])","v":6},{"$f":"IF(Prestation[[#This Row],[Numéro min de ligne pour la clé]]=Prestation[[#This Row],[Numéro de ligne]],Prestation[[#This Row],[Rappel collaborateur]],\"\")","v":""},{"$f":"_xlfn.TEXTJOIN(\",\",TRUE,IF(Prestation[DossierCode]=Prestation[[#This Row],[DossierCode]],Prestation[Collaborateur unique],\"\"))","v":"0"},{"$f":"MONTH(Prestation[[#This Row],[DateFacture]])","v":1},{"$f":"YEAR(Prestation[[#This Row],[DateFacture]])","v":1900}]
[null,null,null,null,null,null,null,null,null,null,null,null,null,null,null,null,null,null,null,null,null,null,null,null,null,null,null,null,null,null,null,null,null,null,null,null,null,null,null,null,null,null,null,null,null,null,null,null,null,null,null,null,null,null,null,null,null,null,null,null,null,null,null,null,null,null,null,null,{"$f":"SUMIFS(Prestation[Duree],Prestation[Code],Prestation[[#This Row],[Code]])","v":0},{"$f":"Prestation[[#This Row],[Temps passé par code (H)]]&ROW()/10000","v":"00,0129"},{"$f":"Prestation[[#This Row],[CollaborateurTrigramme]]","v":0},{"$f":"Prestation[[#This Row],[DossierCode]]","v":0},{"$f":"_xlfn.CONCAT(Prestation[[#This Row],[DossierCode]],\"-\",Prestation[[#This Row],[CollaborateurTrigramme]])","v":"-"},{"$f":"ROW(Prestation[[#This Row],[Clés dossier et collaborateur]])","v":129},{"$f":"_xlfn.MINIFS(Prestation[Numéro de ligne],Prestation[Clés dossier et collaborateur],Prestation[[#This Row],[Clés dossier et collaborateur]])","v":6},{"$f":"IF(Prestation[[#This Row],[Numéro min de ligne pour la clé]]=Prestation[[#This Row],[Numéro de ligne]],Prestation[[#This Row],[Rappel collaborateur]],\"\")","v":""},{"$f":"_xlfn.TEXTJOIN(\",\",TRUE,IF(Prestation[DossierCode]=Prestation[[#This Row],[DossierCode]],Prestation[Collaborateur unique],\"\"))","v":"0"},{"$f":"MONTH(Prestation[[#This Row],[DateFacture]])","v":1},{"$f":"YEAR(Prestation[[#This Row],[DateFacture]])","v":1900}]
[null,null,null,null,null,null,null,null,null,null,null,null,null,null,null,null,null,null,null,null,null,null,null,null,null,null,null,null,null,null,null,null,null,null,null,null,null,null,null,null,null,null,null,null,null,null,null,null,null,null,null,null,null,null,null,null,null,null,null,null,null,null,null,null,null,null,null,null,{"$f":"SUMIFS(Prestation[Duree],Prestation[Code],Prestation[[#This Row],[Code]])","v":0},{"$f":"Prestation[[#This Row],[Temps passé par code (H)]]&ROW()/10000","v":"00,013"},{"$f":"Prestation[[#This Row],[CollaborateurTrigramme]]","v":0},{"$f":"Prestation[[#This Row],[DossierCode]]","v":0},{"$f":"_xlfn.CONCAT(Prestation[[#This Row],[DossierCode]],\"-\",Prestation[[#This Row],[CollaborateurTrigramme]])","v":"-"},{"$f":"ROW(Prestation[[#This Row],[Clés dossier et collaborateur]])","v":130},{"$f":"_xlfn.MINIFS(Prestation[Numéro de ligne],Prestation[Clés dossier et collaborateur],Prestation[[#This Row],[Clés dossier et collaborateur]])","v":6},{"$f":"IF(Prestation[[#This Row],[Numéro min de ligne pour la clé]]=Prestation[[#This Row],[Numéro de ligne]],Prestation[[#This Row],[Rappel collaborateur]],\"\")","v":""},{"$f":"_xlfn.TEXTJOIN(\",\",TRUE,IF(Prestation[DossierCode]=Prestation[[#This Row],[DossierCode]],Prestation[Collaborateur unique],\"\"))","v":"0"},{"$f":"MONTH(Prestation[[#This Row],[DateFacture]])","v":1},{"$f":"YEAR(Prestation[[#This Row],[DateFacture]])","v":1900}]

{"sheet":"BI - HON COL","index":12,"n_rows":5,"n_cols":24,"rows_kept":5,"cut":false,"hidden":false,"merged":[]}
[]
[null,"HONORAIRES COLLABORATEURS"]
[null,"EXPORT DE DONNEES"]
[]
[null,"HonoraireId","DateFacture","FactureNumero","FactureLibelle","CollaborateurId","RoleDossier","CollaborateurNomComplet","CollaborateurCivilite","CollaborateurNom","CollaborateurPrenom","CollaborateurTrigramme","Site","DossierId","DossierCode","DossierNom","DossierDateCreation","ModeRepartition","ModeRepartitionLibelle","PourcentageRepartition","MontantRepartition","Forfait","Abonnement","DateFraicheur"]

{"sheet":"PARAMETRES","index":13,"n_rows":16,"n_cols":3,"rows_kept":16,"cut":false,"hidden":false,"merged":[]}
[]
[]
[null,"AVEC","Facturation avec ou sans frais et débours"]
[]
[null,"JAN",1]
[null,"FEV",2]
[null,"MAR",3]
[null,"AVR",4]
[null,"MAI",5]
[null,"JUI",6]
[null,"JUL",7]
[null,"AOU",8]
[null,"SEP",9]
[null,"OCT",10]
[null,"NOV",11]
[null,"DEC",12]